Report for Algorithm-DependencySolver-1.01

Back
From: metabase:user:30ae4450-2aae-11df-837a-5e0a49663a4f
Subject: PASS Algorithm-DependencySolver-1.01 v5.18.2 
Date: 2015-03-11T12:20:18Z

This distribution has been tested as part of the CPAN Testers
project, supporting the Perl programming language.  See
http://wiki.cpantesters.org/ for more information or email
questions to cpan-testers-discuss@perl.org


--
Dear Alex Balhatchet,

This is a computer-generated report for Algorithm-DependencySolver-1.01
on perl 5.18.2, created by CPAN-Reporter-1.2011.

Thank you for uploading your work to CPAN.  Congratulations!
All tests were successful.

Sections of this report:

    * Tester comments
    * Program output
    * Prerequisites
    * Environment and other context

------------------------------
TESTER COMMENTS
------------------------------

Additional comments from tester:

this report is from an automated smoke testing program
and was not reviewed by a human for accuracy

------------------------------
PROGRAM OUTPUT
------------------------------

Output from 'C:\strawberry182\c\bin\dmake.exe test':

C:\strawberry182\perl\bin\perl.exe "-MExtUtils::Command::MM" "-MTest::Harness" "-e" "undef *Test::Harness::Switches; test_harness(0, 'blib\lib', 'blib\arch')" t/*.t
Class::MOP::load_class is deprecated at C:/strawberry182/perl/site/lib/Class/MOP.pm line 73.
	Class::MOP::load_class("Parse::Method::Signatures::Sig") called at C:/strawberry182/perl/vendor/lib/Parse/Method/Signatures.pm line 90
	Parse::Method::Signatures::BUILD(Parse::Method::Signatures=HASH(0x2836c24), HASH(0x2836b94)) called at constructor Parse::Method::Signatures::new (defined at C:/strawberry182/perl/vendor/lib/Parse/Method/Signatures.pm line 825) line 104
	Parse::Method::Signatures::new("Parse::Method::Signatures", "input", "()", "from_namespace", "Algorithm::DependencySolver::Solver") called at C:/strawberry182/perl/vendor/lib/Parse/Method/Signatures.pm line 241
	Parse::Method::Signatures::signature("Parse::Method::Signatures", "input", "()", "from_namespace", "Algorithm::DependencySolver::Solver") called at C:/strawberry182/perl/vendor/lib/MooseX/Method/Signatures/Meta/Method.pm line 200
	MooseX::Method::Signatures::Meta::Method::_build_parsed_signature(MooseX::Method::Signatures::Meta::Method=HASH(0x2836c64)) called at reader MooseX::Method::Signatures::Meta::Method::parsed_signature (defined at C:/strawberry182/perl/vendor/lib/MooseX/Method/Signatures/Meta/Method.pm line 37) line 7
	MooseX::Method::Signatures::Meta::Method::parsed_signature(MooseX::Method::Signatures::Meta::Method=HASH(0x2836c64)) called at C:/strawberry182/perl/vendor/lib/MooseX/Method/Signatures/Meta/Method.pm line 320
	MooseX::Method::Signatures::Meta::Method::_build__positional_args(MooseX::Method::Signatures::Meta::Method=HASH(0x2836c64)) called at reader MooseX::Method::Signatures::Meta::Method::_positional_args (defined at C:/strawberry182/perl/vendor/lib/MooseX/Method/Signatures/Meta/Method.pm line 63) line 7
	MooseX::Method::Signatures::Meta::Method::_positional_args(MooseX::Method::Signatures::Meta::Method=HASH(0x2836c64)) called at C:/strawberry182/perl/vendor/lib/MooseX/Method/Signatures/Meta/Method.pm line 370
	MooseX::Method::Signatures::Meta::Method::_build_type_constraint(MooseX::Method::Signatures::Meta::Method=HASH(0x2836c64)) called at reader MooseX::Method::Signatures::Meta::Method::type_constraint (defined at C:/strawberry182/perl/vendor/lib/MooseX/Method/Signatures/Meta/Method.pm line 82) line 7
	MooseX::Method::Signatures::Meta::Method::type_constraint(MooseX::Method::Signatures::Meta::Method=HASH(0x2836c64)) called at C:/strawberry182/perl/vendor/lib/MooseX/Method/Signatures/Meta/Method.pm line 175
	Class::MOP::Class:::around(CODE(0xc15404), "MooseX::Method::Signatures::Meta::Method", CODE(0x1bd99bc), "package_name", "Algorithm::DependencySolver::Solver", "name", "build_nodes_index", "signature", "()", ...) called at C:/strawberry182/perl/site/lib/Class/MOP/Method/Wrapped.pm line 163
	Class::MOP::Method::Wrapped::__ANON__("MooseX::Method::Signatures::Meta::Method", CODE(0x1bd99bc), "package_name", "Algorithm::DependencySolver::Solver", "name", "build_nodes_index", "signature", "()") called at C:/strawberry182/perl/site/lib/Class/MOP/Method/Wrapped.pm line 92
	MooseX::Method::Signatures::Meta::Method::wrap("MooseX::Method::Signatures::Meta::Method", CODE(0x1bd99bc), "package_name", "Algorithm::DependencySolver::Solver", "name", "build_nodes_index", "signature", "()") called at C:/strawberry182/perl/vendor/lib/MooseX/Method/Signatures.pm line 263
	MooseX::Method::Signatures::_parser(MooseX::Method::Signatures=HASH(0x134ca04), "method", 0) called at C:/strawberry182/perl/vendor/lib/MooseX/Method/Signatures.pm line 204
	eval {...} called at C:/strawberry182/perl/vendor/lib/MooseX/Method/Signatures.pm line 204
	MooseX::Method::Signatures::parser(MooseX::Method::Signatures=HASH(0x134ca04), "method", 0) called at C:/strawberry182/perl/vendor/lib/MooseX/Method/Signatures.pm line 101
	MooseX::Method::Signatures::__ANON__("method", 0) called at C:/strawberry182/perl/vendor/lib/Devel/Declare.pm line 277
	Devel::Declare::linestr_callback("const", "method", 0) called at C:\strawberry182\cpan\build\Algorithm-DependencySolver-1.01-dcx_DN\blib\lib/Algorithm/DependencySolver/Solver.pm line 145
	require Algorithm/DependencySolver/Solver.pm called at t/00-compile.t line 6
	main::BEGIN() called at C:\strawberry182\cpan\build\Algorithm-DependencySolver-1.01-dcx_DN\blib\lib/Algorithm/DependencySolver/Solver.pm line 145
	eval {...} called at C:\strawberry182\cpan\build\Algorithm-DependencySolver-1.01-dcx_DN\blib\lib/Algorithm/DependencySolver/Solver.pm line 145
	eval 'package main;

#line 6 t/00-compile.t
use Algorithm::DependencySolver::Solver @{$args[0]};
1;
' called at C:/strawberry182/perl/lib/Test/More.pm line 992
	Test::More::_eval("package main;\x{a}\x{a}#line 6 t/00-compile.t\x{a}use Algorithm::Dependen"..., ARRAY(0xa90a2c)) called at C:/strawberry182/perl/lib/Test/More.pm line 967
	Test::More::use_ok("Algorithm::DependencySolver::Solver") called at t/00-compile.t line 6
t/00-compile.t ............ ok
t/01-operation.t .......... ok
Class::MOP::load_class is deprecated at C:/strawberry182/perl/site/lib/Class/MOP.pm line 73.
	Class::MOP::load_class("Parse::Method::Signatures::Sig") called at C:/strawberry182/perl/vendor/lib/Parse/Method/Signatures.pm line 90
	Parse::Method::Signatures::BUILD(Parse::Method::Signatures=HASH(0x2ad518c), HASH(0x2ad50fc)) called at constructor Parse::Method::Signatures::new (defined at C:/strawberry182/perl/vendor/lib/Parse/Method/Signatures.pm line 825) line 104
	Parse::Method::Signatures::new("Parse::Method::Signatures", "input", "()", "from_namespace", "Algorithm::DependencySolver::Solver") called at C:/strawberry182/perl/vendor/lib/Parse/Method/Signatures.pm line 241
	Parse::Method::Signatures::signature("Parse::Method::Signatures", "input", "()", "from_namespace", "Algorithm::DependencySolver::Solver") called at C:/strawberry182/perl/vendor/lib/MooseX/Method/Signatures/Meta/Method.pm line 200
	MooseX::Method::Signatures::Meta::Method::_build_parsed_signature(MooseX::Method::Signatures::Meta::Method=HASH(0x2ad51cc)) called at reader MooseX::Method::Signatures::Meta::Method::parsed_signature (defined at C:/strawberry182/perl/vendor/lib/MooseX/Method/Signatures/Meta/Method.pm line 37) line 7
	MooseX::Method::Signatures::Meta::Method::parsed_signature(MooseX::Method::Signatures::Meta::Method=HASH(0x2ad51cc)) called at C:/strawberry182/perl/vendor/lib/MooseX/Method/Signatures/Meta/Method.pm line 320
	MooseX::Method::Signatures::Meta::Method::_build__positional_args(MooseX::Method::Signatures::Meta::Method=HASH(0x2ad51cc)) called at reader MooseX::Method::Signatures::Meta::Method::_positional_args (defined at C:/strawberry182/perl/vendor/lib/MooseX/Method/Signatures/Meta/Method.pm line 63) line 7
	MooseX::Method::Signatures::Meta::Method::_positional_args(MooseX::Method::Signatures::Meta::Method=HASH(0x2ad51cc)) called at C:/strawberry182/perl/vendor/lib/MooseX/Method/Signatures/Meta/Method.pm line 370
	MooseX::Method::Signatures::Meta::Method::_build_type_constraint(MooseX::Method::Signatures::Meta::Method=HASH(0x2ad51cc)) called at reader MooseX::Method::Signatures::Meta::Method::type_constraint (defined at C:/strawberry182/perl/vendor/lib/MooseX/Method/Signatures/Meta/Method.pm line 82) line 7
	MooseX::Method::Signatures::Meta::Method::type_constraint(MooseX::Method::Signatures::Meta::Method=HASH(0x2ad51cc)) called at C:/strawberry182/perl/vendor/lib/MooseX/Method/Signatures/Meta/Method.pm line 175
	Class::MOP::Class:::around(CODE(0xf4cf54), "MooseX::Method::Signatures::Meta::Method", CODE(0x1e4ce14), "signature", "()", "name", "build_nodes_index", "package_name", "Algorithm::DependencySolver::Solver", ...) called at C:/strawberry182/perl/site/lib/Class/MOP/Method/Wrapped.pm line 163
	Class::MOP::Method::Wrapped::__ANON__("MooseX::Method::Signatures::Meta::Method", CODE(0x1e4ce14), "signature", "()", "name", "build_nodes_index", "package_name", "Algorithm::DependencySolver::Solver") called at C:/strawberry182/perl/site/lib/Class/MOP/Method/Wrapped.pm line 92
	MooseX::Method::Signatures::Meta::Method::wrap("MooseX::Method::Signatures::Meta::Method", CODE(0x1e4ce14), "signature", "()", "name", "build_nodes_index", "package_name", "Algorithm::DependencySolver::Solver") called at C:/strawberry182/perl/vendor/lib/MooseX/Method/Signatures.pm line 263
	MooseX::Method::Signatures::_parser(MooseX::Method::Signatures=HASH(0x16273e4), "method", 0) called at C:/strawberry182/perl/vendor/lib/MooseX/Method/Signatures.pm line 204
	eval {...} called at C:/strawberry182/perl/vendor/lib/MooseX/Method/Signatures.pm line 204
	MooseX::Method::Signatures::parser(MooseX::Method::Signatures=HASH(0x16273e4), "method", 0) called at C:/strawberry182/perl/vendor/lib/MooseX/Method/Signatures.pm line 101
	MooseX::Method::Signatures::__ANON__("method", 0) called at C:/strawberry182/perl/vendor/lib/Devel/Declare.pm line 277
	Devel::Declare::linestr_callback("const", "method", 0) called at C:\strawberry182\cpan\build\Algorithm-DependencySolver-1.01-dcx_DN\blib\lib/Algorithm/DependencySolver/Solver.pm line 145
	require Algorithm/DependencySolver/Solver.pm called at t/02-solver.t line 11
	main::BEGIN() called at C:\strawberry182\cpan\build\Algorithm-DependencySolver-1.01-dcx_DN\blib\lib/Algorithm/DependencySolver/Solver.pm line 145
	eval {...} called at C:\strawberry182\cpan\build\Algorithm-DependencySolver-1.01-dcx_DN\blib\lib/Algorithm/DependencySolver/Solver.pm line 145
t/02-solver.t ............. ok
Class::MOP::load_class is deprecated at C:/strawberry182/perl/site/lib/Class/MOP.pm line 73.
	Class::MOP::load_class("Parse::Method::Signatures::Sig") called at C:/strawberry182/perl/vendor/lib/Parse/Method/Signatures.pm line 90
	Parse::Method::Signatures::BUILD(Parse::Method::Signatures=HASH(0x29976ac), HASH(0x299756c)) called at constructor Parse::Method::Signatures::new (defined at C:/strawberry182/perl/vendor/lib/Parse/Method/Signatures.pm line 825) line 104
	Parse::Method::Signatures::new("Parse::Method::Signatures", "input", "()", "from_namespace", "Algorithm::DependencySolver::Solver") called at C:/strawberry182/perl/vendor/lib/Parse/Method/Signatures.pm line 241
	Parse::Method::Signatures::signature("Parse::Method::Signatures", "input", "()", "from_namespace", "Algorithm::DependencySolver::Solver") called at C:/strawberry182/perl/vendor/lib/MooseX/Method/Signatures/Meta/Method.pm line 200
	MooseX::Method::Signatures::Meta::Method::_build_parsed_signature(MooseX::Method::Signatures::Meta::Method=HASH(0x29975ec)) called at reader MooseX::Method::Signatures::Meta::Method::parsed_signature (defined at C:/strawberry182/perl/vendor/lib/MooseX/Method/Signatures/Meta/Method.pm line 37) line 7
	MooseX::Method::Signatures::Meta::Method::parsed_signature(MooseX::Method::Signatures::Meta::Method=HASH(0x29975ec)) called at C:/strawberry182/perl/vendor/lib/MooseX/Method/Signatures/Meta/Method.pm line 320
	MooseX::Method::Signatures::Meta::Method::_build__positional_args(MooseX::Method::Signatures::Meta::Method=HASH(0x29975ec)) called at reader MooseX::Method::Signatures::Meta::Method::_positional_args (defined at C:/strawberry182/perl/vendor/lib/MooseX/Method/Signatures/Meta/Method.pm line 63) line 7
	MooseX::Method::Signatures::Meta::Method::_positional_args(MooseX::Method::Signatures::Meta::Method=HASH(0x29975ec)) called at C:/strawberry182/perl/vendor/lib/MooseX/Method/Signatures/Meta/Method.pm line 370
	MooseX::Method::Signatures::Meta::Method::_build_type_constraint(MooseX::Method::Signatures::Meta::Method=HASH(0x29975ec)) called at reader MooseX::Method::Signatures::Meta::Method::type_constraint (defined at C:/strawberry182/perl/vendor/lib/MooseX/Method/Signatures/Meta/Method.pm line 82) line 7
	MooseX::Method::Signatures::Meta::Method::type_constraint(MooseX::Method::Signatures::Meta::Method=HASH(0x29975ec)) called at C:/strawberry182/perl/vendor/lib/MooseX/Method/Signatures/Meta/Method.pm line 175
	Class::MOP::Class:::around(CODE(0xdf1b04), "MooseX::Method::Signatures::Meta::Method", CODE(0x1cfc504), "name", "build_nodes_index", "package_name", "Algorithm::DependencySolver::Solver", "signature", "()", ...) called at C:/strawberry182/perl/site/lib/Class/MOP/Method/Wrapped.pm line 163
	Class::MOP::Method::Wrapped::__ANON__("MooseX::Method::Signatures::Meta::Method", CODE(0x1cfc504), "name", "build_nodes_index", "package_name", "Algorithm::DependencySolver::Solver", "signature", "()") called at C:/strawberry182/perl/site/lib/Class/MOP/Method/Wrapped.pm line 92
	MooseX::Method::Signatures::Meta::Method::wrap("MooseX::Method::Signatures::Meta::Method", CODE(0x1cfc504), "name", "build_nodes_index", "package_name", "Algorithm::DependencySolver::Solver", "signature", "()") called at C:/strawberry182/perl/vendor/lib/MooseX/Method/Signatures.pm line 263
	MooseX::Method::Signatures::_parser(MooseX::Method::Signatures=HASH(0x14af75c), "method", 0) called at C:/strawberry182/perl/vendor/lib/MooseX/Method/Signatures.pm line 204
	eval {...} called at C:/strawberry182/perl/vendor/lib/MooseX/Method/Signatures.pm line 204
	MooseX::Method::Signatures::parser(MooseX::Method::Signatures=HASH(0x14af75c), "method", 0) called at C:/strawberry182/perl/vendor/lib/MooseX/Method/Signatures.pm line 101
	MooseX::Method::Signatures::__ANON__("method", 0) called at C:/strawberry182/perl/vendor/lib/Devel/Declare.pm line 277
	Devel::Declare::linestr_callback("const", "method", 0) called at C:\strawberry182\cpan\build\Algorithm-DependencySolver-1.01-dcx_DN\blib\lib/Algorithm/DependencySolver/Solver.pm line 145
	require Algorithm/DependencySolver/Solver.pm called at t/03-traversal.t line 13
	main::BEGIN() called at C:\strawberry182\cpan\build\Algorithm-DependencySolver-1.01-dcx_DN\blib\lib/Algorithm/DependencySolver/Solver.pm line 145
	eval {...} called at C:\strawberry182\cpan\build\Algorithm-DependencySolver-1.01-dcx_DN\blib\lib/Algorithm/DependencySolver/Solver.pm line 145
t/03-traversal.t .......... ok
t/release-cpan-changes.t .. skipped: these tests are for release candidate testing
t/release-pod-syntax.t .... skipped: these tests are for release candidate testing
All tests successful.
Files=6, Tests=33,  9 wallclock secs ( 0.10 usr +  0.05 sys =  0.15 CPU)
Result: PASS

------------------------------
PREREQUISITES
------------------------------

Prerequisite modules loaded:

requires:

    Module                     Need   Have    
    -------------------------- ------ --------
    Data::Dumper               2.139  2.145   
    Graph                      0.94   0.96    
    Graph::Convert             0.09   0.09    
    Graph::Easy                0.72   0.73    
    List::Compare              0.37   0.49    
    List::MoreUtils            0.33   0.33    
    Moose                      2.0604 2.1204  
    MooseX::FollowPBP          0.05   0.05    
    MooseX::Method::Signatures 0.44   0.47    

build_requires:

    Module                     Need   Have    
    -------------------------- ------ --------
    File::Spec::Functions      3.00   3.40    
    File::Type                 0.22   0.22    
    File::Which                1.09   1.09    
    Test::Deep                 0.110  0.112   
    Test::Exception            0.31   0.32    
    Test::More                 0.98   1.001002
    Test::TempDir::Tiny        0.003  0.004   

configure_requires:

    Module                     Need   Have    
    -------------------------- ------ --------
    ExtUtils::MakeMaker        6.30   6.84    


------------------------------
ENVIRONMENT AND OTHER CONTEXT
------------------------------

Environment variables:

    AUTOMATED_TESTING = 1
    COMSPEC = C:\WINDOWS\system32\cmd.exe
    NUMBER_OF_PROCESSORS = 1
    PATH = C:\Program Files\Far Manager\;C:\WINDOWS\system32;C:\WINDOWS;C:\WINDOWS\System32\Wbem;C:\strawberry182\c\bin;C:\strawberry182\perl\site\bin;C:\strawberry182\perl\bin
    PERL5LIB = C:\strawberry182\cpan\build\MooseX-FollowPBP-0.05-_xIqTT/blib/arch;C:\strawberry182\cpan\build\MooseX-FollowPBP-0.05-_xIqTT/blib/lib;C:\strawberry182\cpan\build\Graph-Convert-0.09-J57rvt/blib/arch;C:\strawberry182\cpan\build\Graph-Convert-0.09-J57rvt/blib/lib;C:\strawberry182\cpan\build\Graph-0.96-IpGhHm/blib/arch;C:\strawberry182\cpan\build\Graph-0.96-IpGhHm/blib/lib;C:\strawberry182\cpan\build\Test-TempDir-Tiny-0.004-wdCX4P/blib/arch;C:\strawberry182\cpan\build\Test-TempDir-Tiny-0.004-wdCX4P/blib/lib;C:\strawberry182\cpan\build\List-Compare-0.49-qSwjPm/blib/arch;C:\strawberry182\cpan\build\List-Compare-0.49-qSwjPm/blib/lib
    PERL5OPT = 
    PERL5_CPANPLUS_IS_RUNNING = 2620
    PERL5_CPAN_IS_RUNNING = 2620
    PERL5_CPAN_IS_RUNNING_IN_RECURSION = 1832,2620
    PERL_CR_SMOKER_CURRENT = Algorithm-DependencySolver-1.01
    PERL_EXTUTILS_AUTOINSTALL = --defaultdeps
    PERL_HASH_SEED = 0x11111111
    PERL_MM_USE_DEFAULT = 1
    PROCESSOR_IDENTIFIER = x86 Family 16 Model 5 Stepping 3, AuthenticAMD
    TEMP = C:\DOCUME~1\c\LOCALS~1\Temp
    TERM = dumb

Perl special variables (and OS-specific diagnostics, for MSWin32):

    $^X = C:\strawberry182\perl\bin\perl.exe
    $UID/$EUID = 0 / 0
    $GID = 0
    $EGID = 0
    Win32::GetOSName = WinXP/.Net
    Win32::GetOSVersion = Service Pack 3, 5, 1, 2600, 2, 3, 0, 256, 1
    Win32::FsType = NTFS
    Win32::IsAdminUser = 1

Perl module toolchain versions installed:

    Module              Have    
    ------------------- --------
    CPAN                2.00    
    CPAN::Meta          2.133380
    Cwd                 3.40    
    ExtUtils::CBuilder  0.280212
    ExtUtils::Command   1.18    
    ExtUtils::Install   1.59    
    ExtUtils::MakeMaker 6.84    
    ExtUtils::Manifest  1.63    
    ExtUtils::ParseXS   3.22    
    File::Spec          3.40    
    JSON                2.90    
    JSON::PP            2.27203 
    Module::Build       0.4203  
    Module::Signature   n/a     
    Parse::CPAN::Meta   1.4414  
    Test::Harness       3.30    
    Test::More          1.001002
    YAML                0.90    
    YAML::Syck          1.27    
    version             0.9904  


--

Summary of my perl5 (revision 5 version 18 subversion 2) configuration:
   
  Platform:
    osname=MSWin32, osvers=6.2, archname=MSWin32-x86-multi-thread
    uname='Win32 strawberry-perl-no64 5.18.2.1 #1 Tue Jan  7 19:43:33 2014 i386'
    config_args='undef'
    hint=recommended, useposix=true, d_sigaction=undef
    useithreads=define, usemultiplicity=define
    useperlio=define, d_sfio=undef, uselargefiles=define, usesocks=undef
    use64bitint=undef, use64bitall=undef, uselongdouble=undef
    usemymalloc=n, bincompat5005=undef
  Compiler:
    cc='gcc', ccflags =' -s -O2 -DWIN32  -DPERL_TEXTMODE_SCRIPTS -DPERL_IMPLICIT_CONTEXT -DPERL_IMPLICIT_SYS -DUSE_PERLIO -fno-strict-aliasing -mms-bitfields',
    optimize='-s -O2',
    cppflags='-DWIN32'
    ccversion='', gccversion='4.7.3', gccosandvers=''
    intsize=4, longsize=4, ptrsize=4, doublesize=8, byteorder=1234
    d_longlong=define, longlongsize=8, d_longdbl=define, longdblsize=12
    ivtype='long', ivsize=4, nvtype='double', nvsize=8, Off_t='long long', lseeksize=8
    alignbytes=8, prototype=define
  Linker and Libraries:
    ld='g++', ldflags ='-s -L"C:\strawberry182\perl\lib\CORE" -L"C:\strawberry182\c\lib"'
    libpth=C:\strawberry182\c\lib C:\strawberry182\c\i686-w64-mingw32\lib C:\strawberry182\c\lib\gcc\i686-w64-mingw32\4.7.3
    libs=-lmoldname -lkernel32 -luser32 -lgdi32 -lwinspool -lcomdlg32 -ladvapi32 -lshell32 -lole32 -loleaut32 -lnetapi32 -luuid -lws2_32 -lmpr -lwinmm -lversion -lodbc32 -lodbccp32 -lcomctl32
    perllibs=-lmoldname -lkernel32 -luser32 -lgdi32 -lwinspool -lcomdlg32 -ladvapi32 -lshell32 -lole32 -loleaut32 -lnetapi32 -luuid -lws2_32 -lmpr -lwinmm -lversion -lodbc32 -lodbccp32 -lcomctl32
    libc=, so=dll, useshrplib=true, libperl=libperl518.a
    gnulibc_version=''
  Dynamic Linking:
    dlsrc=dl_win32.xs, dlext=dll, d_dlsymun=undef, ccdlflags=' '
    cccdlflags=' ', lddlflags='-mdll -s -L"C:\strawberry182\perl\lib\CORE" -L"C:\strawberry182\c\lib"'


Characteristics of this binary (from libperl): 
  Compile-time options: HAS_TIMES HAVE_INTERP_INTERN MULTIPLICITY
                        PERLIO_LAYERS PERL_DONT_CREATE_GVSV
                        PERL_HASH_FUNC_ONE_AT_A_TIME_HARD
                        PERL_IMPLICIT_CONTEXT PERL_IMPLICIT_SYS
                        PERL_MALLOC_WRAP PERL_PRESERVE_IVUV PERL_SAWAMPERSAND
                        USE_ITHREADS USE_LARGE_FILES USE_LOCALE
                        USE_LOCALE_COLLATE USE_LOCALE_CTYPE
                        USE_LOCALE_NUMERIC USE_PERLIO USE_PERL_ATOF
  Built under MSWin32
  Compiled at Jan  7 2014 19:51:54
  %ENV:
    PERL5LIB="C:\strawberry182\cpan\build\MooseX-FollowPBP-0.05-_xIqTT/blib/arch;C:\strawberry182\cpan\build\MooseX-FollowPBP-0.05-_xIqTT/blib/lib;C:\strawberry182\cpan\build\Graph-Convert-0.09-J57rvt/blib/arch;C:\strawberry182\cpan\build\Graph-Convert-0.09-J57rvt/blib/lib;C:\strawberry182\cpan\build\Graph-0.96-IpGhHm/blib/arch;C:\strawberry182\cpan\build\Graph-0.96-IpGhHm/blib/lib;C:\strawberry182\cpan\build\Test-TempDir-Tiny-0.004-wdCX4P/blib/arch;C:\strawberry182\cpan\build\Test-TempDir-Tiny-0.004-wdCX4P/blib/lib;C:\strawberry182\cpan\build\List-Compare-0.49-qSwjPm/blib/arch;C:\strawberry182\cpan\build\List-Compare-0.49-qSwjPm/blib/lib"
    PERL5_CPANPLUS_IS_RUNNING="2620"
    PERL5_CPAN_IS_RUNNING="2620"
    PERL5_CPAN_IS_RUNNING_IN_RECURSION="1832,2620"
    PERL_CR_SMOKER_CURRENT="Algorithm-DependencySolver-1.01"
    PERL_EXTUTILS_AUTOINSTALL="--defaultdeps"
    PERL_HASH_SEED="0x11111111"
    PERL_MM_USE_DEFAULT="1"
  @INC:
    C:\strawberry182\cpan\build\MooseX-FollowPBP-0.05-_xIqTT/blib/arch
    C:\strawberry182\cpan\build\MooseX-FollowPBP-0.05-_xIqTT/blib/lib
    C:\strawberry182\cpan\build\Graph-Convert-0.09-J57rvt/blib/arch
    C:\strawberry182\cpan\build\Graph-Convert-0.09-J57rvt/blib/lib
    C:\strawberry182\cpan\build\Graph-0.96-IpGhHm/blib/arch
    C:\strawberry182\cpan\build\Graph-0.96-IpGhHm/blib/lib
    C:\strawberry182\cpan\build\Test-TempDir-Tiny-0.004-wdCX4P/blib/arch
    C:\strawberry182\cpan\build\Test-TempDir-Tiny-0.004-wdCX4P/blib/lib
    C:\strawberry182\cpan\build\List-Compare-0.49-qSwjPm/blib/arch
    C:\strawberry182\cpan\build\List-Compare-0.49-qSwjPm/blib/lib
    C:/strawberry182/perl/site/lib
    C:/strawberry182/perl/vendor/lib
    C:/strawberry182/perl/lib
    .