Catalyst-Devel v1.42 Perl 5 v5.16.3 x86_64-linux-thread-multi

Status
Pass
From
David Cantrell (DCANTRELL)
Dist
Catalyst-Devel v1.42
Platform
Perl 5 v5.16.3 x86_64-linux-thread-multi
Date
2020-09-15 11:09:02
ID
dce49734-f743-11ea-9941-5e81a1724e2f
This distribution has been tested as part of the CPAN Testers
project, supporting the Perl programming language.  See
http://wiki.cpantesters.org/ for more information or email
questions to cpan-testers-discuss@perl.org


--
Dear Graham Knop,

This is a computer-generated report for Catalyst-Devel-1.42
on perl 5.16.3, created by CPAN-Reporter-1.2018.

Thank you for uploading your work to CPAN.  Congratulations!
All tests were successful.

Sections of this report:

    * Tester comments
    * Program output
    * Prerequisites
    * Environment and other context

------------------------------
TESTER COMMENTS
------------------------------

Additional comments from tester:

this report is from an automated smoke testing program
and was not reviewed by a human for accuracy

------------------------------
PROGRAM OUTPUT
------------------------------

Output from '/usr/bin/make test':

Skip blib/lib/auto/share/dist/Catalyst-Devel/README.tt (unchanged)
Skip blib/lib/auto/share/dist/Catalyst-Devel/root/static/images/btn_120x50_built_shadow.png.bin (unchanged)
Skip blib/lib/auto/share/dist/Catalyst-Devel/lib/MyApp/Controller/Root.pm.tt (unchanged)
Skip blib/lib/auto/share/dist/Catalyst-Devel/lib/Helper/compclass.pm.tt (unchanged)
Skip blib/lib/auto/share/dist/Catalyst-Devel/root/static/images/btn_120x50_powered_shadow.png.bin (unchanged)
Skip blib/lib/auto/share/dist/Catalyst-Devel/myapp.psgi.tt (unchanged)
Skip blib/lib/auto/share/dist/Catalyst-Devel/t/01app.t.tt (unchanged)
Skip blib/lib/auto/share/dist/Catalyst-Devel/root/static/images/catalyst_logo.png.bin (unchanged)
Skip blib/lib/auto/share/dist/Catalyst-Devel/script/myapp_server.pl.tt (unchanged)
Skip blib/lib/auto/share/dist/Catalyst-Devel/script/myapp_cgi.pl.tt (unchanged)
Skip blib/lib/auto/share/dist/Catalyst-Devel/root/static/images/btn_120x50_powered.png.bin (unchanged)
Skip blib/lib/auto/share/dist/Catalyst-Devel/root/favicon.ico.bin (unchanged)
Skip blib/lib/auto/share/dist/Catalyst-Devel/lib/MyApp.pm.tt (unchanged)
Skip blib/lib/auto/share/dist/Catalyst-Devel/script/myapp_create.pl.tt (unchanged)
Skip blib/lib/auto/share/dist/Catalyst-Devel/Makefile.PL.tt (unchanged)
Skip blib/lib/auto/share/dist/Catalyst-Devel/root/static/images/btn_88x31_powered.png.bin (unchanged)
Skip blib/lib/auto/share/dist/Catalyst-Devel/root/static/images/btn_88x31_powered_shadow.png.bin (unchanged)
Skip blib/lib/auto/share/dist/Catalyst-Devel/myapp.conf.tt (unchanged)
Skip blib/lib/auto/share/dist/Catalyst-Devel/script/myapp_test.pl.tt (unchanged)
Skip blib/lib/auto/share/dist/Catalyst-Devel/root/static/images/btn_120x50_built.png.bin (unchanged)
Skip blib/lib/auto/share/dist/Catalyst-Devel/root/static/images/btn_88x31_built_shadow.png.bin (unchanged)
Skip blib/lib/auto/share/dist/Catalyst-Devel/script/myapp_fastcgi.pl.tt (unchanged)
Skip blib/lib/auto/share/dist/Catalyst-Devel/Changes.tt (unchanged)
Skip blib/lib/auto/share/dist/Catalyst-Devel/root/static/images/btn_88x31_built.png.bin (unchanged)
Skip blib/lib/auto/share/dist/Catalyst-Devel/t/comptest.tt (unchanged)
Skip blib/lib/auto/share/dist/Catalyst-Devel/t/03podcoverage.t.tt (unchanged)
Skip blib/lib/auto/share/dist/Catalyst-Devel/t/02pod.t.tt (unchanged)
PERL_DL_NONLAZY=1 "/home/david/cpantesting/perl-5.16.3/bin/perl" "-MExtUtils::Command::MM" "-MTest::Harness" "-e" "undef *Test::Harness::Switches; test_harness(0, 'blib/lib', 'blib/arch')" t/*.t
t/01use.t ......................... ok
t/back_compat.t ................... ok
t/generated_app.t ................. ok
t/get_sharedir_file.t ............. ok
t/optional_http-server-restart.t .. skipped: set TEST_HTTP to enable this test
t/render_file_contents.t .......... ok
t/render_share_dir_file.t ......... ok
All tests successful.
Files=7, Tests=91, 66 wallclock secs ( 0.04 usr  0.02 sys +  7.48 cusr  0.68 csys =  8.22 CPU)
Result: PASS

------------------------------
PREREQUISITES
------------------------------

Prerequisite modules loaded:

requires:

    Module                                 Need    Have    
    -------------------------------------- ------- --------
    Catalyst                               5.90001 5.90128 
    Catalyst::Action::RenderView           0.10    0.16    
    Catalyst::Plugin::ConfigLoader         0.30    0.35    
    Catalyst::Plugin::Static::Simple       0.28    0.36    
    Config::General                        2.42    2.63    
    File::ChangeNotify                     0.07    0.31    
    File::Copy::Recursive                  0       0.44    
    File::ShareDir                         0       1.116   
    Module::Install                        1.02    1.19    
    Moose                                  0       2.2013  
    MooseX::Emulate::Class::Accessor::Fast 0       0.009032
    namespace::autoclean                   0       0.29    
    namespace::clean                       0       0.27    
    Path::Class                            0.09    0.37    
    Template                               2.14    3.009   

build_requires:

    Module                                 Need    Have    
    -------------------------------------- ------- --------
    Test::Fatal                            0.003   0.014   
    Test::More                             0.94    1.302181

configure_requires:

    Module                                 Need    Have    
    -------------------------------------- ------- --------
    ExtUtils::MakeMaker                    0       7.34    
    File::ShareDir::Install                0       0.13    


------------------------------
ENVIRONMENT AND OTHER CONTEXT
------------------------------

Environment variables:

    AUTOMATED_TESTING = 1
    LANG = en_US.UTF-8
    NONINTERACTIVE_TESTING = 1
    PATH = /usr/local/bin:/usr/bin:/bin:/usr/local/games:/usr/games
    PERL = 5.16.3
    PERL5LIB = 
    PERL5OPT = 
    PERL5_CPANPLUS_IS_RUNNING = 7034
    PERL5_CPAN_IS_RUNNING = 7034
    PERLVER = 5.16.3
    PERL_INLINE_DIRECTORY = /home/david/.Inline-5.16.3
    PERL_MM_USE_DEFAULT = 1
    PERL_USE_UNSAFE_INC = 0
    SHELL = /bin/bash
    TERM = screen

Perl special variables (and OS-specific diagnostics, for MSWin32):

    $^X = /home/david/cpantesting/perl-5.16.3/bin/perl
    $UID/$EUID = 1000 / 1000
    $GID = 1000 27 1000
    $EGID = 1000 27 1000

Perl module toolchain versions installed:

    Module              Have    
    ------------------- --------
    CPAN                1.9800  
    CPAN::Meta          2.143240
    Cwd                 3.39_02 
    ExtUtils::CBuilder  0.280206
    ExtUtils::Command   7.34    
    ExtUtils::Install   2.06    
    ExtUtils::MakeMaker 7.34    
    ExtUtils::Manifest  1.70    
    ExtUtils::ParseXS   3.16    
    File::Spec          3.39_02 
    JSON                4.02    
    JSON::PP            4.02    
    Module::Build       0.4231  
    Module::Signature   n/a     
    Parse::CPAN::Meta   1.4414  
    Test::Harness       3.42    
    Test::More          1.302181
    YAML                n/a     
    YAML::Syck          n/a     
    version             0.99    


--

Summary of my perl5 (revision 5 version 16 subversion 3) configuration:
   
  Platform:
    osname=linux, osvers=4.9.0-8-amd64, archname=x86_64-linux-thread-multi
    uname='linux pigsty 4.9.0-8-amd64 #1 smp debian 4.9.144-3 (2019-02-02) x86_64 gnulinux '
    config_args='-de -Duse64bitall -Dusethreads -Dprefix=/home/david/cpantesting/perl-5.16.3 -A ccflags=-fwrapv'
    hint=previous, useposix=true, d_sigaction=define
    useithreads=define, usemultiplicity=define
    useperlio=define, d_sfio=undef, uselargefiles=define, usesocks=undef
    use64bitint=define, use64bitall=define, uselongdouble=undef
    usemymalloc=n, bincompat5005=undef
  Compiler:
    cc='cc', ccflags ='-D_REENTRANT -D_GNU_SOURCE -fwrapv -fno-strict-aliasing -pipe -fstack-protector -I/usr/local/include -D_LARGEFILE_SOURCE -D_FILE_OFFSET_BITS=64 -fwrapv -fwrapv',
    optimize='-O2',
    cppflags='-D_REENTRANT -D_GNU_SOURCE -fwrapv -fno-strict-aliasing -pipe -fstack-protector -I/usr/local/include -D_REENTRANT -D_GNU_SOURCE -fwrapv -fno-strict-aliasing -pipe -fstack-protector -I/usr/local/include -D_LARGEFILE_SOURCE -D_FILE_OFFSET_BITS=64 -fwrapv -D_REENTRANT -D_GNU_SOURCE -fwrapv -fno-strict-aliasing -pipe -fstack-protector -I/usr/local/include -D_LARGEFILE_SOURCE -D_FILE_OFFSET_BITS=64 -fwrapv -fwrapv'
    ccversion='', gccversion='6.3.0 20170516', gccosandvers=''
    intsize=4, longsize=8, ptrsize=8, doublesize=8, byteorder=12345678
    d_longlong=define, longlongsize=8, d_longdbl=define, longdblsize=16
    ivtype='long', ivsize=8, nvtype='double', nvsize=8, Off_t='off_t', lseeksize=8
    alignbytes=8, prototype=define
  Linker and Libraries:
    ld='cc', ldflags =' -fstack-protector -L/usr/local/lib'
    libpth=/usr/local/lib /lib/x86_64-linux-gnu /lib/../lib /usr/lib/x86_64-linux-gnu /usr/lib/../lib /lib /usr/lib
    libs=-lnsl -ldb -ldl -lm -lcrypt -lutil -lpthread -lc
    perllibs=-lnsl -ldl -lm -lcrypt -lutil -lpthread -lc
    libc=libc-2.24.so, so=so, useshrplib=false, libperl=libperl.a
    gnulibc_version='2.24'
  Dynamic Linking:
    dlsrc=dl_dlopen.xs, dlext=so, d_dlsymun=undef, ccdlflags='-Wl,-E'
    cccdlflags='-fPIC', lddlflags='-shared -O2 -L/usr/local/lib -fstack-protector'


Characteristics of this binary (from libperl): 
  Compile-time options: HAS_TIMES MULTIPLICITY PERLIO_LAYERS
                        PERL_DONT_CREATE_GVSV PERL_IMPLICIT_CONTEXT
                        PERL_MALLOC_WRAP PERL_PRESERVE_IVUV USE_64_BIT_ALL
                        USE_64_BIT_INT USE_ITHREADS USE_LARGE_FILES
                        USE_LOCALE USE_LOCALE_COLLATE USE_LOCALE_CTYPE
                        USE_LOCALE_NUMERIC USE_PERLIO USE_PERL_ATOF
                        USE_REENTRANT_API
  Locally applied patches:
	Devel::PatchPerl 1.56
  Built under linux
  Compiled at Apr 25 2019 22:17:10
  %ENV:
    PERL="5.16.3"
    PERL5LIB=""
    PERL5OPT=""
    PERL5_CPANPLUS_IS_RUNNING="7034"
    PERL5_CPAN_IS_RUNNING="7034"
    PERLVER="5.16.3"
    PERL_INLINE_DIRECTORY="/home/david/.Inline-5.16.3"
    PERL_MM_USE_DEFAULT="1"
    PERL_USE_UNSAFE_INC="0"
  @INC:
    /home/david/cpantesting/perl-5.16.3/lib/site_perl/5.16.3/x86_64-linux-thread-multi
    /home/david/cpantesting/perl-5.16.3/lib/site_perl/5.16.3
    /home/david/cpantesting/perl-5.16.3/lib/5.16.3/x86_64-linux-thread-multi
    /home/david/cpantesting/perl-5.16.3/lib/5.16.3
    .