Back
From: metabase:user:320bfe00-2aae-11df-837a-5e0a49663a4f
Subject: PASS Parallel-Queue-3.6 v5.24.1 GNU/Linux
Date: 2017-02-02T15:32:53Z
This distribution has been tested as part of the CPAN Testers
project, supporting the Perl programming language. See
http://wiki.cpantesters.org/ for more information or email
questions to cpan-testers-discuss@perl.org
--
Dear Steven Lembark,
This is a computer-generated report for Parallel-Queue-3.6
on perl 5.24.1, created by CPAN-Reporter-1.2018.
Thank you for uploading your work to CPAN. Congratulations!
All tests were successful.
Sections of this report:
* Tester comments
* Program output
* Prerequisites
* Environment and other context
------------------------------
TESTER COMMENTS
------------------------------
Additional comments from tester:
this report is from an automated smoke testing program
and was not reviewed by a human for accuracy
------------------------------
PROGRAM OUTPUT
------------------------------
Output from '/usr/bin/make test':
PERL_DL_NONLAZY=1 "/tmp/basesmoker-reloperl-7tRX/bin/perl" "-MExtUtils::Command::MM" "-MTest::Harness" "-e" "undef *Test::Harness::Switches; test_harness(0, 'blib/lib', 'blib/arch')" t/*.t
t/00-usable.t ................... ok
t/01-export-name.t .............. ok
Smartmatch is experimental at t/02-debug-mode.t line 70.
Non-forking queue
Next job: 'CODE(0x1faa128)'
Complete: '0' ()
Next job: 'CODE(0x1faa410)'
Complete: '0' ()
Next job: 'CODE(0x1faa548)'
Complete: '0' ()
Next job: 'CODE(0x2450a48)'
Complete: '0' ()
Next job: 'CODE(0x246ef08)'
Complete: '0' ()
Next job: 'CODE(0x23f3428)'
Complete: '0' ()
Next job: 'CODE(0x21d01b8)'
Complete: '0' ()
Next job: 'CODE(0x24817a0)'
Complete: '0' ()
Next job: 'CODE(0x2481818)'
Complete: '0' ()
Next job: 'CODE(0x24818c0)'
Complete: '0' ()
Next job: 'CODE(0x2481c38)'
Complete: '0' ()
Next job: 'CODE(0x2481e30)'
Complete: '0' ()
Next job: 'CODE(0x2481d88)'
Complete: '0' ()
Next job: 'CODE(0x24819c8)'
Complete: '0' ()
Next job: 'CODE(0x2482328)'
Complete: '0' ()
Next job: 'CODE(0x2484790)'
Complete: '0' ()
Next job: 'CODE(0x2484700)'
Complete: '0' ()
Next job: 'CODE(0x2484b80)'
Complete: '0' ()
Next job: 'CODE(0x2484c28)'
Complete: '0' ()
Next job: 'CODE(0x2484cd0)'
Complete: '0' ()
Next job: ''
Non-forking queue
Next job: 'CODE(0x1faa4d0)'
Complete: '0' ()
Next job: 'CODE(0x2481e60)'
Complete: '0' ()
Next job: 'CODE(0x2484f58)'
Complete: '0' ()
Next job: 'CODE(0x2485048)'
Complete: '0' ()
Next job: 'CODE(0x2485138)'
Complete: '0' ()
Next job: 'CODE(0x1fa5dd0)'
Complete: '0' ()
Next job: 'CODE(0x1fa5ec0)'
Complete: '0' ()
Next job: 'CODE(0x1fa5fb0)'
Complete: '0' ()
Next job: 'CODE(0x1fa60a0)'
Complete: '0' ()
Next job: 'CODE(0x1fa6190)'
Complete: '0' ()
Next job: 'CODE(0x1fa6280)'
Complete: '0' ()
Next job: 'CODE(0x1fa6370)'
Complete: '0' ()
Next job: 'CODE(0x1fa6460)'
Complete: '0' ()
Next job: 'CODE(0x1fa6550)'
Complete: '0' ()
Next job: 'CODE(0x1fa6640)'
Complete: '0' ()
Next job: 'CODE(0x1fa6730)'
Complete: '0' ()
Next job: 'CODE(0x1fa6820)'
Complete: '0' ()
Next job: 'CODE(0x1fa6910)'
Complete: '0' ()
Next job: 'CODE(0x1fa6a00)'
Complete: '0' ()
Next job: 'CODE(0x1fa6af0)'
Complete: '0' ()
Next job: ''
Non-forking queue
Next job: 'CODE(0x1faa128)'
Complete: '0' ()
Next job: 'CODE(0x1faa410)'
Complete: '0' ()
Next job: 'CODE(0x1faa548)'
Complete: '0' ()
Next job: 'CODE(0x2450a48)'
Complete: '0' ()
Next job: 'CODE(0x246ef08)'
Complete: '0' ()
Next job: 'CODE(0x23f3428)'
Complete: '0' ()
Next job: 'CODE(0x21d01b8)'
Complete: '0' ()
Next job: 'CODE(0x24817a0)'
Complete: '0' ()
Next job: 'CODE(0x2481818)'
Complete: '0' ()
Next job: 'CODE(0x24818c0)'
Complete: '0' ()
Next job: 'CODE(0x2481c38)'
Complete: '0' ()
Next job: 'CODE(0x2481e30)'
Complete: '0' ()
Next job: 'CODE(0x2481d88)'
Complete: '0' ()
Next job: 'CODE(0x24819c8)'
Complete: '0' ()
Next job: 'CODE(0x2482328)'
Complete: '0' ()
Next job: 'CODE(0x2484790)'
Complete: '0' ()
Next job: 'CODE(0x2484700)'
Complete: '0' ()
Next job: 'CODE(0x2484b80)'
Complete: '0' ()
Next job: 'CODE(0x2484c28)'
Complete: '0' ()
Next job: 'CODE(0x2484cd0)'
Complete: '0' ()
Next job: ''
Non-forking queue
Next job: 'CODE(0x1faa4d0)'
Complete: '0' ()
Next job: 'CODE(0x2481e60)'
Complete: '0' ()
Next job: 'CODE(0x2484f58)'
Complete: '0' ()
Next job: 'CODE(0x2485048)'
Complete: '0' ()
Next job: 'CODE(0x2485138)'
Complete: '0' ()
Next job: 'CODE(0x1fa5dd0)'
Complete: '0' ()
Next job: 'CODE(0x1fa5ec0)'
Complete: '0' ()
Next job: 'CODE(0x1fa5fb0)'
Complete: '0' ()
Next job: 'CODE(0x1fa60a0)'
Complete: '0' ()
Next job: 'CODE(0x1fa6190)'
Complete: '0' ()
Next job: 'CODE(0x1fa6280)'
Complete: '0' ()
Next job: 'CODE(0x1fa6370)'
Complete: '0' ()
Next job: 'CODE(0x1fa6460)'
Complete: '0' ()
Next job: 'CODE(0x1fa6550)'
Complete: '0' ()
Next job: 'CODE(0x1fa6640)'
Complete: '0' ()
Next job: 'CODE(0x1fa6730)'
Complete: '0' ()
Next job: 'CODE(0x1fa6820)'
Complete: '0' ()
Next job: 'CODE(0x1fa6910)'
Complete: '0' ()
Next job: 'CODE(0x1fa6a00)'
Complete: '0' ()
Next job: 'CODE(0x1fa6af0)'
Complete: '0' ()
Next job: ''
Non-forking queue
Next job: 'CODE(0x1faa128)'
Complete: '0' ()
Next job: 'CODE(0x1faa410)'
Complete: '0' ()
Next job: 'CODE(0x1faa548)'
Complete: '0' ()
Next job: 'CODE(0x2450a48)'
Complete: '0' ()
Next job: 'CODE(0x246ef08)'
Complete: '0' ()
Next job: 'CODE(0x23f3428)'
Complete: '0' ()
Next job: 'CODE(0x21d01b8)'
Complete: '0' ()
Next job: 'CODE(0x24817a0)'
Complete: '0' ()
Next job: 'CODE(0x2481818)'
Complete: '0' ()
Next job: 'CODE(0x24818c0)'
Complete: '0' ()
Next job: 'CODE(0x2481c38)'
Complete: '0' ()
Next job: 'CODE(0x2481e30)'
Complete: '0' ()
Next job: 'CODE(0x2481d88)'
Complete: '0' ()
Next job: 'CODE(0x24819c8)'
Complete: '0' ()
Next job: 'CODE(0x2482328)'
Complete: '0' ()
Next job: 'CODE(0x2484790)'
Complete: '0' ()
Next job: 'CODE(0x2484700)'
Complete: '0' ()
Next job: 'CODE(0x2484b80)'
Complete: '0' ()
Next job: 'CODE(0x2484c28)'
Complete: '0' ()
Next job: 'CODE(0x2484cd0)'
Complete: '0' ()
Next job: ''
Non-forking queue
Next job: 'CODE(0x1faa4d0)'
Complete: '0' ()
Next job: 'CODE(0x2481e60)'
Complete: '0' ()
Next job: 'CODE(0x2484f58)'
Complete: '0' ()
Next job: 'CODE(0x2485048)'
Complete: '0' ()
Next job: 'CODE(0x2485138)'
Complete: '0' ()
Next job: 'CODE(0x1fa5dd0)'
Complete: '0' ()
Next job: 'CODE(0x1fa5ec0)'
Complete: '0' ()
Next job: 'CODE(0x1fa5fb0)'
Complete: '0' ()
Next job: 'CODE(0x1fa60a0)'
Complete: '0' ()
Next job: 'CODE(0x1fa6190)'
Complete: '0' ()
Next job: 'CODE(0x1fa6280)'
Complete: '0' ()
Next job: 'CODE(0x1fa6370)'
Complete: '0' ()
Next job: 'CODE(0x1fa6460)'
Complete: '0' ()
Next job: 'CODE(0x1fa6550)'
Complete: '0' ()
Next job: 'CODE(0x1fa6640)'
Complete: '0' ()
Next job: 'CODE(0x1fa6730)'
Complete: '0' ()
Next job: 'CODE(0x1fa6820)'
Complete: '0' ()
Next job: 'CODE(0x1fa6910)'
Complete: '0' ()
Next job: 'CODE(0x1fa6a00)'
Complete: '0' ()
Next job: 'CODE(0x1fa6af0)'
Complete: '0' ()
Next job: ''
t/02-debug-mode.t ............... ok
Smartmatch is experimental at t/03-fork.t line 83.
t/03-fork.t ..................... ok
t/04-nonzero-exit.t ............. ok
exit( 1 ) by 29785 at /tmp/loop_over_bdir-6311-cyaCmY/Parallel-Queue-3.6-0/blib/lib/Parallel/Queue.pm line 227.
t/05-nonzero-with-finish.t ...... ok
Discarding non-queue 'PQ::Iterator::a'
Discarding non-queue 'PQ::Iterator::b'
Discarding non-queue 'PQ::Iterator::c'
t/06-iterator-package-nofork.t .. ok
Discarding non-queue 'PQ::Iterator::a'
Discarding non-queue 'PQ::Iterator::b'
Discarding non-queue 'PQ::Iterator::c'
t/07-iterator-package-fork.t .... ok
t/08-iterator-objects-nofork.t .. ok
t/09-iterator-objects-fork.t .... ok
All tests successful.
Files=10, Tests=87, 1 wallclock secs ( 0.04 usr 0.06 sys + 0.44 cusr 0.50 csys = 1.04 CPU)
Result: PASS
------------------------------
PREREQUISITES
------------------------------
Prerequisite modules loaded:
requires:
Module Need Have
------------------- ---- ----
Carp 0 1.40
Scalar::Util 0 1.47
strict 0 1.11
Symbol 0 1.07
build_requires:
Module Need Have
------------------- ---- ----
ExtUtils::MakeMaker 0 7.24
configure_requires:
Module Need Have
------------------- ---- ----
ExtUtils::MakeMaker 0 7.24
------------------------------
ENVIRONMENT AND OTHER CONTEXT
------------------------------
Environment variables:
AUTOMATED_TESTING = 1
LANG = C
PATH = /home/sand/bin:/usr/local/bin:/usr/bin:/bin:/usr/games:/usr/local/perl/bin:/usr/X11/bin:/sbin:/usr/sbin
PERL5LIB = /tmp/loop_over_bdir-6311-cyaCmY/Net-DNS-1.07-0/blib/arch:/tmp/loop_over_bdir-6311-cyaCmY/Net-DNS-1.07-0/blib/lib:/tmp/loop_over_bdir-6311-cyaCmY/FusionInventory-Agent-2.3.18-0/blib/arch:/tmp/loop_over_bdir-6311-cyaCmY/FusionInventory-Agent-2.3.18-0/blib/lib
PERL5OPT =
PERL5_CPANPLUS_IS_RUNNING = 24753
PERL5_CPAN_IS_RUNNING = 24753
PERL_CANARY_STABILITY_NOPROMPT = 1
PERL_MM_USE_DEFAULT = 1
SHELL = /usr/bin/zsh
TERM = screen
Perl special variables (and OS-specific diagnostics, for MSWin32):
$^X = /tmp/basesmoker-reloperl-7tRX/bin/perl
$UID/$EUID = 1005 / 1005
$GID = 1005 1005
$EGID = 1005 1005
Perl module toolchain versions installed:
Module Have
------------------- --------
CPAN 2.14
CPAN::Meta 2.150010
Cwd 3.63_01
ExtUtils::CBuilder 0.280225
ExtUtils::Command 7.24
ExtUtils::Install 2.04
ExtUtils::MakeMaker 7.24
ExtUtils::Manifest 1.70
ExtUtils::ParseXS 3.31
File::Spec 3.63_01
JSON 2.90
JSON::PP 2.27400
Module::Build 0.4220
Module::Signature 0.81
Parse::CPAN::Meta 2.150010
Test::Harness 3.36_01
Test::More 1.302075
YAML 1.21
YAML::Syck 1.29
version 0.9917
--
Summary of my perl5 (revision 5 version 24 subversion 1) configuration:
Commit id: 443bd156a6baaf7a8fe6b6b05fcf6c4178140ed2
Platform:
osname=linux, osvers=4.8.0-2-amd64, archname=x86_64-linux
uname='linux k93jessie 4.8.0-2-amd64 #1 smp debian 4.8.11-1 (2016-12-02) x86_64 gnulinux '
config_args='-Dprefix=/home/sand/src/perl/repoperls/installed-perls/host/k93jessie/v5.24.1/bcdd -Dmyhostname=k93jessie -Dinstallusrbinperl=n -Uversiononly -Dusedevel -des -Ui_db -Dlibswanted=cl pthread socket inet nsl gdbm dbm malloc dl ld sun m crypt sec util c cposix posix ucb BSD gdbm_compat -Uuseithreads -Uuselongdouble -DDEBUGGING=-g'
hint=recommended, useposix=true, d_sigaction=define
useithreads=undef, usemultiplicity=undef
use64bitint=define, use64bitall=define, uselongdouble=undef
usemymalloc=n, bincompat5005=undef
Compiler:
cc='cc', ccflags ='-fwrapv -fno-strict-aliasing -pipe -fstack-protector-strong -I/usr/local/include -D_LARGEFILE_SOURCE -D_FILE_OFFSET_BITS=64 -D_FORTIFY_SOURCE=2',
optimize='-O2 -g',
cppflags='-fwrapv -fno-strict-aliasing -pipe -fstack-protector-strong -I/usr/local/include'
ccversion='', gccversion='4.9.2', gccosandvers=''
intsize=4, longsize=8, ptrsize=8, doublesize=8, byteorder=12345678, doublekind=3
d_longlong=define, longlongsize=8, d_longdbl=define, longdblsize=16, longdblkind=3
ivtype='long', ivsize=8, nvtype='double', nvsize=8, Off_t='off_t', lseeksize=8
alignbytes=8, prototype=define
Linker and Libraries:
ld='cc', ldflags =' -fstack-protector-strong -L/usr/local/lib'
libpth=/usr/local/lib /usr/lib/gcc/x86_64-linux-gnu/4.9/include-fixed /usr/include/x86_64-linux-gnu /usr/lib /lib/x86_64-linux-gnu /lib/../lib /usr/lib/x86_64-linux-gnu /usr/lib/../lib /lib
libs=-lpthread -lnsl -ldl -lm -lcrypt -lutil -lc
perllibs=-lpthread -lnsl -ldl -lm -lcrypt -lutil -lc
libc=libc-2.19.so, so=so, useshrplib=false, libperl=libperl.a
gnulibc_version='2.19'
Dynamic Linking:
dlsrc=dl_dlopen.xs, dlext=so, d_dlsymun=undef, ccdlflags='-Wl,-E'
cccdlflags='-fPIC', lddlflags='-shared -O2 -g -L/usr/local/lib -fstack-protector-strong'
Characteristics of this binary (from libperl):
Compile-time options: HAS_TIMES PERLIO_LAYERS PERL_COPY_ON_WRITE
PERL_DONT_CREATE_GVSV
PERL_HASH_FUNC_ONE_AT_A_TIME_HARD PERL_MALLOC_WRAP
PERL_PRESERVE_IVUV PERL_USE_DEVEL USE_64_BIT_ALL
USE_64_BIT_INT USE_LARGE_FILES USE_LOCALE
USE_LOCALE_COLLATE USE_LOCALE_CTYPE
USE_LOCALE_NUMERIC USE_LOCALE_TIME USE_PERLIO
USE_PERL_ATOF
Built under linux
Compiled at Feb 1 2017 11:53:28
%ENV:
PERL5LIB="/tmp/loop_over_bdir-6311-cyaCmY/Net-DNS-1.07-0/blib/arch:/tmp/loop_over_bdir-6311-cyaCmY/Net-DNS-1.07-0/blib/lib:/tmp/loop_over_bdir-6311-cyaCmY/FusionInventory-Agent-2.3.18-0/blib/arch:/tmp/loop_over_bdir-6311-cyaCmY/FusionInventory-Agent-2.3.18-0/blib/lib"
PERL5OPT=""
PERL5_CPANPLUS_IS_RUNNING="24753"
PERL5_CPAN_IS_RUNNING="24753"
PERL_CANARY_STABILITY_NOPROMPT="1"
PERL_MM_USE_DEFAULT="1"
@INC:
/tmp/loop_over_bdir-6311-cyaCmY/Net-DNS-1.07-0/blib/arch
/tmp/loop_over_bdir-6311-cyaCmY/Net-DNS-1.07-0/blib/lib
/tmp/loop_over_bdir-6311-cyaCmY/FusionInventory-Agent-2.3.18-0/blib/arch
/tmp/loop_over_bdir-6311-cyaCmY/FusionInventory-Agent-2.3.18-0/blib/lib
/home/sand/src/perl/repoperls/installed-perls/host/k93jessie/v5.24.1/bcdd/lib/site_perl/5.24.1/x86_64-linux
/home/sand/src/perl/repoperls/installed-perls/host/k93jessie/v5.24.1/bcdd/lib/site_perl/5.24.1
/home/sand/src/perl/repoperls/installed-perls/host/k93jessie/v5.24.1/bcdd/lib/5.24.1/x86_64-linux
/home/sand/src/perl/repoperls/installed-perls/host/k93jessie/v5.24.1/bcdd/lib/5.24.1
.