Plack-Middleware-Session v0.32 Perl 5 v5.24.1 x86_64-linux
- Status
- Pass
- From
- Slaven Rezić (SREZIC)
- Dist
-
Plack-Middleware-Session v0.32
- Platform
- Perl 5 v5.24.1 x86_64-linux
- Date
- 2019-02-26 22:00:00
- ID
- dccfaaa4-3a11-11e9-b91a-89cc4db1009c
This distribution has been tested as part of the CPAN Testers
project, supporting the Perl programming language. See
http://wiki.cpantesters.org/ for more information or email
questions to cpan-testers-discuss@perl.org
--
Dear Tatsuhiko Miyagawa,
This is a computer-generated report for Plack-Middleware-Session-0.32
on perl 5.24.1, created by CPAN-Reporter-1.2018.
Thank you for uploading your work to CPAN. Congratulations!
All tests were successful.
Sections of this report:
* Tester comments
* Program output
* Prerequisites
* Environment and other context
------------------------------
TESTER COMMENTS
------------------------------
Additional comments from tester:
none provided
------------------------------
PROGRAM OUTPUT
------------------------------
Output from './Build test':
Cookie::Baker::XS 0.10 is require. fallback to PP version at /opt/perl-5.24.1/lib/site_perl/5.24.1/Cookie/Baker.pm line 17.
WWW::Form::UrlEncoded::XS 0.25 is require. fallback to PP version at /opt/perl-5.24.1/lib/site_perl/5.24.1/x86_64-linux/WWW/Form/UrlEncoded.pm line 17.
t/000_load.t ................... ok
Cookie::Baker::XS 0.10 is require. fallback to PP version at /opt/perl-5.24.1/lib/site_perl/5.24.1/Cookie/Baker.pm line 17.
WWW::Form::UrlEncoded::XS 0.25 is require. fallback to PP version at /opt/perl-5.24.1/lib/site_perl/5.24.1/x86_64-linux/WWW/Form/UrlEncoded.pm line 17.
t/001_basic.t .................. ok
Cookie::Baker::XS 0.10 is require. fallback to PP version at /opt/perl-5.24.1/lib/site_perl/5.24.1/Cookie/Baker.pm line 17.
WWW::Form::UrlEncoded::XS 0.25 is require. fallback to PP version at /opt/perl-5.24.1/lib/site_perl/5.24.1/x86_64-linux/WWW/Form/UrlEncoded.pm line 17.
t/001a_basic.t ................. ok
Cookie::Baker::XS 0.10 is require. fallback to PP version at /opt/perl-5.24.1/lib/site_perl/5.24.1/Cookie/Baker.pm line 17.
WWW::Form::UrlEncoded::XS 0.25 is require. fallback to PP version at /opt/perl-5.24.1/lib/site_perl/5.24.1/x86_64-linux/WWW/Form/UrlEncoded.pm line 17.
t/002_basic_w_cookie.t ......... ok
Cookie::Baker::XS 0.10 is require. fallback to PP version at /opt/perl-5.24.1/lib/site_perl/5.24.1/Cookie/Baker.pm line 17.
WWW::Form::UrlEncoded::XS 0.25 is require. fallback to PP version at /opt/perl-5.24.1/lib/site_perl/5.24.1/x86_64-linux/WWW/Form/UrlEncoded.pm line 17.
t/002a_basic_w_cookie.t ........ ok
Cookie::Baker::XS 0.10 is require. fallback to PP version at /opt/perl-5.24.1/lib/site_perl/5.24.1/Cookie/Baker.pm line 17.
WWW::Form::UrlEncoded::XS 0.25 is require. fallback to PP version at /opt/perl-5.24.1/lib/site_perl/5.24.1/x86_64-linux/WWW/Form/UrlEncoded.pm line 17.
t/003_basic_w_file_store.t ..... ok
Cookie::Baker::XS 0.10 is require. fallback to PP version at /opt/perl-5.24.1/lib/site_perl/5.24.1/Cookie/Baker.pm line 17.
WWW::Form::UrlEncoded::XS 0.25 is require. fallback to PP version at /opt/perl-5.24.1/lib/site_perl/5.24.1/x86_64-linux/WWW/Form/UrlEncoded.pm line 17.
t/003a_basic_w_file_store.t .... ok
Cookie::Baker::XS 0.10 is require. fallback to PP version at /opt/perl-5.24.1/lib/site_perl/5.24.1/Cookie/Baker.pm line 17.
WWW::Form::UrlEncoded::XS 0.25 is require. fallback to PP version at /opt/perl-5.24.1/lib/site_perl/5.24.1/x86_64-linux/WWW/Form/UrlEncoded.pm line 17.
t/004_basic_file_w_customs.t ... ok
Cookie::Baker::XS 0.10 is require. fallback to PP version at /opt/perl-5.24.1/lib/site_perl/5.24.1/Cookie/Baker.pm line 17.
WWW::Form::UrlEncoded::XS 0.25 is require. fallback to PP version at /opt/perl-5.24.1/lib/site_perl/5.24.1/x86_64-linux/WWW/Form/UrlEncoded.pm line 17.
t/004a_basic_file_w_customs.t .. ok
Cookie::Baker::XS 0.10 is require. fallback to PP version at /opt/perl-5.24.1/lib/site_perl/5.24.1/Cookie/Baker.pm line 17.
WWW::Form::UrlEncoded::XS 0.25 is require. fallback to PP version at /opt/perl-5.24.1/lib/site_perl/5.24.1/x86_64-linux/WWW/Form/UrlEncoded.pm line 17.
t/005_basic_w_cache_store.t .... ok
Cookie::Baker::XS 0.10 is require. fallback to PP version at /opt/perl-5.24.1/lib/site_perl/5.24.1/Cookie/Baker.pm line 17.
WWW::Form::UrlEncoded::XS 0.25 is require. fallback to PP version at /opt/perl-5.24.1/lib/site_perl/5.24.1/x86_64-linux/WWW/Form/UrlEncoded.pm line 17.
t/005a_basic_w_cache_store.t ... ok
Cookie::Baker::XS 0.10 is require. fallback to PP version at /opt/perl-5.24.1/lib/site_perl/5.24.1/Cookie/Baker.pm line 17.
WWW::Form::UrlEncoded::XS 0.25 is require. fallback to PP version at /opt/perl-5.24.1/lib/site_perl/5.24.1/x86_64-linux/WWW/Form/UrlEncoded.pm line 17.
t/006_basic_w_dbi_store.t ...... ok
Cookie::Baker::XS 0.10 is require. fallback to PP version at /opt/perl-5.24.1/lib/site_perl/5.24.1/Cookie/Baker.pm line 17.
WWW::Form::UrlEncoded::XS 0.25 is require. fallback to PP version at /opt/perl-5.24.1/lib/site_perl/5.24.1/x86_64-linux/WWW/Form/UrlEncoded.pm line 17.
t/010_middleware.t ............. ok
Cookie::Baker::XS 0.10 is require. fallback to PP version at /opt/perl-5.24.1/lib/site_perl/5.24.1/Cookie/Baker.pm line 17.
WWW::Form::UrlEncoded::XS 0.25 is require. fallback to PP version at /opt/perl-5.24.1/lib/site_perl/5.24.1/x86_64-linux/WWW/Form/UrlEncoded.pm line 17.
t/010a_middleware.t ............ ok
Cookie::Baker::XS 0.10 is require. fallback to PP version at /opt/perl-5.24.1/lib/site_perl/5.24.1/Cookie/Baker.pm line 17.
WWW::Form::UrlEncoded::XS 0.25 is require. fallback to PP version at /opt/perl-5.24.1/lib/site_perl/5.24.1/x86_64-linux/WWW/Form/UrlEncoded.pm line 17.
t/012_streaming.t .............. ok
Cookie::Baker::XS 0.10 is require. fallback to PP version at /opt/perl-5.24.1/lib/site_perl/5.24.1/Cookie/Baker.pm line 17.
WWW::Form::UrlEncoded::XS 0.25 is require. fallback to PP version at /opt/perl-5.24.1/lib/site_perl/5.24.1/x86_64-linux/WWW/Form/UrlEncoded.pm line 17.
t/013_cookiestore.t ............ ok
Cookie::Baker::XS 0.10 is require. fallback to PP version at /opt/perl-5.24.1/lib/site_perl/5.24.1/Cookie/Baker.pm line 17.
WWW::Form::UrlEncoded::XS 0.25 is require. fallback to PP version at /opt/perl-5.24.1/lib/site_perl/5.24.1/x86_64-linux/WWW/Form/UrlEncoded.pm line 17.
t/014_cookie_options.t ......... ok
Cookie::Baker::XS 0.10 is require. fallback to PP version at /opt/perl-5.24.1/lib/site_perl/5.24.1/Cookie/Baker.pm line 17.
WWW::Form::UrlEncoded::XS 0.25 is require. fallback to PP version at /opt/perl-5.24.1/lib/site_perl/5.24.1/x86_64-linux/WWW/Form/UrlEncoded.pm line 17.
t/015_cookie_options_mw.t ...... ok
Cookie::Baker::XS 0.10 is require. fallback to PP version at /opt/perl-5.24.1/lib/site_perl/5.24.1/Cookie/Baker.pm line 17.
WWW::Form::UrlEncoded::XS 0.25 is require. fallback to PP version at /opt/perl-5.24.1/lib/site_perl/5.24.1/x86_64-linux/WWW/Form/UrlEncoded.pm line 17.
t/016_cookiestore_w_customs.t .. ok
t/author-pod-syntax.t .......... skipped: these tests are for testing by the author
All tests successful.
Files=20, Tests=513, 3 wallclock secs ( 0.07 usr 0.11 sys + 1.57 cusr 0.37 csys = 2.12 CPU)
Result: PASS
------------------------------
PREREQUISITES
------------------------------
Prerequisite modules loaded:
requires:
Module Need Have
------------------- ------ --------
Cookie::Baker 0.10 0.10
Digest::HMAC_SHA1 1.03 1.03
Digest::SHA1 0 2.13
Plack 0.9910 1.0047
build_requires:
Module Need Have
------------------- ------ --------
HTTP::Cookies 0 6.04
LWP::UserAgent 0 6.36
Test::Fatal 0.006 0.014
Test::More 0.88 1.302140
Test::Requires 0 0.10
configure_requires:
Module Need Have
------------------- ------ --------
Module::Build::Tiny 0.034 0.039
------------------------------
ENVIRONMENT AND OTHER CONTEXT
------------------------------
Environment variables:
LANG = C
PATH = /usr/local/bin:/usr/bin:/bin:/usr/local/sbin:/usr/sbin:/sbin:/home/cpansand/bin/linux-gnu:/home/cpansand/bin/sh:/home/cpansand/bin:/usr/games:/home/cpansand/devel:/home/eserte/src/srezic-misc/scripts
PERL5LIB =
PERL5OPT =
PERL5_CPANPLUS_IS_RUNNING = 28042
PERL5_CPAN_IS_RUNNING = 28042
PERL5_CPAN_IS_RUNNING_IN_RECURSION = 26969,28042
PERLDOC = -MPod::Perldoc::ToTextOverstrike
PERL_BATCH = yes
PERL_CANARY_STABILITY_NOPROMPT = 1
PERL_CPAN_REPORTER_CONFIG = /var/tmp/cpansmoker-1023/2019022621/cpanreporter_000_config.ini
PERL_EXTUTILS_AUTOINSTALL = --defaultdeps
PERL_USE_UNSAFE_INC = 1
SHELL = /usr/bin/zsh
TERM = screen
TMPDIR = /var/tmp/cpansmoker-1023/2019022621
Perl special variables (and OS-specific diagnostics, for MSWin32):
$^X = /opt/perl-5.24.1/bin/perl
$UID/$EUID = 1023 / 1023
$GID = 1023 1023
$EGID = 1023 1023
Perl module toolchain versions installed:
Module Have
------------------- --------
CPAN 2.16
CPAN::Meta 2.150010
Cwd 3.75
ExtUtils::CBuilder 0.280230
ExtUtils::Command 7.34
ExtUtils::Install 2.14
ExtUtils::MakeMaker 7.34
ExtUtils::Manifest 1.70
ExtUtils::ParseXS 3.31
File::Spec 3.75
JSON 4.01
JSON::PP 2.97001
Module::Build 0.4224
Module::Signature 0.83
Parse::CPAN::Meta 2.150010
Test::Harness 3.42
Test::More 1.302140
YAML 1.26
YAML::Syck 1.30
version 0.9923
--
Summary of my perl5 (revision 5 version 24 subversion 1) configuration:
Platform:
osname=linux, osvers=4.9.0-3-amd64, archname=x86_64-linux
uname='linux debian9 4.9.0-3-amd64 #1 smp debian 4.9.30-2+deb9u1 (2017-06-18) x86_64 gnulinux '
config_args='-ds -e -Dprefix=/opt/perl-5.24.1 -Dcf_email=srezic@cpan.org'
hint=recommended, useposix=true, d_sigaction=define
useithreads=undef, usemultiplicity=undef
use64bitint=define, use64bitall=define, uselongdouble=undef
usemymalloc=n, bincompat5005=undef
Compiler:
cc='cc', ccflags ='-fwrapv -fno-strict-aliasing -pipe -fstack-protector-strong -I/usr/local/include -D_LARGEFILE_SOURCE -D_FILE_OFFSET_BITS=64',
optimize='-O2',
cppflags='-fwrapv -fno-strict-aliasing -pipe -fstack-protector-strong -I/usr/local/include'
ccversion='', gccversion='6.3.0 20170516', gccosandvers=''
intsize=4, longsize=8, ptrsize=8, doublesize=8, byteorder=12345678, doublekind=3
d_longlong=define, longlongsize=8, d_longdbl=define, longdblsize=16, longdblkind=3
ivtype='long', ivsize=8, nvtype='double', nvsize=8, Off_t='off_t', lseeksize=8
alignbytes=8, prototype=define
Linker and Libraries:
ld='cc', ldflags =' -fstack-protector-strong -L/usr/local/lib'
libpth=/usr/local/lib /usr/lib/gcc/x86_64-linux-gnu/6/include-fixed /usr/include/x86_64-linux-gnu /usr/lib /lib/x86_64-linux-gnu /lib/../lib /usr/lib/x86_64-linux-gnu /usr/lib/../lib /lib
libs=-lpthread -lnsl -lgdbm -ldb -ldl -lm -lcrypt -lutil -lc -lgdbm_compat
perllibs=-lpthread -lnsl -ldl -lm -lcrypt -lutil -lc
libc=libc-2.24.so, so=so, useshrplib=false, libperl=libperl.a
gnulibc_version='2.24'
Dynamic Linking:
dlsrc=dl_dlopen.xs, dlext=so, d_dlsymun=undef, ccdlflags='-Wl,-E'
cccdlflags='-fPIC', lddlflags='-shared -O2 -L/usr/local/lib -fstack-protector-strong'
Characteristics of this binary (from libperl):
Compile-time options: HAS_TIMES PERLIO_LAYERS PERL_COPY_ON_WRITE
PERL_DONT_CREATE_GVSV
PERL_HASH_FUNC_ONE_AT_A_TIME_HARD PERL_MALLOC_WRAP
PERL_PRESERVE_IVUV USE_64_BIT_ALL USE_64_BIT_INT
USE_LARGE_FILES USE_LOCALE USE_LOCALE_COLLATE
USE_LOCALE_CTYPE USE_LOCALE_NUMERIC USE_LOCALE_TIME
USE_PERLIO USE_PERL_ATOF
Built under linux
Compiled at Jun 23 2017 20:31:37
%ENV:
PERL5LIB=""
PERL5OPT=""
PERL5_CPANPLUS_IS_RUNNING="28042"
PERL5_CPAN_IS_RUNNING="28042"
PERL5_CPAN_IS_RUNNING_IN_RECURSION="26969,28042"
PERLDOC="-MPod::Perldoc::ToTextOverstrike"
PERL_BATCH="yes"
PERL_CANARY_STABILITY_NOPROMPT="1"
PERL_CPAN_REPORTER_CONFIG="/var/tmp/cpansmoker-1023/2019022621/cpanreporter_000_config.ini"
PERL_EXTUTILS_AUTOINSTALL="--defaultdeps"
PERL_USE_UNSAFE_INC="1"
@INC:
/opt/perl-5.24.1/lib/site_perl/5.24.1/x86_64-linux
/opt/perl-5.24.1/lib/site_perl/5.24.1
/opt/perl-5.24.1/lib/5.24.1/x86_64-linux
/opt/perl-5.24.1/lib/5.24.1
.