App-CSVUtils v1.036 Perl 5 v5.40.1 x86_64-linux

Status
Pass
From
Slaven Rezić
Dist
App-CSVUtils v1.036
Platform
Perl 5 v5.40.1 x86_64-linux
Date
2025-03-13 12:51:20
ID
dc7c647e-0009-11f0-b59c-a9006e8775ea
This distribution has been tested as part of the CPAN Testers
project, supporting the Perl programming language.  See
http://wiki.cpantesters.org/ for more information or email
questions to cpan-testers-discuss@perl.org


--
Dear perlancar,

This is a computer-generated report for App-CSVUtils-1.036
on perl 5.40.1, created by CPAN-Reporter-1.2020.

Thank you for uploading your work to CPAN.  Congratulations!
All tests were successful.

Sections of this report:

    * Tester comments
    * Program output
    * Prerequisites
    * Environment and other context

------------------------------
TESTER COMMENTS
------------------------------

Additional comments from tester:

none provided

------------------------------
PROGRAM OUTPUT
------------------------------

Output from '/usr/bin/make test':

PERL_DL_NONLAZY=1 "/opt/perl-5.40.1/bin/perl" "-MExtUtils::Command::MM" "-MTest::Harness" "-e" "undef *Test::Harness::Switches; test_harness(0, 'blib/lib', 'blib/arch')" t/*.t
t/00-compile.t ........... ok
t/01-basic.t ............. ok
t/author-critic.t ........ skipped: these tests are for testing by the author
t/author-pod-coverage.t .. skipped: these tests are for testing by the author
t/author-pod-syntax.t .... skipped: these tests are for testing by the author
t/release-rinci.t ........ skipped: these tests are for release candidate testing
All tests successful.
Files=6, Tests=148,  2 wallclock secs ( 0.04 usr  0.01 sys +  1.53 cusr  0.29 csys =  1.87 CPU)
Result: PASS

------------------------------
PREREQUISITES
------------------------------

Prerequisite modules loaded:

requires:

    Module                                                    Need     Have    
    --------------------------------------------------------- -------- --------
    Complete::Module                                          0.263    0.263   
    Complete::Util                                            0.620    0.620   
    Cwd                                                       0        3.91    
    Data::Cmp                                                 0.002    0.010   
    Data::Dmp                                                 0.242    0.242   
    Data::Sah                                                 0.917    0.917   
    Data::Sah::Compiler::perl::TH::any                        0.914    0.917   
    Data::Sah::Compiler::perl::TH::array                      0.914    0.917   
    Data::Sah::Compiler::perl::TH::bool                       0.914    0.917   
    Data::Sah::Compiler::perl::TH::code                       0.914    0.917   
    Data::Sah::Compiler::perl::TH::hash                       0.914    0.917   
    Data::Sah::Compiler::perl::TH::int                        0.914    0.917   
    Data::Sah::Compiler::perl::TH::re                         0.914    0.917   
    Data::Sah::Compiler::perl::TH::str                        0.914    0.917   
    Data::Sah::Filter::perl::Path::expand_tilde_when_on_unix  0        0.031   
    Data::Sah::Filter::perl::Path::strip_slashes_when_on_unix 0        0.031   
    Data::Sah::Filter::perl::Re::re_from_str                  0        0.003   
    Data::Sah::Filter::perl::Str::maybe_convert_to_re         0        0.018   
    Data::Sah::Filter::perl::Str::maybe_eval                  0        0.018   
    Exporter                                                  5.57     5.78    
    File::Slurper::Dash                                       0        0.001   
    Getopt::Long                                              2.50     2.57    
    List::Util                                                1.54     1.63    
    Log::ger                                                  0.038    0.042   
    Module::List::Tiny                                        0        0.004003
    Number::Util::Range                                       0.005    0.008   
    Perinci::CmdLine::Any                                     0.154    0.154   
    Perinci::CmdLine::Lite                                    1.924    1.929   
    Perinci::Sub::Gen::AccessTable                            0.592    0.594   
    Perinci::Sub::Util                                        0.472    0.472   
    Perinci::Sub::XCompletion::filename                       0        0.106   
    Perinci::Sub::XCompletion::sortsub_spec                   0        0.004   
    perl                                                      5.010001 5.040001
    Sah::Schema::filename                                     0        0.031   
    Sah::Schema::posint                                       0        0.077   
    Sah::Schema::re_from_str                                  0        0.006   
    Sah::Schema::str_or_re_or_code                            0        0.018   
    Sah::Schema::true                                         0        0.003   
    Sah::Schema::uint                                         0        0.077   
    Scalar::Util::Numeric                                     0        0.40    
    Sort::ByExample                                           0        0.008   
    Sort::BySpec                                              0.03     0.040   
    strict                                                    0        1.13    
    String::Pad                                               0.021    0.021   
    Text::CSV_XS                                              0        1.60    
    Text::CSV_XS::TSV                                         0        0.003   
    Text::Wrap::NoStrip                                       0.002    0.003   
    Tie::IxHash                                               0        1.23    
    warnings                                                  0        1.70    

build_requires:

    Module                                                    Need     Have    
    --------------------------------------------------------- -------- --------
    Capture::Tiny                                             0        0.50    
    ExtUtils::MakeMaker                                       0        7.70    
    File::Slurper                                             0        0.014   
    File::Spec                                                0        3.91    
    File::Temp                                                0.2310   0.2311  
    IO::Handle                                                0        1.55    
    IPC::Open3                                                0        1.22    
    Test::Exception                                           0        0.43    
    Test::More                                                0.98     1.302209
    Test::Needs                                               0        0.002010

configure_requires:

    Module                                                    Need     Have    
    --------------------------------------------------------- -------- --------
    ExtUtils::MakeMaker                                       0        7.70    


------------------------------
ENVIRONMENT AND OTHER CONTEXT
------------------------------

Environment variables:

    LANG = de_DE.UTF-8
    LANGUAGE = de_DE
    PATH = /home/slaven_rezic/.tfenv/bin:/home/slaven_rezic/.krew/bin:/usr/local/go/bin:/usr/local/bin:/usr/bin:/bin:/usr/local/sbin:/usr/sbin:/sbin:/home/slaven_rezic/bin/linux-gnu:/home/slaven_rezic/bin/sh:/home/slaven_rezic/bin:/home/slaven_rezic/bin/pistachio-perl/bin:/usr/games:/home/slaven_rezic/devel:/home/slaven_rezic/work/eserte-drafts/misc:/home/slaven_rezic/work2/fzf/bin:/home/slaven_rezic/src/srezic-misc/scripts
    PERL5LIB = 
    PERL5OPT = 
    PERL5_CPANPLUS_IS_RUNNING = 194722
    PERL5_CPAN_IS_RUNNING = 194722
    PERL5_CPAN_IS_RUNNING_IN_RECURSION = 191617,194722
    PERLDOC = -MPod::Perldoc::ToTextOverstrike
    PERL_BATCH = yes
    PERL_CANARY_STABILITY_NOPROMPT = 1
    PERL_CPAN_REPORTER_CONFIG = /var/tmp/cpansmoker-1000/2025031313/cpanreporter_001_config.ini
    PERL_EXTUTILS_AUTOINSTALL = --defaultdeps
    PERL_USE_UNSAFE_INC = 1
    PISTACHIO_PERL_MANAGER = 1
    SHELL = /bin/zsh
    STDPERL = /home/slaven_rezic/bin/pistachio-perl/bin/perl
    TERM = screen
    TMPDIR = /var/tmp/cpansmoker-1000/2025031313

Perl special variables (and OS-specific diagnostics, for MSWin32):

    $^X = /opt/perl-5.40.1/bin/perl
    $UID/$EUID = 1000 / 1000
    $GID = 1000 4 24 27 30 46 121 131 132 135 138 1000 1002
    $EGID = 1000 4 24 27 30 46 121 131 132 135 138 1000 1002

Perl module toolchain versions installed:

    Module              Have    
    ------------------- --------
    CPAN                2.36    
    CPAN::Meta          2.150010
    Cwd                 3.91    
    ExtUtils::CBuilder  0.280240
    ExtUtils::Command   7.70    
    ExtUtils::Install   2.22    
    ExtUtils::MakeMaker 7.70    
    ExtUtils::Manifest  1.75    
    ExtUtils::ParseXS   3.51    
    File::Spec          3.91    
    JSON                4.10    
    JSON::PP            4.16    
    Module::Build       0.4234  
    Module::Signature   0.89    
    Parse::CPAN::Meta   2.150010
    Test2               1.302209
    Test::Harness       3.48    
    Test::More          1.302209
    YAML                1.31    
    YAML::Syck          1.34    
    version             0.9930  


--

Summary of my perl5 (revision 5 version 40 subversion 1) configuration:
   
  Platform:
    osname=linux
    osvers=5.15.0-134-generic
    archname=x86_64-linux
    uname='linux slaven-rezic-thinkpad-t14s-gen-1 5.15.0-134-generic #145-ubuntu smp wed feb 12 20:08:39 utc 2025 x86_64 x86_64 x86_64 gnulinux '
    config_args='-ds -e -Dprefix=/opt/perl-5.40.1 -Uinstallusrbinperl -Dcf_email=srezic@cpan.org'
    hint=recommended
    useposix=true
    d_sigaction=define
    useithreads=undef
    usemultiplicity=undef
    use64bitint=define
    use64bitall=define
    uselongdouble=undef
    usemymalloc=n
    default_inc_excludes_dot=define
  Compiler:
    cc='cc'
    ccflags ='-fwrapv -fno-strict-aliasing -pipe -fstack-protector-strong -I/usr/local/include -D_LARGEFILE_SOURCE -D_FILE_OFFSET_BITS=64'
    optimize='-O2'
    cppflags='-fwrapv -fno-strict-aliasing -pipe -fstack-protector-strong -I/usr/local/include'
    ccversion=''
    gccversion='11.4.0'
    gccosandvers=''
    intsize=4
    longsize=8
    ptrsize=8
    doublesize=8
    byteorder=12345678
    doublekind=3
    d_longlong=define
    longlongsize=8
    d_longdbl=define
    longdblsize=16
    longdblkind=3
    ivtype='long'
    ivsize=8
    nvtype='double'
    nvsize=8
    Off_t='off_t'
    lseeksize=8
    alignbytes=8
    prototype=define
  Linker and Libraries:
    ld='cc'
    ldflags =' -fstack-protector-strong -L/usr/local/lib'
    libpth=/usr/local/lib /usr/lib/x86_64-linux-gnu /usr/lib /usr/lib64
    libs=-lpthread -lgdbm -ldb -ldl -lm -lcrypt -lutil -lc
    perllibs=-lpthread -ldl -lm -lcrypt -lutil -lc
    libc=/lib/x86_64-linux-gnu/libc.so.6
    so=so
    useshrplib=false
    libperl=libperl.a
    gnulibc_version='2.35'
  Dynamic Linking:
    dlsrc=dl_dlopen.xs
    dlext=so
    d_dlsymun=undef
    ccdlflags='-Wl,-E'
    cccdlflags='-fPIC'
    lddlflags='-shared -O2 -L/usr/local/lib -fstack-protector-strong'


Characteristics of this binary (from libperl): 
  Compile-time options:
    HAS_LONG_DOUBLE
    HAS_STRTOLD
    HAS_TIMES
    PERLIO_LAYERS
    PERL_COPY_ON_WRITE
    PERL_DONT_CREATE_GVSV
    PERL_HASH_FUNC_SIPHASH13
    PERL_HASH_USE_SBOX32
    PERL_MALLOC_WRAP
    PERL_OP_PARENT
    PERL_PRESERVE_IVUV
    PERL_USE_SAFE_PUTENV
    USE_64_BIT_ALL
    USE_64_BIT_INT
    USE_LARGE_FILES
    USE_LOCALE
    USE_LOCALE_COLLATE
    USE_LOCALE_CTYPE
    USE_LOCALE_NUMERIC
    USE_LOCALE_TIME
    USE_PERLIO
    USE_PERL_ATOF
  Built under linux
  Compiled at Mar 10 2025 15:17:54
  %ENV:
    PERL5LIB=""
    PERL5OPT=""
    PERL5_CPANPLUS_IS_RUNNING="194722"
    PERL5_CPAN_IS_RUNNING="194722"
    PERL5_CPAN_IS_RUNNING_IN_RECURSION="191617,194722"
    PERLDOC="-MPod::Perldoc::ToTextOverstrike"
    PERL_BATCH="yes"
    PERL_CANARY_STABILITY_NOPROMPT="1"
    PERL_CPAN_REPORTER_CONFIG="/var/tmp/cpansmoker-1000/2025031313/cpanreporter_001_config.ini"
    PERL_EXTUTILS_AUTOINSTALL="--defaultdeps"
    PERL_USE_UNSAFE_INC="1"
  @INC:
    /opt/perl-5.40.1/lib/site_perl/5.40.1/x86_64-linux
    /opt/perl-5.40.1/lib/site_perl/5.40.1
    /opt/perl-5.40.1/lib/5.40.1/x86_64-linux
    /opt/perl-5.40.1/lib/5.40.1
    .