Report for DBIx-Class-Graph-1.05

Back
From: metabase:user:b53c7f44-4c0e-11e4-9ced-a04ade49192c
Subject: PASS DBIx-Class-Graph-1.05 v5.12.0 GNU/Linux
Date: 2015-05-22T11:22:41Z

This distribution has been tested as part of the CPAN Testers
project, supporting the Perl programming language.  See
http://wiki.cpantesters.org/ for more information or email
questions to cpan-testers-discuss@perl.org


--
Dear Moritz Onken,

This is a computer-generated report for DBIx-Class-Graph-1.05
on perl 5.12.0, created by CPAN-Reporter-1.2011.

Thank you for uploading your work to CPAN.  Congratulations!
All tests were successful.

Sections of this report:

    * Tester comments
    * Program output
    * Prerequisites
    * Environment and other context

------------------------------
TESTER COMMENTS
------------------------------

Additional comments from tester:

this report is from an automated smoke testing program
and was not reviewed by a human for accuracy

------------------------------
PROGRAM OUTPUT
------------------------------

Output from './Build test':

t/00-compile.t ................ ok
# 
# 
# perl: v5.12.0 (wanted any version) on linux from /opt/perl492-32-O0-5.12.0/bin/perl
# 
# Class::C3                                     => 0.28       (want any version)
# DBIx::Class                                   => 0.082820   (want any version)
# DBIx::Class::ResultSet                        => <undef>    (want any version)
# DBIx::Class::Schema                           => <undef>    (want any version)
# File::Find                                    => 1.15       (want any version)
# File::Temp                                    => 0.2304     (want any version)
# Graph                                         => 0.96       (want 0.94)   
# List::MoreUtils                               => 0.410      (want any version)
# Module::Build                                 => 0.4211     (want 0.3601) 
# Moose                                         => 2.1404     (want any version)
# Moose::Role                                   => 2.1404     (want any version)
# Scalar::Util                                  => 1.42       (want any version)
# Test::Memory::Cycle                           => 1.04       (want any version)
# Test::More                                    => 1.001014   (want 0.88)   
# base                                          => 2.18       (want any version)
# strict                                        => 1.04       (want any version)
# warnings                                      => 1.09       (want any version)
# 
# Thanks for using my code.  I hope it works for you.
# If not, please try and include this output in the bug report.
# That will help me reproduce the issue and solve you problem.
# 
t/000-report-versions-tiny.t .. ok
t/complex.t ................... ok
t/leak.t ...................... ok
t/release-has-version.t ....... skipped: these tests are for release candidate testing
t/release-kwalitee.t .......... skipped: these tests are for release candidate testing
t/release-minimum-version.t ... skipped: these tests are for release candidate testing
t/release-pod-coverage.t ...... skipped: these tests are for release candidate testing
t/release-pod-syntax.t ........ skipped: these tests are for release candidate testing
t/result.t .................... ok
t/resultset.t ................. ok
t/simple01.t .................. ok
t/simple02.t .................. ok
t/simplesucc.t ................ ok
t/wrapper.t ................... ok
All tests successful.
Files=15, Tests=69, 68 wallclock secs ( 0.32 usr  0.08 sys + 58.30 cusr  2.28 csys = 60.98 CPU)
Result: PASS

------------------------------
PREREQUISITES
------------------------------

Prerequisite modules loaded:

requires:

    Module                 Need   Have    
    ---------------------- ------ --------
    base                   0      2.18    
    Class::C3              0      0.28    
    DBIx::Class            0      0.082820
    DBIx::Class::ResultSet 0      0       
    Graph                  0.94   0.96    
    List::MoreUtils        0      0.410   
    Moose                  0      2.1404  
    Moose::Role            0      2.1404  
    Scalar::Util           0      1.42    
    strict                 0      1.04    
    warnings               0      1.09    

build_requires:

    Module                 Need   Have    
    ---------------------- ------ --------
    DBIx::Class::Schema    0      0       
    File::Find             0      1.15    
    File::Temp             0      0.2304  
    Module::Build          0.3601 0.4211  
    Test::Memory::Cycle    0      1.04    
    Test::More             0.88   1.001014

configure_requires:

    Module                 Need   Have    
    ---------------------- ------ --------
    Module::Build          0.3601 0.4211  


------------------------------
ENVIRONMENT AND OTHER CONTEXT
------------------------------

Environment variables:

    AUTOMATED_TESTING = 1
    LANG = en_US.utf8
    LD_LIBRARY_PATH = /usr/lib/alliance/lib
    NONINTERACTIVE_TESTING = 1
    PATH = /usr/lib/qt-3.3/bin:/usr/kerberos/sbin:/usr/kerberos/bin:/usr/lib/ccache:/usr/local/sbin:/usr/local/bin:/sbin:/bin:/usr/sbin:/usr/bin:/usr/lib/alliance/bin:/usr/lib/firebird/bin:/opt/real/RealPlayer:/root/bin
    PERL5LIB = 
    PERL5OPT = 
    PERL5_CPANPLUS_IS_RUNNING = 21654
    PERL5_CPAN_IS_RUNNING = 21654
    PERL_MM_USE_DEFAULT = 1
    PERL_PARALLEL_SMOKER = yes
    SHELL = /bin/bash
    TERM = linux

Perl special variables (and OS-specific diagnostics, for MSWin32):

    $^X = /opt/perl492-32-O0-5.12.0/bin/perl
    $UID/$EUID = 0 / 0
    $GID = 0 0 1 2 3 4 6 10
    $EGID = 0 0 1 2 3 4 6 10

Perl module toolchain versions installed:

    Module              Have    
    ------------------- --------
    CPAN                2.10    
    CPAN::Meta          2.150001
    Cwd                 3.47    
    ExtUtils::CBuilder  0.280220
    ExtUtils::Command   1.16    
    ExtUtils::Install   2.04    
    ExtUtils::MakeMaker 7.04    
    ExtUtils::Manifest  1.70    
    ExtUtils::ParseXS   3.24    
    File::Spec          3.47    
    JSON                2.90    
    JSON::PP            2.27300 
    Module::Build       0.4211  
    Module::Signature   0.78    
    Parse::CPAN::Meta   1.4414  
    Test::Harness       3.35    
    Test::More          1.001014
    YAML                1.15    
    YAML::Syck          1.29    
    version             0.9912  


--

Summary of my perl5 (revision 5 version 12 subversion 0) configuration:
   
  Platform:
    osname=linux, osvers=2.6.32.63, archname=i686-linux-thread-multi-64int-ld
    uname='linux localhost.localdomain 2.6.32.63 #2 smp fri jan 30 10:45:01 pst 2015 i686 i686 i386 gnulinux '
    config_args='-Dcc=/opt/492/bin/gcc -Dprefix=/opt/perl492-32-O0-5.12.0 -DDEBUGGING'
    hint=recommended, useposix=true, d_sigaction=define
    useithreads=define, usemultiplicity=define
    useperlio=define, d_sfio=undef, uselargefiles=define, usesocks=undef
    use64bitint=define, use64bitall=undef, uselongdouble=define
    usemymalloc=y, bincompat5005=undef
  Compiler:
    cc='/opt/492/bin/gcc', ccflags ='-D_REENTRANT -D_GNU_SOURCE -DDEBUGGING -fno-strict-aliasing -pipe -fstack-protector -I/usr/local/include -D_LARGEFILE_SOURCE -D_FILE_OFFSET_BITS=64',
    optimize='-O0 -g',
    cppflags='-D_REENTRANT -D_GNU_SOURCE -DDEBUGGING -fno-strict-aliasing -pipe -fstack-protector -I/usr/local/include'
    ccversion='', gccversion='4.9.2', gccosandvers=''
    intsize=4, longsize=4, ptrsize=4, doublesize=8, byteorder=12345678
    d_longlong=define, longlongsize=8, d_longdbl=define, longdblsize=12
    ivtype='long long', ivsize=8, nvtype='long double', nvsize=12, Off_t='off_t', lseeksize=8
    alignbytes=4, prototype=define
  Linker and Libraries:
    ld='/opt/492/bin/gcc', ldflags =' -fstack-protector -L/usr/local/lib'
    libpth=/usr/local/lib /lib /usr/lib
    libs=-lnsl -lgdbm -ldb -ldl -lm -lcrypt -lutil -lpthread -lc
    perllibs=-lnsl -ldl -lm -lcrypt -lutil -lpthread -lc
    libc=/lib/libc-2.8.so, so=so, useshrplib=true, libperl=libperl.so
    gnulibc_version='2.8'
  Dynamic Linking:
    dlsrc=dl_dlopen.xs, dlext=so, d_dlsymun=undef, ccdlflags='-Wl,-E -Wl,-rpath,/opt/perl492-32-O0-5.12.0/lib/5.12.0/i686-linux-thread-multi-64int-ld/CORE'
    cccdlflags='-fPIC', lddlflags='-shared -O0 -g -L/usr/local/lib -fstack-protector'


Characteristics of this binary (from libperl): 
  Compile-time options: DEBUGGING MULTIPLICITY MYMALLOC PERL_DONT_CREATE_GVSV
                        PERL_IMPLICIT_CONTEXT PERL_MAD PERL_MALLOC_WRAP
                        PERL_TRACK_MEMPOOL USE_64_BIT_INT USE_FAST_STDIO
                        USE_ITHREADS USE_LARGE_FILES USE_LONG_DOUBLE
                        USE_PERLIO USE_PERL_ATOF USE_REENTRANT_API
  Built under linux
  Compiled at Mar 12 2015 10:12:08
  %ENV:
    PERL5LIB=""
    PERL5OPT=""
    PERL5_CPANPLUS_IS_RUNNING="21654"
    PERL5_CPAN_IS_RUNNING="21654"
    PERL_MM_USE_DEFAULT="1"
    PERL_PARALLEL_SMOKER="yes"
  @INC:
    /opt/perl492-32-O0-5.12.0/lib/site_perl/5.12.0/i686-linux-thread-multi-64int-ld
    /opt/perl492-32-O0-5.12.0/lib/site_perl/5.12.0
    /opt/perl492-32-O0-5.12.0/lib/5.12.0/i686-linux-thread-multi-64int-ld
    /opt/perl492-32-O0-5.12.0/lib/5.12.0
    .