Log-GELF-Util v1.03 Perl 5 v5.10.0 OpenBSD.amd64-openbsd
- Status
- Pass
- From
- Nigel Horne
- Dist
-
Log-GELF-Util v1.03
- Platform
- Perl 5 v5.10.0 OpenBSD.amd64-openbsd
- Date
- 2024-12-24 08:48:34
- ID
- dc2a04e6-c1d3-11ef-a0b0-9e8f3f2cf996
This distribution has been tested as part of the CPAN Testers
project, supporting the Perl programming language. See
http://wiki.cpantesters.org/ for more information or email
questions to cpan-testers-discuss@perl.org
--
Dear Adam Clarke,
This is a computer-generated report for Log-GELF-Util-1.03
on perl 5.10.0, created by CPAN-Reporter-1.2020.
Thank you for uploading your work to CPAN. Congratulations!
All tests were successful.
Sections of this report:
* Tester comments
* Program output
* Prerequisites
* Environment and other context
------------------------------
TESTER COMMENTS
------------------------------
Additional comments from tester:
this report is from an automated smoke testing program
and was not reviewed by a human for accuracy
------------------------------
PROGRAM OUTPUT
------------------------------
Output from './Build test':
t/00_compile.t .... ok
t/01_utilities.t .. ok
t/02_validate.t ... ok
t/03_encode.t ..... ok
t/04_compress.t ... ok
t/05_chunked.t .... ok
All tests successful.
Files=6, Tests=162, 2 wallclock secs ( 0.05 usr 0.02 sys + 1.01 cusr 0.31 csys = 1.39 CPU)
Result: PASS
------------------------------
PREREQUISITES
------------------------------
Prerequisite modules loaded:
requires:
Module Need Have
------------------- ----- --------
JSON::MaybeXS 0 1.004004
Math::Random::MT 0 1.17
Params::Validate 0 1.31
perl 5.010 5.010000
Readonly 2.00 2.05
Sys::Hostname 0 1.11
Time::HiRes 0 1.9711
build_requires:
Module Need Have
------------------- ----- --------
Test::Exception 0 0.43
Test::More 0.98 1.302191
Test::Warnings 0.005 0.031
configure_requires:
Module Need Have
------------------- ----- --------
Module::Build::Tiny 0.035 0.051
------------------------------
ENVIRONMENT AND OTHER CONTEXT
------------------------------
Environment variables:
AUTOMATED_TESTING = 1
PATH = /home/njh/perl5/perlbrew/bin:/home/njh/perl5/perlbrew/perls/perl-5.10.0-64int/bin:/home/njh/perl5/perlbrew/bin:/home/njh/src/njh/smoker/bin:/usr/local/bin:/usr/bin:/bin:/usr/sbin:/sbin:/usr/X11R6/bin:/usr/local/bin:/usr/local/sbin
PERL5LIB = /home/njh/.cpan/build/Readonly-2.05-0/blib/arch:/home/njh/.cpan/build/Readonly-2.05-0/blib/lib:/home/njh/.cpan/build/Params-Validate-1.31-0/blib/arch:/home/njh/.cpan/build/Params-Validate-1.31-0/blib/lib:/home/njh/.cpan/build/Module-Implementation-0.09-0/blib/arch:/home/njh/.cpan/build/Module-Implementation-0.09-0/blib/lib:/home/njh/.cpan/build/Test-Requires-0.11-0/blib/arch:/home/njh/.cpan/build/Test-Requires-0.11-0/blib/lib:/home/njh/.cpan/build/Module-Runtime-0.016-0/blib/arch:/home/njh/.cpan/build/Module-Runtime-0.016-0/blib/lib:/home/njh/.cpan/build/Math-Random-MT-1.17-0/blib/arch:/home/njh/.cpan/build/Math-Random-MT-1.17-0/blib/lib:/home/njh/.cpan/build/Test-Number-Delta-1.06-0/blib/arch:/home/njh/.cpan/build/Test-Number-Delta-1.06-0/blib/lib
PERL5OPT =
PERL5_CPANPLUS_IS_RUNNING = 35914
PERL5_CPAN_IS_RUNNING = 35914
PERL5_CPAN_IS_RUNNING_IN_RECURSION = 33206,35914
PERLBREW_LIB =
PERLBREW_MANPATH = /home/njh/perl5/perlbrew/perls/perl-5.10.0-64int/man
PERLBREW_PATH = /home/njh/perl5/perlbrew/bin:/home/njh/perl5/perlbrew/perls/perl-5.10.0-64int/bin
PERLBREW_PERL = perl-5.10.0-64int
PERLBREW_ROOT = /home/njh/perl5/perlbrew
PERLBREW_SHELLRC_VERSION = 1.01
PERLBREW_VERSION = 1.01
PERL_LOCAL_LIB_ROOT =
PERL_MM_USE_DEFAULT = 1
PERL_USE_UNSAFE_INC = 1
SHELL = /usr/local/bin/bash
TMPDIR = /tmp/smoker-0Z3jb/testwrapper.69270
Perl special variables (and OS-specific diagnostics, for MSWin32):
$^X = /home/njh/perl5/perlbrew/perls/perl-5.10.0-64int/bin/perl5.10.0
$UID/$EUID = 1000 / 1000
$GID = 1000 1000 0
$EGID = 1000 1000 0
Perl module toolchain versions installed:
Module Have
------------------- --------
CPAN 2.34
CPAN::Meta 2.150010
Cwd 3.75
ExtUtils::CBuilder 0.280236
ExtUtils::Command 7.64
ExtUtils::Install 2.20
ExtUtils::MakeMaker 7.64
ExtUtils::Manifest 1.70
ExtUtils::ParseXS 3.44
File::Spec 3.75
JSON 4.09
JSON::PP 4.11
Module::Build 0.4231
Module::Signature n/a
Parse::CPAN::Meta 2.150010
Test2 1.302191
Test::Harness 3.44
Test::More 1.302191
YAML 1.31
YAML::Syck 1.34
version 0.9929
--
Summary of my perl5 (revision 5 version 10 subversion 0) configuration:
Platform:
osname=openbsd, osvers=7.1, archname=OpenBSD.amd64-openbsd
uname='openbsd vultr2.bandsman.co.uk 7.1 generic#3 amd64 '
config_args='-de -Dprefix=/home/njh/perl5/perlbrew/perls/perl-5.10.0-64int -Dusedevel -Duse64bitint -Accflags=-O2 -W -Wformat=2 -Wswitch -Wshadow -Wwrite-strings -Wuninitialized -Wall -pipe -fomit-frame-pointer -pedantic -D_FORTIFY_SOURCE=2 -Wpointer-arith -Wstrict-prototypes -fstack-protector -Wstack-protector -Wextra -Wbad-function-cast -Wcast-align -Wcast-qual -Wdisabled-optimization -Wendif-labels -Wfloat-equal -Wformat-nonliteral -Winline -Wmissing-declarations -Wmissing-prototypes -Wnested-externs -Wpointer-arith -Wundef -Wformat-security -ftree-vectorize -mmmx -msse -mfpmath=sse -msse2 -msse3 -mtune=native -Aeval:scriptdir=/home/njh/perl5/perlbrew/perls/perl-5.10.0-64int/bin'
hint=recommended, useposix=true, d_sigaction=define
useithreads=undef, usemultiplicity=undef
useperlio=define, d_sfio=undef, uselargefiles=define, usesocks=undef
use64bitint=define, use64bitall=define, uselongdouble=undef
usemymalloc=n, bincompat5005=undef
Compiler:
cc='cc', ccflags ='-O2 -W -Wformat=2 -Wswitch -Wshadow -Wwrite-strings -Wuninitialized -Wall -pipe -fomit-frame-pointer -pedantic -D_FORTIFY_SOURCE=2 -Wpointer-arith -Wstrict-prototypes -fstack-protector -Wstack-protector -Wextra -Wbad-function-cast -Wcast-align -Wcast-qual -Wdisabled-optimization -Wendif-labels -Wfloat-equal -Wformat-nonliteral -Winline -Wmissing-declarations -Wmissing-prototypes -Wnested-externs -Wpointer-arith -Wundef -Wformat-security -ftree-vectorize -mmmx -msse -mfpmath=sse -msse2 -msse3 -mtune=native -fno-strict-aliasing -I/usr/local/include',
optimize='-O2',
cppflags='-O2 -W -Wformat=2 -Wswitch -Wshadow -Wwrite-strings -Wuninitialized -Wall -pipe -fomit-frame-pointer -pedantic -D_FORTIFY_SOURCE=2 -Wpointer-arith -Wstrict-prototypes -fstack-protector -Wstack-protector -Wextra -Wbad-function-cast -Wcast-align -Wcast-qual -Wdisabled-optimization -Wendif-labels -Wfloat-equal -Wformat-nonliteral -Winline -Wmissing-declarations -Wmissing-prototypes -Wnested-externs -Wpointer-arith -Wundef -Wformat-security -ftree-vectorize -mmmx -msse -mfpmath=sse -msse2 -msse3 -mtune=native -fno-strict-aliasing -I/usr/local/include'
ccversion='', gccversion='OpenBSD Clang 13.0.0', gccosandvers=''
intsize=4, longsize=8, ptrsize=8, doublesize=8, byteorder=12345678
d_longlong=define, longlongsize=8, d_longdbl=define, longdblsize=16
ivtype='long', ivsize=8, nvtype='double', nvsize=8, Off_t='off_t', lseeksize=8
alignbytes=8, prototype=define
Linker and Libraries:
ld='cc', ldflags ='-Wl,-E -L/usr/local/lib'
libpth=/usr/local/lib /usr/lib
libs=-lm -lutil -lc
perllibs=-lm -lutil -lc
libc=/usr/lib/libc.so.96.1, so=so, useshrplib=false, libperl=libperl.a
gnulibc_version=''
Dynamic Linking:
dlsrc=dl_dlopen.xs, dlext=so, d_dlsymun=undef, ccdlflags=' '
cccdlflags='-DPIC -fPIC ', lddlflags='-shared -fPIC -L/usr/local/lib'
Characteristics of this binary (from libperl):
Compile-time options: PERL_DONT_CREATE_GVSV PERL_MALLOC_WRAP USE_64_BIT_ALL
USE_64_BIT_INT USE_LARGE_FILES USE_PERLIO
Locally applied patches:
Devel::PatchPerl 2.08
Built under openbsd
Compiled at Sep 28 2022 09:55:18
%ENV:
PERL5LIB="/home/njh/.cpan/build/Readonly-2.05-0/blib/arch:/home/njh/.cpan/build/Readonly-2.05-0/blib/lib:/home/njh/.cpan/build/Params-Validate-1.31-0/blib/arch:/home/njh/.cpan/build/Params-Validate-1.31-0/blib/lib:/home/njh/.cpan/build/Module-Implementation-0.09-0/blib/arch:/home/njh/.cpan/build/Module-Implementation-0.09-0/blib/lib:/home/njh/.cpan/build/Test-Requires-0.11-0/blib/arch:/home/njh/.cpan/build/Test-Requires-0.11-0/blib/lib:/home/njh/.cpan/build/Module-Runtime-0.016-0/blib/arch:/home/njh/.cpan/build/Module-Runtime-0.016-0/blib/lib:/home/njh/.cpan/build/Math-Random-MT-1.17-0/blib/arch:/home/njh/.cpan/build/Math-Random-MT-1.17-0/blib/lib:/home/njh/.cpan/build/Test-Number-Delta-1.06-0/blib/arch:/home/njh/.cpan/build/Test-Number-Delta-1.06-0/blib/lib"
PERL5OPT=""
PERL5_CPANPLUS_IS_RUNNING="35914"
PERL5_CPAN_IS_RUNNING="35914"
PERL5_CPAN_IS_RUNNING_IN_RECURSION="33206,35914"
PERLBREW_LIB=""
PERLBREW_MANPATH="/home/njh/perl5/perlbrew/perls/perl-5.10.0-64int/man"
PERLBREW_PATH="/home/njh/perl5/perlbrew/bin:/home/njh/perl5/perlbrew/perls/perl-5.10.0-64int/bin"
PERLBREW_PERL="perl-5.10.0-64int"
PERLBREW_ROOT="/home/njh/perl5/perlbrew"
PERLBREW_SHELLRC_VERSION="1.01"
PERLBREW_VERSION="1.01"
PERL_LOCAL_LIB_ROOT=""
PERL_MM_USE_DEFAULT="1"
PERL_USE_UNSAFE_INC="1"
@INC:
/home/njh/.cpan/build/Readonly-2.05-0/blib/arch
/home/njh/.cpan/build/Readonly-2.05-0/blib/lib
/home/njh/.cpan/build/Params-Validate-1.31-0/blib/arch
/home/njh/.cpan/build/Params-Validate-1.31-0/blib/lib
/home/njh/.cpan/build/Module-Implementation-0.09-0/blib/arch
/home/njh/.cpan/build/Module-Implementation-0.09-0/blib/lib
/home/njh/.cpan/build/Test-Requires-0.11-0/blib/arch
/home/njh/.cpan/build/Test-Requires-0.11-0/blib/lib
/home/njh/.cpan/build/Module-Runtime-0.016-0/blib/arch
/home/njh/.cpan/build/Module-Runtime-0.016-0/blib/lib
/home/njh/.cpan/build/Math-Random-MT-1.17-0/blib/arch
/home/njh/.cpan/build/Math-Random-MT-1.17-0/blib/lib
/home/njh/.cpan/build/Test-Number-Delta-1.06-0/blib/arch
/home/njh/.cpan/build/Test-Number-Delta-1.06-0/blib/lib
/home/njh/perl5/perlbrew/perls/perl-5.10.0-64int/lib/5.10.0/OpenBSD.amd64-openbsd
/home/njh/perl5/perlbrew/perls/perl-5.10.0-64int/lib/5.10.0
/home/njh/perl5/perlbrew/perls/perl-5.10.0-64int/lib/site_perl/5.10.0/OpenBSD.amd64-openbsd
/home/njh/perl5/perlbrew/perls/perl-5.10.0-64int/lib/site_perl/5.10.0
.