Report for Module-Setup-0.09

Back
From: metabase:user:320bfe00-2aae-11df-837a-5e0a49663a4f
Subject: PASS Module-Setup-0.09 v5.17.5 GNU/Linux
Date: 2012-09-22T10:47:09Z

This distribution has been tested as part of the CPAN Testers
project, supporting the Perl programming language.  See
http://wiki.cpantesters.org/ for more information or email
questions to cpan-testers-discuss@perl.org


--
Dear Kazuhiro Osawa,

This is a computer-generated report for Module-Setup-0.09
on perl 5.17.5, created by CPAN-Reporter-1.2006.

Thank you for uploading your work to CPAN.  Congratulations!
All tests were successful.

Sections of this report:

    * Tester comments
    * Program output
    * Prerequisites
    * Environment and other context

------------------------------
TESTER COMMENTS
------------------------------

Additional comments from tester:

this report is from an automated smoke testing program
and was not reviewed by a human for accuracy

------------------------------
PROGRAM OUTPUT
------------------------------

Output from '/usr/bin/make test':

PERL_DL_NONLAZY=1 /tmp/basesmoker-reloperl-wWGX/bin/perl "-MExtUtils::Command::MM" "-e" "test_harness(0, 'inc', 'blib/lib', 'blib/arch')" t/*.t t/*/*.t
t/00_compile.t .................................... ok
t/010_core/detect-flavor-tests-error.t ............ ok
t/010_core/detect_module_and_flavor_name_error.t .. ok
t/010_core/dialog.t ............................... ok
t/010_core/distribute.t ........................... ok
t/010_core/flavor.t ............................... ok
t/010_core/load_argv.t ............................ ok
t/010_core/path.t ................................. ok
t/010_core/select-flavor.t ........................ ok
t/010_core/setup_base_dir.t ....................... ok
t/010_core/setup_options.t ........................ ok
t/010_core/setup_options_code.t ................... ok
t/010_core/stdout-log.t ........................... ok
t/010_core/system.t ............................... ok
t/010_core/test_util.t ............................ ok
t/020_run/additional.t ............................ ok
t/020_run/binary.t ................................ ok
t/020_run/direct.t ................................ ok
t/020_run/dupe-flavor.t ........................... ok
t/020_run/dupe.t .................................. ok
t/020_run/empty_dir.t ............................. ok
t/020_run/fail_flavor.t ........................... ok
t/020_run/hasnt-flavorclass.t ..................... ok
t/020_run/init.t .................................. ok
t/020_run/nullflavors.t ........................... ok
t/020_run/pack-additional.t ....................... ok
t/020_run/pack.t .................................. ok
t/020_run/simple.t ................................ ok
t/030_plugin/append_template_file.t ............... ok
t/030_plugin/append_template_file2.t .............. ok
t/030_plugin/illegalplugin.t ...................... ok
t/030_plugin/illegalpluginconfig.t ................ ok
t/030_plugin/localplugin.t ........................ ok
t/030_plugin/plain.t .............................. ok
t/030_plugin/site_github.t ........................ ok
t/030_plugin/template.t ........................... ok
cannot remove path when cwd is /tmp/z1nMFycMvQ/Test-Makefile3_3 for /tmp/z1nMFycMvQ:  at /home/src/perl/repoperls/installed-perls/perl/v5.17.4-24-g56e2d9f/165a/lib/5.17.5/File/Temp.pm line 2445.
t/030_plugin/test_makefile.t ...................... ok
error: pathspec 'commit' did not match any file(s) known to git.
cannot remove path when cwd is /tmp/eR034PKQha/VC-Git3_2 for /tmp/eR034PKQha:  at /home/src/perl/repoperls/installed-perls/perl/v5.17.4-24-g56e2d9f/165a/lib/5.17.5/File/Temp.pm line 2445.
t/030_plugin/vc_git.t ............................. ok
Name "Module::Setup::Flavor::Default::setup_config" used only once: possible typo at t/030_plugin/vc_svk.t line 17.
t/030_plugin/vc_svk.t ............................. ok
t/030_plugin/vc_svn.t ............................. ok
t/040_flavor/coderepos.t .......................... ok
t/040_flavor/default-setup_config.t ............... ok
t/040_flavor/default.t ............................ ok
t/040_flavor/github.t ............................. ok
t/050_helper/basic-callback.t ..................... ok
t/050_helper/basic-foo.t .......................... ok
t/050_helper/basic.t .............................. ok
All tests successful.
Files=47, Tests=467, 13 wallclock secs ( 0.14 usr  0.06 sys + 11.15 cusr  1.22 csys = 12.57 CPU)
Result: PASS

------------------------------
PREREQUISITES
------------------------------

Prerequisite modules loaded:

requires:

    Module                       Need Have   
    ---------------------------- ---- -------
    Class::Trigger               0    0.14   
    Cwd                          0    3.39_02
    ExtUtils::MakeMaker          0    6.63_02
    File::Basename               0    2.84   
    File::Find::Rule             0    0.33   
    File::HomeDir                0    0.99   
    File::Path                   0    2.08_01
    File::Temp                   0.2  0.22   
    Filter::Util::Call           0    1.45   
    Getopt::Long                 0    2.38   
    IO::Scalar                   0    2.110  
    LWP::UserAgent               0    6.04   
    Module::Collect              0.06 0.06   
    Module::Install::AuthorTests 0    0.002  
    Module::Install::Repository  0    0.06   
    Path::Class                  0    0.26   
    Pod::Usage                   0    1.51   
    Scalar::Util                 0    1.25   
    Storable                     0    2.39   
    Template                     2.2  2.24   
    Test::More                   0    0.98   
    Test::Requires               0    0.06   
    Text::Patch                  0    1.8    
    YAML                         0    0.84   

build_requires:

    Module                       Need Have   
    ---------------------------- ---- -------
    ExtUtils::MakeMaker          0    6.63_02

configure_requires:

    Module                       Need Have   
    ---------------------------- ---- -------
    ExtUtils::MakeMaker          6.42 6.63_02


------------------------------
ENVIRONMENT AND OTHER CONTEXT
------------------------------

Environment variables:

    AUTOMATED_TESTING = 1
    LANG = en_US.UTF-8
    LANGUAGE = en_US:en
    PATH = /home/sand/bin:/usr/local/bin:/usr/bin:/bin:/usr/bin/X11:/usr/games:/usr/local/perl/bin:/usr/X11/bin:/sbin:/usr/sbin
    PERL5LIB = /tmp/loop_over_bdir-hjoVhV/Mail-SpamAssassin-2.43-lAW3lO/blib/arch:/tmp/loop_over_bdir-hjoVhV/Mail-SpamAssassin-2.43-lAW3lO/blib/lib
    PERL5OPT = 
    PERL5_CPANPLUS_IS_RUNNING = 25580
    PERL5_CPAN_IS_RUNNING = 25580
    PERL_MM_USE_DEFAULT = 1
    SHELL = /usr/bin/zsh
    TERM = screen

Perl special variables (and OS-specific diagnostics, for MSWin32):

    $^X = /tmp/basesmoker-reloperl-wWGX/bin/perl
    $UID/$EUID = 1005 / 1005
    $GID = 1005 1005
    $EGID = 1005 1005

Perl module toolchain versions installed:

    Module              Have    
    ------------------- --------
    CPAN                1.9800  
    CPAN::Meta          2.120921
    Cwd                 3.39_02 
    ExtUtils::CBuilder  0.280208
    ExtUtils::Command   1.17    
    ExtUtils::Install   1.58    
    ExtUtils::MakeMaker 6.63_02 
    ExtUtils::Manifest  1.61    
    ExtUtils::ParseXS   3.18    
    File::Spec          3.39_02 
    JSON                2.53    
    JSON::PP            2.27200 
    Module::Build       0.4003  
    Module::Signature   0.68    
    Parse::CPAN::Meta   1.4404  
    Test::Harness       3.25_01 
    Test::More          0.98    
    YAML                0.84    
    YAML::Syck          1.21    
    version             0.9901  


--

Summary of my perl5 (revision 5 version 17 subversion 5) configuration:
  Commit id: 56e2d9fbd5fb964af1b71d8a8546c889702991ea
  Platform:
    osname=linux, osvers=3.2.0-3-amd64, archname=x86_64-linux
    uname='linux k83 3.2.0-3-amd64 #1 smp mon jul 23 02:45:17 utc 2012 x86_64 gnulinux '
    config_args='-Dprefix=/home/src/perl/repoperls/installed-perls/perl/v5.17.4-24-g56e2d9f/165a -Dmyhostname=k83 -Dinstallusrbinperl=n -Uversiononly -Dusedevel -des -Ui_db -Uuseithreads -Uuselongdouble -DDEBUGGING=-g'
    hint=recommended, useposix=true, d_sigaction=define
    useithreads=undef, usemultiplicity=undef
    useperlio=define, d_sfio=undef, uselargefiles=define, usesocks=undef
    use64bitint=define, use64bitall=define, uselongdouble=undef
    usemymalloc=n, bincompat5005=undef
  Compiler:
    cc='cc', ccflags ='-fno-strict-aliasing -pipe -fstack-protector -I/usr/local/include -D_LARGEFILE_SOURCE -D_FILE_OFFSET_BITS=64',
    optimize='-O2 -g',
    cppflags='-fno-strict-aliasing -pipe -fstack-protector -I/usr/local/include'
    ccversion='', gccversion='4.7.1', gccosandvers=''
    intsize=4, longsize=8, ptrsize=8, doublesize=8, byteorder=12345678
    d_longlong=define, longlongsize=8, d_longdbl=define, longdblsize=16
    ivtype='long', ivsize=8, nvtype='double', nvsize=8, Off_t='off_t', lseeksize=8
    alignbytes=8, prototype=define
  Linker and Libraries:
    ld='cc', ldflags =' -fstack-protector -L/usr/local/lib'
    libpth=/usr/local/lib /lib/x86_64-linux-gnu /lib/../lib /usr/lib/x86_64-linux-gnu /usr/lib/../lib /lib /usr/lib
    libs=-lnsl -ldb -ldl -lm -lcrypt -lutil -lc
    perllibs=-lnsl -ldl -lm -lcrypt -lutil -lc
    libc=, so=so, useshrplib=false, libperl=libperl.a
    gnulibc_version='2.13'
  Dynamic Linking:
    dlsrc=dl_dlopen.xs, dlext=so, d_dlsymun=undef, ccdlflags='-Wl,-E'
    cccdlflags='-fPIC', lddlflags='-shared -O2 -g -L/usr/local/lib -fstack-protector'


Characteristics of this binary (from libperl): 
  Compile-time options: HAS_TIMES PERLIO_LAYERS PERL_DONT_CREATE_GVSV
                        PERL_MALLOC_WRAP PERL_PRESERVE_IVUV PERL_USE_DEVEL
                        USE_64_BIT_ALL USE_64_BIT_INT USE_LARGE_FILES
                        USE_LOCALE USE_LOCALE_COLLATE USE_LOCALE_CTYPE
                        USE_LOCALE_NUMERIC USE_PERLIO USE_PERL_ATOF
  Built under linux
  Compiled at Sep 21 2012 17:32:53
  %ENV:
    PERL5LIB="/tmp/loop_over_bdir-hjoVhV/Mail-SpamAssassin-2.43-lAW3lO/blib/arch:/tmp/loop_over_bdir-hjoVhV/Mail-SpamAssassin-2.43-lAW3lO/blib/lib"
    PERL5OPT=""
    PERL5_CPANPLUS_IS_RUNNING="25580"
    PERL5_CPAN_IS_RUNNING="25580"
    PERL_MM_USE_DEFAULT="1"
  @INC:
    /tmp/loop_over_bdir-hjoVhV/Mail-SpamAssassin-2.43-lAW3lO/blib/arch
    /tmp/loop_over_bdir-hjoVhV/Mail-SpamAssassin-2.43-lAW3lO/blib/lib
    /home/src/perl/repoperls/installed-perls/perl/v5.17.4-24-g56e2d9f/165a/lib/site_perl/5.17.5/x86_64-linux
    /home/src/perl/repoperls/installed-perls/perl/v5.17.4-24-g56e2d9f/165a/lib/site_perl/5.17.5
    /home/src/perl/repoperls/installed-perls/perl/v5.17.4-24-g56e2d9f/165a/lib/5.17.5/x86_64-linux
    /home/src/perl/repoperls/installed-perls/perl/v5.17.4-24-g56e2d9f/165a/lib/5.17.5
    .