Mojo-Redis2 v0.32 Perl 5 v5.26.2 x86_64-linux
- Status
- Pass
- From
- Nigel Horne
- Dist
-
Mojo-Redis2 v0.32
- Platform
- Perl 5 v5.26.2 x86_64-linux
- Date
- 2018-08-13 22:40:20
- ID
- dc0f6856-9f49-11e8-8fb1-ef5133556b3f
This distribution has been tested as part of the CPAN Testers
project, supporting the Perl programming language. See
http://wiki.cpantesters.org/ for more information or email
questions to cpan-testers-discuss@perl.org
--
Dear Dan Book,
This is a computer-generated report for Mojo-Redis2-0.32
on perl 5.26.2, created by CPAN-Reporter-1.2018.
Thank you for uploading your work to CPAN. Congratulations!
All tests were successful.
Sections of this report:
* Tester comments
* Program output
* Prerequisites
* Environment and other context
------------------------------
TESTER COMMENTS
------------------------------
Additional comments from tester:
this report is from an automated smoke testing program
and was not reviewed by a human for accuracy
------------------------------
PROGRAM OUTPUT
------------------------------
Output from '/usr/bin/make test':
PERL_DL_NONLAZY=1 "/home/njh/perl5/perlbrew/perls/perl-5.26.2/bin/perl" "-MExtUtils::Command::MM" "-MTest::Harness" "-e" "undef *Test::Harness::Switches; test_harness(0, 'blib/lib', 'blib/arch')" t/*.t
t/00-basic.t .............. ok
t/all-basic-operations.t .. skipped: Failed to start redis-server: exit=2, signal=0, dump=0 at /home/njh/.cpan/build/Mojo-Redis2-0.32-2/blib/lib/Mojo/Redis2/Server.pm line 90.
t/backend.t ............... skipped: Failed to start redis-server: exit=2, signal=0, dump=0 at /home/njh/.cpan/build/Mojo-Redis2-0.32-2/blib/lib/Mojo/Redis2/Server.pm line 90.
t/basic-operations.t ...... skipped: Failed to start redis-server: exit=2, signal=0, dump=0 at /home/njh/.cpan/build/Mojo-Redis2-0.32-2/blib/lib/Mojo/Redis2/Server.pm line 90.
t/blocking-operations.t ... skipped: Failed to start redis-server: exit=2, signal=0, dump=0 at /home/njh/.cpan/build/Mojo-Redis2-0.32-2/blib/lib/Mojo/Redis2/Server.pm line 90.
t/bulk.t .................. skipped: Failed to start redis-server: exit=2, signal=0, dump=0 at /home/njh/.cpan/build/Mojo-Redis2-0.32-2/blib/lib/Mojo/Redis2/Server.pm line 90.
t/client.t ................ skipped: Failed to start redis-server: exit=2, signal=0, dump=0 at /home/njh/.cpan/build/Mojo-Redis2-0.32-2/blib/lib/Mojo/Redis2/Server.pm line 90.
t/connection-refused.t .... skipped: TEST_SLOW=1
t/config.t ................ skipped: Failed to start redis-server: exit=2, signal=0, dump=0 at /home/njh/.cpan/build/Mojo-Redis2-0.32-2/blib/lib/Mojo/Redis2/Server.pm line 90.
t/constructor.t ........... ok
t/disconnected.t .......... skipped: Failed to start redis-server: exit=2, signal=0, dump=0 at /home/njh/.cpan/build/Mojo-Redis2-0.32-2/blib/lib/Mojo/Redis2/Server.pm line 90.
t/lite.t .................. skipped: Failed to start redis-server: exit=2, signal=0, dump=0 at /home/njh/.cpan/build/Mojo-Redis2-0.32-2/blib/lib/Mojo/Redis2/Server.pm line 90.
t/protocol.t .............. ok
t/load.t .................. skipped: Failed to start redis-server: exit=2, signal=0, dump=0 at /home/njh/.cpan/build/Mojo-Redis2-0.32-2/blib/lib/Mojo/Redis2/Server.pm line 90.
t/pubsub.t ................ skipped: Failed to start redis-server: exit=2, signal=0, dump=0 at /home/njh/.cpan/build/Mojo-Redis2-0.32-2/blib/lib/Mojo/Redis2/Server.pm line 90.
t/scan-operations.t ....... skipped: Failed to start redis-server: exit=2, signal=0, dump=0 at /home/njh/.cpan/build/Mojo-Redis2-0.32-2/blib/lib/Mojo/Redis2/Server.pm line 90.
t/transaction.t ........... skipped: Failed to start redis-server: exit=2, signal=0, dump=0 at /home/njh/.cpan/build/Mojo-Redis2-0.32-2/blib/lib/Mojo/Redis2/Server.pm line 90.
t/version.t ............... ok
t/start-server.t .......... ok
All tests successful.
Files=19, Tests=43, 13 wallclock secs ( 0.08 usr 0.08 sys + 8.21 cusr 1.12 csys = 9.49 CPU)
Result: PASS
------------------------------
PREREQUISITES
------------------------------
Prerequisite modules loaded:
requires:
Module Need Have
------------------- ---- --------
Mojolicious 7.50 7.93
Protocol::Redis 1.0 1.0006
build_requires:
Module Need Have
------------------- ---- --------
ExtUtils::MakeMaker 0 7.24
Sort::Versions 1.5 1.62
Test::More 0.88 1.302136
configure_requires:
Module Need Have
------------------- ---- --------
ExtUtils::MakeMaker 0 7.24
------------------------------
ENVIRONMENT AND OTHER CONTEXT
------------------------------
Environment variables:
AUTOMATED_TESTING = 1
HARNESS_OPTIONS = j2
LANG = en_US.UTF-8
PATH = /home/njh/perl5/perlbrew/bin:/home/njh/perl5/perlbrew/perls/perl-5.26.2/bin:/usr/bin:/bin:/home/njh/src/njh/smoker/bin
PERL5LIB = /home/njh/.cpan/build/Sort-Versions-1.62-1/blib/arch:/home/njh/.cpan/build/Sort-Versions-1.62-1/blib/lib:/home/njh/.cpan/build/Protocol-Redis-1.0006-1/blib/arch:/home/njh/.cpan/build/Protocol-Redis-1.0006-1/blib/lib:/home/njh/.cpan/build/Mojolicious-7.93-2/blib/arch:/home/njh/.cpan/build/Mojolicious-7.93-2/blib/lib
PERL5OPT =
PERL5_CPANPLUS_IS_RUNNING = 27943
PERL5_CPAN_IS_RUNNING = 27943
PERLBREW_HOME = /home/njh/.perlbrew
PERLBREW_MANPATH = /home/njh/perl5/perlbrew/perls/perl-5.26.2/man
PERLBREW_PATH = /home/njh/perl5/perlbrew/bin:/home/njh/perl5/perlbrew/perls/perl-5.26.2/bin
PERLBREW_PERL = perl-5.26.2
PERLBREW_ROOT = /home/njh/perl5/perlbrew
PERLBREW_SHELLRC_VERSION = 0.83
PERLBREW_VERSION = 0.83
PERL_USE_UNSAFE_INC = 1
SHELL = /bin/sh
TEMP = /tmp/user/1000
TMPDIR = /tmp/user/1000/testwrapper.27929
Perl special variables (and OS-specific diagnostics, for MSWin32):
$^X = /home/njh/perl5/perlbrew/perls/perl-5.26.2/bin/perl
$UID/$EUID = 1000 / 1000
$GID = 1000 4 24 25 29 30 44 46 103 108 115 123 1000
$EGID = 1000 4 24 25 29 30 44 46 103 108 115 123 1000
Perl module toolchain versions installed:
Module Have
------------------- ----------
CPAN 2.18
CPAN::Meta 2.150010
Cwd 3.74
ExtUtils::CBuilder 0.280225
ExtUtils::Command 7.24
ExtUtils::Install 2.04
ExtUtils::MakeMaker 7.24
ExtUtils::Manifest 1.70
ExtUtils::ParseXS 3.34
File::Spec 3.74
JSON 2.97001
JSON::PP 2.27400_02
Module::Build 0.4224
Module::Signature n/a
Parse::CPAN::Meta 2.150010
Test::Harness 3.38
Test::More 1.302136
YAML 1.26
YAML::Syck n/a
version 0.9917
--
Summary of my perl5 (revision 5 version 26 subversion 2) configuration:
Platform:
osname=linux
osvers=4.16.0-1-amd64
archname=x86_64-linux
uname='linux amelia 4.16.0-1-amd64 #1 smp debian 4.16.5-1 (2018-04-29) x86_64 gnulinux '
config_args='-de -Dprefix=/home/njh/perl5/perlbrew/perls/perl-5.26.2 -Aeval:scriptdir=/home/njh/perl5/perlbrew/perls/perl-5.26.2/bin'
hint=recommended
useposix=true
d_sigaction=define
useithreads=undef
usemultiplicity=undef
use64bitint=define
use64bitall=define
uselongdouble=undef
usemymalloc=n
default_inc_excludes_dot=define
bincompat5005=undef
Compiler:
cc='cc'
ccflags ='-fwrapv -fno-strict-aliasing -pipe -fstack-protector-strong -I/usr/local/include -D_LARGEFILE_SOURCE -D_FILE_OFFSET_BITS=64 -D_FORTIFY_SOURCE=2'
optimize='-O2'
cppflags='-fwrapv -fno-strict-aliasing -pipe -fstack-protector-strong -I/usr/local/include'
ccversion=''
gccversion='7.3.0'
gccosandvers=''
intsize=4
longsize=8
ptrsize=8
doublesize=8
byteorder=12345678
doublekind=3
d_longlong=define
longlongsize=8
d_longdbl=define
longdblsize=16
longdblkind=3
ivtype='long'
ivsize=8
nvtype='double'
nvsize=8
Off_t='off_t'
lseeksize=8
alignbytes=8
prototype=define
Linker and Libraries:
ld='cc'
ldflags =' -fstack-protector-strong -L/usr/local/lib'
libpth=/usr/local/lib /usr/lib/gcc/x86_64-linux-gnu/7/include-fixed /usr/include/x86_64-linux-gnu /usr/lib /lib/x86_64-linux-gnu /lib/../lib /usr/lib/x86_64-linux-gnu /usr/lib/../lib /lib /lib64 /usr/lib64
libs=-lpthread -lnsl -lgdbm -ldb -ldl -lm -lcrypt -lutil -lc
perllibs=-lpthread -lnsl -ldl -lm -lcrypt -lutil -lc
libc=libc-2.27.so
so=so
useshrplib=false
libperl=libperl.a
gnulibc_version='2.27'
Dynamic Linking:
dlsrc=dl_dlopen.xs
dlext=so
d_dlsymun=undef
ccdlflags='-Wl,-E'
cccdlflags='-fPIC'
lddlflags='-shared -O2 -L/usr/local/lib -fstack-protector-strong'
Characteristics of this binary (from libperl):
Compile-time options:
HAS_TIMES
PERLIO_LAYERS
PERL_COPY_ON_WRITE
PERL_DONT_CREATE_GVSV
PERL_MALLOC_WRAP
PERL_OP_PARENT
PERL_PRESERVE_IVUV
USE_64_BIT_ALL
USE_64_BIT_INT
USE_LARGE_FILES
USE_LOCALE
USE_LOCALE_COLLATE
USE_LOCALE_CTYPE
USE_LOCALE_NUMERIC
USE_LOCALE_TIME
USE_PERLIO
USE_PERL_ATOF
Locally applied patches:
Devel::PatchPerl 1.48
Built under linux
Compiled at Jun 15 2018 14:59:00
%ENV:
PERL5LIB="/home/njh/.cpan/build/Sort-Versions-1.62-1/blib/arch:/home/njh/.cpan/build/Sort-Versions-1.62-1/blib/lib:/home/njh/.cpan/build/Protocol-Redis-1.0006-1/blib/arch:/home/njh/.cpan/build/Protocol-Redis-1.0006-1/blib/lib:/home/njh/.cpan/build/Mojolicious-7.93-2/blib/arch:/home/njh/.cpan/build/Mojolicious-7.93-2/blib/lib"
PERL5OPT=""
PERL5_CPANPLUS_IS_RUNNING="27943"
PERL5_CPAN_IS_RUNNING="27943"
PERLBREW_HOME="/home/njh/.perlbrew"
PERLBREW_MANPATH="/home/njh/perl5/perlbrew/perls/perl-5.26.2/man"
PERLBREW_PATH="/home/njh/perl5/perlbrew/bin:/home/njh/perl5/perlbrew/perls/perl-5.26.2/bin"
PERLBREW_PERL="perl-5.26.2"
PERLBREW_ROOT="/home/njh/perl5/perlbrew"
PERLBREW_SHELLRC_VERSION="0.83"
PERLBREW_VERSION="0.83"
PERL_USE_UNSAFE_INC="1"
@INC:
/home/njh/.cpan/build/Sort-Versions-1.62-1/blib/arch
/home/njh/.cpan/build/Sort-Versions-1.62-1/blib/lib
/home/njh/.cpan/build/Protocol-Redis-1.0006-1/blib/arch
/home/njh/.cpan/build/Protocol-Redis-1.0006-1/blib/lib
/home/njh/.cpan/build/Mojolicious-7.93-2/blib/arch
/home/njh/.cpan/build/Mojolicious-7.93-2/blib/lib
/home/njh/perl5/perlbrew/perls/perl-5.26.2/lib/site_perl/5.26.2/x86_64-linux
/home/njh/perl5/perlbrew/perls/perl-5.26.2/lib/site_perl/5.26.2
/home/njh/perl5/perlbrew/perls/perl-5.26.2/lib/5.26.2/x86_64-linux
/home/njh/perl5/perlbrew/perls/perl-5.26.2/lib/5.26.2
.