Amazon-Credentials v1.1.24 Perl 5 v5.30.2 i86pc-solaris-thread-multi-64
- Status
- Pass
- From
- David Cantrell (DCANTRELL)
- Dist
-
Amazon-Credentials v1.1.24
- Platform
- Perl 5 v5.30.2 i86pc-solaris-thread-multi-64
- Date
- 2023-11-30 01:00:31
- ID
- dbef815e-8f1b-11ee-88db-a44b6dc7d7df
This distribution has been tested as part of the CPAN Testers
project, supporting the Perl programming language. See
http://wiki.cpantesters.org/ for more information or email
questions to cpan-testers-discuss@perl.org
--
Dear Robert Lauer,
This is a computer-generated report for Amazon-Credentials-1.1.24
on perl 5.30.2, created by CPAN-Reporter-1.2018.
Thank you for uploading your work to CPAN. Congratulations!
All tests were successful.
Sections of this report:
* Tester comments
* Program output
* Prerequisites
* Environment and other context
------------------------------
TESTER COMMENTS
------------------------------
Additional comments from tester:
this report is from an automated smoke testing program
and was not reviewed by a human for accuracy
------------------------------
PROGRAM OUTPUT
------------------------------
Output from '/usr/bin/make test':
cp bin/amazon-credentials blib/script/amazon-credentials
"/home/david/cpantesting/perl-5.30.2/bin/perl" -MExtUtils::MY -e 'MY->fixin(shift)' -- blib/script/amazon-credentials
PERL_DL_NONLAZY=1 "/home/david/cpantesting/perl-5.30.2/bin/perl" "-MExtUtils::Command::MM" "-MTest::Harness" "-e" "undef *Test::Harness::Switches; test_harness(0, 'blib/lib', 'blib/arch')" t/*.t
t/00-credentials.t ....... ok
$VAR1 = [
't/01-credentials.t'
];
t/01-credentials.t ....... ok
t/02-credentials.t ....... ok
t/03-container.t ......... ok
t/04-process.t ........... ok
t/05-format.t ............ ok
t/06-security.t .......... ok
t/07-encryption.t ........ skipped: Crypt::CBC unavilable
t/08-imdsv2.t ............ skipped: set AMAZON_CREDENTIALS_TEST_ALL to test in AWS
t/09-live-credentials.t .. skipped: set AMAZON_CREDENTIALS_TEST_ALL to test in AWS
t/10-logging.t ........... ok
t/11-order.t ............. ok
no credentials available at t/12-error.t line 52.
at t/12-error.t line 52.
Can't exec "some_process_that_does_not_exist": No such file or directory at lib/Amazon/Credentials.pm line 482.
t/12-error.t ............. ok
t/13-env.t ............... ok
t/14-utils.t ............. ok
All tests successful.
Files=15, Tests=53, 80 wallclock secs ( 1.44 usr 0.82 sys + 36.79 cusr 34.74 csys = 73.79 CPU)
Result: PASS
------------------------------
PREREQUISITES
------------------------------
Prerequisite modules loaded:
requires:
Module Need Have
----------------------- -------- --------
Carp 1.26 1.50
Class::Accessor::Fast 0.31 0.51
Config::Tiny 2.28 2.30
Date::Format 2.24 2.24
English 1.05 1.10
Exporter 5.68 5.77
File::chdir 0.1010 0.1011
File::Find 0 1.36
File::HomeDir 1.00 1.006
HTTP::Request 6.00 6.44
JSON::PP 4.07 4.16
List::Util 1.5 1.63
LWP::UserAgent 6.36 6.67
MIME::Base64 3.13 3.16
POSIX::strptime 0.13 0.13
Scalar::Util 1.5 1.63
Test::Output 1.033 1.033
Time::Local 1.2300 1.35
build_requires:
Module Need Have
----------------------- -------- --------
constant 1.33 1.33
Cwd 3.40 3.75
Data::Dumper 2.145 2.183
Date::Format 2.24 2.24
English 1.05 1.10
ExtUtils::MakeMaker 6.64 7.70
File::Path 2.09 2.18
File::ShareDir::Install 0 0.14
File::Temp 0.2301 0.2311
JSON::PP 4.07 4.16
MIME::Base64 3.13 3.16
Module::Loaded 0 0.08
strict 1.07 1.11
Test::More 1.001014 1.302195
Test::Output 1.031 1.033
Test::Without::Module 0 0.21
warnings 1.13 1.44
configure_requires:
Module Need Have
----------------------- -------- --------
ExtUtils::MakeMaker 6.64 7.70
File::ShareDir::Install 0 0.14
------------------------------
ENVIRONMENT AND OTHER CONTEXT
------------------------------
Environment variables:
AUTOMATED_TESTING = 1
LANG = en_GB.UTF-8
NONINTERACTIVE_TESTING = 1
PATH = /home/david/bin:/home/david/perl5/perlbrew/bin:/home/david/perl5/perlbrew/perls/perl-5.32.0/bin:/home/david/bin:/home/david/.cargo/bin:/home/david/bin:/usr/bin:/usr/sbin:/sbin:/usr/gnu/bin:/opt/ooce/bin:/home/david/.fzf.git/bin:/opt/ooce/bin:/opt/ooce/bin
PERL = 5.30.2
PERL5LIB =
PERL5OPT =
PERL5_CPANPLUS_IS_RUNNING = 23297
PERL5_CPAN_IS_RUNNING = 23297
PERLBREW_HOME = /home/david/.perlbrew
PERLBREW_MANPATH = /home/david/perl5/perlbrew/perls/perl-5.32.0/man
PERLBREW_PATH = /home/david/perl5/perlbrew/bin:/home/david/perl5/perlbrew/perls/perl-5.32.0/bin
PERLBREW_PERL = perl-5.32.0
PERLBREW_ROOT = /home/david/perl5/perlbrew
PERLBREW_SHELLRC_VERSION = 0.89
PERLBREW_VERSION = 0.89
PERLVER = 5.30.2
PERL_INLINE_DIRECTORY = /home/david/.Inline-5.30.2
PERL_MM_USE_DEFAULT = 1
PERL_USE_UNSAFE_INC = 0
SHELL = /bin/bash
TERM = screen
Perl special variables (and OS-specific diagnostics, for MSWin32):
$^X = /home/david/cpantesting/perl-5.30.2/bin/perl
$UID/$EUID = 100 / 100
$GID = 1 1 100
$EGID = 1 1 100
Perl module toolchain versions installed:
Module Have
------------------- --------
CPAN 2.22
CPAN::Meta 2.150010
Cwd 3.75
ExtUtils::CBuilder 0.280236
ExtUtils::Command 7.70
ExtUtils::Install 2.22
ExtUtils::MakeMaker 7.70
ExtUtils::Manifest 1.75
ExtUtils::ParseXS 3.44
File::Spec 3.75
JSON 4.10
JSON::PP 4.16
Module::Build 0.4234
Module::Signature n/a
Parse::CPAN::Meta 2.150010
Test::Harness 3.44
Test::More 1.302195
YAML 1.30
YAML::Syck n/a
version 0.9929
--
Summary of my perl5 (revision 5 version 30 subversion 2) configuration:
Platform:
osname=solaris
osvers=2.11
archname=i86pc-solaris-thread-multi-64
uname='sunos cpantesting-illumos 5.11 omnios-r151036-4a32ffb911 i86pc i386 i86pc '
config_args='-de -Dcc=gcc -Dprefix=/home/david/cpantesting/perl-5.30.2 -Dusethreads'
hint=recommended
useposix=true
d_sigaction=define
useithreads=define
usemultiplicity=define
use64bitint=define
use64bitall=define
uselongdouble=undef
usemymalloc=n
default_inc_excludes_dot=define
bincompat5005=undef
Compiler:
cc='gcc'
ccflags ='-D_REENTRANT -fwrapv -fno-strict-aliasing -pipe -fstack-protector-strong -m64 -D_LARGEFILE_SOURCE -D_FILE_OFFSET_BITS=64 -D_FORTIFY_SOURCE=2 -DPERL_USE_SAFE_PUTENV'
optimize='-O'
cppflags='-D_REENTRANT -fwrapv -fno-strict-aliasing -pipe -fstack-protector-strong'
ccversion=''
gccversion='9.3.0'
gccosandvers=''
intsize=4
longsize=8
ptrsize=8
doublesize=8
byteorder=12345678
doublekind=3
d_longlong=define
longlongsize=8
d_longdbl=define
longdblsize=16
longdblkind=3
ivtype='long'
ivsize=8
nvtype='double'
nvsize=8
Off_t='off_t'
lseeksize=8
alignbytes=8
prototype=define
Linker and Libraries:
ld='gcc'
ldflags =' -fstack-protector-strong -L/usr/gnu/lib -m64 '
libpth=/opt/gcc-9/lib /opt/gcc-9/lib/gcc/x86_64-pc-solaris2.11/9.3.0/include-fixed /usr/lib /usr/gnu/lib /usr/ccs/lib
libs=-lpthread -lsocket -lnsl -ldl -lm -lc
perllibs=-lpthread -lsocket -lnsl -ldl -lm -lc
libc=/lib/libc.so
so=so
useshrplib=true
libperl=libperl.so
gnulibc_version=''
Dynamic Linking:
dlsrc=dl_dlopen.xs
dlext=so
d_dlsymun=undef
ccdlflags=' -R /home/david/cpantesting/perl-5.30.2/lib/5.30.2/i86pc-solaris-thread-multi-64/CORE'
cccdlflags='-fPIC'
lddlflags=' -shared -m64 -L/usr/gnu/lib -fstack-protector-strong'
Characteristics of this binary (from libperl):
Compile-time options:
HAS_TIMES
MULTIPLICITY
PERLIO_LAYERS
PERL_COPY_ON_WRITE
PERL_DONT_CREATE_GVSV
PERL_IMPLICIT_CONTEXT
PERL_MALLOC_WRAP
PERL_OP_PARENT
PERL_PRESERVE_IVUV
PERL_USE_SAFE_PUTENV
USE_64_BIT_ALL
USE_64_BIT_INT
USE_ITHREADS
USE_LARGE_FILES
USE_LOCALE
USE_LOCALE_COLLATE
USE_LOCALE_CTYPE
USE_LOCALE_NUMERIC
USE_LOCALE_TIME
USE_PERLIO
USE_PERL_ATOF
USE_REENTRANT_API
USE_THREAD_SAFE_LOCALE
Built under solaris
Compiled at Dec 12 2020 00:49:07
%ENV:
PERL="5.30.2"
PERL5LIB=""
PERL5OPT=""
PERL5_CPANPLUS_IS_RUNNING="23297"
PERL5_CPAN_IS_RUNNING="23297"
PERLBREW_HOME="/home/david/.perlbrew"
PERLBREW_MANPATH="/home/david/perl5/perlbrew/perls/perl-5.32.0/man"
PERLBREW_PATH="/home/david/perl5/perlbrew/bin:/home/david/perl5/perlbrew/perls/perl-5.32.0/bin"
PERLBREW_PERL="perl-5.32.0"
PERLBREW_ROOT="/home/david/perl5/perlbrew"
PERLBREW_SHELLRC_VERSION="0.89"
PERLBREW_VERSION="0.89"
PERLVER="5.30.2"
PERL_INLINE_DIRECTORY="/home/david/.Inline-5.30.2"
PERL_MM_USE_DEFAULT="1"
PERL_USE_UNSAFE_INC="0"
@INC:
/home/david/cpantesting/perl-5.30.2/lib/site_perl/5.30.2/i86pc-solaris-thread-multi-64
/home/david/cpantesting/perl-5.30.2/lib/site_perl/5.30.2
/home/david/cpantesting/perl-5.30.2/lib/5.30.2/i86pc-solaris-thread-multi-64
/home/david/cpantesting/perl-5.30.2/lib/5.30.2