WWW-Mechanize-Cached v1.56 Perl 5 v5.41.6 amd64-freebsd

Status
Pass
From
Carlos Guevara
Dist
WWW-Mechanize-Cached v1.56
Platform
Perl 5 v5.41.6 amd64-freebsd
Date
2024-11-08 03:59:31
ID
dbd9971c-9d85-11ef-ae2b-8b90a2011d6c
This distribution has been tested as part of the CPAN Testers
project, supporting the Perl programming language.  See
http://wiki.cpantesters.org/ for more information or email
questions to cpan-testers-discuss@perl.org


--
Dear Olaf Alders,

This is a computer-generated report for WWW-Mechanize-Cached-1.56
on perl 5.41.6, created by CPAN-Reporter-1.2020.

Thank you for uploading your work to CPAN.  Congratulations!
All tests were successful.

Sections of this report:

    * Tester comments
    * Program output
    * Prerequisites
    * Environment and other context

------------------------------
TESTER COMMENTS
------------------------------

Additional comments from tester:

this report is from an automated smoke testing program
and was not reviewed by a human for accuracy

------------------------------
PROGRAM OUTPUT
------------------------------

Output from '/usr/bin/make test':

PERL_DL_NONLAZY=1 "/home/cpan/bin/perl/bin/perl5.41.6" "-MExtUtils::Command::MM" "-MTest::Harness" "-e" "undef *Test::Harness::Switches; test_harness(0, 'blib/lib', 'blib/arch')" t/*.t
# 
# Versions for all modules listed in MYMETA.json (including optional ones):
# 
# === Configure Requires ===
# 
#     Module              Want Have
#     ------------------- ---- ----
#     ExtUtils::MakeMaker  any 7.70
# 
# === Build Requires ===
# 
#     Module              Want Have
#     ------------------- ---- ----
#     ExtUtils::MakeMaker  any 7.70
# 
# === Test Requires ===
# 
#     Module                 Want     Have
#     ---------------------- ---- --------
#     CHI                     any     0.61
#     Cache::FileCache        any    undef
#     ExtUtils::MakeMaker     any     7.70
#     File::Spec              any     3.93
#     HTTP::Request           any     7.00
#     HTTP::Response          any     7.00
#     Path::Tiny              any    0.146
#     Test::Fatal             any    0.017
#     Test::More              any 1.302204
#     Test::Needs             any 0.002010
#     Test::RequiresInternet  any     0.05
#     Test::Warnings          any    0.033
#     URI::file               any     5.31
#     constant                any     1.33
#     lib                     any     0.65
#     strict                  any     1.13
# 
# === Test Recommends ===
# 
#     Module         Want     Have
#     ---------- -------- --------
#     CPAN::Meta 2.120900 2.150010
# 
# === Runtime Requires ===
# 
#     Module                           Want     Have
#     ---------------------------- -------- --------
#     Cache::FileCache                  any    undef
#     Carp                              any     1.54
#     Data::Dump                        any     1.25
#     LWP::UserAgent                   6.66     6.77
#     Module::Runtime                   any    0.016
#     Moo                          1.004005 2.005005
#     MooX::Types::MooseLike::Base      any     0.29
#     Storable                         2.21     3.35
#     WWW::Mechanize                    any     2.19
#     namespace::clean                  any     0.27
#     warnings                          any     1.70
# 
# === Runtime Recommends ===
# 
#     Module Want Have
#     ------ ---- ----
#     CHI     any 0.61
# 
t/00-report-prereqs.t ........ ok
t/002-bad-custom-cache.t ..... ok
t/004-cached.t ............... skipped: NO_NETWORK_TESTING
t/005-custom-cache.t ......... skipped: NO_NETWORK_TESTING
t/006-cached-chi.t ........... skipped: NO_NETWORK_TESTING
t/007-clear-cache.t .......... skipped: NO_NETWORK_TESTING
t/007-initialize-warnings.t .. ok
# reversing page order
t/cache_key.t ................ ok
t/cache_ok.t ................. ok
t/default.t .................. skipped: NO_NETWORK_TESTING
t/is_cached.t ................ ok
t/response_cache_ok.t ........ ok
All tests successful.
Files=12, Tests=85,  2 wallclock secs ( 0.03 usr  0.01 sys +  0.89 cusr  0.12 csys =  1.05 CPU)
Result: PASS

------------------------------
PREREQUISITES
------------------------------

Prerequisite modules loaded:

requires:

    Module                       Need     Have    
    ---------------------------- -------- --------
    Cache::FileCache             0        0       
    Carp                         0        1.54    
    Data::Dump                   0        1.25    
    LWP::UserAgent               6.66     6.77    
    Module::Runtime              0        0.016   
    Moo                          1.004005 2.005005
    MooX::Types::MooseLike::Base 0        0.29    
    namespace::clean             0        0.27    
    perl                         5.008    5.041006
    Storable                     2.21     3.35    
    warnings                     0        1.70    
    WWW::Mechanize               0        2.19    

build_requires:

    Module                       Need     Have    
    ---------------------------- -------- --------
    Cache::FileCache             0        0       
    CHI                          0        0.61    
    constant                     0        1.33    
    ExtUtils::MakeMaker          0        7.70    
    File::Spec                   0        3.93    
    HTTP::Request                0        7.00    
    HTTP::Response               0        7.00    
    lib                          0        0.65    
    Path::Tiny                   0        0.146   
    strict                       0        1.13    
    Test::Fatal                  0        0.017   
    Test::More                   0        1.302204
    Test::Needs                  0        0.002010
    Test::RequiresInternet       0        0.05    
    Test::Warnings               0        0.033   
    URI::file                    0        5.31    

configure_requires:

    Module                       Need     Have    
    ---------------------------- -------- --------
    ExtUtils::MakeMaker          0        7.70    
    perl                         5.006    5.041006


------------------------------
ENVIRONMENT AND OTHER CONTEXT
------------------------------

Environment variables:

    AUTOMATED_TESTING = 1
    DATE_MANIP_TEST_DM5 = 1
    LANG = C.UTF-8
    LC_ALL = C
    NONINTERACTIVE_TESTING = 1
    NO_NETWORK_TESTING = 1
    PATH = /home/cpan/bin/perl/bin:/home/cpan/bin:/sbin:/bin:/usr/sbin:/usr/bin:/usr/local/sbin:/usr/local/bin:/home/cpan/bin
    PERL5LIB = 
    PERL5OPT = 
    PERL5_CPANPLUS_IS_RUNNING = 55115
    PERL5_CPAN_IS_RUNNING = 55115
    PERL_MM_USE_DEFAULT = 1
    PERL_USE_UNSAFE_INC = 1
    SHELL = /usr/local/bin/bash
    TERM = screen
    TMPDIR = /home/cpan/tmp

Perl special variables (and OS-specific diagnostics, for MSWin32):

    $^X = /home/cpan/bin/perl/bin/perl5.41.6
    $UID/$EUID = 1002 / 1002
    $GID = 1002 1002
    $EGID = 1002 1002

Perl module toolchain versions installed:

    Module              Have    
    ------------------- --------
    CPAN                2.37    
    CPAN::Meta          2.150010
    Cwd                 3.92    
    ExtUtils::CBuilder  0.280240
    ExtUtils::Command   7.70    
    ExtUtils::Install   2.22    
    ExtUtils::MakeMaker 7.70    
    ExtUtils::Manifest  1.75    
    ExtUtils::ParseXS   3.55    
    File::Spec          3.93    
    JSON                4.10    
    JSON::PP            4.16    
    Module::Build       0.4234  
    Module::Signature   0.89    
    Parse::CPAN::Meta   2.150010
    Test2               1.302204
    Test::Harness       3.50    
    Test::More          1.302204
    YAML                1.31    
    YAML::Syck          1.34    
    version             0.9933  


--

Summary of my perl5 (revision 5 version 41 subversion 6) configuration:
  Commit id: c1d61760c1693ea2eb474ef0c5864b85fc7b95e6
  Platform:
    osname=freebsd
    osvers=14.1-release-p5
    archname=amd64-freebsd
    uname='freebsd cjg-freebsd14 14.1-release-p5 freebsd 14.1-release-p5 generic amd64 '
    config_args='-des -Dprefix=/home/cpan/bin/perl -Dscriptdir=/home/cpan/bin/perl/bin -Dusedevel -Duse64bitall'
    hint=recommended
    useposix=true
    d_sigaction=define
    useithreads=undef
    usemultiplicity=undef
    use64bitint=define
    use64bitall=define
    uselongdouble=undef
    usemymalloc=n
    default_inc_excludes_dot=define
  Compiler:
    cc='cc'
    ccflags ='-DHAS_FPSETMASK -DHAS_FLOATINGPOINT_H -DNO_POSIX_2008_LOCALE -fno-strict-aliasing -pipe -fstack-protector-strong -I/usr/local/include'
    optimize='-O2'
    cppflags='-DHAS_FPSETMASK -DHAS_FLOATINGPOINT_H -DNO_POSIX_2008_LOCALE -fno-strict-aliasing -pipe -fstack-protector-strong -I/usr/local/include'
    ccversion=''
    gccversion='FreeBSD Clang 18.1.5 (https://github.com/llvm/llvm-project.git llvmorg-18.1.5-0-g617a15a9eac9)'
    gccosandvers=''
    intsize=4
    longsize=8
    ptrsize=8
    doublesize=8
    byteorder=12345678
    doublekind=3
    d_longlong=define
    longlongsize=8
    d_longdbl=define
    longdblsize=16
    longdblkind=3
    ivtype='long'
    ivsize=8
    nvtype='double'
    nvsize=8
    Off_t='off_t'
    lseeksize=8
    alignbytes=8
    prototype=define
  Linker and Libraries:
    ld='cc'
    ldflags ='-Wl,-E  -fstack-protector-strong -L/usr/local/lib'
    libpth=/usr/lib /usr/local/lib /usr/lib/clang/18/lib
    libs=-lpthread -lgdbm -ldl -lm -lcrypt -lutil -lc
    perllibs=-lpthread -ldl -lm -lcrypt -lutil -lc
    libc=
    so=so
    useshrplib=false
    libperl=libperl.a
    gnulibc_version=''
  Dynamic Linking:
    dlsrc=dl_dlopen.xs
    dlext=so
    d_dlsymun=undef
    ccdlflags=' '
    cccdlflags='-DPIC -fPIC'
    lddlflags='-shared  -L/usr/local/lib -fstack-protector-strong'


Characteristics of this binary (from libperl): 
  Compile-time options:
    HAS_LONG_DOUBLE
    HAS_STRTOLD
    HAS_TIMES
    PERLIO_LAYERS
    PERL_COPY_ON_WRITE
    PERL_DONT_CREATE_GVSV
    PERL_HASH_FUNC_SIPHASH13
    PERL_HASH_USE_SBOX32
    PERL_MALLOC_WRAP
    PERL_OP_PARENT
    PERL_PRESERVE_IVUV
    PERL_USE_DEVEL
    PERL_USE_SAFE_PUTENV
    USE_64_BIT_ALL
    USE_64_BIT_INT
    USE_LARGE_FILES
    USE_LOCALE
    USE_LOCALE_COLLATE
    USE_LOCALE_CTYPE
    USE_LOCALE_NUMERIC
    USE_LOCALE_TIME
    USE_PERLIO
    USE_PERL_ATOF
  Built under freebsd
  Compiled at Nov  7 2024 14:18:29
  %ENV:
    PERL5LIB=""
    PERL5OPT=""
    PERL5_CPANPLUS_IS_RUNNING="55115"
    PERL5_CPAN_IS_RUNNING="55115"
    PERL_MM_USE_DEFAULT="1"
    PERL_USE_UNSAFE_INC="1"
  @INC:
    /home/cpan/bin/perl/lib/site_perl/5.41.6/amd64-freebsd
    /home/cpan/bin/perl/lib/site_perl/5.41.6
    /home/cpan/bin/perl/lib/5.41.6/amd64-freebsd
    /home/cpan/bin/perl/lib/5.41.6
    .