Shell-Cmd v3.04 Perl 5 v5.32.1 darwin-2level
- Status
- Pass
- From
- Neil Bowers
- Dist
-
Shell-Cmd v3.04
- Platform
- Perl 5 v5.32.1 darwin-2level
- Date
- 2021-07-14 15:33:37
- ID
- dbb1c496-e4b8-11eb-926c-b45e22550e12
This distribution has been tested as part of the CPAN Testers
project, supporting the Perl programming language. See
http://wiki.cpantesters.org/ for more information or email
questions to cpan-testers-discuss@perl.org
--
Dear Sullivan Beck,
This is a computer-generated report for Shell-Cmd-3.04
on perl 5.32.1, created by CPAN-Reporter-1.2018.
Thank you for uploading your work to CPAN. Congratulations!
All tests were successful.
Sections of this report:
* Tester comments
* Program output
* Prerequisites
* Environment and other context
------------------------------
TESTER COMMENTS
------------------------------
Additional comments from tester:
none provided
------------------------------
PROGRAM OUTPUT
------------------------------
Output from '/usr/bin/make test':
PERL_DL_NONLAZY=1 "/usr/local/perl/5321/bin/perl" "-MExtUtils::Command::MM" "-MTest::Harness" "-e" "undef *Test::Harness::Switches; test_harness(0, 'blib/lib', 'blib/arch')" t/*.t
t/00-errflow_check-run.t ............... skipped: Invalid command or option: if [ -d /private/var/root/.cpan/build/Shell-Cmd-3.04-13/t/bin ]; then
t/00-errflow_dire-run.t ................ skipped: Invalid command or option: if [ -d /private/var/root/.cpan/build/Shell-Cmd-3.04-13/t/bin ]; then
t/00-errflow_mix1-run.t ................ skipped: Invalid command or option: fi
t/00-errflow_mix2-run.t ................ skipped: Invalid command or option: elif [ -d /private/var/root/.cpan/build/Shell-Cmd-3.04-13/t/bin ]; then
t/00-errflow_redir-run.t ............... skipped: Invalid command or option: if [ -d /private/var/root/.cpan/build/Shell-Cmd-3.04-13/t/bin ]; then
t/00-errflow_retry-run.t ............... skipped: Invalid command or option: if [ -d /private/var/root/.cpan/build/Shell-Cmd-3.04-13/t/bin ]; then
t/00-errflow_unclosed-run.t ............ ok
# ERROR: Invalid cmd option: foo
t/00-error-run.t ....................... skipped: Invalid command or option: /private/var/root/.cpan/build/Shell-Cmd-3.04-13/t/bin/succ 1 warn
t/00-obj.t ............................. ok
t/00-simple-dire.t ..................... ok
t/00s-errflow_mix1-run.t ............... skipped: SSH testing disabled. Set SSH_TESTING to a list of hosts to enable.
t/00s-errflow_mix2-run.t ............... skipped: SSH testing disabled. Set SSH_TESTING to a list of hosts to enable.
t/00s-errflow_unclosed-run.t ........... skipped: SSH testing disabled. Set SSH_TESTING to a list of hosts to enable.
t/01-simple-fail1.t .................... ok
t/01-simple-fail2.t .................... ok
t/01-simple-fail3.t .................... ok
t/01-simple-run-echo.t ................. ok
t/01-simple-run-merge.t ................ ok
t/01-simple-run-opts.t ................. ok
t/01-simple-run-quiet.t ................ ok
t/01-simple-run-stderr.t ............... ok
t/01-simple-run-stdout.t ............... ok
t/01-simple-run.t ...................... ok
t/01-simple-script=run-quiet.t ......... ok
t/01-simple-script=run.t ............... ok
t/01-simple-script=script.t ............ ok
t/01-simple-script=simple-quiet.t ...... ok
t/01-simple-script=simple.t ............ ok
t/01s-simple-fail3.t ................... skipped: SSH testing disabled. Set SSH_TESTING to a list of hosts to enable.
t/01s-simple-script=run.t .............. skipped: SSH testing disabled. Set SSH_TESTING to a list of hosts to enable.
t/01s-simplessh-fail2.t ................ skipped: SSH testing disabled. Set SSH_TESTING to a list of hosts to enable.
t/01s-simplessh-nohosts.t .............. skipped: SSH testing disabled. Set SSH_TESTING to a list of hosts to enable.
t/01s-simplessh-run-opts.t ............. skipped: SSH testing disabled. Set SSH_TESTING to a list of hosts to enable.
t/01s-simplessh-run.t .................. skipped: SSH testing disabled. Set SSH_TESTING to a list of hosts to enable.
t/01s-simplessh2-quiet.t ............... skipped: SSH testing disabled. Set SSH_TESTING to a list of hosts to enable.
t/01s-simplessh2-run.t ................. skipped: SSH testing disabled. Set SSH_TESTING to a list of hosts to enable.
t/01s-simplessh2-run2.t ................ skipped: SSH testing disabled. Set SSH_TESTING to a list of hosts to enable.
t/01s-simplessh2-stderr.t .............. skipped: SSH testing disabled. Set SSH_TESTING to a list of hosts to enable.
t/01s-simplessh2-stdout.t .............. skipped: SSH testing disabled. Set SSH_TESTING to a list of hosts to enable.
t/02-special_characters-run.t .......... ok
t/02-special_characters-script=run.t ... ok
t/10-fail-run-continue.t ............... ok
t/10-fail-run-display.t ................ ok
t/10-fail-run.t ........................ ok
t/10-fail-script=run-continue.t ........ ok
t/10-fail-script=run-display.t ......... ok
t/10-fail-script=run.t ................. ok
t/20-check-run.t ....................... ok
t/20-check-script=run.t ................ ok
t/30-retry-run.t ....................... ok
t/30-retry-script=run.t ................ ok
t/30-retry-script=script.t ............. ok
t/30-retry_sleep-run.t ................. ok
t/31-retry_fail-run-continue.t ......... ok
t/31-retry_fail-run-display.t .......... ok
t/31-retry_fail-run.t .................. ok
t/31-retry_fail-script=run-continue.t .. ok
t/31-retry_fail-script=run-display.t ... ok
t/31-retry_fail-script=run.t ........... ok
t/40-if-run.t .......................... ok
t/40-if-script=run.t ................... ok
t/41-for-run.t ......................... ok
t/41-for-script=run.t .................. ok
t/42-until-run.t ....................... ok
t/42-until-script=run.t ................ ok
t/43-while-run.t ....................... ok
t/43-while-script=run.t ................ ok
t/50-for_fail-run-continue.t ........... ok
t/50-for_fail-run.t .................... ok
t/50-for_fail-script=run.t ............. ok
t/50-for_fail-script=script.t .......... ok
t/60-check_retry-run.t ................. ok
t/60-check_retry-script=run.t .......... ok
t/60-check_retry-script=script.t ....... ok
t/61-check_fail-run.t .................. ok
t/62-check_succ-run-continue.t ......... ok
t/62-check_succ-run.t .................. ok
t/70-alt-run.t ......................... ok
t/70-alt-script=run.t .................. ok
t/70-alt2-run.t ........................ ok
t/71-alt_retry-run.t ................... ok
t/71-alt_retry-script=run.t ............ ok
t/71-alt_retry-script=script.t ......... ok
t/72-alt_retry-script.t ................ ok
t/90-alt_retry-script.t ................ ok
t/90-fail-script.t ..................... ok
t/90-for_fail-script.t ................. ok
t/90-simple-script-quiet.t ............. ok
t/90-simple-script-stderr.t ............ ok
t/90-simple-script-stdout.t ............ ok
t/90-simple-script.t ................... ok
t/91-long-run.t ........................ ok
t/_pod.t ............................... skipped: Author tests not required for installation (set RELEASE_TESTING to test)
t/_pod_coverage.t ...................... skipped: Author tests not required for installation (set RELEASE_TESTING to test)
t/_version.t ........................... skipped: Author tests not required for installation (set RELEASE_TESTING to test)
t/ZZ-cleanup-run.t ..................... ok
All tests successful.
Files=96, Tests=3546, 23 wallclock secs ( 0.47 usr 0.28 sys + 13.57 cusr 5.24 csys = 19.56 CPU)
Result: PASS
------------------------------
PREREQUISITES
------------------------------
Prerequisite modules loaded:
requires:
Module Need Have
--------------------- ----- --------
Capture::Tiny 0 0.48
Cwd 0 3.78
IO::File 0 1.41
Net::OpenSSH 0 0.80
Parallel::ForkManager 0 2.02
perl 5.008 5.032001
build_requires:
Module Need Have
--------------------- ----- --------
ExtUtils::MakeMaker 0 7.44
Test::Inter 1.09 1.09
Test::More 0 1.302185
configure_requires:
Module Need Have
--------------------- ----- --------
ExtUtils::MakeMaker 6.30 7.44
------------------------------
ENVIRONMENT AND OTHER CONTEXT
------------------------------
Environment variables:
NONINTERACTIVE_TESTING = 1
PATH = /usr/local/apache/bin:/usr/local/bin:/opt/local/bin:/usr/local/bin:/usr/bin:/bin:/usr/sbin:/sbin:/Applications/VMware Fusion.app/Contents/Public:/usr/local/go/bin:/opt/X11/bin:/usr/local/git/bin
PERL5LIB =
PERL5OPT =
PERL5_CPANPLUS_IS_RUNNING = 56680
PERL5_CPAN_IS_RUNNING = 56680
PERL_MM_USE_DEFAULT = 1
PERL_USE_UNSAFE_INC = 1
SHELL = /bin/sh
TERM = xterm
Perl special variables (and OS-specific diagnostics, for MSWin32):
$^X = /usr/local/perl/5321/bin/perl
$UID/$EUID = 0 / 0
$GID = 0 0 1 2 3 4 5 8 9 12 20 29 61 80 701 702 33
$EGID = 0 0 1 2 3 4 5 8 9 12 20 29 61 80 701 702 33
Perl module toolchain versions installed:
Module Have
------------------- --------
CPAN 2.27
CPAN::Meta 2.150010
Cwd 3.78
ExtUtils::CBuilder 0.280234
ExtUtils::Command 7.44
ExtUtils::Install 2.14
ExtUtils::MakeMaker 7.44
ExtUtils::Manifest 1.72
ExtUtils::ParseXS 3.40
File::Spec 3.78
JSON 4.03
JSON::PP 4.04
Module::Build 0.4231
Module::Signature n/a
Parse::CPAN::Meta 2.150010
Test::Harness 3.42
Test::More 1.302185
YAML 1.30
YAML::Syck n/a
version 0.9924
--
Summary of my perl5 (revision 5 version 32 subversion 1) configuration:
Platform:
osname=darwin
osvers=20.4.0
archname=darwin-2level
uname='darwin tucumcari.local 20.4.0 darwin kernel version 20.4.0: thu apr 22 21:46:47 pdt 2021; root:xnu-7195.101.2~1release_x86_64 x86_64 '
config_args=''
hint=recommended
useposix=true
d_sigaction=define
useithreads=undef
usemultiplicity=undef
use64bitint=define
use64bitall=define
uselongdouble=undef
usemymalloc=n
default_inc_excludes_dot=define
bincompat5005=undef
Compiler:
cc='cc'
ccflags ='-fno-common -DPERL_DARWIN -mmacosx-version-min=10.11 -Werror=partial-availability -D_DARWIN_FEATURE_CLOCK_GETTIME=0 -fno-strict-aliasing -pipe -fstack-protector-strong -I/usr/local/include -I/opt/local/include -DPERL_USE_SAFE_PUTENV'
optimize='-O3'
cppflags='-fno-common -DPERL_DARWIN -mmacosx-version-min=10.11 -Werror=partial-availability -D_DARWIN_FEATURE_CLOCK_GETTIME=0 -fno-strict-aliasing -pipe -fstack-protector-strong -I/usr/local/include -I/opt/local/include'
ccversion=''
gccversion='Apple LLVM 12.0.0 (clang-1200.0.32.29)'
gccosandvers=''
intsize=4
longsize=8
ptrsize=8
doublesize=8
byteorder=12345678
doublekind=3
d_longlong=define
longlongsize=8
d_longdbl=define
longdblsize=16
longdblkind=3
ivtype='long'
ivsize=8
nvtype='double'
nvsize=8
Off_t='off_t'
lseeksize=8
alignbytes=8
prototype=define
Linker and Libraries:
ld='cc'
ldflags =' -mmacosx-version-min=10.11 -fstack-protector-strong -L/usr/local/lib -L/opt/local/lib'
libpth=/usr/local/lib /Applications/Xcode.app/Contents/Developer/Toolchains/XcodeDefault.xctoolchain/usr/lib/clang/12.0.0/lib /Applications/Xcode.app/Contents/Developer/Platforms/MacOSX.platform/Developer/SDKs/MacOSX.sdk/usr/lib /Applications/Xcode.app/Contents/Developer/Toolchains/XcodeDefault.xctoolchain/usr/lib /opt/local/lib /usr/lib
libs=-lgdbm
perllibs=
libc=
so=dylib
useshrplib=false
libperl=libperl.a
gnulibc_version=''
Dynamic Linking:
dlsrc=dl_dlopen.xs
dlext=bundle
d_dlsymun=undef
ccdlflags=' '
cccdlflags=' '
lddlflags=' -mmacosx-version-min=10.11 -bundle -undefined dynamic_lookup -L/usr/local/lib -L/opt/local/lib -fstack-protector-strong'
Characteristics of this binary (from libperl):
Compile-time options:
HAS_TIMES
PERLIO_LAYERS
PERL_COPY_ON_WRITE
PERL_DONT_CREATE_GVSV
PERL_MALLOC_WRAP
PERL_OP_PARENT
PERL_PRESERVE_IVUV
PERL_USE_SAFE_PUTENV
USE_64_BIT_ALL
USE_64_BIT_INT
USE_LARGE_FILES
USE_LOCALE
USE_LOCALE_COLLATE
USE_LOCALE_CTYPE
USE_LOCALE_NUMERIC
USE_LOCALE_TIME
USE_PERLIO
USE_PERL_ATOF
Built under darwin
Compiled at May 16 2021 14:30:47
%ENV:
PERL5LIB=""
PERL5OPT=""
PERL5_CPANPLUS_IS_RUNNING="56680"
PERL5_CPAN_IS_RUNNING="56680"
PERL_MM_USE_DEFAULT="1"
PERL_USE_UNSAFE_INC="1"
@INC:
/usr/local/perl/5321/lib/site_perl/5.32.1/darwin-2level
/usr/local/perl/5321/lib/site_perl/5.32.1
/usr/local/perl/5321/lib/5.32.1/darwin-2level
/usr/local/perl/5321/lib/5.32.1
.