Fluent-Logger v0.27 Perl 5 v5.29.8 OpenBSD.amd64-openbsd-thread-multi

Status
Pass
From
Alceu Rodrigues de Freitas Junior
Dist
Fluent-Logger v0.27
Platform
Perl 5 v5.29.8 OpenBSD.amd64-openbsd-thread-multi
Date
2019-02-07 19:09:14
ID
db97483c-2b0b-11e9-a40e-9d25b8c74ba8
This distribution has been tested as part of the CPAN Testers
project, supporting the Perl programming language.  See
http://wiki.cpantesters.org/ for more information or email
questions to cpan-testers-discuss@perl.org


--
Dear FUJIWARA Shunichiro,

This is a computer-generated report for Fluent-Logger-0.27
on perl 5.29.8, created by CPAN-Reporter-1.2018.

Thank you for uploading your work to CPAN.  Congratulations!
All tests were successful.

Sections of this report:

    * Tester comments
    * Program output
    * Prerequisites
    * Environment and other context

------------------------------
TESTER COMMENTS
------------------------------

Additional comments from tester:

this report is from an automated smoke testing program
and was not reviewed by a human for accuracy

------------------------------
PROGRAM OUTPUT
------------------------------

Output from './Build test':

t/00_compile.t ...................... ok
t/01_new.t .......................... ok
t/02_unix_socket.t .................. ok
t/03_tcp.t .......................... ok
Can't exec "fluentd": No such file or directory at /mnt/cpan_build_dir/vegeta/Fluent-Logger-0.27-0/t/../t/Util.pm line 34.
Use of uninitialized value in pattern match (m//) at /mnt/cpan_build_dir/vegeta/Fluent-Logger-0.27-0/t/../t/Util.pm line 34.
t/04_live.t ......................... skipped: fluentd is not installed.
Can't exec "fluentd": No such file or directory at /mnt/cpan_build_dir/vegeta/Fluent-Logger-0.27-0/t/../t/Util.pm line 34.
Use of uninitialized value in pattern match (m//) at /mnt/cpan_build_dir/vegeta/Fluent-Logger-0.27-0/t/../t/Util.pm line 34.
t/05_prefer_integer.t ............... skipped: fluentd is not installed.
Can't exec "fluentd": No such file or directory at /mnt/cpan_build_dir/vegeta/Fluent-Logger-0.27-0/t/../t/Util.pm line 34.
Use of uninitialized value in pattern match (m//) at /mnt/cpan_build_dir/vegeta/Fluent-Logger-0.27-0/t/../t/Util.pm line 34.
t/06_fork.t ......................... skipped: fluentd is not installed.
Can't exec "fluentd": No such file or directory at /mnt/cpan_build_dir/vegeta/Fluent-Logger-0.27-0/t/../t/Util.pm line 34.
Use of uninitialized value in pattern match (m//) at /mnt/cpan_build_dir/vegeta/Fluent-Logger-0.27-0/t/../t/Util.pm line 34.
t/07_str_bin.t ...................... skipped: fluentd is not installed.
Can't exec "fluentd": No such file or directory at /mnt/cpan_build_dir/vegeta/Fluent-Logger-0.27-0/t/../t/Util.pm line 34.
Use of uninitialized value in pattern match (m//) at /mnt/cpan_build_dir/vegeta/Fluent-Logger-0.27-0/t/../t/Util.pm line 34.
t/08_udp.t .......................... skipped: fluentd is not installed.
2019-02-07T17:09:11-0200 Fluent::Logger[21467667553368](127.0.0.1:48912): Can't connect: Connection refused at t/09_buffer_overflow_handler.t line 16.
2019-02-07T17:09:11-0200 Fluent::Logger[21467667553368](127.0.0.1:48912): Can't connect: Connection refused at t/09_buffer_overflow_handler.t line 19.
2019-02-07T17:09:11-0200 Fluent::Logger[21467667553368](127.0.0.1:48912): Cannot send data: Connection is not available at /mnt/cpan_build_dir/vegeta/Fluent-Logger-0.27-0/blib/lib/Fluent/Logger.pm line 329. at t/09_buffer_overflow_handler.t line 19.
2019-02-07T17:09:11-0200 Fluent::Logger[21467667553368](127.0.0.1:48912): flushing pending data on close at t/09_buffer_overflow_handler.t line 23.
2019-02-07T17:09:11-0200 Fluent::Logger[21467667553368](127.0.0.1:48912): Can't connect: Connection refused at t/09_buffer_overflow_handler.t line 23.
2019-02-07T17:09:11-0200 Fluent::Logger[21467667553368](127.0.0.1:48912): Can't send pending data. LOST 2097194 bytes.: Connection is not available at /mnt/cpan_build_dir/vegeta/Fluent-Logger-0.27-0/blib/lib/Fluent/Logger.pm line 329. at t/09_buffer_overflow_handler.t line 23.
t/09_buffer_overflow_handler.t ...... ok
2019-02-07T17:09:11-0200 Fluent::Logger[32154330009048](127.0.0.1:28827): Can't connect: Connection refused at t/10_truncate_buffet_at_overflow.t line 12.
2019-02-07T17:09:11-0200 Fluent::Logger[32154330009048](127.0.0.1:28827): Can't connect: Connection refused at t/10_truncate_buffet_at_overflow.t line 19.
2019-02-07T17:09:11-0200 Fluent::Logger[32154330009048](127.0.0.1:28827): Cannot send data: Connection is not available at /mnt/cpan_build_dir/vegeta/Fluent-Logger-0.27-0/blib/lib/Fluent/Logger.pm line 329. at t/10_truncate_buffet_at_overflow.t line 19.
2019-02-07T17:09:11-0200 Fluent::Logger[32154330009048](127.0.0.1:28827): Can't connect: Connection refused at t/10_truncate_buffet_at_overflow.t line 23.
2019-02-07T17:09:11-0200 Fluent::Logger[32154330009048](127.0.0.1:28827): Cannot send data: Connection is not available at /mnt/cpan_build_dir/vegeta/Fluent-Logger-0.27-0/blib/lib/Fluent/Logger.pm line 329. at t/10_truncate_buffet_at_overflow.t line 23.
2019-02-07T17:09:11-0200 Fluent::Logger[32154330009048](127.0.0.1:28827): Can't connect: Connection refused at t/10_truncate_buffet_at_overflow.t line 23.
2019-02-07T17:09:11-0200 Fluent::Logger[32154330009048](127.0.0.1:28827): Cannot send data: Connection is not available at /mnt/cpan_build_dir/vegeta/Fluent-Logger-0.27-0/blib/lib/Fluent/Logger.pm line 329. at t/10_truncate_buffet_at_overflow.t line 23.
2019-02-07T17:09:11-0200 Fluent::Logger[32154330009048](127.0.0.1:28827): Can't connect: Connection refused at t/10_truncate_buffet_at_overflow.t line 23.
2019-02-07T17:09:11-0200 Fluent::Logger[32154330009048](127.0.0.1:28827): Cannot send data: Connection is not available at /mnt/cpan_build_dir/vegeta/Fluent-Logger-0.27-0/blib/lib/Fluent/Logger.pm line 329. at t/10_truncate_buffet_at_overflow.t line 23.
2019-02-07T17:09:11-0200 Fluent::Logger[32154330009048](127.0.0.1:28827): Can't connect: Connection refused at t/10_truncate_buffet_at_overflow.t line 23.
2019-02-07T17:09:11-0200 Fluent::Logger[32154330009048](127.0.0.1:28827): Cannot send data: Connection is not available at /mnt/cpan_build_dir/vegeta/Fluent-Logger-0.27-0/blib/lib/Fluent/Logger.pm line 329. at t/10_truncate_buffet_at_overflow.t line 23.
2019-02-07T17:09:11-0200 Fluent::Logger[32154330009048](127.0.0.1:28827): Can't connect: Connection refused at t/10_truncate_buffet_at_overflow.t line 23.
2019-02-07T17:09:11-0200 Fluent::Logger[32154330009048](127.0.0.1:28827): Cannot send data: Connection is not available at /mnt/cpan_build_dir/vegeta/Fluent-Logger-0.27-0/blib/lib/Fluent/Logger.pm line 329. at t/10_truncate_buffet_at_overflow.t line 23.
2019-02-07T17:09:11-0200 Fluent::Logger[32154330009048](127.0.0.1:28827): Can't connect: Connection refused at t/10_truncate_buffet_at_overflow.t line 23.
2019-02-07T17:09:11-0200 Fluent::Logger[32154330009048](127.0.0.1:28827): Cannot send data: Connection is not available at /mnt/cpan_build_dir/vegeta/Fluent-Logger-0.27-0/blib/lib/Fluent/Logger.pm line 329. at t/10_truncate_buffet_at_overflow.t line 23.
2019-02-07T17:09:11-0200 Fluent::Logger[32154330009048](127.0.0.1:28827): Can't connect: Connection refused at t/10_truncate_buffet_at_overflow.t line 23.
2019-02-07T17:09:11-0200 Fluent::Logger[32154330009048](127.0.0.1:28827): Cannot send data: Connection is not available at /mnt/cpan_build_dir/vegeta/Fluent-Logger-0.27-0/blib/lib/Fluent/Logger.pm line 329. at t/10_truncate_buffet_at_overflow.t line 23.
2019-02-07T17:09:11-0200 Fluent::Logger[32154330009048](127.0.0.1:28827): Can't connect: Connection refused at t/10_truncate_buffet_at_overflow.t line 23.
2019-02-07T17:09:11-0200 Fluent::Logger[32154330009048](127.0.0.1:28827): Cannot send data: Connection is not available at /mnt/cpan_build_dir/vegeta/Fluent-Logger-0.27-0/blib/lib/Fluent/Logger.pm line 329. at t/10_truncate_buffet_at_overflow.t line 23.
2019-02-07T17:09:11-0200 Fluent::Logger[32154330009048](127.0.0.1:28827): flushing pending data on close at t/10_truncate_buffet_at_overflow.t line 27.
2019-02-07T17:09:11-0200 Fluent::Logger[32154330009048](127.0.0.1:28827): Can't connect: Connection refused at t/10_truncate_buffet_at_overflow.t line 27.
2019-02-07T17:09:11-0200 Fluent::Logger[32154330009048](127.0.0.1:28827): Can't send pending data. LOST 7340179 bytes.: Connection is not available at /mnt/cpan_build_dir/vegeta/Fluent-Logger-0.27-0/blib/lib/Fluent/Logger.pm line 329. at t/10_truncate_buffet_at_overflow.t line 27.
t/10_truncate_buffet_at_overflow.t .. ok
Can't exec "fluentd": No such file or directory at /mnt/cpan_build_dir/vegeta/Fluent-Logger-0.27-0/t/../t/Util.pm line 34.
Use of uninitialized value in pattern match (m//) at /mnt/cpan_build_dir/vegeta/Fluent-Logger-0.27-0/t/../t/Util.pm line 34.
t/11_retry_immediately.t ............ skipped: fluentd is not installed.
All tests successful.
Files=12, Tests=35,  7 wallclock secs ( 0.02 usr  0.16 sys +  2.06 cusr  1.35 csys =  3.59 CPU)
Result: PASS

------------------------------
PREREQUISITES
------------------------------

Prerequisite modules loaded:

requires:

    Module                    Need    Have    
    ------------------------- ------- --------
    Class::Tiny               0       1.006   
    Data::MessagePack         0.35_01 1.00    
    Data::MessagePack::Stream 0       1.04    
    Time::Piece               0       1.33    
    UUID::Tiny                0       1.04    

build_requires:

    Module                    Need    Have    
    ------------------------- ------- --------
    Capture::Tiny             0       0.48    
    ExtUtils::MakeMaker       6.36    7.34    
    Path::Class               0       0.37    
    Test::More                0.88    1.302160
    Test::SharedFork          0       0.35    
    Test::TCP                 1.3     2.19    
    version                   0.77    0.9924  

configure_requires:

    Module                    Need    Have    
    ------------------------- ------- --------
    Module::Build::Tiny       0.035   0.039   


------------------------------
ENVIRONMENT AND OTHER CONTEXT
------------------------------

Environment variables:

    AUTOMATED_TESTING = 1
    DBD_MYSQL_TESTDB = test
    DBD_MYSQL_TESTHOST = localhost
    DBD_MYSQL_TESTPASSWORD = 
    DBD_MYSQL_TESTPORT = 3306
    DBD_MYSQL_TESTUSER = vegeta
    EXTENDED_TESTING = 1
    PATH = /home/vegeta/perl5/perlbrew/bin:/home/vegeta/perl5/perlbrew/perls/perl-blead/bin:/home/vegeta/bin:/usr/bin:/bin:/usr/sbin:/sbin:/usr/X11R6/bin:/usr/local/bin:/usr/local/sbin
    PERL5LIB = 
    PERL5OPT = 
    PERL5_CPANPLUS_IS_RUNNING = 95367
    PERL5_CPAN_IS_RUNNING = 95367
    PERL5_CPAN_IS_RUNNING_IN_RECURSION = 56239,95367
    PERLBREW_HOME = /home/vegeta/.perlbrew
    PERLBREW_MANPATH = /home/vegeta/perl5/perlbrew/perls/perl-blead/man
    PERLBREW_PATH = /home/vegeta/perl5/perlbrew/bin:/home/vegeta/perl5/perlbrew/perls/perl-blead/bin
    PERLBREW_PERL = perl-blead
    PERLBREW_ROOT = /home/vegeta/perl5/perlbrew
    PERLBREW_SHELLRC_VERSION = 0.86
    PERLBREW_VERSION = 0.86
    PERL_CR_SMOKER_CURRENT = Message-Passing-Fluentd-0.01
    PERL_EXTUTILS_AUTOINSTALL = --defaultdeps
    PERL_MM_USE_DEFAULT = 1
    PERL_USE_UNSAFE_INC = 1
    SHELL = /usr/local/bin/bash
    TERM = xterm

Perl special variables (and OS-specific diagnostics, for MSWin32):

    $^X = /home/vegeta/perl5/perlbrew/perls/perl-blead/bin/perl5.29.8
    $UID/$EUID = 1002 / 1002
    $GID = 1002 1002 1001
    $EGID = 1002 1002 1001

Perl module toolchain versions installed:

    Module              Have    
    ------------------- --------
    CPAN                2.22    
    CPAN::Meta          2.150010
    Cwd                 3.77    
    ExtUtils::CBuilder  0.280230
    ExtUtils::Command   7.34    
    ExtUtils::Install   2.14    
    ExtUtils::MakeMaker 7.34    
    ExtUtils::Manifest  1.71    
    ExtUtils::ParseXS   3.40    
    File::Spec          3.77    
    JSON                4.01    
    JSON::PP            2.97001 
    Module::Build       0.4224  
    Module::Signature   n/a     
    Parse::CPAN::Meta   2.150010
    Test::Harness       3.42    
    Test::More          1.302160
    YAML                1.27    
    YAML::Syck          n/a     
    version             0.9924  


--

Summary of my perl5 (revision 5 version 29 subversion 8) configuration:
  Snapshot of: e8db349f5c61708301fd5463e49bfe95c448dd6d
  Platform:
    osname=openbsd
    osvers=6.4
    archname=OpenBSD.amd64-openbsd-thread-multi
    uname='openbsd cpan-smoker-openbsd 6.4 generic.mp#364 amd64 '
    config_args='-de -Dprefix=/home/vegeta/perl5/perlbrew/perls/perl-blead -Dman1dir=none -Dman3dir=none -Dusemultiplicity -Duse64bitall -Duse64bitint -Dusethreads -Dusedevel -Aeval:scriptdir=/home/vegeta/perl5/perlbrew/perls/perl-blead/bin'
    hint=recommended
    useposix=true
    d_sigaction=define
    useithreads=define
    usemultiplicity=define
    use64bitint=define
    use64bitall=define
    uselongdouble=undef
    usemymalloc=n
    default_inc_excludes_dot=define
    bincompat5005=undef
  Compiler:
    cc='cc'
    ccflags ='-pthread -fno-strict-aliasing -pipe -fstack-protector-strong -I/usr/local/include -D_FORTIFY_SOURCE=2'
    optimize='-O2'
    cppflags='-pthread -fno-strict-aliasing -pipe -fstack-protector-strong -I/usr/local/include'
    ccversion=''
    gccversion='4.2.1 Compatible OpenBSD Clang 6.0.0 (tags/RELEASE_600/final)'
    gccosandvers=''
    intsize=4
    longsize=8
    ptrsize=8
    doublesize=8
    byteorder=12345678
    doublekind=3
    d_longlong=define
    longlongsize=8
    d_longdbl=define
    longdblsize=16
    longdblkind=3
    ivtype='long'
    ivsize=8
    nvtype='double'
    nvsize=8
    Off_t='off_t'
    lseeksize=8
    alignbytes=8
    prototype=define
  Linker and Libraries:
    ld='cc'
    ldflags ='-pthread -Wl,-E  -fstack-protector-strong -L/usr/local/lib'
    libpth=/usr/lib /usr/local/lib
    libs=-lpthread -lm -lutil -lc
    perllibs=-lpthread -lm -lutil -lc
    libc=/usr/lib/libc.so.92.5
    so=so
    useshrplib=false
    libperl=libperl.a
    gnulibc_version=''
  Dynamic Linking:
    dlsrc=dl_dlopen.xs
    dlext=so
    d_dlsymun=undef
    ccdlflags=' '
    cccdlflags='-DPIC -fPIC '
    lddlflags='-shared -fPIC  -L/usr/local/lib -fstack-protector-strong'


Characteristics of this binary (from libperl): 
  Compile-time options:
    HAS_TIMES
    MULTIPLICITY
    PERLIO_LAYERS
    PERL_COPY_ON_WRITE
    PERL_DONT_CREATE_GVSV
    PERL_IMPLICIT_CONTEXT
    PERL_MALLOC_WRAP
    PERL_OP_PARENT
    PERL_PRESERVE_IVUV
    PERL_USE_DEVEL
    USE_64_BIT_ALL
    USE_64_BIT_INT
    USE_ITHREADS
    USE_LARGE_FILES
    USE_LOCALE
    USE_LOCALE_COLLATE
    USE_LOCALE_CTYPE
    USE_LOCALE_NUMERIC
    USE_LOCALE_TIME
    USE_PERLIO
    USE_PERL_ATOF
    USE_REENTRANT_API
    USE_THREAD_SAFE_LOCALE
  Locally applied patches:
    Devel::PatchPerl 1.52
  Built under openbsd
  Compiled at Jan 31 2019 01:07:38
  %ENV:
    PERL5LIB=""
    PERL5OPT=""
    PERL5_CPANPLUS_IS_RUNNING="95367"
    PERL5_CPAN_IS_RUNNING="95367"
    PERL5_CPAN_IS_RUNNING_IN_RECURSION="56239,95367"
    PERLBREW_HOME="/home/vegeta/.perlbrew"
    PERLBREW_MANPATH="/home/vegeta/perl5/perlbrew/perls/perl-blead/man"
    PERLBREW_PATH="/home/vegeta/perl5/perlbrew/bin:/home/vegeta/perl5/perlbrew/perls/perl-blead/bin"
    PERLBREW_PERL="perl-blead"
    PERLBREW_ROOT="/home/vegeta/perl5/perlbrew"
    PERLBREW_SHELLRC_VERSION="0.86"
    PERLBREW_VERSION="0.86"
    PERL_CR_SMOKER_CURRENT="Message-Passing-Fluentd-0.01"
    PERL_EXTUTILS_AUTOINSTALL="--defaultdeps"
    PERL_MM_USE_DEFAULT="1"
    PERL_USE_UNSAFE_INC="1"
  @INC:
    /home/vegeta/perl5/perlbrew/perls/perl-blead/lib/site_perl/5.29.8/OpenBSD.amd64-openbsd-thread-multi
    /home/vegeta/perl5/perlbrew/perls/perl-blead/lib/site_perl/5.29.8
    /home/vegeta/perl5/perlbrew/perls/perl-blead/lib/5.29.8/OpenBSD.amd64-openbsd-thread-multi
    /home/vegeta/perl5/perlbrew/perls/perl-blead/lib/5.29.8
    .