Back
From: metabase:user:322078bc-2aae-11df-837a-5e0a49663a4f
Subject: PASS Lexical-Types-0.11 v5.12.2 Debian GNU/kFreeBSD
Date: 2011-03-02T22:53:15Z
This distribution has been tested as part of the CPAN Testers
project, supporting the Perl programming language. See
http://wiki.cpantesters.org/ for more information or email
questions to cpan-testers-discuss@perl.org
--
Dear VPIT,
This is a computer-generated error report created automatically by
CPANPLUS, version 0.9102. Testers personal comments may appear
at the end of this report.
MAKE TEST passed: PERL_DL_NONLAZY=1 /home/cpan/pit/bare/perl-5.12.2/bin/perl5.12.2 "-MExtUtils::Command::MM" "-e" "test_harness(0, 'blib/lib', 'blib/arch')" t/*.t
# Testing Lexical::Types 0.11, Perl 5.012002, /home/cpan/pit/bare/perl-5.12.2/bin/perl5.12.2
t/00-load.t ............... ok
t/10-base.t ............... ok
t/11-args.t ............... ok
t/12-integrate.t .......... ok
t/13-padsv.t .............. ok
t/14-ro.t ................. ok
t/15-constants.t .......... ok
t/16-scope.t .............. ok
t/17-peep.t ............... ok
t/20-object.t ............. ok
t/21-tie.t ................ ok
t/22-magic.t .............. skipped: Variable::Magic required to test magic
t/23-magic-uvar.t ......... skipped: Variable::Magic 0.35 on 5.10 required to test uvar magic
t/30-threads.t ............ skipped: This perl wasn't built to support threads
t/31-threads-teardown.t ... skipped: This perl wasn't built to support threads
t/40-stress.t ............. ok
t/91-pod.t ................ skipped: Test::Pod 1.22 required for testing POD
t/92-pod-coverage.t ....... skipped: Test::Pod::Coverage 1.08 required for testing POD coverage
t/95-portability-files.t .. skipped: Test::Portability::Files required for testing filenames portability
t/99-kwalitee.t ........... skipped: Test::Kwalitee not installed
All tests successful.
Files=20, Tests=1115, 3 wallclock secs ( 0.42 usr 0.42 sys + 1.40 cusr 1.05 csys = 3.28 CPU)
Result: PASS
[MSG] [Wed Mar 2 20:41:14 2011] Sending test report for 'Lexical-Types-0.11'
This report was machine-generated by CPANPLUS::Dist::YACSmoke 0.62.
Powered by minismokebox version 0.42
------------------------------
ENVIRONMENT AND OTHER CONTEXT
------------------------------
Environment variables:
AUTOMATED_TESTING = 1
LANG = en_GB.UTF-8
LANGUAGE = en_GB:en
PATH = /usr/local/bin:/usr/bin:/bin:/usr/local/games:/usr/games
PERL5LIB = :/home/cpan/pit/bare/conf/perl-5.12.2/.cpanplus/5.12.2/build/Lexical-Types-0.11/blib/lib:/home/cpan/pit/bare/conf/perl-5.12.2/.cpanplus/5.12.2/build/Lexical-Types-0.11/blib/arch
PERL5_CPANPLUS_IS_RUNNING = 54190
PERL5_CPANPLUS_IS_VERSION = 0.9102
PERL5_MINISMOKEBOX = 0.42
PERL5_YACSMOKE_BASE = /home/cpan/pit/bare/conf/perl-5.12.2
PERL_EXTUTILS_AUTOINSTALL = --defaultdeps
PERL_MM_USE_DEFAULT = 1
SHELL = /bin/bash
TERM = screen
Perl special variables (and OS-specific diagnostics, for MSWin32):
Perl: $^X = /home/cpan/pit/bare/perl-5.12.2/bin/perl5.12.2
UID: $< = 1001
EUID: $> = 1001
GID: $( = 1001 1001
EGID: $) = 1001 1001
-------------------------------
--
Summary of my perl5 (revision 5 version 12 subversion 2) configuration:
Platform:
osname=gnukfreebsd, osvers=8.1-1-amd64, archname=x86_64-gnukfreebsd
uname='gnukfreebsd kazoo 8.1-1-amd64 #0 tue jan 4 15:07:39 cet 2011 x86_64 amd64 amd athlon(tm) neo x2 dual core processor 6850e gnukfreebsd '
config_args='-des -Dprefix=/home/cpan/pit/bare/perl-5.12.2'
hint=recommended, useposix=true, d_sigaction=define
useithreads=undef, usemultiplicity=undef
useperlio=define, d_sfio=undef, uselargefiles=define, usesocks=undef
use64bitint=define, use64bitall=define, uselongdouble=undef
usemymalloc=n, bincompat5005=undef
Compiler:
cc='cc', ccflags ='-fno-strict-aliasing -pipe -fstack-protector -I/usr/local/include -D_LARGEFILE_SOURCE -D_FILE_OFFSET_BITS=64',
optimize='-O2',
cppflags='-fno-strict-aliasing -pipe -fstack-protector -I/usr/local/include'
ccversion='', gccversion='4.4.5', gccosandvers=''
intsize=4, longsize=8, ptrsize=8, doublesize=8, byteorder=12345678
d_longlong=define, longlongsize=8, d_longdbl=define, longdblsize=16
ivtype='long', ivsize=8, nvtype='double', nvsize=8, Off_t='off_t', lseeksize=8
alignbytes=8, prototype=define
Linker and Libraries:
ld='cc', ldflags =' -fstack-protector -L/usr/local/lib'
libpth=/usr/local/lib /lib /usr/lib /lib64 /usr/lib64
libs=-lnsl -ldl -lm -lcrypt -lutil -lc
perllibs=-lnsl -ldl -lm -lcrypt -lutil -lc
libc=, so=so, useshrplib=false, libperl=libperl.a
gnulibc_version='2.11.2'
Dynamic Linking:
dlsrc=dl_dlopen.xs, dlext=so, d_dlsymun=undef, ccdlflags='-Wl,-E'
cccdlflags='-fpic', lddlflags='-shared -L/usr/local/lib -fstack-protector'
Characteristics of this binary (from libperl):
Compile-time options: PERL_DONT_CREATE_GVSV PERL_MALLOC_WRAP USE_64_BIT_ALL
USE_64_BIT_INT USE_LARGE_FILES USE_PERLIO
USE_PERL_ATOF
Built under gnukfreebsd
Compiled at Feb 27 2011 23:43:24
%ENV:
PERL5LIB=":/home/cpan/pit/bare/conf/perl-5.12.2/.cpanplus/5.12.2/build/Lexical-Types-0.11/blib/lib:/home/cpan/pit/bare/conf/perl-5.12.2/.cpanplus/5.12.2/build/Lexical-Types-0.11/blib/arch"
PERL5_CPANPLUS_IS_RUNNING="54190"
PERL5_CPANPLUS_IS_VERSION="0.9102"
PERL5_MINISMOKEBOX="0.42"
PERL5_YACSMOKE_BASE="/home/cpan/pit/bare/conf/perl-5.12.2"
PERL_EXTUTILS_AUTOINSTALL="--defaultdeps"
PERL_MM_USE_DEFAULT="1"
@INC:
/home/cpan/pit/bare/conf/perl-5.12.2/.cpanplus/5.12.2/build/Lexical-Types-0.11/blib/lib
/home/cpan/pit/bare/conf/perl-5.12.2/.cpanplus/5.12.2/build/Lexical-Types-0.11/blib/arch
/home/cpan/pit/bare/perl-5.12.2/lib/site_perl/5.12.2/x86_64-gnukfreebsd
/home/cpan/pit/bare/perl-5.12.2/lib/site_perl/5.12.2
/home/cpan/pit/bare/perl-5.12.2/lib/5.12.2/x86_64-gnukfreebsd
/home/cpan/pit/bare/perl-5.12.2/lib/5.12.2
.