Report for MooseX-Getopt-Usage-0.24

Back
From: metabase:user:30f4dfbe-2aae-11df-837a-5e0a49663a4f
Subject: PASS MooseX-Getopt-Usage-0.24 v5.24.0 Mac OS X
Date: 2016-09-01T16:12:19Z

This distribution has been tested as part of the CPAN Testers
project, supporting the Perl programming language.  See
http://wiki.cpantesters.org/ for more information or email
questions to cpan-testers-discuss@perl.org


--
Dear Mark Pitchless,

This is a computer-generated report for MooseX-Getopt-Usage-0.24
on perl 5.24.0, created by CPAN-Reporter-1.2018.

Thank you for uploading your work to CPAN.  Congratulations!
All tests were successful.

Sections of this report:

    * Tester comments
    * Program output
    * Prerequisites
    * Environment and other context

------------------------------
TESTER COMMENTS
------------------------------

Additional comments from tester:

this report is from an automated smoke testing program
and was not reviewed by a human for accuracy

------------------------------
PROGRAM OUTPUT
------------------------------

Output from './Build test':

# Testing MooseX::Getopt::Usage 0.24, Perl 5.024000, /Users/hornenj/perl5/perlbrew/perls/perl-5.24.0/bin/perl5.24.0
t/00-load.t ........................ ok
t/basic.t .......................... ok
t/bin.t ............................ ok
t/manifest.t ....................... skipped: Author tests not required for installation
t/moosex-getopt-usage-formatter.t .. ok
t/pod-coverage.t ................... ok
t/pod.t ............................ ok
All tests successful.
Files=7, Tests=93, 10 wallclock secs ( 0.03 usr  0.02 sys +  8.40 cusr  1.18 csys =  9.63 CPU)
Result: PASS

------------------------------
PREREQUISITES
------------------------------

Prerequisite modules loaded:

requires:

    Module                       Need Have     
    ---------------------------- ---- ---------
    File::Basename               0    2.85     
    FindBin                      0    1.51     
    Module::Loaded               0.06 0.08     
    Moose                        1.23 2.1805   
    Moose::Util::TypeConstraints 0    2.1805   
    MooseX::Getopt               0    0.71     
    Pod::Text                    0    4.07     
    Pod::Usage                   1.36 1.69     
    Term::ANSIColor              0    4.05     
    Term::ReadKey                0    2.33     
    Text::Wrap                   0    2013.0523
    Try::Tiny                    0.09 0.27     

build_requires:

    Module                       Need Have     
    ---------------------------- ---- ---------
    Capture::Tiny                0.08 0.44     
    File::Slurp                  0    9999.19  
    Test::Class                  0.36 0.50     
    Test::Differences            0.5  0.64     
    Test::More                   0    1.302052 

configure_requires:

    Module                       Need Have     
    ---------------------------- ---- ---------
    Module::Build                0.4  0.4220   


------------------------------
ENVIRONMENT AND OTHER CONTEXT
------------------------------

Environment variables:

    AUTOMATED_TESTING = 1
    LANG = en_US.UTF-8
    LC_ALL = POSIX
    LDFLAGS = 
    PATH = /Users/hornenj/perl5/perlbrew/bin:/Users/hornenj/perl5/perlbrew/perls/perl-5.24.0/bin:/Users/hornenj/perl5/perlbrew/bin:/Users/hornenj/bin:/sw/lib/perl5/ExtUtils:/sw/bin:/am/ncbiapdata/bin:/usr/bin:/bin:/usr/X11R6/bin:/netopt/ncbi_tools/bin:/usr/local/ncbi/blast/bin:/net/traces01.be-md.ncbi.nlm.nih.gov/trace_software/vdb/mac/release/x86_64/bin
    PERL5LIB = /Users/hornenj/.cpan/build/MooseX-Getopt-0.71-0/blib/arch:/Users/hornenj/.cpan/build/MooseX-Getopt-0.71-0/blib/lib:/Users/hornenj/.cpan/build/Test-Trap-v0.3.2-1/blib/arch:/Users/hornenj/.cpan/build/Test-Trap-v0.3.2-1/blib/lib:/Users/hornenj/.cpan/build/Data-Dump-1.23-3/blib/arch:/Users/hornenj/.cpan/build/Data-Dump-1.23-3/blib/lib:/Users/hornenj/.cpan/build/MooseX-Role-Parameterized-1.09-1/blib/arch:/Users/hornenj/.cpan/build/MooseX-Role-Parameterized-1.09-1/blib/lib:/Users/hornenj/.cpan/build/MooseX-Role-WithOverloading-0.17-1/blib/arch:/Users/hornenj/.cpan/build/MooseX-Role-WithOverloading-0.17-1/blib/lib:/Users/hornenj/.cpan/build/aliased-0.34-1/blib/arch:/Users/hornenj/.cpan/build/aliased-0.34-1/blib/lib:/Users/hornenj/.cpan/build/DateTime-Format-Duration-1.04-0/blib/arch:/Users/hornenj/.cpan/build/DateTime-Format-Duration-1.04-0/blib/lib
    PERL5OPT = 
    PERL5_CPANPLUS_IS_RUNNING = 96015
    PERL5_CPAN_IS_RUNNING = 96015
    PERL5_MINISMOKEBOX = 0.58
    PERLBREW_BASHRC_VERSION = 0.76
    PERLBREW_HOME = /Users/hornenj/.perlbrew
    PERLBREW_LIB = 
    PERLBREW_MANPATH = /Users/hornenj/perl5/perlbrew/perls/perl-5.24.0/man
    PERLBREW_PATH = /Users/hornenj/perl5/perlbrew/bin:/Users/hornenj/perl5/perlbrew/perls/perl-5.24.0/bin
    PERLBREW_PERL = perl-5.24.0
    PERLBREW_ROOT = /Users/hornenj/perl5/perlbrew
    PERLBREW_VERSION = 0.76
    PERL_EXTUTILS_AUTOINSTALL = --defaultdeps
    PERL_LOCAL_LIB_ROOT = 
    PERL_MM_USE_DEFAULT = 1
    SHELL = /bin/bash
    TERM = xterm-256color
    TMPDIR = /var/folders/pz/pd7y1qjs6s3cbk170cw50fjc000c61/T/
    ac_cv_path_INTLTOOL_PERL = /usr/bin/perl

Perl special variables (and OS-specific diagnostics, for MSWin32):

    $^X = /Users/hornenj/perl5/perlbrew/perls/perl-5.24.0/bin/perl5.24.0
    $UID/$EUID = 12481 / 12481
    $GID = 14 14 5344 37191 527 241
    $EGID = 14 14 5344 37191 527 241

Perl module toolchain versions installed:

    Module              Have    
    ------------------- --------
    CPAN                2.14    
    CPAN::Meta          2.150010
    Cwd                 3.63    
    ExtUtils::CBuilder  0.280225
    ExtUtils::Command   7.24    
    ExtUtils::Install   2.04    
    ExtUtils::MakeMaker 7.24    
    ExtUtils::Manifest  1.70    
    ExtUtils::ParseXS   3.31    
    File::Spec          3.63    
    JSON                2.90    
    JSON::PP            2.27400 
    Module::Build       0.4220  
    Module::Signature   n/a     
    Parse::CPAN::Meta   2.150010
    Test::Harness       3.36    
    Test::More          1.302052
    YAML                1.18    
    YAML::Syck          1.29    
    version             0.9917  


--

Summary of my perl5 (revision 5 version 24 subversion 0) configuration:
   
  Platform:
    osname=darwin, osvers=15.4.0, archname=darwin-thread-multi-2level
    uname='darwin ncbimac2027 15.4.0 darwin kernel version 15.4.0: fri feb 26 22:08:05 pst 2016; root:xnu-3248.40.184~3release_x86_64 x86_64 '
    config_args='-de -Dprefix=/Users/hornenj/perl5/perlbrew/perls/perl-5.24.0 -Duseithreads -Dusemultiplicity -Dusedevel -Accflags=-O2 -W -Wformat=2 -Wswitch -Wshadow -Wwrite-strings -Wuninitialized -Wall -pipe -mtune=native -march=native -fomit-frame-pointer -msse2 -msse -mmmx -pedantic -D_FORTIFY_SOURCE=2 -Wpointer-arith -Wstrict-prototypes -fstack-protector -Wstack-protector -Wextra -Wbad-function-cast -Wcast-align -Wcast-qual -Wdisabled-optimization -Wendif-labels -Wfloat-equal -Wformat-nonliteral -Winline -Wmissing-declarations -Wmissing-prototypes -Wnested-externs -Wpointer-arith -Wundef -Wformat-security -fassociative-math -Acc=cc -Aeval:scriptdir=/Users/hornenj/perl5/perlbrew/perls/perl-5.24.0/bin'
    hint=recommended, useposix=true, d_sigaction=define
    useithreads=define, usemultiplicity=define
    use64bitint=define, use64bitall=define, uselongdouble=undef
    usemymalloc=n, bincompat5005=undef
  Compiler:
    cc=' cc', ccflags ='-fno-common -DPERL_DARWIN -O2 -W -Wformat=2 -Wswitch -Wshadow -Wwrite-strings -Wuninitialized -Wall -pipe -mtune=native -march=native -fomit-frame-pointer -msse2 -msse -mmmx -pedantic -D_FORTIFY_SOURCE=2 -Wpointer-arith -Wstrict-prototypes -fstack-protector -Wstack-protector -Wextra -Wbad-function-cast -Wcast-align -Wcast-qual -Wdisabled-optimization -Wendif-labels -Wfloat-equal -Wformat-nonliteral -Winline -Wmissing-declarations -Wmissing-prototypes -Wnested-externs -Wpointer-arith -Wundef -Wformat-security -fassociative-math -fno-strict-aliasing -fstack-protector-strong -I/usr/local/include',
    optimize='-O3',
    cppflags='-fno-common -DPERL_DARWIN -O2 -W -Wformat=2 -Wswitch -Wshadow -Wwrite-strings -Wuninitialized -Wall -pipe -mtune=native -march=native -fomit-frame-pointer -msse2 -msse -mmmx -pedantic -D_FORTIFY_SOURCE=2 -Wpointer-arith -Wstrict-prototypes -fstack-protector -Wstack-protector -Wextra -Wbad-function-cast -Wcast-align -Wcast-qual -Wdisabled-optimization -Wendif-labels -Wfloat-equal -Wformat-nonliteral -Winline -Wmissing-declarations -Wmissing-prototypes -Wnested-externs -Wpointer-arith -Wundef -Wformat-security -fassociative-math -fno-strict-aliasing -fstack-protector-strong -I/usr/local/include'
    ccversion='', gccversion='4.2.1 Compatible Apple LLVM 7.3.0 (clang-703.0.31)', gccosandvers=''
    intsize=4, longsize=8, ptrsize=8, doublesize=8, byteorder=12345678, doublekind=3
    d_longlong=define, longlongsize=8, d_longdbl=define, longdblsize=16, longdblkind=3
    ivtype='long', ivsize=8, nvtype='double', nvsize=8, Off_t='off_t', lseeksize=8
    alignbytes=8, prototype=define
  Linker and Libraries:
    ld='env MACOSX_DEPLOYMENT_TARGET=10.3 cc', ldflags =' -fstack-protector-strong -L/usr/local/lib'
    libpth=/usr/local/lib /Applications/Xcode.app/Contents/Developer/Toolchains/XcodeDefault.xctoolchain/usr/bin/../lib/clang/7.3.0/lib /Applications/Xcode.app/Contents/Developer/Toolchains/XcodeDefault.xctoolchain/usr/lib /usr/lib
    libs=-lpthread -ldbm -ldl -lm -lutil -lc
    perllibs=-lpthread -ldl -lm -lutil -lc
    libc=, so=dylib, useshrplib=false, libperl=libperl.a
    gnulibc_version=''
  Dynamic Linking:
    dlsrc=dl_dlopen.xs, dlext=bundle, d_dlsymun=undef, ccdlflags=' '
    cccdlflags=' ', lddlflags=' -bundle -undefined dynamic_lookup -L/usr/local/lib -fstack-protector-strong'


Characteristics of this binary (from libperl): 
  Compile-time options: HAS_TIMES MULTIPLICITY PERLIO_LAYERS
                        PERL_COPY_ON_WRITE PERL_DONT_CREATE_GVSV
                        PERL_HASH_FUNC_ONE_AT_A_TIME_HARD
                        PERL_IMPLICIT_CONTEXT PERL_MALLOC_WRAP
                        PERL_PRESERVE_IVUV PERL_USE_DEVEL USE_64_BIT_ALL
                        USE_64_BIT_INT USE_ITHREADS USE_LARGE_FILES
                        USE_LOCALE USE_LOCALE_COLLATE USE_LOCALE_CTYPE
                        USE_LOCALE_NUMERIC USE_LOCALE_TIME USE_PERLIO
                        USE_PERL_ATOF USE_REENTRANT_API
  Locally applied patches:
	Devel::PatchPerl 1.30
  Built under darwin
  Compiled at May 10 2016 14:06:06
  %ENV:
    PERL5LIB="/Users/hornenj/.cpan/build/MooseX-Getopt-0.71-0/blib/arch:/Users/hornenj/.cpan/build/MooseX-Getopt-0.71-0/blib/lib:/Users/hornenj/.cpan/build/Test-Trap-v0.3.2-1/blib/arch:/Users/hornenj/.cpan/build/Test-Trap-v0.3.2-1/blib/lib:/Users/hornenj/.cpan/build/Data-Dump-1.23-3/blib/arch:/Users/hornenj/.cpan/build/Data-Dump-1.23-3/blib/lib:/Users/hornenj/.cpan/build/MooseX-Role-Parameterized-1.09-1/blib/arch:/Users/hornenj/.cpan/build/MooseX-Role-Parameterized-1.09-1/blib/lib:/Users/hornenj/.cpan/build/MooseX-Role-WithOverloading-0.17-1/blib/arch:/Users/hornenj/.cpan/build/MooseX-Role-WithOverloading-0.17-1/blib/lib:/Users/hornenj/.cpan/build/aliased-0.34-1/blib/arch:/Users/hornenj/.cpan/build/aliased-0.34-1/blib/lib:/Users/hornenj/.cpan/build/DateTime-Format-Duration-1.04-0/blib/arch:/Users/hornenj/.cpan/build/DateTime-Format-Duration-1.04-0/blib/lib"
    PERL5OPT=""
    PERL5_CPANPLUS_IS_RUNNING="96015"
    PERL5_CPAN_IS_RUNNING="96015"
    PERL5_MINISMOKEBOX="0.58"
    PERLBREW_BASHRC_VERSION="0.76"
    PERLBREW_HOME="/Users/hornenj/.perlbrew"
    PERLBREW_LIB=""
    PERLBREW_MANPATH="/Users/hornenj/perl5/perlbrew/perls/perl-5.24.0/man"
    PERLBREW_PATH="/Users/hornenj/perl5/perlbrew/bin:/Users/hornenj/perl5/perlbrew/perls/perl-5.24.0/bin"
    PERLBREW_PERL="perl-5.24.0"
    PERLBREW_ROOT="/Users/hornenj/perl5/perlbrew"
    PERLBREW_VERSION="0.76"
    PERL_EXTUTILS_AUTOINSTALL="--defaultdeps"
    PERL_LOCAL_LIB_ROOT=""
    PERL_MM_USE_DEFAULT="1"
  @INC:
    /Users/hornenj/.cpan/build/MooseX-Getopt-0.71-0/blib/arch
    /Users/hornenj/.cpan/build/MooseX-Getopt-0.71-0/blib/lib
    /Users/hornenj/.cpan/build/Test-Trap-v0.3.2-1/blib/arch
    /Users/hornenj/.cpan/build/Test-Trap-v0.3.2-1/blib/lib
    /Users/hornenj/.cpan/build/Data-Dump-1.23-3/blib/arch
    /Users/hornenj/.cpan/build/Data-Dump-1.23-3/blib/lib
    /Users/hornenj/.cpan/build/MooseX-Role-Parameterized-1.09-1/blib/arch
    /Users/hornenj/.cpan/build/MooseX-Role-Parameterized-1.09-1/blib/lib
    /Users/hornenj/.cpan/build/MooseX-Role-WithOverloading-0.17-1/blib/arch
    /Users/hornenj/.cpan/build/MooseX-Role-WithOverloading-0.17-1/blib/lib
    /Users/hornenj/.cpan/build/aliased-0.34-1/blib/arch
    /Users/hornenj/.cpan/build/aliased-0.34-1/blib/lib
    /Users/hornenj/.cpan/build/DateTime-Format-Duration-1.04-0/blib/arch
    /Users/hornenj/.cpan/build/DateTime-Format-Duration-1.04-0/blib/lib
    /Users/hornenj/perl5/perlbrew/perls/perl-5.24.0/lib/site_perl/5.24.0/darwin-thread-multi-2level
    /Users/hornenj/perl5/perlbrew/perls/perl-5.24.0/lib/site_perl/5.24.0
    /Users/hornenj/perl5/perlbrew/perls/perl-5.24.0/lib/5.24.0/darwin-thread-multi-2level
    /Users/hornenj/perl5/perlbrew/perls/perl-5.24.0/lib/5.24.0
    .