Back
From: metabase:user:d1ac2ff8-7f34-11e0-ad7d-d635d302c8a1
Subject: PASS Class-Scaffold-1.102280 v5.14.0 GNU/Linux
Date: 2011-06-02T03:31:52Z
This distribution has been tested as part of the CPAN Testers
project, supporting the Perl programming language. See
http://wiki.cpantesters.org/ for more information or email
questions to cpan-testers-discuss@perl.org
--
Dear Marcel Gruenauer,
This is a computer-generated report for Class-Scaffold-1.102280
on perl 5.14.0, created by CPAN-Reporter-1.1902.
Thank you for uploading your work to CPAN. Congratulations!
All tests were successful.
Sections of this report:
* Tester comments
* Program output
* Prerequisites
* Environment and other context
------------------------------
TESTER COMMENTS
------------------------------
Additional comments from tester:
this report is from an automated smoke testing program
and was not reviewed by a human for accuracy
------------------------------
PROGRAM OUTPUT
------------------------------
Output from '/usr/bin/make test':
PERL_DL_NONLAZY=1 /home/lonesome/perl-5.14.0/bin/perl "-MExtUtils::Command::MM" "-e" "test_harness(0, 'blib/lib', 'blib/arch')" t/*.t
t/00-compile.t ............... ok
# Testing with Perl 5.014000, /home/lonesome/perl-5.14.0/bin/perl
# Carp version is 1.20
# Class::Accessor::Complex version is 1.100880
# Class::Accessor::Constructor version is 1.100880
# Class::Accessor::FactoryTyped version is 1.100970
# Class::Factory::Enhanced version is 1.101420
# Class::Value version is 1.100840
# Cwd version is 3.36
# Data::Comparable version is 1.100840
# Data::Inherited version is 1.100860
# Data::Miscellany version is 1.100850
# Data::Storage version is 1.102720
# Devel::Caller version is 2.05
# Encode version is 2.43
# English version is 1.04
# Error version is 0.17016
# Error::Hierarchy version is 1.103530
# Error::Hierarchy::Container version is 1.103530
# Error::Hierarchy::Internal version is 1.103530
# Error::Hierarchy::Mixin version is 1.103530
# Error::Hierarchy::Test version is 1.103530
# Error::Hierarchy::Util version is 1.103530
# Exporter version is 5.64_03
# ExtUtils::MakeMaker version is 6.5711
# File::Find version is 1.19
# File::Spec::Functions version is 3.33
# File::Temp version is 0.22
# FindBin version is 1.50
# Getopt::Inherited version is 1.100860
# Getopt::Long version is 2.38
# IO::File version is 1.15
# IO::Handle version is 1.31
# List::Util version is 1.23
# Property::Lookup version is 1.101400
# Scalar::Util version is 1.23
# String::FlexMatch version is 1.100820
# Sys::Hostname version is 1.16
# Test::Builder version is 0.98
# Test::Class::GetoptControl version is 1.100860
# Test::CompanionClasses::Base version is 1.101370
# Test::CompanionClasses::Engine version is 1.101370
# Test::More version is 0.98
# Time::HiRes version is 1.9722
# UNIVERSAL::require version is 0.13
# YAML version is 0.73
# YAML::Active version is 1.100810
# YAML::Active::Plugin::Array version is 1.100810
# YAML::Active::Plugin::Hash version is 1.100810
# YAML::Marshall version is 0.72
# constant version is 1.21
# overload version is 1.13
# parent version is 0.225
t/000-report-versions.t ...... ok
20110602.043149.35 Hello
20110602.043149.35 a debug message that should appear
20110602.043149.35 (00004145) a message with pid and timestamp
(00004145) a message with pid but without timestamp
a message without pid or timestamp
t/01_companion_classes.t ..... ok
t/02_storage_conf.t .......... ok
t/author-critic.t ............ skipped: these tests are for testing by the author
t/release-check-changes.t .... skipped: these tests are for release candidate testing
t/release-dist-manifest.t .... skipped: these tests are for release candidate testing
t/release-distmeta.t ......... skipped: these tests are for release candidate testing
t/release-has-version.t ...... skipped: these tests are for release candidate testing
t/release-kwalitee.t ......... skipped: these tests are for release candidate testing
t/release-minimum-version.t .. skipped: these tests are for release candidate testing
t/release-no-tabs.t .......... skipped: these tests are for release candidate testing
t/release-pod-coverage.t ..... skipped: these tests are for release candidate testing
t/release-pod-spell.t ........ skipped: these tests are for release candidate testing
t/release-pod-syntax.t ....... skipped: these tests are for release candidate testing
t/release-portability.t ...... skipped: these tests are for release candidate testing
t/release-synopsis.t ......... skipped: these tests are for release candidate testing
t/release-unused-vars.t ...... skipped: these tests are for release candidate testing
All tests successful.
Files=18, Tests=108, 3 wallclock secs ( 0.09 usr 0.03 sys + 2.60 cusr 0.56 csys = 3.28 CPU)
Result: PASS
------------------------------
PREREQUISITES
------------------------------
Prerequisite modules loaded:
requires:
Module Need Have
------------------------------ ---- --------
Carp 0 1.20
Class::Accessor::Complex 0 1.100880
Class::Accessor::Constructor 0 1.100880
Class::Accessor::FactoryTyped 0 1.100970
Class::Factory::Enhanced 0 1.101420
Class::Value 0 1.100840
constant 0 1.21
Cwd 0 3.36
Data::Comparable 0 1.100840
Data::Inherited 0 1.100860
Data::Miscellany 0 1.100850
Data::Storage 0 1.102720
Devel::Caller 0 2.05
Encode 0 2.43
Error 0 0.17016
Error::Hierarchy 0 1.103530
Error::Hierarchy::Container 0 1.103530
Error::Hierarchy::Internal 0 1.103530
Error::Hierarchy::Mixin 0 1.103530
Error::Hierarchy::Test 0 1.103530
Error::Hierarchy::Util 0 1.103530
Exporter 0 5.64_03
File::Find 0 1.19
File::Spec::Functions 0 3.33
FindBin 0 1.50
Getopt::Inherited 0 1.100860
Getopt::Long 0 2.38
IO::File 0 1.15
IO::Handle 0 1.31
List::Util 0 1.23
overload 0 1.13
parent 0 0.225
Property::Lookup 0 1.101400
String::FlexMatch 0 1.100820
Sys::Hostname 0 1.16
Test::Builder 0 0.98
Test::Class::GetoptControl 0 1.100860
Test::CompanionClasses::Base 0 1.101370
Test::CompanionClasses::Engine 0 1.101370
Test::More 0 0.98
Time::HiRes 0 1.9722
UNIVERSAL::require 0 0.13
YAML 0 0.73
YAML::Active 0 1.100810
YAML::Active::Plugin::Array 0 1.100810
YAML::Active::Plugin::Hash 0 1.100810
YAML::Marshall 0 0.72
build_requires:
Module Need Have
------------------------------ ---- --------
English 0 1.04
File::Temp 0 0.22
Scalar::Util 0 1.23
Test::More 0.94 0.98
configure_requires:
Module Need Have
------------------------------ ---- --------
ExtUtils::MakeMaker 6.31 6.57_11
------------------------------
ENVIRONMENT AND OTHER CONTEXT
------------------------------
Environment variables:
AUTOMATED_TESTING = 1
LANG = en_GB.UTF-8
PATH = /usr/lib/ccache:/usr/local/bin:/bin:/usr/bin:/usr/local/sbin:/usr/sbin:/sbin:/home/lonesome/bin
PERL5LIB =
PERL5OPT =
PERL5_CPANPLUS_IS_RUNNING = 3074
PERL5_CPAN_IS_RUNNING = 3074
PERL5_CPAN_IS_RUNNING_IN_RECURSION = 9665,3074
PERL_CR_SMOKER_CURRENT = Data-Conveyor-1.103130
PERL_EXTUTILS_AUTOINSTALL = --defaultdeps
PERL_MM_USE_DEFAULT = 1
SHELL = /bin/bash
TERM = screen
Perl special variables (and OS-specific diagnostics, for MSWin32):
$^X = /home/lonesome/perl-5.14.0/bin/perl
$UID/$EUID = 500 / 500
$GID = 500 10 500
$EGID = 500 10 500
Perl module toolchain versions installed:
Module Have
------------------- --------
CPAN 1.9600
Cwd 3.36
ExtUtils::CBuilder 0.280202
ExtUtils::Command 1.17
ExtUtils::Install 1.56
ExtUtils::MakeMaker 6.57_11
ExtUtils::Manifest 1.58
ExtUtils::ParseXS 2.2210
File::Spec 3.33
Module::Build 0.3800
Module::Signature 0.68
Test::Harness 3.23
Test::More 0.98
YAML 0.73
YAML::Syck 1.17
version 0.89
--
Summary of my perl5 (revision 5 version 14 subversion 0) configuration:
Platform:
osname=linux, osvers=2.6.38.6-27.fc15.i686, archname=i686-linux
uname='linux fedora15 2.6.38.6-27.fc15.i686 #1 smp sun may 15 17:57:13 utc 2011 i686 i686 i386 gnulinux '
config_args='-des -Dcc=ccache gcc -Dld=gcc -Dprefix=/home/lonesome/perl-5.14.0'
hint=recommended, useposix=true, d_sigaction=define
useithreads=undef, usemultiplicity=undef
useperlio=define, d_sfio=undef, uselargefiles=define, usesocks=undef
use64bitint=undef, use64bitall=undef, uselongdouble=undef
usemymalloc=n, bincompat5005=undef
Compiler:
cc='ccache gcc', ccflags ='-fno-strict-aliasing -pipe -fstack-protector -I/usr/local/include -D_LARGEFILE_SOURCE -D_FILE_OFFSET_BITS=64',
optimize='-O2',
cppflags='-fno-strict-aliasing -pipe -fstack-protector -I/usr/local/include'
ccversion='', gccversion='4.6.0 20110509 (Red Hat 4.6.0-7)', gccosandvers=''
intsize=4, longsize=4, ptrsize=4, doublesize=8, byteorder=1234
d_longlong=define, longlongsize=8, d_longdbl=define, longdblsize=12
ivtype='long', ivsize=4, nvtype='double', nvsize=8, Off_t='off_t', lseeksize=8
alignbytes=4, prototype=define
Linker and Libraries:
ld='gcc', ldflags =' -fstack-protector -L/usr/local/lib'
libpth=/usr/local/lib /lib /usr/lib
libs=-lnsl -ldl -lm -lcrypt -lutil -lc
perllibs=-lnsl -ldl -lm -lcrypt -lutil -lc
libc=/lib/libc-2.13.90.so, so=so, useshrplib=false, libperl=libperl.a
gnulibc_version='2.13.90'
Dynamic Linking:
dlsrc=dl_dlopen.xs, dlext=so, d_dlsymun=undef, ccdlflags='-Wl,-E'
cccdlflags='-fPIC', lddlflags='-shared -O2 -L/usr/local/lib -fstack-protector'
Characteristics of this binary (from libperl):
Compile-time options: PERL_DONT_CREATE_GVSV PERL_MALLOC_WRAP
PERL_PRESERVE_IVUV USE_LARGE_FILES USE_PERLIO
USE_PERL_ATOF
Built under linux
Compiled at Jun 1 2011 10:32:53
%ENV:
PERL5LIB=""
PERL5OPT=""
PERL5_CPANPLUS_IS_RUNNING="3074"
PERL5_CPAN_IS_RUNNING="3074"
PERL5_CPAN_IS_RUNNING_IN_RECURSION="9665,3074"
PERL_CR_SMOKER_CURRENT="Data-Conveyor-1.103130"
PERL_EXTUTILS_AUTOINSTALL="--defaultdeps"
PERL_MM_USE_DEFAULT="1"
@INC:
/home/lonesome/perl-5.14.0/lib/site_perl/5.14.0/i686-linux
/home/lonesome/perl-5.14.0/lib/site_perl/5.14.0
/home/lonesome/perl-5.14.0/lib/5.14.0/i686-linux
/home/lonesome/perl-5.14.0/lib/5.14.0
.