classes v0.944 Perl 5 v5.24.2 x86_64-linux
- Status
- Pass
- From
- Slaven Rezić (SREZIC)
- Dist
-
classes v0.944
- Platform
- Perl 5 v5.24.2 x86_64-linux
- Date
- 2018-01-28 22:09:06
- ID
- db6ab85a-0477-11e8-bba7-a0cccbd01c07
This distribution has been tested as part of the CPAN Testers
project, supporting the Perl programming language. See
http://wiki.cpantesters.org/ for more information or email
questions to cpan-testers-discuss@perl.org
--
Dear Robert S. Muhlestein,
This is a computer-generated report for classes-0.944
on perl 5.24.2, created by CPAN-Reporter-1.2018.
Thank you for uploading your work to CPAN. Congratulations!
All tests were successful.
Sections of this report:
* Tester comments
* Program output
* Prerequisites
* Environment and other context
------------------------------
TESTER COMMENTS
------------------------------
Additional comments from tester:
none provided
------------------------------
PROGRAM OUTPUT
------------------------------
Output from '/usr/bin/make test':
PERL_DL_NONLAZY=1 "/opt/perl-5.24.2/bin/perl" "-MExtUtils::Command::MM" "-MTest::Harness" "-e" "undef *Test::Harness::Switches; test_harness(0, 'blib/lib', 'blib/arch')" t/00-load.t t/classes.t t/dump.t t/init_args.t t/load.t t/ok.t t/pod-coverage.t t/pod.t t/sprintf.t t/SUPER.t t/throwable.t t/xclasses.t t/tags/attrs.t t/tags/attrs_pr.t t/tags/attrs_ro.t t/tags/base_exception.t t/tags/caller.t t/tags/class_attrs.t t/tags/class_attrs_pr.t t/tags/class_attrs_ro.t t/tags/def_base_exception.t t/tags/exceptions.t t/tags/extends.t t/tags/inherits.t t/tags/justahash.t t/tags/mixes.t t/tags/name.t t/tags/needs.t t/tags/noaccessors.t t/tags/unqualified.t
# Testing classes 0.944, Perl 5.024002, /opt/perl-5.24.2/bin/perl
t/00-load.t .................. ok
t/classes.t .................. ok
t/dump.t ..................... ok
t/init_args.t ................ ok
t/load.t ..................... ok
t/ok.t ....................... ok
t/pod-coverage.t ............. ok
t/pod.t ...................... ok
t/sprintf.t .................. ok
t/SUPER.t .................... ok
t/tags/attrs.t ............... ok
t/tags/attrs_pr.t ............ ok
t/tags/attrs_ro.t ............ ok
t/tags/base_exception.t ...... ok
t/tags/caller.t .............. ok
t/tags/class_attrs.t ......... ok
t/tags/class_attrs_pr.t ...... ok
t/tags/class_attrs_ro.t ...... ok
t/tags/def_base_exception.t .. ok
t/tags/exceptions.t .......... ok
t/tags/extends.t ............. ok
t/tags/inherits.t ............ ok
t/tags/justahash.t ........... ok
t/tags/mixes.t ............... ok
t/tags/name.t ................ ok
t/tags/needs.t ............... ok
t/tags/noaccessors.t ......... ok
t/tags/unqualified.t ......... ok
t/throwable.t ................ ok
t/xclasses.t ................. ok
All tests successful.
Files=30, Tests=612, 2 wallclock secs ( 0.10 usr 0.11 sys + 1.42 cusr 0.31 csys = 1.94 CPU)
Result: PASS
------------------------------
PREREQUISITES
------------------------------
Prerequisite modules loaded:
requires:
Module Need Have
------------------- ---- --------
Data::Dumper 0 2.161
Scalar::Util 0 1.49
Test::More 0 1.302120
build_requires:
Module Need Have
------------------- ---- --------
ExtUtils::MakeMaker 0 7.30
------------------------------
ENVIRONMENT AND OTHER CONTEXT
------------------------------
Environment variables:
LANG = C
PATH = /usr/local/bin:/usr/bin:/bin:/usr/local/sbin:/usr/sbin:/sbin:/home/cpansand/bin/linux-gnu:/home/cpansand/bin/sh:/home/cpansand/bin:/usr/games:/home/cpansand/devel:/home/eserte/src/srezic-misc/scripts
PERL5LIB =
PERL5OPT =
PERL5_CPANPLUS_IS_RUNNING = 24172
PERL5_CPAN_IS_RUNNING = 24172
PERL5_CPAN_IS_RUNNING_IN_RECURSION = 21641,24172
PERLDOC = -MPod::Perldoc::ToTextOverstrike
PERL_BATCH = yes
PERL_CANARY_STABILITY_NOPROMPT = 1
PERL_CPAN_REPORTER_CONFIG = /var/tmp/cpansmoker-1023/2018012821/cpanreporter_000_config.ini
PERL_EXTUTILS_AUTOINSTALL = --defaultdeps
SHELL = /usr/bin/zsh
TERM = screen
TMPDIR = /var/tmp/cpansmoker-1023/2018012821
Perl special variables (and OS-specific diagnostics, for MSWin32):
$^X = /opt/perl-5.24.2/bin/perl
$UID/$EUID = 1023 / 1023
$GID = 1023 1023
$EGID = 1023 1023
Perl module toolchain versions installed:
Module Have
------------------- --------
CPAN 2.16
CPAN::Meta 2.150010
Cwd 3.63_01
ExtUtils::CBuilder 0.280230
ExtUtils::Command 7.30
ExtUtils::Install 2.06
ExtUtils::MakeMaker 7.30
ExtUtils::Manifest 1.70
ExtUtils::ParseXS 3.31
File::Spec 3.63_01
JSON 2.96
JSON::PP 2.95
Module::Build 0.4224
Module::Signature 0.81
Parse::CPAN::Meta 2.150010
Test::Harness 3.39
Test::More 1.302120
YAML 1.24
YAML::Syck 1.30
version 0.9916
--
Summary of my perl5 (revision 5 version 24 subversion 2) configuration:
Platform:
osname=linux, osvers=4.9.0-3-amd64, archname=x86_64-linux
uname='linux debian9 4.9.0-3-amd64 #1 smp debian 4.9.30-2+deb9u2 (2017-06-26) x86_64 gnulinux '
config_args='-ds -e -Dprefix=/opt/perl-5.24.2 -Dcf_email=srezic@cpan.org'
hint=recommended, useposix=true, d_sigaction=define
useithreads=undef, usemultiplicity=undef
use64bitint=define, use64bitall=define, uselongdouble=undef
usemymalloc=n, bincompat5005=undef
Compiler:
cc='cc', ccflags ='-fwrapv -fno-strict-aliasing -pipe -fstack-protector-strong -I/usr/local/include -D_LARGEFILE_SOURCE -D_FILE_OFFSET_BITS=64',
optimize='-O2',
cppflags='-fwrapv -fno-strict-aliasing -pipe -fstack-protector-strong -I/usr/local/include'
ccversion='', gccversion='6.3.0 20170516', gccosandvers=''
intsize=4, longsize=8, ptrsize=8, doublesize=8, byteorder=12345678, doublekind=3
d_longlong=define, longlongsize=8, d_longdbl=define, longdblsize=16, longdblkind=3
ivtype='long', ivsize=8, nvtype='double', nvsize=8, Off_t='off_t', lseeksize=8
alignbytes=8, prototype=define
Linker and Libraries:
ld='cc', ldflags =' -fstack-protector-strong -L/usr/local/lib'
libpth=/usr/local/lib /usr/lib/gcc/x86_64-linux-gnu/6/include-fixed /usr/include/x86_64-linux-gnu /usr/lib /lib/x86_64-linux-gnu /lib/../lib /usr/lib/x86_64-linux-gnu /usr/lib/../lib /lib
libs=-lpthread -lnsl -lgdbm -ldb -ldl -lm -lcrypt -lutil -lc -lgdbm_compat
perllibs=-lpthread -lnsl -ldl -lm -lcrypt -lutil -lc
libc=libc-2.24.so, so=so, useshrplib=false, libperl=libperl.a
gnulibc_version='2.24'
Dynamic Linking:
dlsrc=dl_dlopen.xs, dlext=so, d_dlsymun=undef, ccdlflags='-Wl,-E'
cccdlflags='-fPIC', lddlflags='-shared -O2 -L/usr/local/lib -fstack-protector-strong'
Characteristics of this binary (from libperl):
Compile-time options: HAS_TIMES PERLIO_LAYERS PERL_COPY_ON_WRITE
PERL_DONT_CREATE_GVSV
PERL_HASH_FUNC_ONE_AT_A_TIME_HARD PERL_MALLOC_WRAP
PERL_PRESERVE_IVUV USE_64_BIT_ALL USE_64_BIT_INT
USE_LARGE_FILES USE_LOCALE USE_LOCALE_COLLATE
USE_LOCALE_CTYPE USE_LOCALE_NUMERIC USE_LOCALE_TIME
USE_PERLIO USE_PERL_ATOF
Built under linux
Compiled at Jul 15 2017 19:40:54
%ENV:
PERL5LIB=""
PERL5OPT=""
PERL5_CPANPLUS_IS_RUNNING="24172"
PERL5_CPAN_IS_RUNNING="24172"
PERL5_CPAN_IS_RUNNING_IN_RECURSION="21641,24172"
PERLDOC="-MPod::Perldoc::ToTextOverstrike"
PERL_BATCH="yes"
PERL_CANARY_STABILITY_NOPROMPT="1"
PERL_CPAN_REPORTER_CONFIG="/var/tmp/cpansmoker-1023/2018012821/cpanreporter_000_config.ini"
PERL_EXTUTILS_AUTOINSTALL="--defaultdeps"
@INC:
/opt/perl-5.24.2/lib/site_perl/5.24.2/x86_64-linux
/opt/perl-5.24.2/lib/site_perl/5.24.2
/opt/perl-5.24.2/lib/5.24.2/x86_64-linux
/opt/perl-5.24.2/lib/5.24.2
.