Path-Dispatcher v1.08 Perl 5 v5.38.4 RC1 x86_64-linux

Status
Pass
From
Andreas J. König (ANDK)
Dist
Path-Dispatcher v1.08
Platform
Perl 5 v5.38.4 RC1 x86_64-linux
Date
2025-04-02 04:42:17
ID
db45d6c6-0f7c-11f0-b3e8-c510cf17548c
This distribution has been tested as part of the CPAN Testers
project, supporting the Perl programming language.  See
http://wiki.cpantesters.org/ for more information or email
questions to cpan-testers-discuss@perl.org


--
Dear Karen Etheridge,

This is a computer-generated report for Path-Dispatcher-1.08
on perl 5.38.4, created by CPAN-Reporter-1.2020.

Thank you for uploading your work to CPAN.  Congratulations!
All tests were successful.

Sections of this report:

    * Tester comments
    * Program output
    * Prerequisites
    * Environment and other context

------------------------------
TESTER COMMENTS
------------------------------

Additional comments from tester:

this report is from an automated smoke testing program
and was not reviewed by a human for accuracy

------------------------------
PROGRAM OUTPUT
------------------------------

Output from '/usr/bin/make test':

PERL_DL_NONLAZY=1 "/tmp/basesmoker-reloperl-3VRm/bin/perl" "-MExtUtils::Command::MM" "-MTest::Harness" "-e" "undef *Test::Harness::Switches; test_harness(0, 'blib/lib', 'blib/arch')" t/*.t
# 
# Versions for all modules listed in MYMETA.json (including optional ones):
# 
# === Configure Requires ===
# 
#     Module               Want  Have
#     ------------------- ----- -----
#     ExtUtils::MakeMaker   any  7.72
#     Module::Build::Tiny 0.034 0.051
# 
# === Build Requires ===
# 
#     Module              Want Have
#     ------------------- ---- ----
#     ExtUtils::MakeMaker  any 7.72
# 
# === Test Requires ===
# 
#     Module           Want     Have
#     ---------------- ---- --------
#     File::Spec        any     3.88
#     Module::Metadata  any 1.000038
#     Test::Fatal       any    0.017
#     Test::More        any 1.302210
#     strict            any     1.12
#     warnings          any     1.65
# 
# === Test Recommends ===
# 
#     Module         Want     Have
#     ---------- -------- --------
#     CPAN::Meta 2.120900 2.150010
# 
# === Runtime Requires ===
# 
#     Module          Want     Have
#     --------------- ---- --------
#     Carp             any     1.54
#     Moo              any 2.005005
#     Moo::Role        any 2.005005
#     MooX::TypeTiny   any 0.002003
#     Scalar::Util     any     1.68
#     Try::Tiny        any     0.32
#     Type::Tiny       any 2.006000
#     Type::Utils      any 2.006000
#     Types::Standard  any 2.006000
#     constant         any     1.33
#     overload         any     1.37
# 
# === Other Modules ===
# 
#     Module            Have
#     --------------- ------
#     Encode            3.21
#     File::Temp      0.2311
#     JSON::PP          4.16
#     Module::Runtime  0.016
#     Sub::Name         0.28
#     YAML              1.31
#     autodie           2.36
# 
t/00-report-prereqs.t .......... ok
t/000-compile.t ................ ok
t/001-api.t .................... ok
t/002-rule.t ................... ok
t/003-404.t .................... ok
t/004-run.t .................... ok
t/005-multi-rule.t ............. ok
t/006-abort.t .................. ok
t/007-coderef-matcher.t ........ ok
t/009-args.t ................... ok
t/010-return.t ................. ok
t/011-next-rule.t .............. ok
t/012-under.t .................. ok
t/013-tokens.t ................. ok
t/014-tokens-prefix.t .......... ok
t/015-regex-prefix.t ........... ok
t/017-intersection.t ........... ok
t/018-metadata.t ............... ok
t/019-intersection-metadata.t .. ok
t/022-numbers-undef.t .......... ok
t/023-alternation.t ............ ok
t/024-sequence.t ............... ok
t/025-sequence-custom-rule.t ... ok
t/026-named-captures.t ......... ok
t/027-custom-named-captures.t .. ok
t/030-exceptions.t ............. ok
t/031-structured-match.t ....... ok
t/032-multiple-delimiter.t ..... ok
t/033-chain.t .................. ok
t/100-match-object.t ........... ok
t/200-payload.t ................ ok
t/901-return-values.t .......... ok
t/902-coderef.t ................ ok
All tests successful.
Files=33, Tests=216,  7 wallclock secs ( 0.11 usr  0.03 sys +  6.55 cusr  0.99 csys =  7.68 CPU)
Result: PASS

------------------------------
PREREQUISITES
------------------------------

Prerequisite modules loaded:

requires:

    Module              Need     Have    
    ------------------- -------- --------
    Carp                0        1.54    
    constant            0        1.33    
    Moo                 0        2.005005
    Moo::Role           0        2.005005
    MooX::TypeTiny      0        0.002003
    overload            0        1.37    
    perl                5.008001 5.038004
    Scalar::Util        0        1.68    
    Try::Tiny           0        0.32    
    Type::Tiny          0        2.006000
    Type::Utils         0        2.006000
    Types::Standard     0        2.006000

build_requires:

    Module              Need     Have    
    ------------------- -------- --------
    ExtUtils::MakeMaker 0        7.72    
    File::Spec          0        3.88    
    Module::Metadata    0        1.000038
    strict              0        1.12    
    Test::Fatal         0        0.017   
    Test::More          0        1.302210
    warnings            0        1.65    

configure_requires:

    Module              Need     Have    
    ------------------- -------- --------
    ExtUtils::MakeMaker 0        7.72    
    Module::Build::Tiny 0.034    0.051   
    perl                5.008001 5.038004


------------------------------
ENVIRONMENT AND OTHER CONTEXT
------------------------------

Environment variables:

    AUTOMATED_TESTING = 1
    LANG = en_US.UTF-8
    PATH = /home/sand/bin:/usr/local/bin:/usr/local/sbin:/usr/sbin:/usr/bin:/sbin:/bin:/usr/games:/usr/local/games:/snap/bin:/usr/local/perl/bin:/usr/X11/bin
    PERL = /tmp/basesmoker-reloperl-3VRm/bin/perl
    PERL5LIB = /tmp/loop_over_bdir-2787454-LT3RhR/RackMan-1.19-0/blib/arch:/tmp/loop_over_bdir-2787454-LT3RhR/RackMan-1.19-0/blib/lib:/tmp/loop_over_bdir-2787454-LT3RhR/makepp-1.19-0/blib/arch:/tmp/loop_over_bdir-2787454-LT3RhR/makepp-1.19-0/blib/lib:/tmp/loop_over_bdir-2787454-LT3RhR/dta-tokwrap-0.98-0/blib/arch:/tmp/loop_over_bdir-2787454-LT3RhR/dta-tokwrap-0.98-0/blib/lib:/tmp/loop_over_bdir-2787454-LT3RhR/ProjectBuilder-0.14.1-0/blib/arch:/tmp/loop_over_bdir-2787454-LT3RhR/ProjectBuilder-0.14.1-0/blib/lib:/tmp/loop_over_bdir-2787454-LT3RhR/Business-Shipping-DataFiles-1.02-0/blib/arch:/tmp/loop_over_bdir-2787454-LT3RhR/Business-Shipping-DataFiles-1.02-0/blib/lib:/tmp/loop_over_bdir-2787454-LT3RhR/Alien-SNMP-MIBDEV-2.020000-0/blib/arch:/tmp/loop_over_bdir-2787454-LT3RhR/Alien-SNMP-MIBDEV-2.020000-0/blib/lib:/tmp/loop_over_bdir-2787454-LT3RhR/LiquidWeb-Storm-CLI-1.03-0/blib/arch:/tmp/loop_over_bdir-2787454-LT3RhR/LiquidWeb-Storm-CLI-1.03-0/blib/lib:/tmp/loop_over_bdir-2787454-LT3RhR/Module-ScanDeps-Static-1.7.2-0/blib/arch:/tmp/loop_over_bdir-2787454-LT3RhR/Module-ScanDeps-Static-1.7.2-0/blib/lib:/tmp/loop_over_bdir-2787454-LT3RhR/HTML-Menu-TreeView-1.22-0/blib/arch:/tmp/loop_over_bdir-2787454-LT3RhR/HTML-Menu-TreeView-1.22-0/blib/lib
    PERL5OPT = 
    PERL5_CPANPLUS_IS_RUNNING = 2787464
    PERL5_CPAN_IS_RUNNING = 2787464
    PERL_CANARY_STABILITY_NOPROMPT = 1
    PERL_MM_USE_DEFAULT = 1
    PERL_USE_UNSAFE_INC = 1
    SHELL = /usr/bin/zsh
    TERM = screen

Perl special variables (and OS-specific diagnostics, for MSWin32):

    $^X = /tmp/basesmoker-reloperl-3VRm/bin/perl
    $UID/$EUID = 1005 / 1005
    $GID = 1005 1005
    $EGID = 1005 1005

Perl module toolchain versions installed:

    Module              Have    
    ------------------- --------
    CPAN                2.38    
    CPAN::Meta          2.150010
    Cwd                 3.89    
    ExtUtils::CBuilder  0.280238
    ExtUtils::Command   7.72    
    ExtUtils::Install   2.22    
    ExtUtils::MakeMaker 7.72    
    ExtUtils::Manifest  1.73    
    ExtUtils::ParseXS   3.51    
    File::Spec          3.88    
    JSON                4.10    
    JSON::PP            4.16    
    Module::Build       0.4234  
    Module::Signature   0.89    
    Parse::CPAN::Meta   2.150010
    Test2               1.302210
    Test::Harness       3.50    
    Test::More          1.302210
    YAML                1.31    
    YAML::Syck          1.34    
    version             0.9933  


--

Summary of my perl5 (revision 5 version 38 subversion 4) configuration:
   
  Platform:
    osname=linux
    osvers=5.4.0-208-generic
    archname=x86_64-linux
    uname='linux k93focal 5.4.0-208-generic #228-ubuntu smp fri feb 7 19:41:33 utc 2025 x86_64 x86_64 x86_64 gnulinux '
    config_args='-Dprefix=/home/sand/src/perl/repoperls/installed-perls/host/k93focal/perl-5.38.4-RC1/d119 -Dmyhostname=k93focal -Dinstallusrbinperl=n -Uversiononly -Dusedevel -des -Ui_db -Dlibswanted=cl pthread socket inet nsl gdbm dbm malloc dl ld sun m crypt sec util c cposix posix ucb BSD gdbm_compat -Duseithreads -Uuselongdouble -DEBUGGING=both'
    hint=previous
    useposix=true
    d_sigaction=define
    useithreads=undef
    usemultiplicity=undef
    use64bitint=define
    use64bitall=define
    uselongdouble=undef
    usemymalloc=n
    default_inc_excludes_dot=define
  Compiler:
    cc='cc'
    ccflags ='-fwrapv -DDEBUGGING -fno-strict-aliasing -pipe -fstack-protector-strong -I/usr/local/include -D_LARGEFILE_SOURCE -D_FILE_OFFSET_BITS=64'
    optimize='-O2 -g'
    cppflags='-fwrapv -DDEBUGGING -fno-strict-aliasing -pipe -fstack-protector-strong -I/usr/local/include'
    ccversion=''
    gccversion='9.4.0'
    gccosandvers=''
    intsize=4
    longsize=8
    ptrsize=8
    doublesize=8
    byteorder=12345678
    doublekind=3
    d_longlong=define
    longlongsize=8
    d_longdbl=define
    longdblsize=16
    longdblkind=3
    ivtype='long'
    ivsize=8
    nvtype='double'
    nvsize=8
    Off_t='off_t'
    lseeksize=8
    alignbytes=8
    prototype=define
  Linker and Libraries:
    ld='cc'
    ldflags =' -fstack-protector-strong -L/usr/local/lib'
    libpth=/usr/local/lib /usr/lib/x86_64-linux-gnu /usr/lib /usr/lib64
    libs=-lpthread -lnsl -ldl -lm -lcrypt -lutil -lc
    perllibs=-lpthread -lnsl -ldl -lm -lcrypt -lutil -lc
    libc=libc-2.31.so
    so=so
    useshrplib=false
    libperl=libperl.a
    gnulibc_version='2.31'
  Dynamic Linking:
    dlsrc=dl_dlopen.xs
    dlext=so
    d_dlsymun=undef
    ccdlflags='-Wl,-E'
    cccdlflags='-fPIC'
    lddlflags='-shared -O2 -g -L/usr/local/lib -fstack-protector-strong'


Characteristics of this binary (from libperl): 
  Compile-time options:
    DEBUGGING
    HAS_LONG_DOUBLE
    HAS_STRTOLD
    HAS_TIMES
    PERLIO_LAYERS
    PERL_COPY_ON_WRITE
    PERL_DONT_CREATE_GVSV
    PERL_HASH_FUNC_SIPHASH13
    PERL_HASH_USE_SBOX32
    PERL_MALLOC_WRAP
    PERL_OP_PARENT
    PERL_PRESERVE_IVUV
    PERL_USE_DEVEL
    PERL_USE_SAFE_PUTENV
    USE_64_BIT_ALL
    USE_64_BIT_INT
    USE_LARGE_FILES
    USE_LOCALE
    USE_LOCALE_COLLATE
    USE_LOCALE_CTYPE
    USE_LOCALE_NUMERIC
    USE_LOCALE_TIME
    USE_PERLIO
    USE_PERL_ATOF
  Locally applied patches:
    RC1
  Built under linux
  Compiled at Mar 30 2025 19:41:51
  %ENV:
    PERL="/tmp/basesmoker-reloperl-3VRm/bin/perl"
    PERL5LIB="/tmp/loop_over_bdir-2787454-LT3RhR/RackMan-1.19-0/blib/arch:/tmp/loop_over_bdir-2787454-LT3RhR/RackMan-1.19-0/blib/lib:/tmp/loop_over_bdir-2787454-LT3RhR/makepp-1.19-0/blib/arch:/tmp/loop_over_bdir-2787454-LT3RhR/makepp-1.19-0/blib/lib:/tmp/loop_over_bdir-2787454-LT3RhR/dta-tokwrap-0.98-0/blib/arch:/tmp/loop_over_bdir-2787454-LT3RhR/dta-tokwrap-0.98-0/blib/lib:/tmp/loop_over_bdir-2787454-LT3RhR/ProjectBuilder-0.14.1-0/blib/arch:/tmp/loop_over_bdir-2787454-LT3RhR/ProjectBuilder-0.14.1-0/blib/lib:/tmp/loop_over_bdir-2787454-LT3RhR/Business-Shipping-DataFiles-1.02-0/blib/arch:/tmp/loop_over_bdir-2787454-LT3RhR/Business-Shipping-DataFiles-1.02-0/blib/lib:/tmp/loop_over_bdir-2787454-LT3RhR/Alien-SNMP-MIBDEV-2.020000-0/blib/arch:/tmp/loop_over_bdir-2787454-LT3RhR/Alien-SNMP-MIBDEV-2.020000-0/blib/lib:/tmp/loop_over_bdir-2787454-LT3RhR/LiquidWeb-Storm-CLI-1.03-0/blib/arch:/tmp/loop_over_bdir-2787454-LT3RhR/LiquidWeb-Storm-CLI-1.03-0/blib/lib:/tmp/loop_over_bdir-2787454-LT3RhR/Module-ScanDeps-Static-1.7.2-0/blib/arch:/tmp/loop_over_bdir-2787454-LT3RhR/Module-ScanDeps-Static-1.7.2-0/blib/lib:/tmp/loop_over_bdir-2787454-LT3RhR/HTML-Menu-TreeView-1.22-0/blib/arch:/tmp/loop_over_bdir-2787454-LT3RhR/HTML-Menu-TreeView-1.22-0/blib/lib"
    PERL5OPT=""
    PERL5_CPANPLUS_IS_RUNNING="2787464"
    PERL5_CPAN_IS_RUNNING="2787464"
    PERL_CANARY_STABILITY_NOPROMPT="1"
    PERL_MM_USE_DEFAULT="1"
    PERL_USE_UNSAFE_INC="1"
  @INC:
    /tmp/loop_over_bdir-2787454-LT3RhR/RackMan-1.19-0/blib/arch
    /tmp/loop_over_bdir-2787454-LT3RhR/RackMan-1.19-0/blib/lib
    /tmp/loop_over_bdir-2787454-LT3RhR/makepp-1.19-0/blib/arch
    /tmp/loop_over_bdir-2787454-LT3RhR/makepp-1.19-0/blib/lib
    /tmp/loop_over_bdir-2787454-LT3RhR/dta-tokwrap-0.98-0/blib/arch
    /tmp/loop_over_bdir-2787454-LT3RhR/dta-tokwrap-0.98-0/blib/lib
    /tmp/loop_over_bdir-2787454-LT3RhR/ProjectBuilder-0.14.1-0/blib/arch
    /tmp/loop_over_bdir-2787454-LT3RhR/ProjectBuilder-0.14.1-0/blib/lib
    /tmp/loop_over_bdir-2787454-LT3RhR/Business-Shipping-DataFiles-1.02-0/blib/arch
    /tmp/loop_over_bdir-2787454-LT3RhR/Business-Shipping-DataFiles-1.02-0/blib/lib
    /tmp/loop_over_bdir-2787454-LT3RhR/Alien-SNMP-MIBDEV-2.020000-0/blib/arch
    /tmp/loop_over_bdir-2787454-LT3RhR/Alien-SNMP-MIBDEV-2.020000-0/blib/lib
    /tmp/loop_over_bdir-2787454-LT3RhR/LiquidWeb-Storm-CLI-1.03-0/blib/arch
    /tmp/loop_over_bdir-2787454-LT3RhR/LiquidWeb-Storm-CLI-1.03-0/blib/lib
    /tmp/loop_over_bdir-2787454-LT3RhR/Module-ScanDeps-Static-1.7.2-0/blib/arch
    /tmp/loop_over_bdir-2787454-LT3RhR/Module-ScanDeps-Static-1.7.2-0/blib/lib
    /tmp/loop_over_bdir-2787454-LT3RhR/HTML-Menu-TreeView-1.22-0/blib/arch
    /tmp/loop_over_bdir-2787454-LT3RhR/HTML-Menu-TreeView-1.22-0/blib/lib
    /home/sand/src/perl/repoperls/installed-perls/host/k93focal/perl-5.38.4-RC1/b254/lib/site_perl/5.38.4/x86_64-linux
    /home/sand/src/perl/repoperls/installed-perls/host/k93focal/perl-5.38.4-RC1/b254/lib/site_perl/5.38.4
    /home/sand/src/perl/repoperls/installed-perls/host/k93focal/perl-5.38.4-RC1/b254/lib/5.38.4/x86_64-linux
    /home/sand/src/perl/repoperls/installed-perls/host/k93focal/perl-5.38.4-RC1/b254/lib/5.38.4
    .