IO-Socket-SSL v2.085 Perl 5 v5.40.0 x86_64-linux
- Status
- Pass
- From
- Dan Book
- Dist
-
IO-Socket-SSL v2.085
- Platform
- Perl 5 v5.40.0 x86_64-linux
- Date
- 2024-06-11 05:17:11
- ID
- db44857c-27b1-11ef-a222-d33ec2ee0a1a
This distribution has been tested as part of the CPAN Testers
project, supporting the Perl programming language. See
http://wiki.cpantesters.org/ for more information or email
questions to cpan-testers-discuss@perl.org
--
Dear SULLR,
This is a computer-generated report for IO-Socket-SSL-2.085
on perl 5.40.0, created by App::cpanminus::reporter 0.21 (1.7047).
Thank you for uploading your work to CPAN. Congratulations!
All tests were successful.
Sections of this report:
* Tester comments
* Program output
* Prerequisites
* Environment and other context
------------------------------
TESTER COMMENTS
------------------------------
Additional comments from tester:
none provided
------------------------------
PROGRAM OUTPUT
------------------------------
Output from '':
Building and testing IO-Socket-SSL-2.085
cp lib/IO/Socket/SSL/Intercept.pm blib/lib/IO/Socket/SSL/Intercept.pm
cp lib/IO/Socket/SSL.pod blib/lib/IO/Socket/SSL.pod
cp lib/IO/Socket/SSL/Utils.pm blib/lib/IO/Socket/SSL/Utils.pm
cp lib/IO/Socket/SSL/PublicSuffix.pm blib/lib/IO/Socket/SSL/PublicSuffix.pm
cp lib/IO/Socket/SSL.pm blib/lib/IO/Socket/SSL.pm
Manifying 4 pod documents
PERL_DL_NONLAZY=1 "/home/grinnz/.plenv/versions/5.40.0/bin/perl5.40.0" "-MExtUtils::Command::MM" "-MTest::Harness" "-e" "undef *Test::Harness::Switches; test_harness(0, 'blib/lib', 'blib/arch')" t/*.t t/external/*.t
# openssl version compiled=0x30000090 linked=0x30000090 -- OpenSSL 3.0.9 30 May 2023
# Net::SSLeay version=1.94
# parent IO::Socket::IP version=0.42
t/01loadmodule.t .................. ok
t/acceptSSL-timeout.t ............. ok
t/alpn.t .......................... ok
t/auto_verify_hostname.t .......... ok
t/cert_formats.t .................. ok
t/cert_no_file.t .................. ok
t/compatibility.t ................. ok
t/connectSSL-timeout.t ............ ok
t/core.t .......................... ok
t/dhe.t ........................... ok
t/ecdhe.t ......................... ok
# tcp connect to www.chksum.de:443 ok
# fingerprint matches
# validation with default CA w/o OCSP ok
# got stapled response as expected
# validation with default CA with OCSP defaults ok
# validation with default CA with OCSP full chain ok
# tcp connect to www.bild.de:443 ok
# fingerprint matches
# validation with default CA w/o OCSP ok
# validation with default CA with OCSP defaults ok
# validation with default CA with OCSP full chain ok
# tcp connect to revoked.grc.com:443 ok
t/external/ocsp.t ................. ok
# found 140 CA certs
# have root CA for www.bild.de in store
# 5 connections to www.bild.de ok
# have root CA for www.yahoo.com in store
# 5 connections to www.yahoo.com ok
# have root CA for www.comdirect.de in store
# 5 connections to www.comdirect.de ok
# fingerprint www.comdirect.de matches
# have root CA for meine.deutsche-bank.de in store
# 5 connections to meine.deutsche-bank.de ok
# fingerprint meine.deutsche-bank.de matches
# have root CA for www.twitter.com in store
# 5 connections to www.twitter.com ok
# have root CA for www.facebook.com in store
# 5 connections to www.facebook.com ok
# have root CA for www.live.com in store
# 5 connections to www.live.com ok
t/external/usable_ca.t ............ ok
t/io-socket-inet6.t ............... skipped: no IO::Socket::INET6 available
t/io-socket-ip.t .................. ok
t/memleak_bad_handshake.t ......... ok
t/mitm.t .......................... ok
t/multiple-cert-rsa-ecc.t ......... ok
t/nonblock.t ...................... ok
t/npn.t ........................... ok
# -- test: newINET start_SSL stop_SSL start_SSL
# server accepted new client
# wait for initial data from client
# got 0x666f6f from client
# server: got plain data at start of connection
# server: TLS upgrade
# server: TLS downgrade
# server: TLS upgrade#2
# -- test: newSSL stop_SSL connect_SSL
# server accepted new client
# wait for initial data from client
# got 0x160301 from client
# server: TLS upgrade
# server: TLS downgrade
# server: TLS upgrade#2
# -- test: newSSL:0 connect_SSL stop_SSL connect_SSL
# server accepted new client
# wait for initial data from client
# got 0x666f6f from client
# server: got plain data at start of connection
# server: TLS upgrade
# server: TLS downgrade
# server: TLS upgrade#2
# -- test: newSSL:0 start_SSL stop_SSL connect_SSL
# server accepted new client
# wait for initial data from client
# got 0x666f6f from client
# server: got plain data at start of connection
# server: TLS upgrade
# server: TLS downgrade
# server: TLS upgrade#2
# server accepted new client
# wait for initial data from client
# got 0x656e64 from client
# client requested end of tests
t/plain_upgrade_downgrade.t ....... ok
# looks like OpenSSL was compiled without SSLv3 support
# failed to accept TLSv1
# looks like OpenSSL was compiled without TLSv1 support
# failed to accept TLSv1_1
# looks like OpenSSL was compiled without TLSv1_1 support
t/protocol_version.t .............. ok
t/public_suffix_lib_encode_idn.t .. ok
t/public_suffix_lib_libidn.t ...... ok
t/public_suffix_lib_uri.t ......... ok
t/public_suffix_ssl.t ............. ok
t/readline.t ...................... ok
t/session_cache.t ................. ok
# listen at 127.0.0.1:60321
# listen at 127.0.0.1:48983
# connect to 0: success reuse=0 version=TLSv1_3
# connect to 0: success reuse=1 version=TLSv1_3
# connect to 1: success reuse=1 version=TLSv1_3
# connect to 1: success reuse=0 version=TLSv1_3
# connect to 0: success reuse=0 version=TLSv1_3
# connect to 0: success reuse=1 version=TLSv1_3
t/session_ticket.t ................ ok
t/sessions.t ...................... ok
t/set_curves.t .................... ok
t/signal-readline.t ............... ok
t/sni.t ........................... ok
t/sni_verify.t .................... ok
t/start-stopssl.t ................. ok
t/startssl-failed.t ............... ok
t/startssl.t ...................... ok
t/sysread_write.t ................. ok
t/verify_fingerprint.t ............ ok
t/verify_hostname.t ............... ok
t/verify_hostname_standalone.t .... ok
t/verify_partial_chain.t .......... ok
All tests successful.
Files=42, Tests=806, 61 wallclock secs ( 0.29 usr 0.13 sys + 16.06 cusr 1.35 csys = 17.83 CPU)
Result: PASS
------------------------------
PREREQUISITES
------------------------------
Prerequisite modules loaded:
No requirements found
------------------------------
ENVIRONMENT AND OTHER CONTEXT
------------------------------
Environment variables:
LANG = en_US.UTF-8
PATH = /home/grinnz/.plenv/versions/5.40.0/bin:/home/grinnz/.plenv/libexec:/home/grinnz/.plenv/plugins/perl-build/bin:/home/grinnz/.plenv/plugins/plenv-contrib/bin:/home/grinnz/.plenv/shims:/home/grinnz/.plenv/bin:/usr/local/cuda/bin:/home/grinnz/.plenv/bin:/usr/local/cuda/bin:/usr/local/bin:/usr/bin:/usr/local/sbin:/usr/sbin
SHELL = /usr/bin/fish
TERM = tmux-256color
Perl special variables (and OS-specific diagnostics, for MSWin32):
EGID = 1000 10 26 135 974 1000
EUID = 1000
EXECUTABLE_NAME = /home/grinnz/.plenv/versions/5.40.0/bin/perl5.40.0
GID = 1000 10 26 135 974 1000
UID = 1000
Perl module toolchain versions installed:
Module Have
------------------- --------
CPAN 2.36
CPAN::Meta 2.150010
Cwd 3.90
ExtUtils::CBuilder 0.280240
ExtUtils::Command 7.70
ExtUtils::Install 2.22
ExtUtils::MakeMaker 7.70
ExtUtils::Manifest 1.75
ExtUtils::ParseXS 3.51
File::Spec 3.90
JSON 4.10
JSON::PP 4.16
Module::Build 0.4234
Module::Signature 0.88
Parse::CPAN::Meta 2.150010
Test::Harness 3.48
Test::More 1.302199
YAML 1.31
YAML::Syck 1.34
version 0.9930
--
Summary of my perl5 (revision 5 version 40 subversion 0) configuration:
Platform:
osname=linux
osvers=6.3.8-200.fc38.x86_64
archname=x86_64-linux
uname='linux home.grinnz.com 6.3.8-200.fc38.x86_64 #1 smp preempt_dynamic thu jun 15 02:15:40 utc 2023 x86_64 gnulinux '
config_args='-Dprefix=/home/grinnz/.plenv/versions/5.40.0 -de -Dversiononly -A'eval:scriptdir=/home/grinnz/.plenv/versions/5.40.0/bin''
hint=recommended
useposix=true
d_sigaction=define
useithreads=undef
usemultiplicity=undef
use64bitint=define
use64bitall=define
uselongdouble=undef
usemymalloc=n
default_inc_excludes_dot=define
Compiler:
cc='cc'
ccflags ='-fwrapv -fno-strict-aliasing -pipe -fstack-protector-strong -I/usr/local/include -D_LARGEFILE_SOURCE -D_FILE_OFFSET_BITS=64 -D_FORTIFY_SOURCE=2'
optimize='-O2'
cppflags='-fwrapv -fno-strict-aliasing -pipe -fstack-protector-strong -I/usr/local/include'
ccversion=''
gccversion='13.2.1 20231011 (Red Hat 13.2.1-4)'
gccosandvers=''
intsize=4
longsize=8
ptrsize=8
doublesize=8
byteorder=12345678
doublekind=3
d_longlong=define
longlongsize=8
d_longdbl=define
longdblsize=16
longdblkind=3
ivtype='long'
ivsize=8
nvtype='double'
nvsize=8
Off_t='off_t'
lseeksize=8
alignbytes=8
prototype=define
Linker and Libraries:
ld='cc'
ldflags =' -fstack-protector-strong -L/usr/local/lib'
libpth=/usr/local/lib /usr/lib /usr/lib64 /usr/local/lib64
libs=-lpthread -lgdbm -ldb -ldl -lm -lcrypt -lutil -lc -lgdbm_compat
perllibs=-lpthread -ldl -lm -lcrypt -lutil -lc
libc=/lib/../lib64/libc.so.6
so=so
useshrplib=false
libperl=libperl.a
gnulibc_version='2.37'
Dynamic Linking:
dlsrc=dl_dlopen.xs
dlext=so
d_dlsymun=undef
ccdlflags='-Wl,-E'
cccdlflags='-fPIC'
lddlflags='-shared -O2 -L/usr/local/lib -fstack-protector-strong'
Characteristics of this binary (from libperl):
Compile-time options:
HAS_LONG_DOUBLE
HAS_STRTOLD
HAS_TIMES
PERLIO_LAYERS
PERL_COPY_ON_WRITE
PERL_DONT_CREATE_GVSV
PERL_HASH_FUNC_SIPHASH13
PERL_HASH_USE_SBOX32
PERL_MALLOC_WRAP
PERL_OP_PARENT
PERL_PRESERVE_IVUV
PERL_USE_SAFE_PUTENV
USE_64_BIT_ALL
USE_64_BIT_INT
USE_LARGE_FILES
USE_LOCALE
USE_LOCALE_COLLATE
USE_LOCALE_CTYPE
USE_LOCALE_NUMERIC
USE_LOCALE_TIME
USE_PERLIO
USE_PERL_ATOF
Built under linux
Compiled at Jun 10 2024 21:21:12
@INC:
/home/grinnz/.plenv/versions/5.40.0/lib/perl5/site_perl/5.40.0/x86_64-linux
/home/grinnz/.plenv/versions/5.40.0/lib/perl5/site_perl/5.40.0
/home/grinnz/.plenv/versions/5.40.0/lib/perl5/5.40.0/x86_64-linux
/home/grinnz/.plenv/versions/5.40.0/lib/perl5/5.40.0