HTTP-Session2 v1.10 Perl 5 v5.22.4 x86_64-linux

Status
Pass
From
Slaven Rezić (SREZIC)
Dist
HTTP-Session2 v1.10
Platform
Perl 5 v5.22.4 x86_64-linux
Date
2018-01-26 06:33:44
ID
db368fa6-0262-11e8-86cd-f76f6ee1ca60
This distribution has been tested as part of the CPAN Testers
project, supporting the Perl programming language.  See
http://wiki.cpantesters.org/ for more information or email
questions to cpan-testers-discuss@perl.org


--
Dear Author,

This is a computer-generated report for HTTP-Session2-1.10
on perl 5.22.4, created by CPAN-Reporter-1.2018.

Thank you for uploading your work to CPAN.  Congratulations!
All tests were successful.

Sections of this report:

    * Tester comments
    * Program output
    * Prerequisites
    * Environment and other context

------------------------------
TESTER COMMENTS
------------------------------

Additional comments from tester:

none provided

------------------------------
PROGRAM OUTPUT
------------------------------

Output from './Build test':

t/00_compile.t .............. ok
Secret string too short at /tmpfs/.cpan-build-cpansand/2018012603/HTTP-Session2-1.10-1/blib/lib/HTTP/Session2/Base.pm line 79.
	HTTP::Session2::Base::__ANON__(HTTP::Session2::ServerStore=HASH(0x233b778), "s3cret") called at t/01_server_side.t line 23
	main::__ANON__("client -> server: request without cookie", CODE(0x2332278)) called at t/01_server_side.t line 25
	main::__ANON__() called at /opt/perl-5.22.4/lib/site_perl/5.22.4/Test/Builder.pm line 337
	eval {...} called at /opt/perl-5.22.4/lib/site_perl/5.22.4/Test/Builder.pm line 337
	Test::Builder::subtest(Test::Builder=HASH(0x1a521a0), "First request", CODE(0x2067ec8)) called at /opt/perl-5.22.4/lib/site_perl/5.22.4/Test/More.pm line 807
	Test::More::subtest("First request", CODE(0x2067ec8)) called at t/01_server_side.t line 11
	main::scenario("First request", CODE(0x2067ec8)) called at t/01_server_side.t line 31
Secret string too short at /tmpfs/.cpan-build-cpansand/2018012603/HTTP-Session2-1.10-1/blib/lib/HTTP/Session2/Base.pm line 79.
	HTTP::Session2::Base::__ANON__(HTTP::Session2::ServerStore=HASH(0x2342870), "s3cret") called at t/01_server_side.t line 40
	main::__ANON__("client -> server: request without cookie", CODE(0x233bee0)) called at t/01_server_side.t line 42
	main::__ANON__() called at /opt/perl-5.22.4/lib/site_perl/5.22.4/Test/Builder.pm line 337
	eval {...} called at /opt/perl-5.22.4/lib/site_perl/5.22.4/Test/Builder.pm line 337
	Test::Builder::subtest(Test::Builder=HASH(0x1a521a0), "Store something without login", CODE(0x2110e20)) called at /opt/perl-5.22.4/lib/site_perl/5.22.4/Test/More.pm line 807
	Test::More::subtest("Store something without login", CODE(0x2110e20)) called at t/01_server_side.t line 11
	main::scenario("Store something without login", CODE(0x2110e20)) called at t/01_server_side.t line 58
Secret string too short at /tmpfs/.cpan-build-cpansand/2018012603/HTTP-Session2-1.10-1/blib/lib/HTTP/Session2/Base.pm line 79.
	HTTP::Session2::Base::__ANON__(HTTP::Session2::ServerStore=HASH(0x234c110), "s3cret") called at t/01_server_side.t line 70
	main::__ANON__("client -> server: request without cookie", CODE(0x2342b88)) called at t/01_server_side.t line 72
	main::__ANON__() called at /opt/perl-5.22.4/lib/site_perl/5.22.4/Test/Builder.pm line 337
	eval {...} called at /opt/perl-5.22.4/lib/site_perl/5.22.4/Test/Builder.pm line 337
	Test::Builder::subtest(Test::Builder=HASH(0x1a521a0), "Login", CODE(0x2310220)) called at /opt/perl-5.22.4/lib/site_perl/5.22.4/Test/More.pm line 807
	Test::More::subtest("Login", CODE(0x2310220)) called at t/01_server_side.t line 11
	main::scenario("Login", CODE(0x2310220)) called at t/01_server_side.t line 96
Secret string too short at /tmpfs/.cpan-build-cpansand/2018012603/HTTP-Session2-1.10-1/blib/lib/HTTP/Session2/Base.pm line 79.
	HTTP::Session2::Base::__ANON__(HTTP::Session2::ServerStore=HASH(0x2354210), "s3cret") called at t/01_server_side.t line 108
	main::__ANON__("client -> server: request without cookie", CODE(0x234bc90)) called at t/01_server_side.t line 110
	main::__ANON__() called at /opt/perl-5.22.4/lib/site_perl/5.22.4/Test/Builder.pm line 337
	eval {...} called at /opt/perl-5.22.4/lib/site_perl/5.22.4/Test/Builder.pm line 337
	Test::Builder::subtest(Test::Builder=HASH(0x1a521a0), "In a login session", CODE(0x231dce8)) called at /opt/perl-5.22.4/lib/site_perl/5.22.4/Test/More.pm line 807
	Test::More::subtest("In a login session", CODE(0x231dce8)) called at t/01_server_side.t line 11
	main::scenario("In a login session", CODE(0x231dce8)) called at t/01_server_side.t line 124
Secret string too short at /tmpfs/.cpan-build-cpansand/2018012603/HTTP-Session2-1.10-1/blib/lib/HTTP/Session2/Base.pm line 79.
	HTTP::Session2::Base::__ANON__(HTTP::Session2::ServerStore=HASH(0x23570a8), "s3cret") called at t/01_server_side.t line 136
	main::__ANON__("client -> server: request without cookie", CODE(0x23508f0)) called at t/01_server_side.t line 138
	main::__ANON__() called at /opt/perl-5.22.4/lib/site_perl/5.22.4/Test/Builder.pm line 337
	eval {...} called at /opt/perl-5.22.4/lib/site_perl/5.22.4/Test/Builder.pm line 337
	Test::Builder::subtest(Test::Builder=HASH(0x1a521a0), "Invalid session id", CODE(0x231e3c0)) called at /opt/perl-5.22.4/lib/site_perl/5.22.4/Test/More.pm line 807
	Test::More::subtest("Invalid session id", CODE(0x231e3c0)) called at t/01_server_side.t line 11
	main::scenario("Invalid session id", CODE(0x231e3c0)) called at t/01_server_side.t line 153
Secret string too short at /tmpfs/.cpan-build-cpansand/2018012603/HTTP-Session2-1.10-1/blib/lib/HTTP/Session2/Base.pm line 79.
	HTTP::Session2::Base::__ANON__(HTTP::Session2::ServerStore=HASH(0x235db00), "s3cret") called at t/01_server_side.t line 160
	main::__ANON__("client -> server: request without cookie", CODE(0x2356bb0)) called at t/01_server_side.t line 167
	main::__ANON__() called at /opt/perl-5.22.4/lib/site_perl/5.22.4/Test/Builder.pm line 337
	eval {...} called at /opt/perl-5.22.4/lib/site_perl/5.22.4/Test/Builder.pm line 337
	Test::Builder::subtest(Test::Builder=HASH(0x1a521a0), "Logout", CODE(0x231e858)) called at /opt/perl-5.22.4/lib/site_perl/5.22.4/Test/More.pm line 807
	Test::More::subtest("Logout", CODE(0x231e858)) called at t/01_server_side.t line 11
	main::scenario("Logout", CODE(0x231e858)) called at t/01_server_side.t line 182
t/01_server_side.t .......... ok
Secret string too short at /tmpfs/.cpan-build-cpansand/2018012603/HTTP-Session2-1.10-1/blib/lib/HTTP/Session2/Base.pm line 79.
	HTTP::Session2::Base::__ANON__(HTTP::Session2::ClientStore=HASH(0x12702a0), "s3cret") called at t/02_client_side.t line 17
	main::__ANON__("client -> server: request without cookie", CODE(0x126fdd8)) called at t/02_client_side.t line 22
	main::__ANON__() called at /opt/perl-5.22.4/lib/site_perl/5.22.4/Test/Builder.pm line 337
	eval {...} called at /opt/perl-5.22.4/lib/site_perl/5.22.4/Test/Builder.pm line 337
	Test::Builder::subtest(Test::Builder=HASH(0x128cc20), "First request", CODE(0x1906210)) called at /opt/perl-5.22.4/lib/site_perl/5.22.4/Test/More.pm line 807
	Test::More::subtest("First request", CODE(0x1906210)) called at t/02_client_side.t line 9
	main::scenario("First request", CODE(0x1906210)) called at t/02_client_side.t line 28
Secret string too short at /tmpfs/.cpan-build-cpansand/2018012603/HTTP-Session2-1.10-1/blib/lib/HTTP/Session2/Base.pm line 79.
	HTTP::Session2::Base::__ANON__(HTTP::Session2::ClientStore=HASH(0x1ba8978), "s3cret") called at t/02_client_side.t line 33
	main::__ANON__("client -> server: request without cookie", CODE(0x126ff70)) called at t/02_client_side.t line 38
	main::__ANON__() called at /opt/perl-5.22.4/lib/site_perl/5.22.4/Test/Builder.pm line 337
	eval {...} called at /opt/perl-5.22.4/lib/site_perl/5.22.4/Test/Builder.pm line 337
	Test::Builder::subtest(Test::Builder=HASH(0x128cc20), "Store something without login", CODE(0x1b7ead0)) called at /opt/perl-5.22.4/lib/site_perl/5.22.4/Test/More.pm line 807
	Test::More::subtest("Store something without login", CODE(0x1b7ead0)) called at t/02_client_side.t line 9
	main::scenario("Store something without login", CODE(0x1b7ead0)) called at t/02_client_side.t line 54
Do not use HTTP::Session2::ClientStore. Use HTTP::Session2::ServerStore or HTTP::Session2::ClientStore2 instead. at /tmpfs/.cpan-build-cpansand/2018012603/HTTP-Session2-1.10-1/blib/lib/HTTP/Session2/ClientStore.pm line 25.
Secret string too short at /tmpfs/.cpan-build-cpansand/2018012603/HTTP-Session2-1.10-1/blib/lib/HTTP/Session2/Base.pm line 79.
	HTTP::Session2::Base::__ANON__(HTTP::Session2::ClientStore=HASH(0x1bb0998), "s3cret") called at t/02_client_side.t line 60
	main::__ANON__("client -> server: request without cookie", CODE(0x126fef8)) called at t/02_client_side.t line 66
	main::__ANON__() called at /opt/perl-5.22.4/lib/site_perl/5.22.4/Test/Builder.pm line 337
	eval {...} called at /opt/perl-5.22.4/lib/site_perl/5.22.4/Test/Builder.pm line 337
	Test::Builder::subtest(Test::Builder=HASH(0x128cc20), "Login", CODE(0x1b7ecf8)) called at /opt/perl-5.22.4/lib/site_perl/5.22.4/Test/More.pm line 807
	Test::More::subtest("Login", CODE(0x1b7ecf8)) called at t/02_client_side.t line 9
	main::scenario("Login", CODE(0x1b7ecf8)) called at t/02_client_side.t line 86
Do not use HTTP::Session2::ClientStore. Use HTTP::Session2::ServerStore or HTTP::Session2::ClientStore2 instead. at /tmpfs/.cpan-build-cpansand/2018012603/HTTP-Session2-1.10-1/blib/lib/HTTP/Session2/ClientStore.pm line 35.
Do not use HTTP::Session2::ClientStore. Use HTTP::Session2::ServerStore or HTTP::Session2::ClientStore2 instead. at /tmpfs/.cpan-build-cpansand/2018012603/HTTP-Session2-1.10-1/blib/lib/HTTP/Session2/ClientStore.pm line 25.
Secret string too short at /tmpfs/.cpan-build-cpansand/2018012603/HTTP-Session2-1.10-1/blib/lib/HTTP/Session2/Base.pm line 79.
	HTTP::Session2::Base::__ANON__(HTTP::Session2::ClientStore=HASH(0x1bb80c8), "s3cret") called at t/02_client_side.t line 92
	main::__ANON__("client -> server: request without cookie", CODE(0x1bb7f90)) called at t/02_client_side.t line 98
	main::__ANON__() called at /opt/perl-5.22.4/lib/site_perl/5.22.4/Test/Builder.pm line 337
	eval {...} called at /opt/perl-5.22.4/lib/site_perl/5.22.4/Test/Builder.pm line 337
	Test::Builder::subtest(Test::Builder=HASH(0x128cc20), "In a login session", CODE(0x1b8e078)) called at /opt/perl-5.22.4/lib/site_perl/5.22.4/Test/More.pm line 807
	Test::More::subtest("In a login session", CODE(0x1b8e078)) called at t/02_client_side.t line 9
	main::scenario("In a login session", CODE(0x1b8e078)) called at t/02_client_side.t line 107
Do not use HTTP::Session2::ClientStore. Use HTTP::Session2::ServerStore or HTTP::Session2::ClientStore2 instead. at /tmpfs/.cpan-build-cpansand/2018012603/HTTP-Session2-1.10-1/blib/lib/HTTP/Session2/ClientStore.pm line 35.
Do not use HTTP::Session2::ClientStore. Use HTTP::Session2::ServerStore or HTTP::Session2::ClientStore2 instead. at /tmpfs/.cpan-build-cpansand/2018012603/HTTP-Session2-1.10-1/blib/lib/HTTP/Session2/ClientStore.pm line 25.
Secret string too short at /tmpfs/.cpan-build-cpansand/2018012603/HTTP-Session2-1.10-1/blib/lib/HTTP/Session2/Base.pm line 79.
	HTTP::Session2::Base::__ANON__(HTTP::Session2::ClientStore=HASH(0x1bc26d0), "s3cret") called at t/02_client_side.t line 112
	main::__ANON__("client -> server: request without cookie", CODE(0x1bc1c08)) called at t/02_client_side.t line 118
	main::__ANON__() called at /opt/perl-5.22.4/lib/site_perl/5.22.4/Test/Builder.pm line 337
	eval {...} called at /opt/perl-5.22.4/lib/site_perl/5.22.4/Test/Builder.pm line 337
	Test::Builder::subtest(Test::Builder=HASH(0x128cc20), "Logout", CODE(0x1b8e0f0)) called at /opt/perl-5.22.4/lib/site_perl/5.22.4/Test/More.pm line 807
	Test::More::subtest("Logout", CODE(0x1b8e0f0)) called at t/02_client_side.t line 9
	main::scenario("Logout", CODE(0x1b8e0f0)) called at t/02_client_side.t line 131
t/02_client_side.t .......... ok
Secret string too short at /tmpfs/.cpan-build-cpansand/2018012603/HTTP-Session2-1.10-1/blib/lib/HTTP/Session2/Base.pm line 79.
	HTTP::Session2::Base::__ANON__(HTTP::Session2::ServerStore=HASH(0x3036d30), "s3cret") called at t/03_mech.t line 121
	main::server_session(HASH(0x2fd02f0)) called at t/03_mech.t line 17
	main::__ANON__(HASH(0x2fd02f0)) called at /opt/perl-5.22.4/lib/site_perl/5.22.4/Test/WWW/Mechanize/PSGI.pm line 43
	Test::WWW::Mechanize::PSGI::try {...} () called at /opt/perl-5.22.4/lib/site_perl/5.22.4/Try/Tiny.pm line 102
	eval {...} called at /opt/perl-5.22.4/lib/site_perl/5.22.4/Try/Tiny.pm line 93
	Try::Tiny::try(CODE(0x3049ca8), Try::Tiny::Catch=REF(0x22b12e0)) called at /opt/perl-5.22.4/lib/site_perl/5.22.4/Test/WWW/Mechanize/PSGI.pm line 50
	Test::WWW::Mechanize::PSGI::simple_request(Test::WWW::Mechanize::PSGI=HASH(0x2efffd8), HTTP::Request=HASH(0x2fb1498), undef, undef) called at /opt/perl-5.22.4/lib/site_perl/5.22.4/LWP/UserAgent.pm line 297
	LWP::UserAgent::request(Test::WWW::Mechanize::PSGI=HASH(0x2efffd8), HTTP::Request=HASH(0x2fb1498)) called at /opt/perl-5.22.4/lib/site_perl/5.22.4/WWW/Mechanize.pm line 1413
	WWW::Mechanize::_make_request(Test::WWW::Mechanize::PSGI=HASH(0x2efffd8), HTTP::Request=HASH(0x2fb1498)) called at /opt/perl-5.22.4/lib/site_perl/5.22.4/WWW/Mechanize.pm line 1253
	WWW::Mechanize::request(Test::WWW::Mechanize::PSGI=HASH(0x2efffd8), HTTP::Request=HASH(0x2fb1498)) called at /opt/perl-5.22.4/lib/site_perl/5.22.4/LWP/UserAgent.pm line 435
	LWP::UserAgent::get(Test::WWW::Mechanize::PSGI=HASH(0x2efffd8), "/") called at /opt/perl-5.22.4/lib/site_perl/5.22.4/WWW/Mechanize.pm line 117
	WWW::Mechanize::get(Test::WWW::Mechanize::PSGI=HASH(0x2efffd8), "/") called at /opt/perl-5.22.4/lib/site_perl/5.22.4/Test/WWW/Mechanize.pm line 160
	Test::WWW::Mechanize::get_ok(Test::WWW::Mechanize::PSGI=HASH(0x2efffd8), "/") called at t/03_mech.t line 74
Secret string too short at /tmpfs/.cpan-build-cpansand/2018012603/HTTP-Session2-1.10-1/blib/lib/HTTP/Session2/Base.pm line 79.
	HTTP::Session2::Base::__ANON__(HTTP::Session2::ServerStore=HASH(0x3060228), "s3cret") called at t/03_mech.t line 121
	main::server_session(HASH(0x3037768)) called at t/03_mech.t line 17
	main::__ANON__(HASH(0x3037768)) called at /opt/perl-5.22.4/lib/site_perl/5.22.4/Test/WWW/Mechanize/PSGI.pm line 43
	Test::WWW::Mechanize::PSGI::try {...} () called at /opt/perl-5.22.4/lib/site_perl/5.22.4/Try/Tiny.pm line 102
	eval {...} called at /opt/perl-5.22.4/lib/site_perl/5.22.4/Try/Tiny.pm line 93
	Try::Tiny::try(CODE(0x3037510), Try::Tiny::Catch=REF(0x3036bf8)) called at /opt/perl-5.22.4/lib/site_perl/5.22.4/Test/WWW/Mechanize/PSGI.pm line 50
	Test::WWW::Mechanize::PSGI::simple_request(Test::WWW::Mechanize::PSGI=HASH(0x2efffd8), HTTP::Request=HASH(0x3036d48), undef, undef) called at /opt/perl-5.22.4/lib/site_perl/5.22.4/LWP/UserAgent.pm line 297
	LWP::UserAgent::request(Test::WWW::Mechanize::PSGI=HASH(0x2efffd8), HTTP::Request=HASH(0x3036d48)) called at /opt/perl-5.22.4/lib/site_perl/5.22.4/WWW/Mechanize.pm line 1413
	WWW::Mechanize::_make_request(Test::WWW::Mechanize::PSGI=HASH(0x2efffd8), HTTP::Request=HASH(0x3036d48)) called at /opt/perl-5.22.4/lib/site_perl/5.22.4/WWW/Mechanize.pm line 1253
	WWW::Mechanize::request(Test::WWW::Mechanize::PSGI=HASH(0x2efffd8), HTTP::Request=HASH(0x3036d48)) called at /opt/perl-5.22.4/lib/site_perl/5.22.4/LWP/UserAgent.pm line 478
	LWP::UserAgent::post(Test::WWW::Mechanize::PSGI=HASH(0x2efffd8), "/wishlist?foo", HASH(0x2b16fa8)) called at /opt/perl-5.22.4/lib/site_perl/5.22.4/Test/WWW/Mechanize.pm line 237
	Test::WWW::Mechanize::post_ok(Test::WWW::Mechanize::PSGI=HASH(0x2efffd8), "/wishlist?foo") called at t/03_mech.t line 75
Secret string too short at /tmpfs/.cpan-build-cpansand/2018012603/HTTP-Session2-1.10-1/blib/lib/HTTP/Session2/Base.pm line 79.
	HTTP::Session2::Base::__ANON__(HTTP::Session2::ServerStore=HASH(0x3060ae0), "s3cret") called at t/03_mech.t line 121
	main::server_session(HASH(0x3037810)) called at t/03_mech.t line 17
	main::__ANON__(HASH(0x3037810)) called at /opt/perl-5.22.4/lib/site_perl/5.22.4/Test/WWW/Mechanize/PSGI.pm line 43
	Test::WWW::Mechanize::PSGI::try {...} () called at /opt/perl-5.22.4/lib/site_perl/5.22.4/Try/Tiny.pm line 102
	eval {...} called at /opt/perl-5.22.4/lib/site_perl/5.22.4/Try/Tiny.pm line 93
	Try::Tiny::try(CODE(0x30606d8), Try::Tiny::Catch=REF(0x3037a20)) called at /opt/perl-5.22.4/lib/site_perl/5.22.4/Test/WWW/Mechanize/PSGI.pm line 50
	Test::WWW::Mechanize::PSGI::simple_request(Test::WWW::Mechanize::PSGI=HASH(0x2efffd8), HTTP::Request=HASH(0x3036be0), undef, undef) called at /opt/perl-5.22.4/lib/site_perl/5.22.4/LWP/UserAgent.pm line 297
	LWP::UserAgent::request(Test::WWW::Mechanize::PSGI=HASH(0x2efffd8), HTTP::Request=HASH(0x3036be0)) called at /opt/perl-5.22.4/lib/site_perl/5.22.4/WWW/Mechanize.pm line 1413
	WWW::Mechanize::_make_request(Test::WWW::Mechanize::PSGI=HASH(0x2efffd8), HTTP::Request=HASH(0x3036be0)) called at /opt/perl-5.22.4/lib/site_perl/5.22.4/WWW/Mechanize.pm line 1253
	WWW::Mechanize::request(Test::WWW::Mechanize::PSGI=HASH(0x2efffd8), HTTP::Request=HASH(0x3036be0)) called at /opt/perl-5.22.4/lib/site_perl/5.22.4/LWP/UserAgent.pm line 435
	LWP::UserAgent::get(Test::WWW::Mechanize::PSGI=HASH(0x2efffd8), "http://localhost/wishlist") called at /opt/perl-5.22.4/lib/site_perl/5.22.4/WWW/Mechanize.pm line 117
	WWW::Mechanize::get(Test::WWW::Mechanize::PSGI=HASH(0x2efffd8), "/wishlist") called at /opt/perl-5.22.4/lib/site_perl/5.22.4/Test/WWW/Mechanize.pm line 160
	Test::WWW::Mechanize::get_ok(Test::WWW::Mechanize::PSGI=HASH(0x2efffd8), "/wishlist") called at t/03_mech.t line 76
Secret string too short at /tmpfs/.cpan-build-cpansand/2018012603/HTTP-Session2-1.10-1/blib/lib/HTTP/Session2/Base.pm line 79.
	HTTP::Session2::Base::__ANON__(HTTP::Session2::ServerStore=HASH(0x30610b0), "s3cret") called at t/03_mech.t line 121
	main::server_session(HASH(0x30609f0)) called at t/03_mech.t line 17
	main::__ANON__(HASH(0x30609f0)) called at /opt/perl-5.22.4/lib/site_perl/5.22.4/Test/WWW/Mechanize/PSGI.pm line 43
	Test::WWW::Mechanize::PSGI::try {...} () called at /opt/perl-5.22.4/lib/site_perl/5.22.4/Try/Tiny.pm line 102
	eval {...} called at /opt/perl-5.22.4/lib/site_perl/5.22.4/Try/Tiny.pm line 93
	Try::Tiny::try(CODE(0x3060930), Try::Tiny::Catch=REF(0x3060990)) called at /opt/perl-5.22.4/lib/site_perl/5.22.4/Test/WWW/Mechanize/PSGI.pm line 50
	Test::WWW::Mechanize::PSGI::simple_request(Test::WWW::Mechanize::PSGI=HASH(0x2efffd8), HTTP::Request=HASH(0x30602a0), undef, undef) called at /opt/perl-5.22.4/lib/site_perl/5.22.4/LWP/UserAgent.pm line 297
	LWP::UserAgent::request(Test::WWW::Mechanize::PSGI=HASH(0x2efffd8), HTTP::Request=HASH(0x30602a0)) called at /opt/perl-5.22.4/lib/site_perl/5.22.4/WWW/Mechanize.pm line 1413
	WWW::Mechanize::_make_request(Test::WWW::Mechanize::PSGI=HASH(0x2efffd8), HTTP::Request=HASH(0x30602a0)) called at /opt/perl-5.22.4/lib/site_perl/5.22.4/WWW/Mechanize.pm line 1253
	WWW::Mechanize::request(Test::WWW::Mechanize::PSGI=HASH(0x2efffd8), HTTP::Request=HASH(0x30602a0)) called at /opt/perl-5.22.4/lib/site_perl/5.22.4/LWP/UserAgent.pm line 478
	LWP::UserAgent::post(Test::WWW::Mechanize::PSGI=HASH(0x2efffd8), "/wishlist?bar") called at t/03_mech.t line 78
Secret string too short at /tmpfs/.cpan-build-cpansand/2018012603/HTTP-Session2-1.10-1/blib/lib/HTTP/Session2/Base.pm line 79.
	HTTP::Session2::Base::__ANON__(HTTP::Session2::ServerStore=HASH(0x3065378), "s3cret") called at t/03_mech.t line 121
	main::server_session(HASH(0x3060f30)) called at t/03_mech.t line 17
	main::__ANON__(HASH(0x3060f30)) called at /opt/perl-5.22.4/lib/site_perl/5.22.4/Test/WWW/Mechanize/PSGI.pm line 43
	Test::WWW::Mechanize::PSGI::try {...} () called at /opt/perl-5.22.4/lib/site_perl/5.22.4/Try/Tiny.pm line 102
	eval {...} called at /opt/perl-5.22.4/lib/site_perl/5.22.4/Try/Tiny.pm line 93
	Try::Tiny::try(CODE(0x3065288), Try::Tiny::Catch=REF(0x3060be8)) called at /opt/perl-5.22.4/lib/site_perl/5.22.4/Test/WWW/Mechanize/PSGI.pm line 50
	Test::WWW::Mechanize::PSGI::simple_request(Test::WWW::Mechanize::PSGI=HASH(0x2efffd8), HTTP::Request=HASH(0x30605a0), undef, undef) called at /opt/perl-5.22.4/lib/site_perl/5.22.4/LWP/UserAgent.pm line 297
	LWP::UserAgent::request(Test::WWW::Mechanize::PSGI=HASH(0x2efffd8), HTTP::Request=HASH(0x30605a0)) called at /opt/perl-5.22.4/lib/site_perl/5.22.4/WWW/Mechanize.pm line 1413
	WWW::Mechanize::_make_request(Test::WWW::Mechanize::PSGI=HASH(0x2efffd8), HTTP::Request=HASH(0x30605a0)) called at /opt/perl-5.22.4/lib/site_perl/5.22.4/WWW/Mechanize.pm line 1253
	WWW::Mechanize::request(Test::WWW::Mechanize::PSGI=HASH(0x2efffd8), HTTP::Request=HASH(0x30605a0)) called at /opt/perl-5.22.4/lib/site_perl/5.22.4/LWP/UserAgent.pm line 478
	LWP::UserAgent::post(Test::WWW::Mechanize::PSGI=HASH(0x2efffd8), "/wishlist?bar", HASH(0x2b16fa8)) called at /opt/perl-5.22.4/lib/site_perl/5.22.4/Test/WWW/Mechanize.pm line 237
	Test::WWW::Mechanize::post_ok(Test::WWW::Mechanize::PSGI=HASH(0x2efffd8), "/wishlist?bar") called at t/03_mech.t line 81
Secret string too short at /tmpfs/.cpan-build-cpansand/2018012603/HTTP-Session2-1.10-1/blib/lib/HTTP/Session2/Base.pm line 79.
	HTTP::Session2::Base::__ANON__(HTTP::Session2::ServerStore=HASH(0x30651e0), "s3cret") called at t/03_mech.t line 121
	main::server_session(HASH(0x30652b8)) called at t/03_mech.t line 17
	main::__ANON__(HASH(0x30652b8)) called at /opt/perl-5.22.4/lib/site_perl/5.22.4/Test/WWW/Mechanize/PSGI.pm line 43
	Test::WWW::Mechanize::PSGI::try {...} () called at /opt/perl-5.22.4/lib/site_perl/5.22.4/Try/Tiny.pm line 102
	eval {...} called at /opt/perl-5.22.4/lib/site_perl/5.22.4/Try/Tiny.pm line 93
	Try::Tiny::try(CODE(0x3061080), Try::Tiny::Catch=REF(0x3060de0)) called at /opt/perl-5.22.4/lib/site_perl/5.22.4/Test/WWW/Mechanize/PSGI.pm line 50
	Test::WWW::Mechanize::PSGI::simple_request(Test::WWW::Mechanize::PSGI=HASH(0x2efffd8), HTTP::Request=HASH(0x3060a68), undef, undef) called at /opt/perl-5.22.4/lib/site_perl/5.22.4/LWP/UserAgent.pm line 297
	LWP::UserAgent::request(Test::WWW::Mechanize::PSGI=HASH(0x2efffd8), HTTP::Request=HASH(0x3060a68)) called at /opt/perl-5.22.4/lib/site_perl/5.22.4/WWW/Mechanize.pm line 1413
	WWW::Mechanize::_make_request(Test::WWW::Mechanize::PSGI=HASH(0x2efffd8), HTTP::Request=HASH(0x3060a68)) called at /opt/perl-5.22.4/lib/site_perl/5.22.4/WWW/Mechanize.pm line 1253
	WWW::Mechanize::request(Test::WWW::Mechanize::PSGI=HASH(0x2efffd8), HTTP::Request=HASH(0x3060a68)) called at /opt/perl-5.22.4/lib/site_perl/5.22.4/LWP/UserAgent.pm line 435
	LWP::UserAgent::get(Test::WWW::Mechanize::PSGI=HASH(0x2efffd8), "http://localhost/wishlist") called at /opt/perl-5.22.4/lib/site_perl/5.22.4/WWW/Mechanize.pm line 117
	WWW::Mechanize::get(Test::WWW::Mechanize::PSGI=HASH(0x2efffd8), "/wishlist") called at /opt/perl-5.22.4/lib/site_perl/5.22.4/Test/WWW/Mechanize.pm line 160
	Test::WWW::Mechanize::get_ok(Test::WWW::Mechanize::PSGI=HASH(0x2efffd8), "/wishlist") called at t/03_mech.t line 82
Secret string too short at /tmpfs/.cpan-build-cpansand/2018012603/HTTP-Session2-1.10-1/blib/lib/HTTP/Session2/Base.pm line 79.
	HTTP::Session2::Base::__ANON__(HTTP::Session2::ServerStore=HASH(0x3065ca8), "s3cret") called at t/03_mech.t line 121
	main::server_session(HASH(0x30609f0)) called at t/03_mech.t line 17
	main::__ANON__(HASH(0x30609f0)) called at /opt/perl-5.22.4/lib/site_perl/5.22.4/Test/WWW/Mechanize/PSGI.pm line 43
	Test::WWW::Mechanize::PSGI::try {...} () called at /opt/perl-5.22.4/lib/site_perl/5.22.4/Try/Tiny.pm line 102
	eval {...} called at /opt/perl-5.22.4/lib/site_perl/5.22.4/Try/Tiny.pm line 93
	Try::Tiny::try(CODE(0x3065708), Try::Tiny::Catch=REF(0x3065480)) called at /opt/perl-5.22.4/lib/site_perl/5.22.4/Test/WWW/Mechanize/PSGI.pm line 50
	Test::WWW::Mechanize::PSGI::simple_request(Test::WWW::Mechanize::PSGI=HASH(0x2efffd8), HTTP::Request=HASH(0x3060de0), undef, undef) called at /opt/perl-5.22.4/lib/site_perl/5.22.4/LWP/UserAgent.pm line 297
	LWP::UserAgent::request(Test::WWW::Mechanize::PSGI=HASH(0x2efffd8), HTTP::Request=HASH(0x3060de0)) called at /opt/perl-5.22.4/lib/site_perl/5.22.4/WWW/Mechanize.pm line 1413
	WWW::Mechanize::_make_request(Test::WWW::Mechanize::PSGI=HASH(0x2efffd8), HTTP::Request=HASH(0x3060de0)) called at /opt/perl-5.22.4/lib/site_perl/5.22.4/WWW/Mechanize.pm line 1253
	WWW::Mechanize::request(Test::WWW::Mechanize::PSGI=HASH(0x2efffd8), HTTP::Request=HASH(0x3060de0)) called at /opt/perl-5.22.4/lib/site_perl/5.22.4/LWP/UserAgent.pm line 478
	LWP::UserAgent::post(Test::WWW::Mechanize::PSGI=HASH(0x2efffd8), "/account/login?john", HASH(0x2b16fa8)) called at /opt/perl-5.22.4/lib/site_perl/5.22.4/Test/WWW/Mechanize.pm line 237
	Test::WWW::Mechanize::post_ok(Test::WWW::Mechanize::PSGI=HASH(0x2efffd8), "/account/login?john") called at t/03_mech.t line 84
Secret string too short at /tmpfs/.cpan-build-cpansand/2018012603/HTTP-Session2-1.10-1/blib/lib/HTTP/Session2/Base.pm line 79.
	HTTP::Session2::Base::__ANON__(HTTP::Session2::ServerStore=HASH(0x30654b0), "s3cret") called at t/03_mech.t line 121
	main::server_session(HASH(0x30658b8)) called at t/03_mech.t line 17
	main::__ANON__(HASH(0x30658b8)) called at /opt/perl-5.22.4/lib/site_perl/5.22.4/Test/WWW/Mechanize/PSGI.pm line 43
	Test::WWW::Mechanize::PSGI::try {...} () called at /opt/perl-5.22.4/lib/site_perl/5.22.4/Try/Tiny.pm line 102
	eval {...} called at /opt/perl-5.22.4/lib/site_perl/5.22.4/Try/Tiny.pm line 93
	Try::Tiny::try(CODE(0x3069648), Try::Tiny::Catch=REF(0x30658d0)) called at /opt/perl-5.22.4/lib/site_perl/5.22.4/Test/WWW/Mechanize/PSGI.pm line 50
	Test::WWW::Mechanize::PSGI::simple_request(Test::WWW::Mechanize::PSGI=HASH(0x2efffd8), HTTP::Request=HASH(0x30659d8), undef, undef) called at /opt/perl-5.22.4/lib/site_perl/5.22.4/LWP/UserAgent.pm line 297
	LWP::UserAgent::request(Test::WWW::Mechanize::PSGI=HASH(0x2efffd8), HTTP::Request=HASH(0x30659d8)) called at /opt/perl-5.22.4/lib/site_perl/5.22.4/WWW/Mechanize.pm line 1413
	WWW::Mechanize::_make_request(Test::WWW::Mechanize::PSGI=HASH(0x2efffd8), HTTP::Request=HASH(0x30659d8)) called at /opt/perl-5.22.4/lib/site_perl/5.22.4/WWW/Mechanize.pm line 1253
	WWW::Mechanize::request(Test::WWW::Mechanize::PSGI=HASH(0x2efffd8), HTTP::Request=HASH(0x30659d8)) called at /opt/perl-5.22.4/lib/site_perl/5.22.4/LWP/UserAgent.pm line 435
	LWP::UserAgent::get(Test::WWW::Mechanize::PSGI=HASH(0x2efffd8), "http://localhost/wishlist") called at /opt/perl-5.22.4/lib/site_perl/5.22.4/WWW/Mechanize.pm line 117
	WWW::Mechanize::get(Test::WWW::Mechanize::PSGI=HASH(0x2efffd8), "/wishlist") called at /opt/perl-5.22.4/lib/site_perl/5.22.4/Test/WWW/Mechanize.pm line 160
	Test::WWW::Mechanize::get_ok(Test::WWW::Mechanize::PSGI=HASH(0x2efffd8), "/wishlist", "Wishlist is still available") called at t/03_mech.t line 85
Secret string too short at /tmpfs/.cpan-build-cpansand/2018012603/HTTP-Session2-1.10-1/blib/lib/HTTP/Session2/Base.pm line 79.
	HTTP::Session2::Base::__ANON__(HTTP::Session2::ServerStore=HASH(0x3069e28), "s3cret") called at t/03_mech.t line 121
	main::server_session(HASH(0x3060498)) called at t/03_mech.t line 17
	main::__ANON__(HASH(0x3060498)) called at /opt/perl-5.22.4/lib/site_perl/5.22.4/Test/WWW/Mechanize/PSGI.pm line 43
	Test::WWW::Mechanize::PSGI::try {...} () called at /opt/perl-5.22.4/lib/site_perl/5.22.4/Try/Tiny.pm line 102
	eval {...} called at /opt/perl-5.22.4/lib/site_perl/5.22.4/Try/Tiny.pm line 93
	Try::Tiny::try(CODE(0x30698e8), Try::Tiny::Catch=REF(0x3065d20)) called at /opt/perl-5.22.4/lib/site_perl/5.22.4/Test/WWW/Mechanize/PSGI.pm line 50
	Test::WWW::Mechanize::PSGI::simple_request(Test::WWW::Mechanize::PSGI=HASH(0x2efffd8), HTTP::Request=HASH(0x3060b88), undef, undef) called at /opt/perl-5.22.4/lib/site_perl/5.22.4/LWP/UserAgent.pm line 297
	LWP::UserAgent::request(Test::WWW::Mechanize::PSGI=HASH(0x2efffd8), HTTP::Request=HASH(0x3060b88)) called at /opt/perl-5.22.4/lib/site_perl/5.22.4/WWW/Mechanize.pm line 1413
	WWW::Mechanize::_make_request(Test::WWW::Mechanize::PSGI=HASH(0x2efffd8), HTTP::Request=HASH(0x3060b88)) called at /opt/perl-5.22.4/lib/site_perl/5.22.4/WWW/Mechanize.pm line 1253
	WWW::Mechanize::request(Test::WWW::Mechanize::PSGI=HASH(0x2efffd8), HTTP::Request=HASH(0x3060b88)) called at /opt/perl-5.22.4/lib/site_perl/5.22.4/LWP/UserAgent.pm line 478
	LWP::UserAgent::post(Test::WWW::Mechanize::PSGI=HASH(0x2efffd8), "/wishlist?baz") called at t/03_mech.t line 87
Secret string too short at /tmpfs/.cpan-build-cpansand/2018012603/HTTP-Session2-1.10-1/blib/lib/HTTP/Session2/Base.pm line 79.
	HTTP::Session2::Base::__ANON__(HTTP::Session2::ServerStore=HASH(0x3069ea0), "s3cret") called at t/03_mech.t line 121
	main::server_session(HASH(0x30658d0)) called at t/03_mech.t line 17
	main::__ANON__(HASH(0x30658d0)) called at /opt/perl-5.22.4/lib/site_perl/5.22.4/Test/WWW/Mechanize/PSGI.pm line 43
	Test::WWW::Mechanize::PSGI::try {...} () called at /opt/perl-5.22.4/lib/site_perl/5.22.4/Try/Tiny.pm line 102
	eval {...} called at /opt/perl-5.22.4/lib/site_perl/5.22.4/Try/Tiny.pm line 93
	Try::Tiny::try(CODE(0x306a398), Try::Tiny::Catch=REF(0x3065660)) called at /opt/perl-5.22.4/lib/site_perl/5.22.4/Test/WWW/Mechanize/PSGI.pm line 50
	Test::WWW::Mechanize::PSGI::simple_request(Test::WWW::Mechanize::PSGI=HASH(0x2efffd8), HTTP::Request=HASH(0x3065e28), undef, undef) called at /opt/perl-5.22.4/lib/site_perl/5.22.4/LWP/UserAgent.pm line 297
	LWP::UserAgent::request(Test::WWW::Mechanize::PSGI=HASH(0x2efffd8), HTTP::Request=HASH(0x3065e28)) called at /opt/perl-5.22.4/lib/site_perl/5.22.4/WWW/Mechanize.pm line 1413
	WWW::Mechanize::_make_request(Test::WWW::Mechanize::PSGI=HASH(0x2efffd8), HTTP::Request=HASH(0x3065e28)) called at /opt/perl-5.22.4/lib/site_perl/5.22.4/WWW/Mechanize.pm line 1253
	WWW::Mechanize::request(Test::WWW::Mechanize::PSGI=HASH(0x2efffd8), HTTP::Request=HASH(0x3065e28)) called at /opt/perl-5.22.4/lib/site_perl/5.22.4/LWP/UserAgent.pm line 478
	LWP::UserAgent::post(Test::WWW::Mechanize::PSGI=HASH(0x2efffd8), "/wishlist?baz", HASH(0x2b16fa8)) called at /opt/perl-5.22.4/lib/site_perl/5.22.4/Test/WWW/Mechanize.pm line 237
	Test::WWW::Mechanize::post_ok(Test::WWW::Mechanize::PSGI=HASH(0x2efffd8), "/wishlist?baz") called at t/03_mech.t line 90
Secret string too short at /tmpfs/.cpan-build-cpansand/2018012603/HTTP-Session2-1.10-1/blib/lib/HTTP/Session2/Base.pm line 79.
	HTTP::Session2::Base::__ANON__(HTTP::Session2::ServerStore=HASH(0x306a3b0), "s3cret") called at t/03_mech.t line 121
	main::server_session(HASH(0x306a008)) called at t/03_mech.t line 17
	main::__ANON__(HASH(0x306a008)) called at /opt/perl-5.22.4/lib/site_perl/5.22.4/Test/WWW/Mechanize/PSGI.pm line 43
	Test::WWW::Mechanize::PSGI::try {...} () called at /opt/perl-5.22.4/lib/site_perl/5.22.4/Try/Tiny.pm line 102
	eval {...} called at /opt/perl-5.22.4/lib/site_perl/5.22.4/Try/Tiny.pm line 93
	Try::Tiny::try(CODE(0x3069de0), Try::Tiny::Catch=REF(0x3069db0)) called at /opt/perl-5.22.4/lib/site_perl/5.22.4/Test/WWW/Mechanize/PSGI.pm line 50
	Test::WWW::Mechanize::PSGI::simple_request(Test::WWW::Mechanize::PSGI=HASH(0x2efffd8), HTTP::Request=HASH(0x3065d38), undef, undef) called at /opt/perl-5.22.4/lib/site_perl/5.22.4/LWP/UserAgent.pm line 297
	LWP::UserAgent::request(Test::WWW::Mechanize::PSGI=HASH(0x2efffd8), HTTP::Request=HASH(0x3065d38)) called at /opt/perl-5.22.4/lib/site_perl/5.22.4/WWW/Mechanize.pm line 1413
	WWW::Mechanize::_make_request(Test::WWW::Mechanize::PSGI=HASH(0x2efffd8), HTTP::Request=HASH(0x3065d38)) called at /opt/perl-5.22.4/lib/site_perl/5.22.4/WWW/Mechanize.pm line 1253
	WWW::Mechanize::request(Test::WWW::Mechanize::PSGI=HASH(0x2efffd8), HTTP::Request=HASH(0x3065d38)) called at /opt/perl-5.22.4/lib/site_perl/5.22.4/LWP/UserAgent.pm line 435
	LWP::UserAgent::get(Test::WWW::Mechanize::PSGI=HASH(0x2efffd8), "http://localhost/wishlist") called at /opt/perl-5.22.4/lib/site_perl/5.22.4/WWW/Mechanize.pm line 117
	WWW::Mechanize::get(Test::WWW::Mechanize::PSGI=HASH(0x2efffd8), "/wishlist") called at /opt/perl-5.22.4/lib/site_perl/5.22.4/Test/WWW/Mechanize.pm line 160
	Test::WWW::Mechanize::get_ok(Test::WWW::Mechanize::PSGI=HASH(0x2efffd8), "/wishlist", "Wishlist is still available") called at t/03_mech.t line 91
Secret string too short at /tmpfs/.cpan-build-cpansand/2018012603/HTTP-Session2-1.10-1/blib/lib/HTTP/Session2/Base.pm line 79.
	HTTP::Session2::Base::__ANON__(HTTP::Session2::ServerStore=HASH(0x306f2f0), "s3cret") called at t/03_mech.t line 121
	main::server_session(HASH(0x306a020)) called at t/03_mech.t line 17
	main::__ANON__(HASH(0x306a020)) called at /opt/perl-5.22.4/lib/site_perl/5.22.4/Test/WWW/Mechanize/PSGI.pm line 43
	Test::WWW::Mechanize::PSGI::try {...} () called at /opt/perl-5.22.4/lib/site_perl/5.22.4/Try/Tiny.pm line 102
	eval {...} called at /opt/perl-5.22.4/lib/site_perl/5.22.4/Try/Tiny.pm line 93
	Try::Tiny::try(CODE(0x306a2f0), Try::Tiny::Catch=REF(0x30695e8)) called at /opt/perl-5.22.4/lib/site_perl/5.22.4/Test/WWW/Mechanize/PSGI.pm line 50
	Test::WWW::Mechanize::PSGI::simple_request(Test::WWW::Mechanize::PSGI=HASH(0x2efffd8), HTTP::Request=HASH(0x306ee28), undef, undef) called at /opt/perl-5.22.4/lib/site_perl/5.22.4/LWP/UserAgent.pm line 297
	LWP::UserAgent::request(Test::WWW::Mechanize::PSGI=HASH(0x2efffd8), HTTP::Request=HASH(0x306ee28)) called at /opt/perl-5.22.4/lib/site_perl/5.22.4/WWW/Mechanize.pm line 1413
	WWW::Mechanize::_make_request(Test::WWW::Mechanize::PSGI=HASH(0x2efffd8), HTTP::Request=HASH(0x306ee28)) called at /opt/perl-5.22.4/lib/site_perl/5.22.4/WWW/Mechanize.pm line 1253
	WWW::Mechanize::request(Test::WWW::Mechanize::PSGI=HASH(0x2efffd8), HTTP::Request=HASH(0x306ee28)) called at /opt/perl-5.22.4/lib/site_perl/5.22.4/LWP/UserAgent.pm line 435
	LWP::UserAgent::get(Test::WWW::Mechanize::PSGI=HASH(0x2efffd8), "http://localhost/my/name") called at /opt/perl-5.22.4/lib/site_perl/5.22.4/WWW/Mechanize.pm line 117
	WWW::Mechanize::get(Test::WWW::Mechanize::PSGI=HASH(0x2efffd8), "/my/name") called at /opt/perl-5.22.4/lib/site_perl/5.22.4/Test/WWW/Mechanize.pm line 160
	Test::WWW::Mechanize::get_ok(Test::WWW::Mechanize::PSGI=HASH(0x2efffd8), "/my/name") called at t/03_mech.t line 93
Secret string too short at /tmpfs/.cpan-build-cpansand/2018012603/HTTP-Session2-1.10-1/blib/lib/HTTP/Session2/Base.pm line 79.
	HTTP::Session2::Base::__ANON__(HTTP::Session2::ServerStore=HASH(0x306f2d8), "s3cret") called at t/03_mech.t line 121
	main::server_session(HASH(0x306f050)) called at t/03_mech.t line 17
	main::__ANON__(HASH(0x306f050)) called at /opt/perl-5.22.4/lib/site_perl/5.22.4/Test/WWW/Mechanize/PSGI.pm line 43
	Test::WWW::Mechanize::PSGI::try {...} () called at /opt/perl-5.22.4/lib/site_perl/5.22.4/Try/Tiny.pm line 102
	eval {...} called at /opt/perl-5.22.4/lib/site_perl/5.22.4/Try/Tiny.pm line 93
	Try::Tiny::try(CODE(0x30695b8), Try::Tiny::Catch=REF(0x306ee40)) called at /opt/perl-5.22.4/lib/site_perl/5.22.4/Test/WWW/Mechanize/PSGI.pm line 50
	Test::WWW::Mechanize::PSGI::simple_request(Test::WWW::Mechanize::PSGI=HASH(0x2efffd8), HTTP::Request=HASH(0x306efa8), undef, undef) called at /opt/perl-5.22.4/lib/site_perl/5.22.4/LWP/UserAgent.pm line 297
	LWP::UserAgent::request(Test::WWW::Mechanize::PSGI=HASH(0x2efffd8), HTTP::Request=HASH(0x306efa8)) called at /opt/perl-5.22.4/lib/site_perl/5.22.4/WWW/Mechanize.pm line 1413
	WWW::Mechanize::_make_request(Test::WWW::Mechanize::PSGI=HASH(0x2efffd8), HTTP::Request=HASH(0x306efa8)) called at /opt/perl-5.22.4/lib/site_perl/5.22.4/WWW/Mechanize.pm line 1253
	WWW::Mechanize::request(Test::WWW::Mechanize::PSGI=HASH(0x2efffd8), HTTP::Request=HASH(0x306efa8)) called at /opt/perl-5.22.4/lib/site_perl/5.22.4/LWP/UserAgent.pm line 478
	LWP::UserAgent::post(Test::WWW::Mechanize::PSGI=HASH(0x2efffd8), "/account/logout?john") called at t/03_mech.t line 97
Secret string too short at /tmpfs/.cpan-build-cpansand/2018012603/HTTP-Session2-1.10-1/blib/lib/HTTP/Session2/Base.pm line 79.
	HTTP::Session2::Base::__ANON__(HTTP::Session2::ClientStore=HASH(0x302e828), "s3cret") called at t/03_mech.t line 127
	main::client_session(HASH(0x306fbc0)) called at t/03_mech.t line 17
	main::__ANON__(HASH(0x306fbc0)) called at /opt/perl-5.22.4/lib/site_perl/5.22.4/Test/WWW/Mechanize/PSGI.pm line 43
	Test::WWW::Mechanize::PSGI::try {...} () called at /opt/perl-5.22.4/lib/site_perl/5.22.4/Try/Tiny.pm line 102
	eval {...} called at /opt/perl-5.22.4/lib/site_perl/5.22.4/Try/Tiny.pm line 93
	Try::Tiny::try(CODE(0x2efffa8), Try::Tiny::Catch=REF(0x306a488)) called at /opt/perl-5.22.4/lib/site_perl/5.22.4/Test/WWW/Mechanize/PSGI.pm line 50
	Test::WWW::Mechanize::PSGI::simple_request(Test::WWW::Mechanize::PSGI=HASH(0x3072dd0), HTTP::Request=HASH(0x30605d0), undef, undef) called at /opt/perl-5.22.4/lib/site_perl/5.22.4/LWP/UserAgent.pm line 297
	LWP::UserAgent::request(Test::WWW::Mechanize::PSGI=HASH(0x3072dd0), HTTP::Request=HASH(0x30605d0)) called at /opt/perl-5.22.4/lib/site_perl/5.22.4/WWW/Mechanize.pm line 1413
	WWW::Mechanize::_make_request(Test::WWW::Mechanize::PSGI=HASH(0x3072dd0), HTTP::Request=HASH(0x30605d0)) called at /opt/perl-5.22.4/lib/site_perl/5.22.4/WWW/Mechanize.pm line 1253
	WWW::Mechanize::request(Test::WWW::Mechanize::PSGI=HASH(0x3072dd0), HTTP::Request=HASH(0x30605d0)) called at /opt/perl-5.22.4/lib/site_perl/5.22.4/LWP/UserAgent.pm line 435
	LWP::UserAgent::get(Test::WWW::Mechanize::PSGI=HASH(0x3072dd0), "/") called at /opt/perl-5.22.4/lib/site_perl/5.22.4/WWW/Mechanize.pm line 117
	WWW::Mechanize::get(Test::WWW::Mechanize::PSGI=HASH(0x3072dd0), "/") called at /opt/perl-5.22.4/lib/site_perl/5.22.4/Test/WWW/Mechanize.pm line 160
	Test::WWW::Mechanize::get_ok(Test::WWW::Mechanize::PSGI=HASH(0x3072dd0), "/") called at t/03_mech.t line 74
Secret string too short at /tmpfs/.cpan-build-cpansand/2018012603/HTTP-Session2-1.10-1/blib/lib/HTTP/Session2/Base.pm line 79.
	HTTP::Session2::Base::__ANON__(HTTP::Session2::ClientStore=HASH(0x30606d8), "s3cret") called at t/03_mech.t line 127
	main::client_session(HASH(0x3060f78)) called at t/03_mech.t line 17
	main::__ANON__(HASH(0x3060f78)) called at /opt/perl-5.22.4/lib/site_perl/5.22.4/Test/WWW/Mechanize/PSGI.pm line 43
	Test::WWW::Mechanize::PSGI::try {...} () called at /opt/perl-5.22.4/lib/site_perl/5.22.4/Try/Tiny.pm line 102
	eval {...} called at /opt/perl-5.22.4/lib/site_perl/5.22.4/Try/Tiny.pm line 93
	Try::Tiny::try(CODE(0x3036d48), Try::Tiny::Catch=REF(0x2f9ef10)) called at /opt/perl-5.22.4/lib/site_perl/5.22.4/Test/WWW/Mechanize/PSGI.pm line 50
	Test::WWW::Mechanize::PSGI::simple_request(Test::WWW::Mechanize::PSGI=HASH(0x3072dd0), HTTP::Request=HASH(0x3061008), undef, undef) called at /opt/perl-5.22.4/lib/site_perl/5.22.4/LWP/UserAgent.pm line 297
	LWP::UserAgent::request(Test::WWW::Mechanize::PSGI=HASH(0x3072dd0), HTTP::Request=HASH(0x3061008)) called at /opt/perl-5.22.4/lib/site_perl/5.22.4/WWW/Mechanize.pm line 1413
	WWW::Mechanize::_make_request(Test::WWW::Mechanize::PSGI=HASH(0x3072dd0), HTTP::Request=HASH(0x3061008)) called at /opt/perl-5.22.4/lib/site_perl/5.22.4/WWW/Mechanize.pm line 1253
	WWW::Mechanize::request(Test::WWW::Mechanize::PSGI=HASH(0x3072dd0), HTTP::Request=HASH(0x3061008)) called at /opt/perl-5.22.4/lib/site_perl/5.22.4/LWP/UserAgent.pm line 478
	LWP::UserAgent::post(Test::WWW::Mechanize::PSGI=HASH(0x3072dd0), "/wishlist?foo", HASH(0x2b16fa8)) called at /opt/perl-5.22.4/lib/site_perl/5.22.4/Test/WWW/Mechanize.pm line 237
	Test::WWW::Mechanize::post_ok(Test::WWW::Mechanize::PSGI=HASH(0x3072dd0), "/wishlist?foo") called at t/03_mech.t line 75
Do not use HTTP::Session2::ClientStore. Use HTTP::Session2::ServerStore or HTTP::Session2::ClientStore2 instead. at /tmpfs/.cpan-build-cpansand/2018012603/HTTP-Session2-1.10-1/blib/lib/HTTP/Session2/ClientStore.pm line 25.
Secret string too short at /tmpfs/.cpan-build-cpansand/2018012603/HTTP-Session2-1.10-1/blib/lib/HTTP/Session2/Base.pm line 79.
	HTTP::Session2::Base::__ANON__(HTTP::Session2::ClientStore=HASH(0x3065420), "s3cret") called at t/03_mech.t line 127
	main::client_session(HASH(0x3060558)) called at t/03_mech.t line 17
	main::__ANON__(HASH(0x3060558)) called at /opt/perl-5.22.4/lib/site_perl/5.22.4/Test/WWW/Mechanize/PSGI.pm line 43
	Test::WWW::Mechanize::PSGI::try {...} () called at /opt/perl-5.22.4/lib/site_perl/5.22.4/Try/Tiny.pm line 102
	eval {...} called at /opt/perl-5.22.4/lib/site_perl/5.22.4/Try/Tiny.pm line 93
	Try::Tiny::try(CODE(0x3060888), Try::Tiny::Catch=REF(0x306f650)) called at /opt/perl-5.22.4/lib/site_perl/5.22.4/Test/WWW/Mechanize/PSGI.pm line 50
	Test::WWW::Mechanize::PSGI::simple_request(Test::WWW::Mechanize::PSGI=HASH(0x3072dd0), HTTP::Request=HASH(0x1e8ddd8), undef, undef) called at /opt/perl-5.22.4/lib/site_perl/5.22.4/LWP/UserAgent.pm line 297
	LWP::UserAgent::request(Test::WWW::Mechanize::PSGI=HASH(0x3072dd0), HTTP::Request=HASH(0x1e8ddd8)) called at /opt/perl-5.22.4/lib/site_perl/5.22.4/WWW/Mechanize.pm line 1413
	WWW::Mechanize::_make_request(Test::WWW::Mechanize::PSGI=HASH(0x3072dd0), HTTP::Request=HASH(0x1e8ddd8)) called at /opt/perl-5.22.4/lib/site_perl/5.22.4/WWW/Mechanize.pm line 1253
	WWW::Mechanize::request(Test::WWW::Mechanize::PSGI=HASH(0x3072dd0), HTTP::Request=HASH(0x1e8ddd8)) called at /opt/perl-5.22.4/lib/site_perl/5.22.4/LWP/UserAgent.pm line 435
	LWP::UserAgent::get(Test::WWW::Mechanize::PSGI=HASH(0x3072dd0), "http://localhost/wishlist") called at /opt/perl-5.22.4/lib/site_perl/5.22.4/WWW/Mechanize.pm line 117
	WWW::Mechanize::get(Test::WWW::Mechanize::PSGI=HASH(0x3072dd0), "/wishlist") called at /opt/perl-5.22.4/lib/site_perl/5.22.4/Test/WWW/Mechanize.pm line 160
	Test::WWW::Mechanize::get_ok(Test::WWW::Mechanize::PSGI=HASH(0x3072dd0), "/wishlist") called at t/03_mech.t line 76
Do not use HTTP::Session2::ClientStore. Use HTTP::Session2::ServerStore or HTTP::Session2::ClientStore2 instead. at /tmpfs/.cpan-build-cpansand/2018012603/HTTP-Session2-1.10-1/blib/lib/HTTP/Session2/ClientStore.pm line 35.
Secret string too short at /tmpfs/.cpan-build-cpansand/2018012603/HTTP-Session2-1.10-1/blib/lib/HTTP/Session2/Base.pm line 79.
	HTTP::Session2::Base::__ANON__(HTTP::Session2::ClientStore=HASH(0x3065b40), "s3cret") called at t/03_mech.t line 127
	main::client_session(HASH(0x2ce2540)) called at t/03_mech.t line 17
	main::__ANON__(HASH(0x2ce2540)) called at /opt/perl-5.22.4/lib/site_perl/5.22.4/Test/WWW/Mechanize/PSGI.pm line 43
	Test::WWW::Mechanize::PSGI::try {...} () called at /opt/perl-5.22.4/lib/site_perl/5.22.4/Try/Tiny.pm line 102
	eval {...} called at /opt/perl-5.22.4/lib/site_perl/5.22.4/Try/Tiny.pm line 93
	Try::Tiny::try(CODE(0x3060240), Try::Tiny::Catch=REF(0x30609d8)) called at /opt/perl-5.22.4/lib/site_perl/5.22.4/Test/WWW/Mechanize/PSGI.pm line 50
	Test::WWW::Mechanize::PSGI::simple_request(Test::WWW::Mechanize::PSGI=HASH(0x3072dd0), HTTP::Request=HASH(0x3060a50), undef, undef) called at /opt/perl-5.22.4/lib/site_perl/5.22.4/LWP/UserAgent.pm line 297
	LWP::UserAgent::request(Test::WWW::Mechanize::PSGI=HASH(0x3072dd0), HTTP::Request=HASH(0x3060a50)) called at /opt/perl-5.22.4/lib/site_perl/5.22.4/WWW/Mechanize.pm line 1413
	WWW::Mechanize::_make_request(Test::WWW::Mechanize::PSGI=HASH(0x3072dd0), HTTP::Request=HASH(0x3060a50)) called at /opt/perl-5.22.4/lib/site_perl/5.22.4/WWW/Mechanize.pm line 1253
	WWW::Mechanize::request(Test::WWW::Mechanize::PSGI=HASH(0x3072dd0), HTTP::Request=HASH(0x3060a50)) called at /opt/perl-5.22.4/lib/site_perl/5.22.4/LWP/UserAgent.pm line 478
	LWP::UserAgent::post(Test::WWW::Mechanize::PSGI=HASH(0x3072dd0), "/wishlist?bar") called at t/03_mech.t line 78
Do not use HTTP::Session2::ClientStore. Use HTTP::Session2::ServerStore or HTTP::Session2::ClientStore2 instead. at /tmpfs/.cpan-build-cpansand/2018012603/HTTP-Session2-1.10-1/blib/lib/HTTP/Session2/ClientStore.pm line 35.
Secret string too short at /tmpfs/.cpan-build-cpansand/2018012603/HTTP-Session2-1.10-1/blib/lib/HTTP/Session2/Base.pm line 79.
	HTTP::Session2::Base::__ANON__(HTTP::Session2::ClientStore=HASH(0x3065708), "s3cret") called at t/03_mech.t line 127
	main::client_session(HASH(0x30607b0)) called at t/03_mech.t line 17
	main::__ANON__(HASH(0x30607b0)) called at /opt/perl-5.22.4/lib/site_perl/5.22.4/Test/WWW/Mechanize/PSGI.pm line 43
	Test::WWW::Mechanize::PSGI::try {...} () called at /opt/perl-5.22.4/lib/site_perl/5.22.4/Try/Tiny.pm line 102
	eval {...} called at /opt/perl-5.22.4/lib/site_perl/5.22.4/Try/Tiny.pm line 93
	Try::Tiny::try(CODE(0x3060f00), Try::Tiny::Catch=REF(0x3061098)) called at /opt/perl-5.22.4/lib/site_perl/5.22.4/Test/WWW/Mechanize/PSGI.pm line 50
	Test::WWW::Mechanize::PSGI::simple_request(Test::WWW::Mechanize::PSGI=HASH(0x3072dd0), HTTP::Request=HASH(0x306f650), undef, undef) called at /opt/perl-5.22.4/lib/site_perl/5.22.4/LWP/UserAgent.pm line 297
	LWP::UserAgent::request(Test::WWW::Mechanize::PSGI=HASH(0x3072dd0), HTTP::Request=HASH(0x306f650)) called at /opt/perl-5.22.4/lib/site_perl/5.22.4/WWW/Mechanize.pm line 1413
	WWW::Mechanize::_make_request(Test::WWW::Mechanize::PSGI=HASH(0x3072dd0), HTTP::Request=HASH(0x306f650)) called at /opt/perl-5.22.4/lib/site_perl/5.22.4/WWW/Mechanize.pm line 1253
	WWW::Mechanize::request(Test::WWW::Mechanize::PSGI=HASH(0x3072dd0), HTTP::Request=HASH(0x306f650)) called at /opt/perl-5.22.4/lib/site_perl/5.22.4/LWP/UserAgent.pm line 478
	LWP::UserAgent::post(Test::WWW::Mechanize::PSGI=HASH(0x3072dd0), "/wishlist?bar", HASH(0x2b16fa8)) called at /opt/perl-5.22.4/lib/site_perl/5.22.4/Test/WWW/Mechanize.pm line 237
	Test::WWW::Mechanize::post_ok(Test::WWW::Mechanize::PSGI=HASH(0x3072dd0), "/wishlist?bar") called at t/03_mech.t line 81
Do not use HTTP::Session2::ClientStore. Use HTTP::Session2::ServerStore or HTTP::Session2::ClientStore2 instead. at /tmpfs/.cpan-build-cpansand/2018012603/HTTP-Session2-1.10-1/blib/lib/HTTP/Session2/ClientStore.pm line 35.
Do not use HTTP::Session2::ClientStore. Use HTTP::Session2::ServerStore or HTTP::Session2::ClientStore2 instead. at /tmpfs/.cpan-build-cpansand/2018012603/HTTP-Session2-1.10-1/blib/lib/HTTP/Session2/ClientStore.pm line 25.
Secret string too short at /tmpfs/.cpan-build-cpansand/2018012603/HTTP-Session2-1.10-1/blib/lib/HTTP/Session2/Base.pm line 79.
	HTTP::Session2::Base::__ANON__(HTTP::Session2::ClientStore=HASH(0x3065e58), "s3cret") called at t/03_mech.t line 127
	main::client_session(HASH(0x30655a0)) called at t/03_mech.t line 17
	main::__ANON__(HASH(0x30655a0)) called at /opt/perl-5.22.4/lib/site_perl/5.22.4/Test/WWW/Mechanize/PSGI.pm line 43
	Test::WWW::Mechanize::PSGI::try {...} () called at /opt/perl-5.22.4/lib/site_perl/5.22.4/Try/Tiny.pm line 102
	eval {...} called at /opt/perl-5.22.4/lib/site_perl/5.22.4/Try/Tiny.pm line 93
	Try::Tiny::try(CODE(0x3065528), Try::Tiny::Catch=REF(0x3069c18)) called at /opt/perl-5.22.4/lib/site_perl/5.22.4/Test/WWW/Mechanize/PSGI.pm line 50
	Test::WWW::Mechanize::PSGI::simple_request(Test::WWW::Mechanize::PSGI=HASH(0x3072dd0), HTTP::Request=HASH(0x3061080), undef, undef) called at /opt/perl-5.22.4/lib/site_perl/5.22.4/LWP/UserAgent.pm line 297
	LWP::UserAgent::request(Test::WWW::Mechanize::PSGI=HASH(0x3072dd0), HTTP::Request=HASH(0x3061080)) called at /opt/perl-5.22.4/lib/site_perl/5.22.4/WWW/Mechanize.pm line 1413
	WWW::Mechanize::_make_request(Test::WWW::Mechanize::PSGI=HASH(0x3072dd0), HTTP::Request=HASH(0x3061080)) called at /opt/perl-5.22.4/lib/site_perl/5.22.4/WWW/Mechanize.pm line 1253
	WWW::Mechanize::request(Test::WWW::Mechanize::PSGI=HASH(0x3072dd0), HTTP::Request=HASH(0x3061080)) called at /opt/perl-5.22.4/lib/site_perl/5.22.4/LWP/UserAgent.pm line 435
	LWP::UserAgent::get(Test::WWW::Mechanize::PSGI=HASH(0x3072dd0), "http://localhost/wishlist") called at /opt/perl-5.22.4/lib/site_perl/5.22.4/WWW/Mechanize.pm line 117
	WWW::Mechanize::get(Test::WWW::Mechanize::PSGI=HASH(0x3072dd0), "/wishlist") called at /opt/perl-5.22.4/lib/site_perl/5.22.4/Test/WWW/Mechanize.pm line 160
	Test::WWW::Mechanize::get_ok(Test::WWW::Mechanize::PSGI=HASH(0x3072dd0), "/wishlist") called at t/03_mech.t line 82
Do not use HTTP::Session2::ClientStore. Use HTTP::Session2::ServerStore or HTTP::Session2::ClientStore2 instead. at /tmpfs/.cpan-build-cpansand/2018012603/HTTP-Session2-1.10-1/blib/lib/HTTP/Session2/ClientStore.pm line 35.
Secret string too short at /tmpfs/.cpan-build-cpansand/2018012603/HTTP-Session2-1.10-1/blib/lib/HTTP/Session2/Base.pm line 79.
	HTTP::Session2::Base::__ANON__(HTTP::Session2::ClientStore=HASH(0x3069d98), "s3cret") called at t/03_mech.t line 127
	main::client_session(HASH(0x30610c8)) called at t/03_mech.t line 17
	main::__ANON__(HASH(0x30610c8)) called at /opt/perl-5.22.4/lib/site_perl/5.22.4/Test/WWW/Mechanize/PSGI.pm line 43
	Test::WWW::Mechanize::PSGI::try {...} () called at /opt/perl-5.22.4/lib/site_perl/5.22.4/Try/Tiny.pm line 102
	eval {...} called at /opt/perl-5.22.4/lib/site_perl/5.22.4/Try/Tiny.pm line 93
	Try::Tiny::try(CODE(0x3060720), Try::Tiny::Catch=REF(0x2f4c0f8)) called at /opt/perl-5.22.4/lib/site_perl/5.22.4/Test/WWW/Mechanize/PSGI.pm line 50
	Test::WWW::Mechanize::PSGI::simple_request(Test::WWW::Mechanize::PSGI=HASH(0x3072dd0), HTTP::Request=HASH(0x3060e28), undef, undef) called at /opt/perl-5.22.4/lib/site_perl/5.22.4/LWP/UserAgent.pm line 297
	LWP::UserAgent::request(Test::WWW::Mechanize::PSGI=HASH(0x3072dd0), HTTP::Request=HASH(0x3060e28)) called at /opt/perl-5.22.4/lib/site_perl/5.22.4/WWW/Mechanize.pm line 1413
	WWW::Mechanize::_make_request(Test::WWW::Mechanize::PSGI=HASH(0x3072dd0), HTTP::Request=HASH(0x3060e28)) called at /opt/perl-5.22.4/lib/site_perl/5.22.4/WWW/Mechanize.pm line 1253
	WWW::Mechanize::request(Test::WWW::Mechanize::PSGI=HASH(0x3072dd0), HTTP::Request=HASH(0x3060e28)) called at /opt/perl-5.22.4/lib/site_perl/5.22.4/LWP/UserAgent.pm line 478
	LWP::UserAgent::post(Test::WWW::Mechanize::PSGI=HASH(0x3072dd0), "/account/login?john", HASH(0x2b16fa8)) called at /opt/perl-5.22.4/lib/site_perl/5.22.4/Test/WWW/Mechanize.pm line 237
	Test::WWW::Mechanize::post_ok(Test::WWW::Mechanize::PSGI=HASH(0x3072dd0), "/account/login?john") called at t/03_mech.t line 84
Do not use HTTP::Session2::ClientStore. Use HTTP::Session2::ServerStore or HTTP::Session2::ClientStore2 instead. at /tmpfs/.cpan-build-cpansand/2018012603/HTTP-Session2-1.10-1/blib/lib/HTTP/Session2/ClientStore.pm line 35.
Do not use HTTP::Session2::ClientStore. Use HTTP::Session2::ServerStore or HTTP::Session2::ClientStore2 instead. at /tmpfs/.cpan-build-cpansand/2018012603/HTTP-Session2-1.10-1/blib/lib/HTTP/Session2/ClientStore.pm line 35.
Do not use HTTP::Session2::ClientStore. Use HTTP::Session2::ServerStore or HTTP::Session2::ClientStore2 instead. at /tmpfs/.cpan-build-cpansand/2018012603/HTTP-Session2-1.10-1/blib/lib/HTTP/Session2/ClientStore.pm line 25.
Secret string too short at /tmpfs/.cpan-build-cpansand/2018012603/HTTP-Session2-1.10-1/blib/lib/HTTP/Session2/Base.pm line 79.
	HTTP::Session2::Base::__ANON__(HTTP::Session2::ClientStore=HASH(0x306a3b0), "s3cret") called at t/03_mech.t line 127
	main::client_session(HASH(0x3037750)) called at t/03_mech.t line 17
	main::__ANON__(HASH(0x3037750)) called at /opt/perl-5.22.4/lib/site_perl/5.22.4/Test/WWW/Mechanize/PSGI.pm line 43
	Test::WWW::Mechanize::PSGI::try {...} () called at /opt/perl-5.22.4/lib/site_perl/5.22.4/Try/Tiny.pm line 102
	eval {...} called at /opt/perl-5.22.4/lib/site_perl/5.22.4/Try/Tiny.pm line 93
	Try::Tiny::try(CODE(0x3069d68), Try::Tiny::Catch=REF(0x3069f48)) called at /opt/perl-5.22.4/lib/site_perl/5.22.4/Test/WWW/Mechanize/PSGI.pm line 50
	Test::WWW::Mechanize::PSGI::simple_request(Test::WWW::Mechanize::PSGI=HASH(0x3072dd0), HTTP::Request=HASH(0x30607b0), undef, undef) called at /opt/perl-5.22.4/lib/site_perl/5.22.4/LWP/UserAgent.pm line 297
	LWP::UserAgent::request(Test::WWW::Mechanize::PSGI=HASH(0x3072dd0), HTTP::Request=HASH(0x30607b0)) called at /opt/perl-5.22.4/lib/site_perl/5.22.4/WWW/Mechanize.pm line 1413
	WWW::Mechanize::_make_request(Test::WWW::Mechanize::PSGI=HASH(0x3072dd0), HTTP::Request=HASH(0x30607b0)) called at /opt/perl-5.22.4/lib/site_perl/5.22.4/WWW/Mechanize.pm line 1253
	WWW::Mechanize::request(Test::WWW::Mechanize::PSGI=HASH(0x3072dd0), HTTP::Request=HASH(0x30607b0)) called at /opt/perl-5.22.4/lib/site_perl/5.22.4/LWP/UserAgent.pm line 435
	LWP::UserAgent::get(Test::WWW::Mechanize::PSGI=HASH(0x3072dd0), "http://localhost/wishlist") called at /opt/perl-5.22.4/lib/site_perl/5.22.4/WWW/Mechanize.pm line 117
	WWW::Mechanize::get(Test::WWW::Mechanize::PSGI=HASH(0x3072dd0), "/wishlist") called at /opt/perl-5.22.4/lib/site_perl/5.22.4/Test/WWW/Mechanize.pm line 160
	Test::WWW::Mechanize::get_ok(Test::WWW::Mechanize::PSGI=HASH(0x3072dd0), "/wishlist", "Wishlist is still available") called at t/03_mech.t line 85
Do not use HTTP::Session2::ClientStore. Use HTTP::Session2::ServerStore or HTTP::Session2::ClientStore2 instead. at /tmpfs/.cpan-build-cpansand/2018012603/HTTP-Session2-1.10-1/blib/lib/HTTP/Session2/ClientStore.pm line 35.
Secret string too short at /tmpfs/.cpan-build-cpansand/2018012603/HTTP-Session2-1.10-1/blib/lib/HTTP/Session2/Base.pm line 79.
	HTTP::Session2::Base::__ANON__(HTTP::Session2::ClientStore=HASH(0x306f440), "s3cret") called at t/03_mech.t line 127
	main::client_session(HASH(0x306f0c8)) called at t/03_mech.t line 17
	main::__ANON__(HASH(0x306f0c8)) called at /opt/perl-5.22.4/lib/site_perl/5.22.4/Test/WWW/Mechanize/PSGI.pm line 43
	Test::WWW::Mechanize::PSGI::try {...} () called at /opt/perl-5.22.4/lib/site_perl/5.22.4/Try/Tiny.pm line 102
	eval {...} called at /opt/perl-5.22.4/lib/site_perl/5.22.4/Try/Tiny.pm line 93
	Try::Tiny::try(CODE(0x3069c00), Try::Tiny::Catch=REF(0x3069ca8)) called at /opt/perl-5.22.4/lib/site_perl/5.22.4/Test/WWW/Mechanize/PSGI.pm line 50
	Test::WWW::Mechanize::PSGI::simple_request(Test::WWW::Mechanize::PSGI=HASH(0x3072dd0), HTTP::Request=HASH(0x3065b40), undef, undef) called at /opt/perl-5.22.4/lib/site_perl/5.22.4/LWP/UserAgent.pm line 297
	LWP::UserAgent::request(Test::WWW::Mechanize::PSGI=HASH(0x3072dd0), HTTP::Request=HASH(0x3065b40)) called at /opt/perl-5.22.4/lib/site_perl/5.22.4/WWW/Mechanize.pm line 1413
	WWW::Mechanize::_make_request(Test::WWW::Mechanize::PSGI=HASH(0x3072dd0), HTTP::Request=HASH(0x3065b40)) called at /opt/perl-5.22.4/lib/site_perl/5.22.4/WWW/Mechanize.pm line 1253
	WWW::Mechanize::request(Test::WWW::Mechanize::PSGI=HASH(0x3072dd0), HTTP::Request=HASH(0x3065b40)) called at /opt/perl-5.22.4/lib/site_perl/5.22.4/LWP/UserAgent.pm line 478
	LWP::UserAgent::post(Test::WWW::Mechanize::PSGI=HASH(0x3072dd0), "/wishlist?baz") called at t/03_mech.t line 87
Do not use HTTP::Session2::ClientStore. Use HTTP::Session2::ServerStore or HTTP::Session2::ClientStore2 instead. at /tmpfs/.cpan-build-cpansand/2018012603/HTTP-Session2-1.10-1/blib/lib/HTTP/Session2/ClientStore.pm line 35.
Secret string too short at /tmpfs/.cpan-build-cpansand/2018012603/HTTP-Session2-1.10-1/blib/lib/HTTP/Session2/Base.pm line 79.
	HTTP::Session2::Base::__ANON__(HTTP::Session2::ClientStore=HASH(0x306ed68), "s3cret") called at t/03_mech.t line 127
	main::client_session(HASH(0x306f2c0)) called at t/03_mech.t line 17
	main::__ANON__(HASH(0x306f2c0)) called at /opt/perl-5.22.4/lib/site_perl/5.22.4/Test/WWW/Mechanize/PSGI.pm line 43
	Test::WWW::Mechanize::PSGI::try {...} () called at /opt/perl-5.22.4/lib/site_perl/5.22.4/Try/Tiny.pm line 102
	eval {...} called at /opt/perl-5.22.4/lib/site_perl/5.22.4/Try/Tiny.pm line 93
	Try::Tiny::try(CODE(0x306fb00), Try::Tiny::Catch=REF(0x306a470)) called at /opt/perl-5.22.4/lib/site_perl/5.22.4/Test/WWW/Mechanize/PSGI.pm line 50
	Test::WWW::Mechanize::PSGI::simple_request(Test::WWW::Mechanize::PSGI=HASH(0x3072dd0), HTTP::Request=HASH(0x306f1e8), undef, undef) called at /opt/perl-5.22.4/lib/site_perl/5.22.4/LWP/UserAgent.pm line 297
	LWP::UserAgent::request(Test::WWW::Mechanize::PSGI=HASH(0x3072dd0), HTTP::Request=HASH(0x306f1e8)) called at /opt/perl-5.22.4/lib/site_perl/5.22.4/WWW/Mechanize.pm line 1413
	WWW::Mechanize::_make_request(Test::WWW::Mechanize::PSGI=HASH(0x3072dd0), HTTP::Request=HASH(0x306f1e8)) called at /opt/perl-5.22.4/lib/site_perl/5.22.4/WWW/Mechanize.pm line 1253
	WWW::Mechanize::request(Test::WWW::Mechanize::PSGI=HASH(0x3072dd0), HTTP::Request=HASH(0x306f1e8)) called at /opt/perl-5.22.4/lib/site_perl/5.22.4/LWP/UserAgent.pm line 478
	LWP::UserAgent::post(Test::WWW::Mechanize::PSGI=HASH(0x3072dd0), "/wishlist?baz", HASH(0x2b16fa8)) called at /opt/perl-5.22.4/lib/site_perl/5.22.4/Test/WWW/Mechanize.pm line 237
	Test::WWW::Mechanize::post_ok(Test::WWW::Mechanize::PSGI=HASH(0x3072dd0), "/wishlist?baz") called at t/03_mech.t line 90
Do not use HTTP::Session2::ClientStore. Use HTTP::Session2::ServerStore or HTTP::Session2::ClientStore2 instead. at /tmpfs/.cpan-build-cpansand/2018012603/HTTP-Session2-1.10-1/blib/lib/HTTP/Session2/ClientStore.pm line 35.
Do not use HTTP::Session2::ClientStore. Use HTTP::Session2::ServerStore or HTTP::Session2::ClientStore2 instead. at /tmpfs/.cpan-build-cpansand/2018012603/HTTP-Session2-1.10-1/blib/lib/HTTP/Session2/ClientStore.pm line 25.
Secret string too short at /tmpfs/.cpan-build-cpansand/2018012603/HTTP-Session2-1.10-1/blib/lib/HTTP/Session2/Base.pm line 79.
	HTTP::Session2::Base::__ANON__(HTTP::Session2::ClientStore=HASH(0x3073118), "s3cret") called at t/03_mech.t line 127
	main::client_session(HASH(0x30698d0)) called at t/03_mech.t line 17
	main::__ANON__(HASH(0x30698d0)) called at /opt/perl-5.22.4/lib/site_perl/5.22.4/Test/WWW/Mechanize/PSGI.pm line 43
	Test::WWW::Mechanize::PSGI::try {...} () called at /opt/perl-5.22.4/lib/site_perl/5.22.4/Try/Tiny.pm line 102
	eval {...} called at /opt/perl-5.22.4/lib/site_perl/5.22.4/Try/Tiny.pm line 93
	Try::Tiny::try(CODE(0x306f158), Try::Tiny::Catch=REF(0x306edc8)) called at /opt/perl-5.22.4/lib/site_perl/5.22.4/Test/WWW/Mechanize/PSGI.pm line 50
	Test::WWW::Mechanize::PSGI::simple_request(Test::WWW::Mechanize::PSGI=HASH(0x3072dd0), HTTP::Request=HASH(0x306f380), undef, undef) called at /opt/perl-5.22.4/lib/site_perl/5.22.4/LWP/UserAgent.pm line 297
	LWP::UserAgent::request(Test::WWW::Mechanize::PSGI=HASH(0x3072dd0), HTTP::Request=HASH(0x306f380)) called at /opt/perl-5.22.4/lib/site_perl/5.22.4/WWW/Mechanize.pm line 1413
	WWW::Mechanize::_make_request(Test::WWW::Mechanize::PSGI=HASH(0x3072dd0), HTTP::Request=HASH(0x306f380)) called at /opt/perl-5.22.4/lib/site_perl/5.22.4/WWW/Mechanize.pm line 1253
	WWW::Mechanize::request(Test::WWW::Mechanize::PSGI=HASH(0x3072dd0), HTTP::Request=HASH(0x306f380)) called at /opt/perl-5.22.4/lib/site_perl/5.22.4/LWP/UserAgent.pm line 435
	LWP::UserAgent::get(Test::WWW::Mechanize::PSGI=HASH(0x3072dd0), "http://localhost/wishlist") called at /opt/perl-5.22.4/lib/site_perl/5.22.4/WWW/Mechanize.pm line 117
	WWW::Mechanize::get(Test::WWW::Mechanize::PSGI=HASH(0x3072dd0), "/wishlist") called at /opt/perl-5.22.4/lib/site_perl/5.22.4/Test/WWW/Mechanize.pm line 160
	Test::WWW::Mechanize::get_ok(Test::WWW::Mechanize::PSGI=HASH(0x3072dd0), "/wishlist", "Wishlist is still available") called at t/03_mech.t line 91
Do not use HTTP::Session2::ClientStore. Use HTTP::Session2::ServerStore or HTTP::Session2::ClientStore2 instead. at /tmpfs/.cpan-build-cpansand/2018012603/HTTP-Session2-1.10-1/blib/lib/HTTP/Session2/ClientStore.pm line 35.
Secret string too short at /tmpfs/.cpan-build-cpansand/2018012603/HTTP-Session2-1.10-1/blib/lib/HTTP/Session2/Base.pm line 79.
	HTTP::Session2::Base::__ANON__(HTTP::Session2::ClientStore=HASH(0x30734c0), "s3cret") called at t/03_mech.t line 127
	main::client_session(HASH(0x306a398)) called at t/03_mech.t line 17
	main::__ANON__(HASH(0x306a398)) called at /opt/perl-5.22.4/lib/site_perl/5.22.4/Test/WWW/Mechanize/PSGI.pm line 43
	Test::WWW::Mechanize::PSGI::try {...} () called at /opt/perl-5.22.4/lib/site_perl/5.22.4/Try/Tiny.pm line 102
	eval {...} called at /opt/perl-5.22.4/lib/site_perl/5.22.4/Try/Tiny.pm line 93
	Try::Tiny::try(CODE(0x306a2d8), Try::Tiny::Catch=REF(0x306f8a8)) called at /opt/perl-5.22.4/lib/site_perl/5.22.4/Test/WWW/Mechanize/PSGI.pm line 50
	Test::WWW::Mechanize::PSGI::simple_request(Test::WWW::Mechanize::PSGI=HASH(0x3072dd0), HTTP::Request=HASH(0x3073250), undef, undef) called at /opt/perl-5.22.4/lib/site_perl/5.22.4/LWP/UserAgent.pm line 297
	LWP::UserAgent::request(Test::WWW::Mechanize::PSGI=HASH(0x3072dd0), HTTP::Request=HASH(0x3073250)) called at /opt/perl-5.22.4/lib/site_perl/5.22.4/WWW/Mechanize.pm line 1413
	WWW::Mechanize::_make_request(Test::WWW::Mechanize::PSGI=HASH(0x3072dd0), HTTP::Request=HASH(0x3073250)) called at /opt/perl-5.22.4/lib/site_perl/5.22.4/WWW/Mechanize.pm line 1253
	WWW::Mechanize::request(Test::WWW::Mechanize::PSGI=HASH(0x3072dd0), HTTP::Request=HASH(0x3073250)) called at /opt/perl-5.22.4/lib/site_perl/5.22.4/LWP/UserAgent.pm line 435
	LWP::UserAgent::get(Test::WWW::Mechanize::PSGI=HASH(0x3072dd0), "http://localhost/my/name") called at /opt/perl-5.22.4/lib/site_perl/5.22.4/WWW/Mechanize.pm line 117
	WWW::Mechanize::get(Test::WWW::Mechanize::PSGI=HASH(0x3072dd0), "/my/name") called at /opt/perl-5.22.4/lib/site_perl/5.22.4/Test/WWW/Mechanize.pm line 160
	Test::WWW::Mechanize::get_ok(Test::WWW::Mechanize::PSGI=HASH(0x3072dd0), "/my/name") called at t/03_mech.t line 93
Do not use HTTP::Session2::ClientStore. Use HTTP::Session2::ServerStore or HTTP::Session2::ClientStore2 instead. at /tmpfs/.cpan-build-cpansand/2018012603/HTTP-Session2-1.10-1/blib/lib/HTTP/Session2/ClientStore.pm line 35.
Secret string too short at /tmpfs/.cpan-build-cpansand/2018012603/HTTP-Session2-1.10-1/blib/lib/HTTP/Session2/Base.pm line 79.
	HTTP::Session2::Base::__ANON__(HTTP::Session2::ClientStore=HASH(0x30731d8), "s3cret") called at t/03_mech.t line 127
	main::client_session(HASH(0x3073640)) called at t/03_mech.t line 17
	main::__ANON__(HASH(0x3073640)) called at /opt/perl-5.22.4/lib/site_perl/5.22.4/Test/WWW/Mechanize/PSGI.pm line 43
	Test::WWW::Mechanize::PSGI::try {...} () called at /opt/perl-5.22.4/lib/site_perl/5.22.4/Try/Tiny.pm line 102
	eval {...} called at /opt/perl-5.22.4/lib/site_perl/5.22.4/Try/Tiny.pm line 93
	Try::Tiny::try(CODE(0x30734f0), Try::Tiny::Catch=REF(0x306f5d8)) called at /opt/perl-5.22.4/lib/site_perl/5.22.4/Test/WWW/Mechanize/PSGI.pm line 50
	Test::WWW::Mechanize::PSGI::simple_request(Test::WWW::Mechanize::PSGI=HASH(0x3072dd0), HTTP::Request=HASH(0x3073280), undef, undef) called at /opt/perl-5.22.4/lib/site_perl/5.22.4/LWP/UserAgent.pm line 297
	LWP::UserAgent::request(Test::WWW::Mechanize::PSGI=HASH(0x3072dd0), HTTP::Request=HASH(0x3073280)) called at /opt/perl-5.22.4/lib/site_perl/5.22.4/WWW/Mechanize.pm line 1413
	WWW::Mechanize::_make_request(Test::WWW::Mechanize::PSGI=HASH(0x3072dd0), HTTP::Request=HASH(0x3073280)) called at /opt/perl-5.22.4/lib/site_perl/5.22.4/WWW/Mechanize.pm line 1253
	WWW::Mechanize::request(Test::WWW::Mechanize::PSGI=HASH(0x3072dd0), HTTP::Request=HASH(0x3073280)) called at /opt/perl-5.22.4/lib/site_perl/5.22.4/LWP/UserAgent.pm line 478
	LWP::UserAgent::post(Test::WWW::Mechanize::PSGI=HASH(0x3072dd0), "/account/logout?john") called at t/03_mech.t line 97
Do not use HTTP::Session2::ClientStore. Use HTTP::Session2::ServerStore or HTTP::Session2::ClientStore2 instead. at /tmpfs/.cpan-build-cpansand/2018012603/HTTP-Session2-1.10-1/blib/lib/HTTP/Session2/ClientStore.pm line 35.
Do not use HTTP::Session2::ClientStore. Use HTTP::Session2::ServerStore or HTTP::Session2::ClientStore2 instead. at /tmpfs/.cpan-build-cpansand/2018012603/HTTP-Session2-1.10-1/blib/lib/HTTP/Session2/ClientStore.pm line 35.
t/03_mech.t ................. ok
Do not use HTTP::Session2::ClientStore. Use HTTP::Session2::ServerStore or HTTP::Session2::ClientStore2 instead. at /tmpfs/.cpan-build-cpansand/2018012603/HTTP-Session2-1.10-1/blib/lib/HTTP/Session2/ClientStore.pm line 25.
t/04_plack_response.t ....... ok
Secret string too short at /tmpfs/.cpan-build-cpansand/2018012603/HTTP-Session2-1.10-1/blib/lib/HTTP/Session2/Base.pm line 79.
	HTTP::Session2::Base::__ANON__(HTTP::Session2::ClientStore=HASH(0x137a130), "s3cret") called at t/05_keep_me_signed_in.t line 20
Do not use HTTP::Session2::ClientStore. Use HTTP::Session2::ServerStore or HTTP::Session2::ClientStore2 instead. at /tmpfs/.cpan-build-cpansand/2018012603/HTTP-Session2-1.10-1/blib/lib/HTTP/Session2/ClientStore.pm line 25.
t/05_keep_me_signed_in.t .... ok
Secret string too short at /tmpfs/.cpan-build-cpansand/2018012603/HTTP-Session2-1.10-1/blib/lib/HTTP/Session2/Base.pm line 79.
	HTTP::Session2::Base::__ANON__(HTTP::Session2::Base=HASH(0x2160418), "i am secret") called at t/06_base_abstract.t line 7
t/06_base_abstract.t ........ ok
Secret string too short at /tmpfs/.cpan-build-cpansand/2018012603/HTTP-Session2-1.10-1/blib/lib/HTTP/Session2/Base.pm line 79.
	HTTP::Session2::Base::__ANON__(HTTP::Session2::ClientStore=HASH(0x2459940), "secret") called at t/07_client_store.t line 23
	main::__ANON__() called at /opt/perl-5.22.4/lib/site_perl/5.22.4/Test/Builder.pm line 337
	eval {...} called at /opt/perl-5.22.4/lib/site_perl/5.22.4/Test/Builder.pm line 337
	Test::Builder::subtest(Test::Builder=HASH(0x16bb680), "get/set/remove", CODE(0x1cd0fc0)) called at /opt/perl-5.22.4/lib/site_perl/5.22.4/Test/More.pm line 807
	Test::More::subtest("get/set/remove", CODE(0x1cd0fc0)) called at t/07_client_store.t line 31
Secret string too short at /tmpfs/.cpan-build-cpansand/2018012603/HTTP-Session2-1.10-1/blib/lib/HTTP/Session2/Base.pm line 79.
	HTTP::Session2::Base::__ANON__(HTTP::Session2::ClientStore=HASH(0x245dce8), "secret") called at t/07_client_store.t line 35
	main::__ANON__() called at /opt/perl-5.22.4/lib/site_perl/5.22.4/Test/Builder.pm line 337
	eval {...} called at /opt/perl-5.22.4/lib/site_perl/5.22.4/Test/Builder.pm line 337
	Test::Builder::subtest(Test::Builder=HASH(0x16bb680), "validate_token", CODE(0x244cba0)) called at /opt/perl-5.22.4/lib/site_perl/5.22.4/Test/More.pm line 807
	Test::More::subtest("validate_token", CODE(0x244cba0)) called at t/07_client_store.t line 71
Do not use HTTP::Session2::ClientStore. Use HTTP::Session2::ServerStore or HTTP::Session2::ClientStore2 instead. at /tmpfs/.cpan-build-cpansand/2018012603/HTTP-Session2-1.10-1/blib/lib/HTTP/Session2/ClientStore.pm line 25.
Secret string too short at /tmpfs/.cpan-build-cpansand/2018012603/HTTP-Session2-1.10-1/blib/lib/HTTP/Session2/Base.pm line 79.
	HTTP::Session2::Base::__ANON__(HTTP::Session2::ClientStore=HASH(0x2469e10), "secret") called at t/07_client_store.t line 51
	main::__ANON__() called at /opt/perl-5.22.4/lib/site_perl/5.22.4/Test/Builder.pm line 337
	eval {...} called at /opt/perl-5.22.4/lib/site_perl/5.22.4/Test/Builder.pm line 337
	Test::Builder::subtest(Test::Builder=HASH(0x16bb680), "bad", CODE(0x1c63b10)) called at /opt/perl-5.22.4/lib/site_perl/5.22.4/Test/More.pm line 807
	Test::More::subtest("bad", CODE(0x1c63b10)) called at t/07_client_store.t line 57
	main::__ANON__() called at /opt/perl-5.22.4/lib/site_perl/5.22.4/Test/Builder.pm line 337
	eval {...} called at /opt/perl-5.22.4/lib/site_perl/5.22.4/Test/Builder.pm line 337
	Test::Builder::subtest(Test::Builder=HASH(0x16bb680), "validate_token", CODE(0x244cba0)) called at /opt/perl-5.22.4/lib/site_perl/5.22.4/Test/More.pm line 807
	Test::More::subtest("validate_token", CODE(0x244cba0)) called at t/07_client_store.t line 71
Do not use HTTP::Session2::ClientStore. Use HTTP::Session2::ServerStore or HTTP::Session2::ClientStore2 instead. at /tmpfs/.cpan-build-cpansand/2018012603/HTTP-Session2-1.10-1/blib/lib/HTTP/Session2/ClientStore.pm line 35.
Secret string too short at /tmpfs/.cpan-build-cpansand/2018012603/HTTP-Session2-1.10-1/blib/lib/HTTP/Session2/Base.pm line 79.
	HTTP::Session2::Base::__ANON__(HTTP::Session2::ClientStore=HASH(0x2472ae0), "secret") called at t/07_client_store.t line 65
	main::__ANON__() called at /opt/perl-5.22.4/lib/site_perl/5.22.4/Test/Builder.pm line 337
	eval {...} called at /opt/perl-5.22.4/lib/site_perl/5.22.4/Test/Builder.pm line 337
	Test::Builder::subtest(Test::Builder=HASH(0x16bb680), "good", CODE(0x1c63b10)) called at /opt/perl-5.22.4/lib/site_perl/5.22.4/Test/More.pm line 807
	Test::More::subtest("good", CODE(0x1c63b10)) called at t/07_client_store.t line 70
	main::__ANON__() called at /opt/perl-5.22.4/lib/site_perl/5.22.4/Test/Builder.pm line 337
	eval {...} called at /opt/perl-5.22.4/lib/site_perl/5.22.4/Test/Builder.pm line 337
	Test::Builder::subtest(Test::Builder=HASH(0x16bb680), "validate_token", CODE(0x244cba0)) called at /opt/perl-5.22.4/lib/site_perl/5.22.4/Test/More.pm line 807
	Test::More::subtest("validate_token", CODE(0x244cba0)) called at t/07_client_store.t line 71
Do not use HTTP::Session2::ClientStore. Use HTTP::Session2::ServerStore or HTTP::Session2::ClientStore2 instead. at /tmpfs/.cpan-build-cpansand/2018012603/HTTP-Session2-1.10-1/blib/lib/HTTP/Session2/ClientStore.pm line 35.
Secret string too short at /tmpfs/.cpan-build-cpansand/2018012603/HTTP-Session2-1.10-1/blib/lib/HTTP/Session2/Base.pm line 79.
	HTTP::Session2::Base::__ANON__(HTTP::Session2::ClientStore=HASH(0x246a620), "secret") called at t/07_client_store.t line 76
	main::__ANON__() called at /opt/perl-5.22.4/lib/site_perl/5.22.4/Test/Builder.pm line 337
	eval {...} called at /opt/perl-5.22.4/lib/site_perl/5.22.4/Test/Builder.pm line 337
	Test::Builder::subtest(Test::Builder=HASH(0x16bb680), "ignore_old", CODE(0x244ced0)) called at /opt/perl-5.22.4/lib/site_perl/5.22.4/Test/More.pm line 807
	Test::More::subtest("ignore_old", CODE(0x244ced0)) called at t/07_client_store.t line 106
Do not use HTTP::Session2::ClientStore. Use HTTP::Session2::ServerStore or HTTP::Session2::ClientStore2 instead. at /tmpfs/.cpan-build-cpansand/2018012603/HTTP-Session2-1.10-1/blib/lib/HTTP/Session2/ClientStore.pm line 25.
Secret string too short at /tmpfs/.cpan-build-cpansand/2018012603/HTTP-Session2-1.10-1/blib/lib/HTTP/Session2/Base.pm line 79.
	HTTP::Session2::Base::__ANON__(HTTP::Session2::ClientStore=HASH(0x24751e0), "secret") called at t/07_client_store.t line 87
	main::__ANON__() called at /opt/perl-5.22.4/lib/site_perl/5.22.4/Test/Builder.pm line 337
	eval {...} called at /opt/perl-5.22.4/lib/site_perl/5.22.4/Test/Builder.pm line 337
	Test::Builder::subtest(Test::Builder=HASH(0x16bb680), "ignore_old disabled", CODE(0x2474778)) called at /opt/perl-5.22.4/lib/site_perl/5.22.4/Test/More.pm line 807
	Test::More::subtest("ignore_old disabled", CODE(0x2474778)) called at t/07_client_store.t line 95
	main::__ANON__() called at /opt/perl-5.22.4/lib/site_perl/5.22.4/Test/Builder.pm line 337
	eval {...} called at /opt/perl-5.22.4/lib/site_perl/5.22.4/Test/Builder.pm line 337
	Test::Builder::subtest(Test::Builder=HASH(0x16bb680), "ignore_old", CODE(0x244ced0)) called at /opt/perl-5.22.4/lib/site_perl/5.22.4/Test/More.pm line 807
	Test::More::subtest("ignore_old", CODE(0x244ced0)) called at t/07_client_store.t line 106
Do not use HTTP::Session2::ClientStore. Use HTTP::Session2::ServerStore or HTTP::Session2::ClientStore2 instead. at /tmpfs/.cpan-build-cpansand/2018012603/HTTP-Session2-1.10-1/blib/lib/HTTP/Session2/ClientStore.pm line 35.
Secret string too short at /tmpfs/.cpan-build-cpansand/2018012603/HTTP-Session2-1.10-1/blib/lib/HTTP/Session2/Base.pm line 79.
	HTTP::Session2::Base::__ANON__(HTTP::Session2::ClientStore=HASH(0x2475258), "secret") called at t/07_client_store.t line 97
	main::__ANON__() called at /opt/perl-5.22.4/lib/site_perl/5.22.4/Test/Builder.pm line 337
	eval {...} called at /opt/perl-5.22.4/lib/site_perl/5.22.4/Test/Builder.pm line 337
	Test::Builder::subtest(Test::Builder=HASH(0x16bb680), "ignore_old enabled", CODE(0x2474778)) called at /opt/perl-5.22.4/lib/site_perl/5.22.4/Test/More.pm line 807
	Test::More::subtest("ignore_old enabled", CODE(0x2474778)) called at t/07_client_store.t line 105
	main::__ANON__() called at /opt/perl-5.22.4/lib/site_perl/5.22.4/Test/Builder.pm line 337
	eval {...} called at /opt/perl-5.22.4/lib/site_perl/5.22.4/Test/Builder.pm line 337
	Test::Builder::subtest(Test::Builder=HASH(0x16bb680), "ignore_old", CODE(0x244ced0)) called at /opt/perl-5.22.4/lib/site_perl/5.22.4/Test/More.pm line 807
	Test::More::subtest("ignore_old", CODE(0x244ced0)) called at t/07_client_store.t line 106
t/07_client_store.t ......... ok
Secret string too short at /tmpfs/.cpan-build-cpansand/2018012603/HTTP-Session2-1.10-1/blib/lib/HTTP/Session2/Base.pm line 79.
	HTTP::Session2::Base::__ANON__(HTTP::Session2::Expired=HASH(0x2370eb0), 33333) called at t/08_expired.t line 7
t/08_expired.t .............. ok
# /dev/urandom available
# /dev/urandom(1): LwQy32obSWwBoirkNO-gkmtB-oAY4XL
# /dev/urandom(2): boqBgvgkWRoU8XXV2u7JMsFKAXt2zpm
# perl:            4efc075e9b88d98a6166b555101e7ba
t/09_random.t ............... ok
t/11_secret_string.t ........ ok
Secret string too short at /tmpfs/.cpan-build-cpansand/2018012603/HTTP-Session2-1.10-1/blib/lib/HTTP/Session2/Base.pm line 79.
	HTTP::Session2::Base::__ANON__(HTTP::Session2::ClientStore2=HASH(0x2aa7e08), "s3cret") called at t/client_store2/01_basic.t line 24
	main::__ANON__("client -> server: request without cookie", CODE(0x2aa7868)) called at t/client_store2/01_basic.t line 30
	main::__ANON__() called at /opt/perl-5.22.4/lib/site_perl/5.22.4/Test/Builder.pm line 337
	eval {...} called at /opt/perl-5.22.4/lib/site_perl/5.22.4/Test/Builder.pm line 337
	Test::Builder::subtest(Test::Builder=HASH(0x2102dd0), "First request", CODE(0x20c4160)) called at /opt/perl-5.22.4/lib/site_perl/5.22.4/Test/More.pm line 807
	Test::More::subtest("First request", CODE(0x20c4160)) called at t/client_store2/01_basic.t line 9
	main::scenario("First request", CODE(0x20c4160)) called at t/client_store2/01_basic.t line 36
Secret string too short at /tmpfs/.cpan-build-cpansand/2018012603/HTTP-Session2-1.10-1/blib/lib/HTTP/Session2/Base.pm line 79.
	HTTP::Session2::Base::__ANON__(HTTP::Session2::ClientStore2=HASH(0x2ab6518), "s3cret") called at t/client_store2/01_basic.t line 41
	main::__ANON__("client -> server: request without cookie", CODE(0x2a991a0)) called at t/client_store2/01_basic.t line 47
	main::__ANON__() called at /opt/perl-5.22.4/lib/site_perl/5.22.4/Test/Builder.pm line 337
	eval {...} called at /opt/perl-5.22.4/lib/site_perl/5.22.4/Test/Builder.pm line 337
	Test::Builder::subtest(Test::Builder=HASH(0x2102dd0), "Store something without login", CODE(0x20c4160)) called at /opt/perl-5.22.4/lib/site_perl/5.22.4/Test/More.pm line 807
	Test::More::subtest("Store something without login", CODE(0x20c4160)) called at t/client_store2/01_basic.t line 9
	main::scenario("Store something without login", CODE(0x20c4160)) called at t/client_store2/01_basic.t line 63
Secret string too short at /tmpfs/.cpan-build-cpansand/2018012603/HTTP-Session2-1.10-1/blib/lib/HTTP/Session2/Base.pm line 79.
	HTTP::Session2::Base::__ANON__(HTTP::Session2::ClientStore2=HASH(0x2abe678), "s3cret") called at t/client_store2/01_basic.t line 69
	main::__ANON__("client -> server: request without cookie", CODE(0x2ab6458)) called at t/client_store2/01_basic.t line 76
	main::__ANON__() called at /opt/perl-5.22.4/lib/site_perl/5.22.4/Test/Builder.pm line 337
	eval {...} called at /opt/perl-5.22.4/lib/site_perl/5.22.4/Test/Builder.pm line 337
	Test::Builder::subtest(Test::Builder=HASH(0x2102dd0), "Login", CODE(0x20c4160)) called at /opt/perl-5.22.4/lib/site_perl/5.22.4/Test/More.pm line 807
	Test::More::subtest("Login", CODE(0x20c4160)) called at t/client_store2/01_basic.t line 9
	main::scenario("Login", CODE(0x20c4160)) called at t/client_store2/01_basic.t line 96
Ciphertext does not begin with a valid header for 'salt' header mode at /tmpfs/.cpan-build-cpansand/2018012603/HTTP-Session2-1.10-1/blib/lib/HTTP/Session2/ClientStore2.pm line 81.
Ciphertext does not begin with a valid header for 'salt' header mode at /tmpfs/.cpan-build-cpansand/2018012603/HTTP-Session2-1.10-1/blib/lib/HTTP/Session2/ClientStore2.pm line 81.
Secret string too short at /tmpfs/.cpan-build-cpansand/2018012603/HTTP-Session2-1.10-1/blib/lib/HTTP/Session2/Base.pm line 79.
	HTTP::Session2::Base::__ANON__(HTTP::Session2::ClientStore2=HASH(0x2ac7010), "s3cret") called at t/client_store2/01_basic.t line 102
	main::__ANON__("client -> server: request without cookie", CODE(0x2ab5ca8)) called at t/client_store2/01_basic.t line 109
	main::__ANON__() called at /opt/perl-5.22.4/lib/site_perl/5.22.4/Test/Builder.pm line 337
	eval {...} called at /opt/perl-5.22.4/lib/site_perl/5.22.4/Test/Builder.pm line 337
	Test::Builder::subtest(Test::Builder=HASH(0x2102dd0), "In a login session", CODE(0x20c4160)) called at /opt/perl-5.22.4/lib/site_perl/5.22.4/Test/More.pm line 807
	Test::More::subtest("In a login session", CODE(0x20c4160)) called at t/client_store2/01_basic.t line 9
	main::scenario("In a login session", CODE(0x20c4160)) called at t/client_store2/01_basic.t line 118
Ciphertext does not begin with a valid header for 'salt' header mode at /tmpfs/.cpan-build-cpansand/2018012603/HTTP-Session2-1.10-1/blib/lib/HTTP/Session2/ClientStore2.pm line 81.
Secret string too short at /tmpfs/.cpan-build-cpansand/2018012603/HTTP-Session2-1.10-1/blib/lib/HTTP/Session2/Base.pm line 79.
	HTTP::Session2::Base::__ANON__(HTTP::Session2::ClientStore2=HASH(0x2aca1e0), "s3cret") called at t/client_store2/01_basic.t line 123
	main::__ANON__("client -> server: request without cookie", CODE(0x2ac3020)) called at t/client_store2/01_basic.t line 130
	main::__ANON__() called at /opt/perl-5.22.4/lib/site_perl/5.22.4/Test/Builder.pm line 337
	eval {...} called at /opt/perl-5.22.4/lib/site_perl/5.22.4/Test/Builder.pm line 337
	Test::Builder::subtest(Test::Builder=HASH(0x2102dd0), "Logout", CODE(0x20c4160)) called at /opt/perl-5.22.4/lib/site_perl/5.22.4/Test/More.pm line 807
	Test::More::subtest("Logout", CODE(0x20c4160)) called at t/client_store2/01_basic.t line 9
	main::scenario("Logout", CODE(0x20c4160)) called at t/client_store2/01_basic.t line 143
Ciphertext does not begin with a valid header for 'salt' header mode at /tmpfs/.cpan-build-cpansand/2018012603/HTTP-Session2-1.10-1/blib/lib/HTTP/Session2/ClientStore2.pm line 81.
t/client_store2/01_basic.t .. ok
t/client_store2/02_mech.t ... ok
t/client_store2/03_colon.t .. ok
All tests successful.
Files=14, Tests=84,  6 wallclock secs ( 0.06 usr  0.16 sys +  2.09 cusr  0.50 csys =  2.81 CPU)
Result: PASS

------------------------------
PREREQUISITES
------------------------------

Prerequisite modules loaded:

requires:

    Module                     Need     Have    
    -------------------------- -------- --------
    Cookie::Baker              0        0.07    
    Crypt::CBC                 0        2.33    
    Data::MessagePack          0        1.00    
    Digest::HMAC               0        1.03    
    Digest::SHA                0        5.98    
    Digest::SHA1               0        2.13    
    MIME::Base64               3.11     3.15    
    Mouse                      0        v2.5.1  
    parent                     0        0.232   
    perl                       5.008005 5.022004
    Time::HiRes                0        1.9751  

build_requires:

    Module                     Need     Have    
    -------------------------- -------- --------
    Crypt::Rijndael            0        1.13    
    Plack::Request             0        1.0044  
    Plack::Response            0        1.0044  
    Test::More                 0.98     1.302120
    Test::WWW::Mechanize::PSGI 0        0.37    

configure_requires:

    Module                     Need     Have    
    -------------------------- -------- --------
    Module::Build::Tiny        0.035    0.039   


------------------------------
ENVIRONMENT AND OTHER CONTEXT
------------------------------

Environment variables:

    LANG = C
    LC_ALL = de_DE.UTF-8
    PATH = /usr/local/bin:/usr/bin:/bin:/usr/local/sbin:/usr/sbin:/sbin:/home/cpansand/bin/linux-gnu:/home/cpansand/bin/sh:/home/cpansand/bin:/usr/games:/home/cpansand/devel:/home/eserte/src/srezic-misc/scripts
    PERL5LIB = 
    PERL5OPT = 
    PERL5_CPANPLUS_IS_RUNNING = 11167
    PERL5_CPAN_IS_RUNNING = 11167
    PERL5_CPAN_IS_RUNNING_IN_RECURSION = 8895,11167
    PERLDOC = -MPod::Perldoc::ToTextOverstrike
    PERL_BATCH = yes
    PERL_CANARY_STABILITY_NOPROMPT = 1
    PERL_CPAN_REPORTER_CONFIG = /var/tmp/cpansmoker-1023/2018012603/cpanreporter_000_config.ini
    PERL_EXTUTILS_AUTOINSTALL = --defaultdeps
    PERL_PARALLEL_SMOKER = yes
    PERL_USE_UNSAFE_INC = 1
    SHELL = /bin/zsh
    TERM = screen
    TMPDIR = /var/tmp/cpansmoker-1023/2018012603

Perl special variables (and OS-specific diagnostics, for MSWin32):

    $^X = /bbbike/perl-5.22.4/bin/perl
    $UID/$EUID = 1023 / 1023
    $GID = 1023 1023
    $EGID = 1023 1023

Perl module toolchain versions installed:

    Module              Have    
    ------------------- --------
    CPAN                2.16    
    CPAN::Meta          2.150010
    Cwd                 3.62    
    ExtUtils::CBuilder  0.280230
    ExtUtils::Command   7.30    
    ExtUtils::Install   2.06    
    ExtUtils::MakeMaker 7.30    
    ExtUtils::Manifest  1.70    
    ExtUtils::ParseXS   3.35    
    File::Spec          3.62    
    JSON                2.96    
    JSON::PP            2.96    
    Module::Build       0.4224  
    Module::Signature   0.81    
    Parse::CPAN::Meta   2.150010
    Test::Harness       3.39    
    Test::More          1.302120
    YAML                1.23    
    YAML::Syck          1.30    
    version             0.9918  


--

Summary of my perl5 (revision 5 version 22 subversion 4) configuration:
   
  Platform:
    osname=linux, osvers=3.16.0-4-amd64, archname=x86_64-linux
    uname='linux eserte 3.16.0-4-amd64 #1 smp debian 3.16.43-2+deb8u2 (2017-06-26) x86_64 gnulinux '
    config_args='-ds -e -Dprefix=/opt/perl-5.22.4 -Dcf_email=srezic@cpan.org'
    hint=recommended, useposix=true, d_sigaction=define
    useithreads=undef, usemultiplicity=undef
    use64bitint=define, use64bitall=define, uselongdouble=undef
    usemymalloc=n, bincompat5005=undef
  Compiler:
    cc='cc', ccflags ='-fwrapv -fno-strict-aliasing -pipe -fstack-protector-strong -I/usr/local/include -D_LARGEFILE_SOURCE -D_FILE_OFFSET_BITS=64 -D_FORTIFY_SOURCE=2',
    optimize='-O2',
    cppflags='-fwrapv -fno-strict-aliasing -pipe -fstack-protector-strong -I/usr/local/include'
    ccversion='', gccversion='4.9.2', gccosandvers=''
    intsize=4, longsize=8, ptrsize=8, doublesize=8, byteorder=12345678, doublekind=3
    d_longlong=define, longlongsize=8, d_longdbl=define, longdblsize=16, longdblkind=3
    ivtype='long', ivsize=8, nvtype='double', nvsize=8, Off_t='off_t', lseeksize=8
    alignbytes=8, prototype=define
  Linker and Libraries:
    ld='cc', ldflags =' -fstack-protector-strong -L/usr/local/lib'
    libpth=/usr/local/lib /usr/lib/gcc/x86_64-linux-gnu/4.9/include-fixed /usr/include/x86_64-linux-gnu /usr/lib /lib/x86_64-linux-gnu /lib/../lib /usr/lib/x86_64-linux-gnu /usr/lib/../lib /lib
    libs=-lpthread -lnsl -lgdbm -ldb -ldl -lm -lcrypt -lutil -lc -lgdbm_compat
    perllibs=-lpthread -lnsl -ldl -lm -lcrypt -lutil -lc
    libc=libc-2.19.so, so=so, useshrplib=false, libperl=libperl.a
    gnulibc_version='2.19'
  Dynamic Linking:
    dlsrc=dl_dlopen.xs, dlext=so, d_dlsymun=undef, ccdlflags='-Wl,-E'
    cccdlflags='-fPIC', lddlflags='-shared -O2 -L/usr/local/lib -fstack-protector-strong'


Characteristics of this binary (from libperl): 
  Compile-time options: HAS_TIMES PERLIO_LAYERS PERL_DONT_CREATE_GVSV
                        PERL_HASH_FUNC_ONE_AT_A_TIME_HARD PERL_MALLOC_WRAP
                        PERL_NEW_COPY_ON_WRITE PERL_PRESERVE_IVUV
                        USE_64_BIT_ALL USE_64_BIT_INT USE_LARGE_FILES
                        USE_LOCALE USE_LOCALE_COLLATE USE_LOCALE_CTYPE
                        USE_LOCALE_NUMERIC USE_LOCALE_TIME USE_PERLIO
                        USE_PERL_ATOF
  Built under linux
  Compiled at Jul 15 2017 19:41:58
  %ENV:
    PERL5LIB=""
    PERL5OPT=""
    PERL5_CPANPLUS_IS_RUNNING="11167"
    PERL5_CPAN_IS_RUNNING="11167"
    PERL5_CPAN_IS_RUNNING_IN_RECURSION="8895,11167"
    PERLDOC="-MPod::Perldoc::ToTextOverstrike"
    PERL_BATCH="yes"
    PERL_CANARY_STABILITY_NOPROMPT="1"
    PERL_CPAN_REPORTER_CONFIG="/var/tmp/cpansmoker-1023/2018012603/cpanreporter_000_config.ini"
    PERL_EXTUTILS_AUTOINSTALL="--defaultdeps"
    PERL_PARALLEL_SMOKER="yes"
    PERL_USE_UNSAFE_INC="1"
  @INC:
    /opt/perl-5.22.4/lib/site_perl/5.22.4/x86_64-linux
    /opt/perl-5.22.4/lib/site_perl/5.22.4
    /opt/perl-5.22.4/lib/5.22.4/x86_64-linux
    /opt/perl-5.22.4/lib/5.22.4
    .