Alien-spatialite v1.09 Perl 5 v5.36.0 x86_64-linux-thread-multi
- Status
- Pass
- From
- Slaven Rezić
- Dist
-
Alien-spatialite v1.09
- Platform
- Perl 5 v5.36.0 x86_64-linux-thread-multi
- Date
- 2023-04-24 10:07:44
- ID
- db28bf6a-e287-11ed-81a7-a8106e8775ea
This distribution has been tested as part of the CPAN Testers
project, supporting the Perl programming language. See
http://wiki.cpantesters.org/ for more information or email
questions to cpan-testers-discuss@perl.org
--
Dear Shawn Laffan,
This is a computer-generated report for Alien-spatialite-1.09
on perl 5.36.0, created by CPAN-Reporter-1.2018.
Thank you for uploading your work to CPAN. Congratulations!
All tests were successful.
Sections of this report:
* Tester comments
* Program output
* Prerequisites
* Environment and other context
------------------------------
TESTER COMMENTS
------------------------------
Additional comments from tester:
none provided
------------------------------
PROGRAM OUTPUT
------------------------------
Output from '/usr/bin/make test':
"/opt/perl-5.36.0t/bin/perl" -MAlien::Build::MM=cmd -e test
Alien::Build::Plugin::PkgConfig::Negotiate> Using PkgConfig plugin: PkgConfig::CommandLine
Downloaded spatialite version is 5.0.1
Running under CI or automated testing
PERL_DL_NONLAZY=1 "/opt/perl-5.36.0t/bin/perl" "-MExtUtils::Command::MM" "-MTest::Harness" "-e" "undef *Test::Harness::Switches; test_harness(0, 'blib/lib', 'blib/arch')" t/*.t
# Testing Alien::spatialite 1.09, Perl 5.036000, /opt/perl-5.36.0t/bin/perl
t/00-load.t .... ok
# NAME=spatialite
# VERSION=5.0.1
# CFLAGS: -I/opt/perl-5.36.0t/lib/site_perl/5.36.0/x86_64-linux-thread-multi/auto/share/dist/Alien-freexl/include -I/usr/include/x86_64-linux-gnu -I/opt/perl-5.36.0t/lib/site_perl/5.36.0/x86_64-linux-thread-multi/auto/share/dist/Alien-sqlite/include -I/opt/perl-5.36.0t/lib/site_perl/5.36.0/x86_64-linux-thread-multi/auto/share/dist/Alien-proj/include -I/opt/perl-5.36.0t/lib/site_perl/5.36.0/x86_64-linux-thread-multi/auto/share/dist/Alien-sqlite/include -I/usr/include/x86_64-linux-gnu -I/opt/perl-5.36.0t/lib/site_perl/5.36.0/x86_64-linux-thread-multi/auto/share/dist/Alien-sqlite/include -I/home/cpansand/.cpan/build/2023042410/Alien-spatialite-1.09-0/blib/lib/auto/share/dist/Alien-spatialite/include
t/01-config.t .. ok
# libs: -L/opt/perl-5.36.0t/lib/site_perl/5.36.0/x86_64-linux-thread-multi/auto/share/dist/Alien-freexl/lib -L/opt/perl-5.36.0t/lib/site_perl/5.36.0/x86_64-linux-thread-multi/auto/share/dist/Alien-sqlite/lib -L/opt/perl-5.36.0t/lib/site_perl/5.36.0/x86_64-linux-thread-multi/auto/share/dist/Alien-proj/lib -L/opt/perl-5.36.0t/lib/site_perl/5.36.0/x86_64-linux-thread-multi/auto/share/dist/Alien-sqlite/lib -L/opt/perl-5.36.0t/lib/site_perl/5.36.0/x86_64-linux-thread-multi/auto/share/dist/Alien-sqlite/lib -lfreexl -lm -ltiff -lsqlite3 -lz -lm -ldl -lpthread -lproj -lpthread -lstdc++ -lm -ldl -lsqlite3 -lz -lm -ldl -lpthread -ltiff -lwebp -lzstd -llzma -ljbig -ljpeg -lz -lm -lsqlite3 -lz -lm -ldl -lpthread -L/home/cpansand/.cpan/build/2023042410/Alien-spatialite-1.09-0/blib/lib/auto/share/dist/Alien-spatialite/lib -lspatialite -lfreexl -lproj -lsqlite3 -lz -lsqlite3 -lgeos_c -lm
# cflags: -I/opt/perl-5.36.0t/lib/site_perl/5.36.0/x86_64-linux-thread-multi/auto/share/dist/Alien-freexl/include -I/usr/include/x86_64-linux-gnu -I/opt/perl-5.36.0t/lib/site_perl/5.36.0/x86_64-linux-thread-multi/auto/share/dist/Alien-sqlite/include -I/opt/perl-5.36.0t/lib/site_perl/5.36.0/x86_64-linux-thread-multi/auto/share/dist/Alien-proj/include -I/opt/perl-5.36.0t/lib/site_perl/5.36.0/x86_64-linux-thread-multi/auto/share/dist/Alien-sqlite/include -I/usr/include/x86_64-linux-gnu -I/opt/perl-5.36.0t/lib/site_perl/5.36.0/x86_64-linux-thread-multi/auto/share/dist/Alien-sqlite/include -I/home/cpansand/.cpan/build/2023042410/Alien-spatialite-1.09-0/blib/lib/auto/share/dist/Alien-spatialite/include
# Dynamic libs: /home/cpansand/.cpan/build/2023042410/Alien-spatialite-1.09-0/blib/lib/auto/share/dist/Alien-spatialite/lib/libspatialite.so:/home/cpansand/.cpan/build/2023042410/Alien-spatialite-1.09-0/blib/lib/auto/share/dist/Alien-spatialite/lib/libspatialite.so.7:/home/cpansand/.cpan/build/2023042410/Alien-spatialite-1.09-0/blib/lib/auto/share/dist/Alien-spatialite/lib/libspatialite.so.7.1.2
# bin dir:
no bin dir found via bin_dir method
t/02-use.t ..... ok
All tests successful.
Test Summary Report
-------------------
t/02-use.t (Wstat: 0 Tests: 3 Failed: 0)
TODO passed: 3
Files=3, Tests=7, 1 wallclock secs ( 0.02 usr 0.01 sys + 0.62 cusr 0.07 csys = 0.72 CPU)
Result: PASS
------------------------------
PREREQUISITES
------------------------------
Prerequisite modules loaded:
requires:
Module Need Have
--------------------------------------- ------- --------
Alien::Base 1.41 2.78
Alien::Build 1.74 2.78
FFI::CheckLib 0.23 0.31
build_requires:
Module Need Have
--------------------------------------- ------- --------
Alien::Build 1.41 2.78
Alien::Build::MM 1.74 2.78
Alien::Build::Plugin::Cleanse::BuildDir 0 0.06
Alien::freexl 0 1.05
Alien::geos::af 1.007 1.011
Alien::patchelf 0 0.08
Alien::proj 0 1.25
Alien::sqlite 1.02 1.07
Archive::Tar 0 3.02
Config 0 5.036000
Env::ShellWords 0.01 0.02
ExtUtils::MakeMaker 6.52 7.70
FFI::CheckLib 0.23 0.31
File::Find::Rule 0 0.34
HTTP::Tiny 0.044 0.082
IO::Socket::SSL 1.56 2.081
IO::Zlib 0 1.14
Mojo::DOM58 1.00 3.001
Mozilla::CA 0 20221114
Net::SSLeay 1.49 1.92
Path::Tiny 0 0.144
PkgConfig 0.19026 0.25026
Sort::Versions 0 1.62
Test::Alien 0 2.78
URI 0 5.17
URI::Escape 0 5.17
configure_requires:
Module Need Have
--------------------------------------- ------- --------
Alien::Build 1.41 2.78
Alien::Build::MM 1.74 2.78
Alien::Build::Plugin::Build::SearchDep 0.53 2.78
Alien::Build::Plugin::Cleanse::BuildDir 0 0.06
Alien::freexl 0 1.05
Alien::geos::af 1.007 1.011
Alien::MSYS 0 0.17
Alien::proj 0 1.25
Alien::sqlite 1.02 1.07
ExtUtils::MakeMaker 6.52 7.70
File::Find::Rule 0 0.34
PkgConfig 0 0.25026
Sort::Versions 0 1.62
------------------------------
ENVIRONMENT AND OTHER CONTEXT
------------------------------
Environment variables:
LANG = C
PATH = /usr/local/bin:/usr/bin:/bin:/usr/local/sbin:/usr/sbin:/sbin:/home/cpansand/bin/linux-gnu:/home/cpansand/bin/sh:/home/cpansand/bin:/usr/games:/home/cpansand/devel:/home/eserte/src/srezic-misc/scripts
PERL5LIB =
PERL5OPT =
PERL5_CPANPLUS_IS_RUNNING = 9425
PERL5_CPAN_IS_RUNNING = 9425
PERL5_CPAN_IS_RUNNING_IN_RECURSION = 5731,9425
PERLDOC = -MPod::Perldoc::ToTextOverstrike
PERL_BATCH = yes
PERL_CANARY_STABILITY_NOPROMPT = 1
PERL_CPAN_REPORTER_CONFIG = /var/tmp/cpansmoker-1023/2023042409/cpanreporter_000_config.ini
PERL_EXTUTILS_AUTOINSTALL = --defaultdeps
PERL_USE_UNSAFE_INC = 1
SHELL = /usr/bin/zsh
TERM = screen
TMPDIR = /var/tmp/cpansmoker-1023/2023042409
Perl special variables (and OS-specific diagnostics, for MSWin32):
$^X = /opt/perl-5.36.0t/bin/perl
$UID/$EUID = 1023 / 1023
$GID = 1023 1023
$EGID = 1023 1023
Perl module toolchain versions installed:
Module Have
------------------- --------
CPAN 2.33
CPAN::Meta 2.150010
Cwd 3.84
ExtUtils::CBuilder 0.280236
ExtUtils::Command 7.70
ExtUtils::Install 2.22
ExtUtils::MakeMaker 7.70
ExtUtils::Manifest 1.73
ExtUtils::ParseXS 3.45
File::Spec 3.84
JSON 4.10
JSON::PP 4.16
Module::Build 0.4232
Module::Signature n/a
Parse::CPAN::Meta 2.150010
Test::Harness 3.44
Test::More 1.302194
YAML 1.30
YAML::Syck 1.34
version 0.9929
--
Summary of my perl5 (revision 5 version 36 subversion 0) configuration:
Platform:
osname=linux
osvers=4.19.0-21-amd64
archname=x86_64-linux-thread-multi
uname='linux cloud12.bbbike.org 4.19.0-21-amd64 #1 smp debian 4.19.249-2 (2022-06-30) x86_64 gnulinux '
config_args='-ds -e -Dprefix=/opt/perl-5.36.0t -Dusethreads -Dcf_email=srezic@cpan.org'
hint=recommended
useposix=true
d_sigaction=define
useithreads=define
usemultiplicity=define
use64bitint=define
use64bitall=define
uselongdouble=undef
usemymalloc=n
default_inc_excludes_dot=define
Compiler:
cc='cc'
ccflags ='-D_REENTRANT -D_GNU_SOURCE -fwrapv -fno-strict-aliasing -pipe -fstack-protector-strong -I/usr/local/include -D_LARGEFILE_SOURCE -D_FILE_OFFSET_BITS=64 -D_FORTIFY_SOURCE=2'
optimize='-O2'
cppflags='-D_REENTRANT -D_GNU_SOURCE -fwrapv -fno-strict-aliasing -pipe -fstack-protector-strong -I/usr/local/include'
ccversion=''
gccversion='8.3.0'
gccosandvers=''
intsize=4
longsize=8
ptrsize=8
doublesize=8
byteorder=12345678
doublekind=3
d_longlong=define
longlongsize=8
d_longdbl=define
longdblsize=16
longdblkind=3
ivtype='long'
ivsize=8
nvtype='double'
nvsize=8
Off_t='off_t'
lseeksize=8
alignbytes=8
prototype=define
Linker and Libraries:
ld='cc'
ldflags =' -fstack-protector-strong -L/usr/local/lib'
libpth=/usr/local/lib /usr/lib/x86_64-linux-gnu /usr/lib /usr/lib64
libs=-lpthread -lnsl -lgdbm -ldb -ldl -lm -lcrypt -lutil -lc
perllibs=-lpthread -lnsl -ldl -lm -lcrypt -lutil -lc
libc=libc-2.28.so
so=so
useshrplib=false
libperl=libperl.a
gnulibc_version='2.28'
Dynamic Linking:
dlsrc=dl_dlopen.xs
dlext=so
d_dlsymun=undef
ccdlflags='-Wl,-E'
cccdlflags='-fPIC'
lddlflags='-shared -O2 -L/usr/local/lib -fstack-protector-strong'
Characteristics of this binary (from libperl):
Compile-time options:
HAS_TIMES
MULTIPLICITY
PERLIO_LAYERS
PERL_COPY_ON_WRITE
PERL_DONT_CREATE_GVSV
PERL_MALLOC_WRAP
PERL_OP_PARENT
PERL_PRESERVE_IVUV
USE_64_BIT_ALL
USE_64_BIT_INT
USE_ITHREADS
USE_LARGE_FILES
USE_LOCALE
USE_LOCALE_COLLATE
USE_LOCALE_CTYPE
USE_LOCALE_NUMERIC
USE_LOCALE_TIME
USE_PERLIO
USE_PERL_ATOF
USE_REENTRANT_API
USE_THREAD_SAFE_LOCALE
Built under linux
Compiled at Oct 7 2022 18:23:20
%ENV:
PERL5LIB=""
PERL5OPT=""
PERL5_CPANPLUS_IS_RUNNING="9425"
PERL5_CPAN_IS_RUNNING="9425"
PERL5_CPAN_IS_RUNNING_IN_RECURSION="5731,9425"
PERLDOC="-MPod::Perldoc::ToTextOverstrike"
PERL_BATCH="yes"
PERL_CANARY_STABILITY_NOPROMPT="1"
PERL_CPAN_REPORTER_CONFIG="/var/tmp/cpansmoker-1023/2023042409/cpanreporter_000_config.ini"
PERL_EXTUTILS_AUTOINSTALL="--defaultdeps"
PERL_USE_UNSAFE_INC="1"
@INC:
/opt/perl-5.36.0t/lib/site_perl/5.36.0/x86_64-linux-thread-multi
/opt/perl-5.36.0t/lib/site_perl/5.36.0
/opt/perl-5.36.0t/lib/5.36.0/x86_64-linux-thread-multi
/opt/perl-5.36.0t/lib/5.36.0
.