Acme-TLDR v0.004 Perl 5 v5.26.0 x86_64-linux
- Status
- Pass
- From
- Slaven Rezić (SREZIC)
- Dist
- Acme-TLDR v0.004
- Platform
- Perl 5 v5.26.0 x86_64-linux
- Date
- 2017-12-10 20:29:43
- ID
- dac74dd8-dde8-11e7-bb47-a993c243309e
This distribution has been tested as part of the CPAN Testers
project, supporting the Perl programming language. See
http://wiki.cpantesters.org/ for more information or email
questions to cpan-testers-discuss@perl.org
--
Dear Stanislaw Pusep,
This is a computer-generated report for Acme-TLDR-0.004
on perl 5.26.0, created by CPAN-Reporter-1.2018.
Thank you for uploading your work to CPAN. Congratulations!
All tests were successful.
Sections of this report:
* Tester comments
* Program output
* Prerequisites
* Environment and other context
------------------------------
TESTER COMMENTS
------------------------------
Additional comments from tester:
none provided
------------------------------
PROGRAM OUTPUT
------------------------------
Output from '/usr/bin/make test':
PERL_DL_NONLAZY=1 "/opt/perl-5.26.0/bin/perl" "-MExtUtils::Command::MM" "-MTest::Harness" "-e" "undef *Test::Harness::Switches; test_harness(0, 'blib/lib', 'blib/arch')" t/*.t
t/00-compile.t ............... ok
# Acme::TLDR v0.004, Perl 5.026000, /opt/perl-5.26.0/bin/perl
t/00-load.t .................. ok
ExtUtils::Installed cache: /home/cpansand/.local/share/.Acme-TLDR-0917a36e4316fde8722d966f4d6f2fd5.cache
no cache found; generating
AI::ConfusionMatrix => AI::CM
API::Drip::Request => API::D::R
APISchema => APIS
ARGV::Struct => ARGV::S
Acme::Affinity => A::A
Acme::CPANAuthors => A::CPANA
Acme::CPANAuthors::Chinese => A::CPANA::C
Acme::CPANAuthors::Indonesian => A::CPANA::I
Acme::CPANLists::PERLANCAR => A::CPANL::PERLANCAR
Acme::Damn => A::D
Acme::DotDotGone => A::DotDotG
Acme::Eatemup => A::E
Acme::ID::CompanyName => A::ID::CN
Acme::Kiyoshi::Array => A::K::A
Acme::LOLCAT => A::LOLCAT
Acme::OCEORA::Utils => A::OCEORA::U
Acme::Playpen => A::P
Acme::Undead => A::U
Action::Retry => A::R
ActiveRecord::Simple => AR::S
Adapter::Async => *undef*
Address::PostCode::Australia => A::PC::A
Address::PostCode::UserAgent => A::PC::UA
Algorithm::BinarySearch::Vec => A::BS::Vec
Algorithm::C3 => A::C3
Algorithm::Combinatorics => A::C
Algorithm::Cron => *undef*
Algorithm::DecisionTree => A::DT
Algorithm::Dependency => *undef*
Algorithm::Diff => *undef*
Algorithm::Diff::XS => A::D::XS
Algorithm::HyperLogLog => A::HLogLog
Algorithm::LCSS => A::LCSS
Algorithm::Loops => A::L
Algorithm::Munkres => A::M
Algorithm::Permute => *undef*
Alias::Any => A::Any
Alien::ActiveMQ => A::AMQ
Alien::Autotools => *undef*
Alien::Base => A::B
Alien::Base::ModuleBuild => A::B::MB
Alien::Build => *undef*
Alien::Build::Git => A::B::Git
Alien::Build::MB => *undef*
Alien::Build::Plugin::Build::CMake => A::B::P::B::CM
Alien::Build::Plugin::Build::Make => A::B::P::B::M
Alien::Build::Plugin::Fetch::Cache => A::B::P::F::C
Alien::Build::Plugin::Fetch::PromptBeforeDownload => A::B::P::F::PBD
Alien::Build::Plugin::Probe::GnuWin32 => A::B::P::P::GnuWin32
Alien::CMake => A::CM
Alien::FFI => A::FFI
Alien::GMP => A::GMP
Alien::Gnuplot => A::G
Alien::GvaScript => A::GvaS
Alien::JPCRE2 => A::JPCRE2
Alien::Libarchive3 => A::L3
Alien::Libxml2 => A::L2
Alien::MSYS => A::MSYS
Alien::PCRE2 => A::PCRE2
Alien::ProtoBuf => A::PBuf
Alien::Role::Alt => A::R::Alt
Alien::Role::Dino => A::R::D
Alien::SeleniumRC => A::SRC
Alien::Sodium => A::S
Alien::SwaggerUI => A::SUI
Alien::Tidyp => A::T
Alien::TinyCC => A::TCC
Alien::XGBoost => A::XGB
Alien::ZMQ::latest => A::ZMQ::l
Alien::astyle => A::a
Alien::autoconf => *undef*
Alien::automake => *undef*
Alien::cmake3 => A::c3
Alien::gmake => A::g
Alien::gzip => *undef*
Alien::libpid => A::l
Alien::libtermkey => *undef*
Alien::libtool => *undef*
Alien::libtool24 => A::l24
Alien::libudev => *undef*
Alien::libuv => *undef*
Alien::libvas => *undef*
Alien::m4 => A::m4
Alien::nasm => A::n
Alien::uPB => A::uPB
Alien::unibilium => A::u
Amazon::S3::SignedURLGenerator => A::S3::SURLG
Amiga::ARexx => A::AR
Amiga::Exec => *undef*
Android::Build => *undef*
Android::Releases => *undef*
AnnoCPAN::Perldoc => ACPAN::P
Any::Moose => Any::M
Any::URI::Escape => Any::URI::E
AnyDBM_File => AnyDBM_F
AnyDBM_File::Importer => AnyDBM_F::I
AnyEvent => AnyE
AnyEvent::AIO => AnyE::AIO
AnyEvent::BDB => AnyE::BDB
AnyEvent::Consul => AnyE::C
AnyEvent::Consul::Exec => AnyE::C::E
AnyEvent::DNS::EtcHosts => AnyE::DNS::EtcH
AnyEvent::Delay => AnyE::D
AnyEvent::FileLock => AnyE::FL
AnyEvent::Filesys::Notify => AnyE::F::N
AnyEvent::FriendFeed::Realtime => AnyE::FF::R
AnyEvent::Future => AnyE::F
AnyEvent::HTTP => AnyE::HTTP
AnyEvent::HTTP::Message => AnyE::HTTP::M
AnyEvent::Handle::UDP => AnyE::H::UDP
AnyEvent::IRC => AnyE::IRC
AnyEvent::Impl::Prima => AnyE::I::P
AnyEvent::MockTCPServer => AnyE::MTCPS
AnyEvent::Open3::Simple => AnyE::O3::S
AnyEvent::Ping => AnyE::P
AnyEvent::ProcessPool => AnyE::PP
AnyEvent::RabbitMQ => AnyE::RMQ
AnyEvent::RabbitMQ::PubSub => AnyE::RMQ::PubSub
AnyEvent::RipeRedis => AnyE::RR
AnyEvent::SlackRTM => AnyE::SRTM
AnyEvent::Twitter => AnyE::T
AnyEvent::Twitter::Stream => AnyE::T::S
AnyEvent::WebSocket::Client => AnyE::WebS::C
AnySan::Provider::Slack => AnySan::P::S
Apache::LogFormat::Compiler => A::LogF::C
Apache::Session => *undef*
Apache::Session::MongoDB => A::S::MDB
Apache::Test => *undef*
App-Git-Workflow => App-Git-W
App::ANSIColorUtils => App::ANSICU
App::AlgorithmDiffUtils => App::ADU
App::BencherUtils => App::BU
App::CGIThis => App::CGIT
App::CISetup => App::CIS
App::CPANMetaUtils => App::CPANMU
App::CPANTS::Lint => App::CPANTS::L
App::CSVUtils => App::CSVU
App::Cmd::Plugin::Prompt => App::Cmd::P::P
App::CompleteUtils => App::CU
App::ConvertLogAnyToLogGer => App::CLogAnyToLogGer
App::Cpan => App::C
App::CreateSparseFile => App::CSF
App::Critique => *undef*
App::DiffCPANReleases => App::DCPANR
App::DiffTarballs => App::DT
App::Dochazka::Common => App::D::C
App::Dochazka::REST => App::D::REST
App::Dochazka::WWW => App::D::WWW
App::Elog => App::E
App::Environ => *undef*
App::Environ::ClickHouse => App::E::CH
App::Environ::ClickHouse::Proxy => App::E::CH::P
App::EvalServerAdvanced => App::ESA
App::EvalServerAdvanced::ConstantCalc => App::ESA::CC
App::EvalServerAdvanced::Protocol => App::ESA::P
App::FatPacker => App::FatP
App::FilterUtils => App::FU
App::Genpass::ID => App::G::ID
App::Genpass::WordList => App::G::WL
App::Git::Autofixup => App::Git::A
App::Greple => App::G
App::GroupSecret => App::GS
App::Licensecheck => App::L
App::ListNewCPANDists => App::LNewCPAND
App::MonM::Notifier => App::MonM::N
App::MultiSsh => App::MSsh
App::Music::ChordPro => App::M::CPro
App::Muter => App::M
App::MysqlUtils => App::MU
App::Nopaste => App::N
App::PMUtils => App::PMU
App::PerlCriticUtils => App::PCU
App::PlUtils => App::PlU
App::Pod2CpanHtml => App::Pod2CH
App::Pods2Site => App::P2S
App::Prove => App::P
App::Prove::Plugin::CumulativeTimer => App::P::P::CT
App::Prove::State => App::P::S
App::Prove::State::Result => App::P::S::R
App::Prove::State::Result::Test => App::P::S::R::T
App::RecordStream => App::RS
App::RecordStream::Bio => App::RS::Bio
App::RegexFileUtils => App::RFU
App::RemoteCommand => App::RC
App::SSH::SwitchShell => App::SSH::SS
App::ScanPrereqs => App::SP
App::SerializeUtils => App::SU
App::ShellCompleter::cpanm => App::SC::c
App::SimulateReads => App::SR
App::Spec => App::S
App::Sqitch => *undef*
App::Sybil => *undef*
App::TestOnTap => App::TOnTap
App::Toodledo => App::T
App::VTide => App::VT
App::WatchLater => App::WL
App::bovespa => App::b
App::btcindo => *undef*
App::calendr => App::c
App::corruptor => *undef*
App::cpangitify => *undef*
App::cpanm::script => App::c::s
App::cpanm::shcompgen => *undef*
App::cpanminus => *undef*
App::cpanminus::script::Patch::Blacklist => App::c::s::P::B
App::cpanminus::script::Patch::RunShcompgen => App::c::s::P::RunS
App::csv2sqlite => App::csv2
App::dbinfo => App::d
App::depak => *undef*
App::diffwc => *undef*
App::docsisious => *undef*
App::git::ship => App::git::s
App::lcpan => App::l
App::lcpan::Call => App::l::C
App::local::lib::helper => App::l::lib::h
App::lsiommu => *undef*
App::lsnic => *undef*
App::manwrap::pm => App::m::pm
App::mysqlinfo => App::m
App::nauniq => App::n
App::optex => App::o
App::orgdaemon => *undef*
App::padconsole => App::p
App::pause => *undef*
App::perlbrew => *undef*
App::perlminlint => *undef*
App::perlmv::u => App::p::u
App::pmpatcher => *undef*
App::reposdb => App::r
App::rmspaces => *undef*
App::rsync::new2old => App::r::new2
App::shcompgen => App::s
App::tracepm => App::t
App::watchdo => App::w
App::wordlist => *undef*
AppConfig => AppC
Archive::Any::Lite => A::Any::L
Archive::Ar => A::Ar
Archive::Ar::Libarchive => A::Ar::L
Archive::BagIt => A::BagIt
Archive::Extract => *undef*
Archive::Libarchive::FFI => A::L::FFI
Archive::Tar => A::Tar
Archive::Tar::Constant => A::Tar::C
Archive::Tar::File => A::Tar::F
Archive::Tar::Wrapper => A::Tar::W
Archive::Zip => A::Zip
Array::Base => *undef*
Array::Columnize => *undef*
Array::Compare => *undef*
Array::Diff => *undef*
Array::Merge::Unique => A::M::U
Array::RefElem => A::RefE
Array::Unique => *undef*
Array::Utils => *undef*
AsposeStorageCloud::StorageApi => ASC::SApi
Assert::Conditional => *undef*
Astro::Coord::ECI => A::C::ECI
Astro::FITS::CFITSIO => A::FITS::CFITSIO
Astro::FITS::Header => A::FITS::H
Astro::SpaceTrack => A::ST
Astro::Utils => *undef*
Async::Interrupt => A::I
Async::Simple::Pool => A::S::P
Async::Stream => *undef*
Async::Trampoline => *undef*
AtteanX::Endpoint => AX::E
Attribute::Handlers => A::H
Attribute::Lexical => *undef*
Audio::Opusfile => A::O
Audio::SID => A::SID
Audio::Scan => *undef*
Authen::DecHpwd => A::DecH
Authen::Htpasswd => *undef*
Authen::NTLM => A::NTLM
Authen::OATH => A::OATH
Authen::Passphrase => *undef*
Authen::SASL => A::SASL
Authen::SASL::SASLprep => A::SASL::SASL
Authen::SCRAM => A::SCRAM
Authen::Simple => *undef*
Authen::TuringImage => A::TI
Authen::U2F => A::U2F
Auto::Mata => *undef*
AutoLoader => AL
AutoSplit => AS
Aws::Polly::Select => Aws::P::S
B::CallChecker => B::CC
B::CodeLines => B::CL
B::CompilerPhase::Hook => B::CP::H
B::Concise => B::C
B::Debug => B::D
B::Deparse => *undef*
B::DeparseTree => B::DT
B::Flags => B::F
B::Generate => B::G
B::Hooks::AtRuntime => B::H::AtR
B::Hooks::EndOfScope => B::H::EndOfS
B::Hooks::OP::Annotation => B::H::OP::A
B::Hooks::OP::Check => B::H::OP::C
B::Hooks::OP::PPAddr => B::H::OP::PPA
B::Hooks::Parser => B::H::P
B::Keywords => B::K
B::Op_private => B::O
B::Showlex => B::S
B::Terse => B::T
B::Utils => B::U
B::Xref => B::X
BEGIN::Lift => BEGIN::L
BSD::Resource => BSD::R
Batch::Interpreter => B::I
Beam::Emitter => B::E
Beam::Minion => B::M
Beam::Runner => B::R
Beam::Service => *undef*
Beam::Wire => B::W
Bencher::Backend => B::B
Bencher::Scenario::ListingProcesses => B::S::LP
Bencher::Scenario::MemoryInfo => B::S::MI
Bencher::Scenarios::AlgorithmDiff => B::S::AD
Bencher::Scenarios::DateModules => B::S::DM
Bencher::Scenarios::FileFlockRetry => B::S::FFR
Bencher::Scenarios::LogGer => B::S::LogGer
Bencher::Scenarios::SPVM => B::S::SPVM
BerkeleyDB => *undef*
Bible::Reference => *undef*
Bio-Sampling-Valection => Bio-S-V
Bio::Coordinate => Bio::C
Bio::Gonzales => Bio::G
Bio::Graphics => *undef*
Bio::Phylo => Bio::P
Bio::Phylo::Forest::DBTree => Bio::P::F::DBT
Bio::SeqHash => Bio::SeqH
Bio::ToolBox => Bio::TBox
BioX::Workflow::Command => BioX::W::C
Bit::MorseSignals => Bit::MS
Bit::Vector => Bit::V
Bitmask::Data => *undef*
Blessed::Merge => *undef*
Border::Style => *undef*
Bot::IRC::X::Reminder => Bot::IRC::X::R
Browser::Open => *undef*
Bundle::CPAN => B::CPAN
Business::BR::CNJ::WebService => B::BR::CNJ::WebS
Business::Bitcoin => *undef*
Business::ES::NIF => B::ES::NIF
Business::Fixflo => *undef*
Business::GoCardless => B::GoC
Business::ISBN => B::ISBN
Business::ISBN::Data => B::ISBN::D
Business::KontoCheck => B::KC
Business::Monzo => *undef*
Business::OnlinePayment => B::OP
Business::OnlinePayment::DLocal => B::OP::DL
Business::Tax::ID::PPH21 => B::Tax::ID::PPH21
Business::Tax::VAT::Validation => B::Tax::VAT::V
Bytes::Random::Secure => B::R::S
C::Scan::Constants => C::S::C
C::Tokenize => C::T
C::Utility => C::U
CGI::BrowserDetect => CGI::BD
CGI::Buffer => CGI::B
CGI::Compile => CGI::C
CGI::Deurl::XS => CGI::D::XS
CGI::Emulate::PSGI => CGI::E::PSGI
CGI::Expand => CGI::E
CGI::Fast => CGI::F
CGI::Info => CGI::I
CGI::Simple => CGI::S
CGI::Struct => *undef*
CHI::Driver::Cache::RedisDB => CHI::D::C::RDB
CLDR::Number => CLDR::N
CLI::Helpers => CLI::H
CLI::Osprey => CLI::O
CLI::Startup => CLI::S
CPAN::Author => CPAN::A
CPAN::Bundle => CPAN::B
CPAN::CacheMgr => CPAN::CMgr
CPAN::Changes => CPAN::C
CPAN::Checksums => *undef*
CPAN::Common::Index => CPAN::C::I
CPAN::Complete => *undef*
CPAN::Debug => CPAN::D
CPAN::DeferredCode => CPAN::DC
CPAN::DistnameInfo => CPAN::DI
CPAN::Distribution => *undef*
CPAN::Distroprefs => *undef*
CPAN::Distrostatus => *undef*
CPAN::Exception::RecursiveDependency => CPAN::E::RD
CPAN::Exception::blocked_urllist => CPAN::E::b
CPAN::Exception::yaml_not_installed => CPAN::E::y
CPAN::Exception::yaml_process_error => *undef*
CPAN::FTP::netrc => CPAN::FTP::n
CPAN::FirstTime => CPAN::FT
CPAN::HTTP::Client => CPAN::HTTP::C
CPAN::HTTP::Credentials => *undef*
CPAN::HandleConfig => CPAN::HC
CPAN::Index => CPAN::I
CPAN::InfoObj => CPAN::IObj
CPAN::Kwalify => CPAN::K
CPAN::LWP::UserAgent => CPAN::LWP::UA
CPAN::Meta => CPAN::M
CPAN::Meta::Check => CPAN::M::C
CPAN::Meta::Converter => *undef*
CPAN::Meta::Feature => CPAN::M::F
CPAN::Meta::History => CPAN::M::H
CPAN::Meta::Merge => CPAN::M::M
CPAN::Meta::Prereqs => CPAN::M::P
CPAN::Meta::Requirements => CPAN::M::R
CPAN::Meta::Spec => CPAN::M::S
CPAN::Meta::Validator => CPAN::M::V
CPAN::Meta::YAML => CPAN::M::YAML
CPAN::Mini => *undef*
CPAN::Mini::Inject => CPAN::M::I
CPAN::Mirror::Tiny => CPAN::M::T
CPAN::Mirrors => *undef*
CPAN::Module => *undef*
CPAN::Perl::Releases => CPAN::P::R
CPAN::Perl::Releases::MetaCPAN => CPAN::P::R::MCPAN
CPAN::Plugin => CPAN::P
CPAN::Plugin::Specfile => CPAN::P::S
CPAN::Plugin::Sysdeps => *undef*
CPAN::Prompt => *undef*
CPAN::Queue => CPAN::Q
CPAN::ReleaseHistory => CPAN::RH
CPAN::Reporter => CPAN::R
CPAN::Reporter::Smoker::OpenBSD => CPAN::R::S::OBSD
CPAN::Shell => CPAN::S
CPAN::Tarzip => CPAN::T
CPAN::Testers::API => CPAN::T::API
CPAN::Testers::Report => CPAN::T::R
CPAN::Testers::Schema => CPAN::T::S
CPAN::Uploader => CPAN::U
CPAN::Version => CPAN::V
CPP::panda::lib => CPP::p::lib
CQL::Parser => CQL::P
CSS::Minifier::XS => CSS::M::XS
CSS::Packer => CSS::P
CSS::Sass => CSS::S
CSS::Scopifier => *undef*
CSS::Tiny => CSS::T
Cache::Cache => C::C
Cache::FastMmap => C::FM
Cache::LRU => C::LRU
Cache::RedisDB => C::RDB
Calendar::Hebrew => C::H
Calendar::Plugin::Renderer => C::P::R
CallBackery => CB
Canary::Stability => C::S
Captcha::noCAPTCHA => C::noCAPTCHA
Captcha::reCAPTCHA => C::reCAPTCHA
Capture::Tiny => *undef*
Carp::Always => C::A
Carp::Assert => *undef*
Carp::Assert::More => C::A::M
Carp::Clan => *undef*
Carp::Heavy => *undef*
Catalyst::Action::REST => C::A::REST
Catalyst::Action::RenderView => C::A::RV
Catalyst::ActionRole::JSV => C::AR::JSV
Catalyst::ActionRole::Public => C::AR::P
Catalyst::Authentication::Credential::HTTP => C::A::C::HTTP
Catalyst::Authentication::Store::DBIx::Class => C::A::S::DBIx::C
Catalyst::Authentication::Store::Htpasswd => C::A::S::H
Catalyst::Component::InstancePerContext => C::C::IPerC
Catalyst::Controller::ActionRole => C::C::AR
Catalyst::Controller::AutoAssets => C::C::AA
Catalyst::Controller::Public => C::C::P
Catalyst::Controller::SimpleCAS => C::C::SCAS
Catalyst::Devel => C::D
Catalyst::Helper::View::SemanticUI => C::H::V::SUI
Catalyst::Model::DBIC::Schema => C::M::DBIC::S
Catalyst::Plugin::Authentication => C::P::A
Catalyst::Plugin::Authorization::Roles => C::P::A::R
Catalyst::Plugin::ConfigLoader => C::P::CL
Catalyst::Plugin::File::RotateLogs => C::P::F::RL
Catalyst::Plugin::InjectionHelpers => C::P::IH
Catalyst::Plugin::Session => C::P::S
Catalyst::Plugin::Session::PerUser => C::P::S::PerU
Catalyst::Plugin::Session::PerUser::AutoLogout => C::P::S::PerU::AL
Catalyst::Plugin::Session::State::Cookie => C::P::S::S::C
Catalyst::Plugin::Session::Store::DBIC => C::P::S::S::DBIC
Catalyst::Plugin::Session::Store::Delegate => C::P::S::S::D
Catalyst::Plugin::Static::Simple => C::P::S::S
Catalyst::Runtime => C::R
Catalyst::TraitFor::Controller::reCAPTCHA => C::TFor::C::reCAPTCHA
Catalyst::View::JSON => C::V::JSON
Catalyst::View::MicroTemplate::DataSection => C::V::MT::DS
Catalyst::View::TT => C::V::TT
Catalyst::View::XLSX => C::V::XLSX
CatalystX::AppBuilder => CX::AppB
CatalystX::Component::Traits => CX::C::T
CatalystX::InjectComponent => CX::IC
CatalystX::OAuth2 => CX::OA2
Catmandu::AAT => C::AAT
Catmandu::Adlib => *undef*
Catmandu::BagIt => C::BagIt
Catmandu::DBI => C::DBI
Catmandu::FedoraCommons => C::FC
Catmandu::Fix::Datahub => C::Fix::D
Catmandu::Importer::PDF => C::I::PDF
Catmandu::LIDO => C::LIDO
Catmandu::MAB2 => C::MAB2
Catmandu::MARC => C::MARC
Catmandu::MODS => C::MODS
Catmandu::MediaHaven => C::MH
Catmandu::OAI => C::OAI
Catmandu::PICA => C::PICA
Catmandu::Pure => C::P
Catmandu::Resolver => *undef*
Catmandu::SRU => C::SRU
Catmandu::Solr => *undef*
Catmandu::Store::Datahub => C::S::D
Catmandu::Template => *undef*
Catmandu::VIAF => C::VIAF
Catmandu::WoS => C::WoS
Catmandu::XML => C::XML
CentOS::Releases => COS::R
Centrifugo::Client => *undef*
Ceph::Rados => *undef*
Chart::Clicker => *undef*
Chart::Gnuplot => C::G
Chart::Plotly => *undef*
Chatbot::Eliza => C::E
Check::ISA => C::ISA
Check::UnitCheck => C::UC
Chess::ELO::FEDA => C::ELO::FEDA
Cisco::Reconfig => *undef*
Cisco::SNMP => C::SNMP
ClamAV::Client => CAV::C
Class::Accessor => *undef*
Class::Accessor::Array => C::A::A
Class::Accessor::Array::Glob => C::A::A::G
Class::Accessor::Array::Slurpy => C::A::A::S
Class::Accessor::Chained => C::A::C
Class::Accessor::Grouped => C::A::G
Class::Accessor::Lite => C::A::L
Class::Accessor::Lite::Lazy => C::A::L::L
Class::Accessor::Lvalue => *undef*
Class::Accessor::PackedString => C::A::PS
Class::Accessor::PackedString::Set => C::A::PS::Set
Class::Adapter => *undef*
Class::AutoClass => C::AC
Class::AutoDB => C::ADB
Class::Autouse => *undef*
Class::C3 => C::C3
Class::C3::Adopt::NEXT => C::C3::A::NEXT
Class::C3::Componentised => C::C3::C
Class::Data::Inheritable => C::D::I
Class::Date => *undef*
Class::Default => *undef*
Class::ErrorHandler => C::EH
Class::Factory => C::F
Class::Factory::Util => C::F::U
Class::Fields => *undef*
Class::GenSource => C::GenS
Class::Gomor => *undef*
Class::ISA => *undef*
Class::InsideOut => C::IOut
Class::Inspector => C::I
Class::Iterator => *undef*
Class::Load => C::L
Class::Load::XS => C::L::XS
Class::Loader => *undef*
Class::Member => C::M
Class::Method::Modifiers => C::M::M
Class::Method::Modifiers::Fast => C::M::M::F
Class::MethodMaker => C::MM
Class::Mix => C::Mix
Class::Monadic => *undef*
Class::Observable => C::O
Class::Ref => C::Ref
Class::Refresh => *undef*
Class::ReturnValue => C::RV
Class::Singleton => *undef*
Class::Std => C::Std
Class::Std::Fast => C::Std::F
Class::Struct => *undef*
Class::Tiny => *undef*
Class::Tiny::Antlers => C::T::A
Class::Trigger => *undef*
Class::Unload => *undef*
Class::XSAccessor => C::XSA
ClearPress => CP
Clone::Choose => *undef*
Clone::PP => C::PP
Clone::Util => *undef*
Clownfish::CFC => C::CFC
Clustericious::Admin => *undef*
Cmd::Dwarf => Cmd::D
Code::TidyAll => C::TAll
Code::TidyAll::Plugin::Perl::AlignMooseAttributes => C::TAll::P::P::AMA
Code::TidyAll::Plugin::YAMLFrontMatter => C::TAll::P::YAMLFM
Coerce::Types::Standard => C::T::S
Color::ANSI::Util => C::ANSI::U
Color::Library => *undef*
Color::RGB::Util => C::RGB::U
Color::Scheme => *undef*
Color::Theme => *undef*
Combine::Keys => C::K
Compiler::Lexer => *undef*
Complete::Bash => C::B
Complete::Common => *undef*
Complete::Dist => *undef*
Complete::Dist::Zilla => C::D::Z
Complete::Env => C::Env
Complete::File => *undef*
Complete::Fish => *undef*
Complete::Fish::Gen::FromGetoptLong => C::F::Gen::FGL
Complete::Fish::Gen::FromGetoptLongDescriptive => C::F::Gen::FGLD
Complete::Fish::Gen::FromPerinciCmdLine => C::F::Gen::FPCmdL
Complete::Getopt::Long => C::G::L
Complete::Host => *undef*
Complete::Kernel => *undef*
Complete::Locale => *undef*
Complete::MAC => C::MAC
Complete::Man => C::Man
Complete::Module => *undef*
Complete::Number => C::N
Complete::Path => *undef*
Complete::Perl => *undef*
Complete::Pod::Weaver => C::Pod::W
Complete::Program => *undef*
Complete::Regexp::Pattern => C::R::P
Complete::Riap => *undef*
Complete::Riap::Clientless => C::R::C
Complete::TZ => C::TZ
Complete::Tcsh => *undef*
Complete::Unix => *undef*
Complete::Util => *undef*
Complete::Zsh => C::Zsh
Complete::Zsh::Gen::FromGetoptLong => C::Zsh::Gen::FGL
Complete::Zsh::Gen::FromGetoptLongDescriptive => C::Zsh::Gen::FGLD
Complete::Zsh::Gen::FromPerinciCmdLine => C::Zsh::Gen::FPCmdL
Compress::Bzip2 => C::B2
Compress::Huffman => *undef*
Compress::LZ4Frame => C::LZ4F
Compress::Raw::Bzip2 => C::Raw::B2
Compress::Raw::Lzma => C::Raw::L
Compress::Raw::Zlib => C::Raw::Z
Compress::Snappy => *undef*
Compress::Zlib => C::Z
Compress::Zstd => *undef*
Config::Any => C::Any
Config::Augeas => *undef*
Config::AutoConf => *undef*
Config::AutoConf::INI => C::AC::INI
Config::Extensions => *undef*
Config::General => *undef*
Config::GitLike => C::GitL
Config::Grammar => *undef*
Config::INI => C::INI
Config::INI::Reader::Ordered => C::INI::R::O
Config::IOD => C::IOD
Config::IOD::Reader => C::IOD::R
Config::Identity => *undef*
Config::IniFiles => C::IniF
Config::MVP => C::MVP
Config::MVP::Reader::INI => C::MVP::R::INI
Config::MVP::Slicer => C::MVP::S
Config::Model => *undef*
Config::Model::Backend::Augeas => C::M::B::A
Config::Model::CursesUI => C::M::CUI
Config::Model::Itself => C::M::I
Config::Model::LcdProc => C::M::LcdP
Config::Model::OpenSsh => C::M::OSsh
Config::Model::Systemd => C::M::S
Config::Model::Tester => C::M::T
Config::Model::TkUI => C::M::TkUI
Config::MySQL => C::MySQL
Config::Onion => *undef*
Config::Param => *undef*
Config::Perl::V => C::P::V
Config::Processor => *undef*
Config::Properties => *undef*
Config::Simple => *undef*
Config::Simple::Conf => *undef*
Config::Std => *undef*
Config::Tiny => *undef*
Config::Tiny::Ordered => C::T::O
Config::YAML => C::YAML
Const::Exporter => *undef*
Const::Fast => *undef*
Constant::FromGlobal => C::FG
Constant::Generate => *undef*
Context::Preserve => *undef*
Context::Singleton => *undef*
Contextual::Return => *undef*
Continual::Process => *undef*
Convert::ASCII::Armour => C::ASCII::A
Convert::ASN1 => C::ASN1
Convert::Ascii85 => C::A85
Convert::Base32 => C::B32
Convert::Base64 => C::B64
Convert::Bencode => *undef*
Convert::Bencode_XS => C::BXS
Convert::BinHex => C::BinHex
Convert::Binary::C => C::B::C
Convert::Color => *undef*
Convert::Color::XTerm => C::C::XT
Convert::CookingTimes => C::CT
Convert::Moji => *undef*
Convert::UU => C::UU
Convert::X509 => C::X509
Cookie::Baker => *undef*
Cpanel::JSON::XS => C::JSON::XS
CrawlerCommons::RobotRulesParser => CC::RRP
Crypt::Affine => *undef*
Crypt::Argon2 => C::A2
Crypt::Blowfish => *undef*
Crypt::CAST5_PP => C::CAST5_PP
Crypt::CBC => C::CBC
Crypt::Curve25519 => C::C25519
Crypt::DES => C::DES
Crypt::DES_EDE3 => C::DES_EDE3
Crypt::DSA => C::DSA
Crypt::Diceware => *undef*
Crypt::ECB => C::ECB
Crypt::ECDSA::Blind => C::ECDSA::B
Crypt::EC_DSA => C::EC_DSA
Crypt::EECDH => C::EECDH
Crypt::Ed25519 => C::Ed25519
Crypt::Eksblowfish => *undef*
Crypt::FDH => C::FDH
Crypt::Format => *undef*
Crypt::HashCash => C::HC
Crypt::IDEA => C::IDEA
Crypt::JWT => C::JWT
Crypt::LE => C::LE
Crypt::MySQL => *undef*
Crypt::OpenSSL::Bignum => C::OSSL::B
Crypt::OpenSSL::PKCS10 => C::OSSL::PKCS10
Crypt::OpenSSL::RSA => C::OSSL::RSA
Crypt::OpenSSL::Random => C::OSSL::R
Crypt::OpenSSL::VerifyX509 => C::OSSL::VX509
Crypt::OpenSSL::X509 => C::OSSL::X509
Crypt::Passwd::XS => C::P::XS
Crypt::PasswdMD5 => C::PMD5
Crypt::Password::Util => C::P::U
Crypt::Primes => *undef*
Crypt::RC4 => C::RC4
Crypt::RIPEMD160 => C::RIPEMD160
Crypt::RSA => C::RSA
Crypt::RSA::Blind => C::RSA::B
Crypt::Random => *undef*
Crypt::Random::Seed => C::R::S
Crypt::Random::Source => *undef*
Crypt::Random::TESHA2 => C::R::TESHA2
Crypt::Rhash => *undef*
Crypt::Rijndael => *undef*
Crypt::SMIME => C::SMIME
Crypt::SaltedHash => C::SH
Crypt::SmbHash => C::SmbH
Crypt::Sodium => *undef*
Crypt::Trifid => *undef*
Crypt::Twofish => *undef*
Crypt::URandom => C::UR
Crypt::UnixCrypt_XS => C::UCXS
Crypt::Unsnoopable => *undef*
Crypt::XTEA => C::XTEA
CryptX => CX
Curses::UI => C::UI
Cwd::Guard => Cwd::G
DBD::Firebird => DBD::F
DBD::Mock => DBD::M
DBD::SQLite => DBD::SQL
DBD::XMLSimple => DBD::XMLS
DBD::mysql => DBD::m
DBICx::AutoDoc => DBICx::ADoc
DBICx::Sugar => DBICx::S
DBICx::TestDatabase => DBICx::TD
DBIx::Admin::CreateTable => DBIx::A::CT
DBIx::Admin::DSNManager => DBIx::A::DSNM
DBIx::Admin::TableInfo => DBIx::A::TI
DBIx::Class => DBIx::C
DBIx::Class::Candy => DBIx::C::C
DBIx::Class::DeploymentHandler => DBIx::C::DH
DBIx::Class::Fixtures => DBIx::C::F
DBIx::Class::HashAccessor => DBIx::C::HA
DBIx::Class::Helpers => DBIx::C::H
DBIx::Class::InflateColumn::Authen::Passphrase => DBIx::C::IC::A::P
DBIx::Class::InflateColumn::FS => DBIx::C::IC::FS
DBIx::Class::InflateColumn::Serializer => DBIx::C::IC::S
DBIx::Class::IntrospectableM2M => DBIx::C::IM2M
DBIx::Class::Migration => DBIx::C::M
DBIx::Class::PassphraseColumn => DBIx::C::PC
DBIx::Class::ResultSet::Void => DBIx::C::RSet::V
DBIx::Class::Schema::Diff => DBIx::C::S::D
DBIx::Class::Schema::Loader => DBIx::C::S::L
DBIx::Class::Schema::Loader::Dynamic => DBIx::C::S::L::D
DBIx::Class::UUIDColumns => DBIx::C::UUIDC
DBIx::Connect::MySQL => DBIx::C::MySQL
DBIx::Connector => *undef*
DBIx::Diff::Schema => DBIx::D::S
DBIx::DisconnectAll => DBIx::DAll
DBIx::FunctionalAPI => DBIx::FAPI
DBIx::Handler => DBIx::H
DBIx::Inspector => DBIx::I
DBIx::Introspector => *undef*
DBIx::Mojo::Template => DBIx::M::T
DBIx::Schema::DSL => DBIx::S::DSL
DBIx::SchemaChecksum => DBIx::SC
DBIx::Simple => DBIx::S
DBIx::Struct => *undef*
DBIx::TableLoader => DBIx::TL
DBIx::TableLoader::CSV => DBIx::TL::CSV
DBIx::TransactionManager => DBIx::TM
DBM::Deep => DBM::D
DBM_Filter => DBM_F
DBM_Filter::compress => DBM_F::c
DBM_Filter::encode => DBM_F::e
DBM_Filter::int32 => DBM_F::int32
DBM_Filter::null => DBM_F::n
DBM_Filter::utf8 => DBM_F::utf8
DB_File => DB_F
DIME::Tools => DIME::T
DOCSIS::ConfigFile => DOCSIS::CF
DPKG::Parse => DPKG::P
DR::DateTime => DR::DT
DR::TarantoolQueue => DR::TQ
Daemon::Control => D::C
Daemon::Daemonize => D::D
Daemon::Device => *undef*
Daemon::Generic => D::G
Dancer2 => D2
Dancer2::Logger::Console::Colored => D2::L::C::C
Dancer2::Logger::LogAny => D2::L::LogAny
Dancer2::Plugin::Cart => D2::P::C
Dancer2::Plugin::GraphQL => D2::P::GQL
Dancer2::Plugin::JWT => D2::P::JWT
Dancer2::Plugin::OpenAPIRoutes => D2::P::OAPIR
Dancer2::Plugin::Paginator => D2::P::P
Dancer2::Plugin::SyntaxHighlight::Perl => D2::P::SH::P
Dancer::Plugin::Auth::Extensible => D::P::A::E
Dancer::Plugin::Catmandu::OAI => D::P::C::OAI
Dancer::Plugin::Catmandu::SRU => D::P::C::SRU
Dancer::Plugin::DBIC => D::P::DBIC
Dancer::Plugin::Database => D::P::D
Dancer::Plugin::Database::Core => D::P::D::C
Dancer::Plugin::Passphrase => D::P::P
Dancer::Plugin::RPC => D::P::RPC
Dancer::Session::Cookie => D::S::C
DarkSky::API => DSky::API
Data::Bitfield => D::B
Data::Buffer => *undef*
Data::Check::Structure => D::C::S
Data::Clean => *undef*
Data::Clean::JSON => D::C::JSON
Data::Clone => *undef*
Data::Compare => *undef*
Data::Currency => *undef*
Data::DPath => D::DP
Data::Denter => *undef*
Data::Dmp => D::Dmp
Data::Dump => *undef*
Data::Dump::Color => D::D::C
Data::Dump::OneLine => D::D::OneL
Data::Dump::Partial => D::D::P
Data::Dump::Ruby => D::D::R
Data::Dump::SortKeys => D::D::SK
Data::Dump::Streamer => D::D::S
Data::DumpXML => D::DXML
Data::Dumper => *undef*
Data::Dumper::AutoEncode => D::D::AE
Data::Dumper::Concise => *undef*
Data::Dumper::Simple => *undef*
Data::Dx => D::Dx
Data::DynamicValidator => D::DV
Data::Edit::Xml => D::E::Xml
Data::Entropy => D::E
Data::Float => D::F
Data::Flow => *undef*
Data::Format::Pretty => D::F::P
Data::Format::Pretty::Console => D::F::P::C
Data::Format::Pretty::HTML => D::F::P::HTML
Data::Format::Pretty::JSON => D::F::P::JSON
Data::Format::Pretty::PHPSerialization => D::F::P::PHPS
Data::Format::Pretty::Perl => D::F::P::P
Data::Format::Pretty::Ruby => D::F::P::R
Data::Format::Pretty::YAML => D::F::P::YAML
Data::GUID => D::GUID
Data::HexDump => D::HexD
Data::Hexdumper => D::H
Data::ICal => D::ICal
Data::ICal::TimeZone => D::ICal::TZ
Data::ID::Exim => D::ID::E
Data::IEEE754 => D::IEEE754
Data::Integer => D::I
Data::JavaScript::Anon => D::JS::A
Data::LNPath => D::LNP
Data::MessagePack => D::MP
Data::ModeMerge => D::MM
Data::Munge => D::M
Data::Netflow => D::N
Data::OptList => D::OptL
Data::Page => D::P
Data::Page::NoTotalEntries => D::P::NoTE
Data::Pageset => *undef*
Data::Paginator => *undef*
Data::Partial::Google => D::P::G
Data::Peek => *undef*
Data::Perl => *undef*
Data::Pokemon::Go => D::P::Go
Data::Printer => *undef*
Data::Queue => D::Q
Data::Random => D::R
Data::Record => *undef*
Data::RecordStore => D::RS
Data::Recursive::Encode => D::R::E
Data::Result => *undef*
Data::Rmap => *undef*
Data::Rx => D::Rx
Data::Sah => D::Sah
Data::Sah::Coerce => D::Sah::C
Data::Sah::Coerce::perl::date::str_alami_en => D::Sah::C::p::d::s
Data::Sah::Format => D::Sah::F
Data::Sah::Normalize => D::Sah::N
Data::Sah::Resolve => D::Sah::R
Data::Sah::Terse => D::Sah::T
Data::Sah::Util::Type => D::Sah::U::T
Data::SeaBASS => D::SeaBASS
Data::Section => D::S
Data::Section::Seekable => D::S::S
Data::Section::Simple => *undef*
Data::Selector => *undef*
Data::Send::Local => D::S::L
Data::Serializer => *undef*
Data::ShowTable => D::ST
Data::Skeleton => *undef*
Data::Stream::Bulk => D::S::B
Data::Struct => *undef*
Data::Structure::Util => D::S::U
Data::Table::Text => D::T::T
Data::TableReader => D::TR
Data::Taxi => D::T
Data::TemporaryBag => D::TBag
Data::Tersify => *undef*
Data::Transformer => *undef*
Data::TreeDumper => D::TD
Data::Tumbler => *undef*
Data::UUID => D::UUID
Data::UUID::Base64URLSafe => D::UUID::B64URLS
Data::UUID::MT => D::UUID::MT
Data::Undump => D::U
Data::Uniqid => *undef*
Data::Unixish => *undef*
Data::Unixish::ANSI => D::U::ANSI
Data::Util => *undef*
Data::Utilities => *undef*
Data::Validate::Domain => D::V::D
Data::Validate::IP => D::V::IP
Data::Validate::Type => D::V::T
Data::Validate::URI => D::V::URI
Data::ValidateInterdependent => D::VI
Data::Validator => D::V
Data::Visitor => *undef*
Data::Walk => D::W
Data::WeightedRoundRobin => D::WRR
Data::iRealPro => D::iRPro
Datahub::Factory => *undef*
Date::Advent => D::A
Date::Calc => *undef*
Date::Calc::XS => D::C::XS
Date::Easter => *undef*
Date::Exception => *undef*
Date::Hebrew::Simple => D::H::S
Date::Holidays::BY => D::H::BY
Date::Holidays::CZ => D::H::CZ
Date::Holidays::NZ => D::H::NZ
Date::Holidays::PF => D::H::PF
Date::ISO8601 => D::ISO8601
Date::Julian::Simple => D::J::S
Date::Lectionary => D::L
Date::Lectionary::Daily => D::L::D
Date::Lectionary::Time => D::L::T
Date::MSD => D::MSD
Date::Manip => *undef*
Date::Parse => *undef*
Date::Persian::Simple => D::P::S
Date::Saka::Simple => *undef*
Date::Simple => *undef*
Date::Utils => *undef*
DateTime => DT
DateTime::Astro => DT::A
DateTime::Event::ICal => DT::E::ICal
DateTime::Event::Recurrence => DT::E::R
DateTime::Format::Alami => DT::F::A
DateTime::Format::Atom => *undef*
DateTime::Format::Builder => DT::F::B
DateTime::Format::DateParse => DT::F::DP
DateTime::Format::Duration => DT::F::D
DateTime::Format::Duration::ISO8601 => DT::F::D::ISO8601
DateTime::Format::Flexible => DT::F::F
DateTime::Format::HTTP => DT::F::HTTP
DateTime::Format::Human::Duration => DT::F::H::D
DateTime::Format::ICal => DT::F::ICal
DateTime::Format::ISO8601 => DT::F::ISO8601
DateTime::Format::Mail => DT::F::M
DateTime::Format::MySQL => DT::F::MySQL
DateTime::Format::Natural => DT::F::N
DateTime::Format::Pg => DT::F::Pg
DateTime::Format::RFC3339 => DT::F::RFC3339
DateTime::Format::SQLite => DT::F::SQL
DateTime::Format::Strptime => DT::F::S
DateTime::Format::W3CDTF => DT::F::W3CDTF
DateTime::Format::x509 => DT::F::x509
DateTime::Locale => DT::L
DateTime::Set => DT::Set
DateTime::TimeZone => DT::TZ
DateTime::TimeZone::Olson => DT::TZ::O
DateTime::TimeZone::SystemV => DT::TZ::SV
DateTime::TimeZone::Tzfile => DT::TZ::T
DateTime::Tiny => DT::T
DateTimeX::Duration::Lite => DTX::D::L
DateTimeX::Easy => DTX::E
Debug::Easy => *undef*
Debug::ShowStuff => D::SS
Devel::Autoflush => *undef*
Devel::CallChecker => D::CC
Devel::CallParser => D::CP
Devel::Caller => *undef*
Devel::Caller::IgnoreNamespaces => D::C::IN
Devel::Callsite => *undef*
Devel::Camelcadedb => *undef*
Devel::CheckBin => D::CBin
Devel::CheckCompiler => *undef*
Devel::CheckLib => D::CLib
Devel::CheckOS => D::COS
Devel::Confess => *undef*
Devel::Cover => *undef*
Devel::Cover::Report::Codecov => D::C::R::C
Devel::Cover::Report::Coveralls => *undef*
Devel::Cycle => *undef*
Devel::Declare => *undef*
Devel::FindPerl => D::FP
Devel::FindRef => D::FRef
Devel::GlobalDestruction => D::GD
Devel::GoFaster => D::GoF
Devel::Hide => *undef*
Devel::Hook => *undef*
Devel::IPerl => D::IP
Devel::IPerl::Plugin::Chart::Plotly => D::IP::P::C::P
Devel::LexAlias => D::LexA
Devel::MAT => D::MAT
Devel::NYTProf => D::NYTP
Devel::OverloadInfo => D::OI
Devel::OverrideGlobalRequire => D::OGR
Devel::PPPort => D::PPP
Devel::PartialDump => D::PD
Devel::PatchPerl => D::PP
Devel::Peek => *undef*
Devel::Platform::Info => D::P::I
Devel::REPL => D::REPL
Devel::Refcount => *undef*
Devel::SelfStubber => *undef*
Devel::SimpleTrace => *undef*
Devel::Size => *undef*
Devel::StackTrace => *undef*
Devel::StackTrace::AsHTML => D::ST::AsHTML
Devel::StrictMode => D::SM
Devel::Symdump => *undef*
Devel::Trepan => *undef*
Devel::Trepan::Deparse => D::T::D
Devel::Trepan::Disassemble => *undef*
Devel::Trepan::Shell => D::T::S
Device::Chip => *undef*
Device::Chip::AnalogConverters => D::C::AC
Device::Network::ConfigParser => D::N::CP
Device::Osram::Lightify => D::O::L
Device::PaloAlto::Firewall => D::PA::F
Device::SerialPort => D::SP
Digest::Adler32 => D::A32
Digest::Bcrypt => *undef*
Digest::BubbleBabble => D::BB
Digest::CRC => D::CRC
Digest::GOST => D::GOST
Digest::HMAC => D::HMAC
Digest::JHash => D::JH
Digest::MD2 => D::MD2
Digest::MD4 => D::MD4
Digest::MD5 => D::MD5
Digest::MD5::File => D::MD5::F
Digest::MurmurHash3::PurePerl => D::MH3::PP
Digest::Perl::MD5 => D::P::MD5
Digest::SHA => D::SHA
Digest::SHA1 => D::SHA1
Digest::SHA2 => D::SHA2
Digest::SHA256 => D::SHA256
Digest::SHA3 => D::SHA3
Digest::SHA::PurePerl => D::SHA::PP
Digest::SpookyHash => D::SH
Digest::base => D::b
Digest::file => D::f
Dir::Self => Dir::S
Dir::Write::Rotate => Dir::W::R
DirHandle => DirH
Directory::Scanner => *undef*
Dispatch::Class => *undef*
Dist::CheckConflicts => *undef*
Dist::Iller => *undef*
Dist::Iller::Config::Author::CSSON => D::I::C::A::CSSON
Dist::Metadata => *undef*
Dist::Util => *undef*
Dist::Zilla => D::Z
Dist::Zilla::App::Command::aliendeps => D::Z::App::C::a
Dist::Zilla::App::Command::cover => D::Z::App::C::c
Dist::Zilla::App::Command::regenerate => D::Z::App::C::r
Dist::Zilla::Config::Slicer => D::Z::C::S
Dist::Zilla::Plugin::Acme::CPANLists::Blacklist => D::Z::P::A::CPANL::B
Dist::Zilla::Plugin::Alien => D::Z::P::A
Dist::Zilla::Plugin::AlienBuild => D::Z::P::AB
Dist::Zilla::Plugin::ApacheTest => D::Z::P::AT
Dist::Zilla::Plugin::AssertOS => D::Z::P::AOS
Dist::Zilla::Plugin::Author::Plicease => D::Z::P::A::P
Dist::Zilla::Plugin::AuthorSignatureTest => D::Z::P::AST
Dist::Zilla::Plugin::Authority => *undef*
Dist::Zilla::Plugin::AuthorsFromGit => D::Z::P::AFGit
Dist::Zilla::Plugin::AutoMetaResources => D::Z::P::AMR
Dist::Zilla::Plugin::AutoPrereqs::Perl::Critic => D::Z::P::AP::P::C
Dist::Zilla::Plugin::BlockRelease => D::Z::P::BR
Dist::Zilla::Plugin::Bootstrap::lib => D::Z::P::B::lib
Dist::Zilla::Plugin::Bugtracker => D::Z::P::B
Dist::Zilla::Plugin::BumpVersionAfterRelease => D::Z::P::BVAR
Dist::Zilla::Plugin::ChangelogFromGit::CPAN::Changes => D::Z::P::CFGit::CPAN::C
Dist::Zilla::Plugin::CheckBin => D::Z::P::CBin
Dist::Zilla::Plugin::CheckChangesHasContent => D::Z::P::CCHasC
Dist::Zilla::Plugin::CheckExtraTests => D::Z::P::CET
Dist::Zilla::Plugin::CheckIssues => D::Z::P::CI
Dist::Zilla::Plugin::CheckLib => D::Z::P::CLib
Dist::Zilla::Plugin::CheckMetaResources => D::Z::P::CMR
Dist::Zilla::Plugin::CheckPrereqsIndexed => D::Z::P::CPI
Dist::Zilla::Plugin::CheckSelfDependency => D::Z::P::CSD
Dist::Zilla::Plugin::CheckStrictVersion => D::Z::P::CSV
Dist::Zilla::Plugin::CheckVersionIncrement => D::Z::P::CVI
Dist::Zilla::Plugin::Clean => D::Z::P::C
Dist::Zilla::Plugin::CommentOut => D::Z::P::COut
Dist::Zilla::Plugin::Config::Git => D::Z::P::C::Git
Dist::Zilla::Plugin::ContributorsFile => D::Z::P::CF
Dist::Zilla::Plugin::CopyFilesFromBuild => D::Z::P::CFFB
Dist::Zilla::Plugin::CopyFilesFromRelease => D::Z::P::CFFR
Dist::Zilla::Plugin::CopyrightYearFromGit => D::Z::P::CYFGit
Dist::Zilla::Plugin::DynamicPrereqs => D::Z::P::DP
Dist::Zilla::Plugin::EmailNotify => D::Z::P::EN
Dist::Zilla::Plugin::EnsureLatestPerl => D::Z::P::ELP
Dist::Zilla::Plugin::GenerateFile::FromShareDir => D::Z::P::GF::FSDir
Dist::Zilla::Plugin::Git => D::Z::P::Git
Dist::Zilla::Plugin::Git::Contributors => D::Z::P::Git::C
Dist::Zilla::Plugin::Git::Describe => D::Z::P::Git::D
Dist::Zilla::Plugin::Git::FilePermissions => D::Z::P::Git::FP
Dist::Zilla::Plugin::Git::PushInitial => D::Z::P::Git::PI
Dist::Zilla::Plugin::Git::Remote::Check => D::Z::P::Git::R::C
Dist::Zilla::Plugin::Git::RequireUnixEOL => D::Z::P::Git::RUEOL
Dist::Zilla::Plugin::GitHub => D::Z::P::GitHub
Dist::Zilla::Plugin::GitHub::UploadRelease => D::Z::P::GitHub::UR
Dist::Zilla::Plugin::GithubMeta => D::Z::P::GM
Dist::Zilla::Plugin::Homepage => D::Z::P::H
Dist::Zilla::Plugin::InsertCopyright => D::Z::P::IC
Dist::Zilla::Plugin::InsertExample => D::Z::P::IE
Dist::Zilla::Plugin::InstallGuide => D::Z::P::IG
Dist::Zilla::Plugin::InstallRelease => D::Z::P::IR
Dist::Zilla::Plugin::Keywords => D::Z::P::K
Dist::Zilla::Plugin::MakeMaker::Awesome => D::Z::P::MM::A
Dist::Zilla::Plugin::MakeMaker::Fallback => D::Z::P::MM::F
Dist::Zilla::Plugin::Meta::Contributors => D::Z::P::M::C
Dist::Zilla::Plugin::MetaData::BuiltWith => D::Z::P::MD::BW
Dist::Zilla::Plugin::MetaProvides => D::Z::P::MP
Dist::Zilla::Plugin::MetaProvides::Package => D::Z::P::MP::P
Dist::Zilla::Plugin::MinimumPerl => *undef*
Dist::Zilla::Plugin::ModuleBuildTiny => D::Z::P::MBT
Dist::Zilla::Plugin::ModuleBuildTiny::Fallback => D::Z::P::MBT::F
Dist::Zilla::Plugin::MojibakeTests => D::Z::P::MT
Dist::Zilla::Plugin::OSPrereqs => D::Z::P::OSP
Dist::Zilla::Plugin::OurPkgVersion => D::Z::P::OurPkgV
Dist::Zilla::Plugin::PERLANCAR::EnsurePrereqToSpec => D::Z::P::PERLANCAR::EPToS
Dist::Zilla::Plugin::PPPort => D::Z::P::PPP
Dist::Zilla::Plugin::PkgVersion::Block => D::Z::P::PkgV::B
Dist::Zilla::Plugin::PodWeaver => D::Z::P::PodW
Dist::Zilla::Plugin::Prereqs::AuthorDeps => D::Z::P::P::AD
Dist::Zilla::Plugin::Prereqs::CheckCircular => D::Z::P::P::CC
Dist::Zilla::Plugin::Prereqs::FromCPANfile => D::Z::P::P::FCPAN
Dist::Zilla::Plugin::Prereqs::Plugins => D::Z::P::P::P
Dist::Zilla::Plugin::PromptIfStale => D::Z::P::PIfS
Dist::Zilla::Plugin::ReadmeAnyFromPod => D::Z::P::RAnyFPod
Dist::Zilla::Plugin::ReadmeFromPod => D::Z::P::RFPod
Dist::Zilla::Plugin::ReadmeMarkdownFromPod => D::Z::P::RMFPod
Dist::Zilla::Plugin::RemovePrereqs::Provided => D::Z::P::RP::P
Dist::Zilla::Plugin::Repository => D::Z::P::R
Dist::Zilla::Plugin::RequiresExternal => D::Z::P::RE
Dist::Zilla::Plugin::RewriteVersion::Transitional => D::Z::P::RV::T
Dist::Zilla::Plugin::Rinci::AbstractFromMeta => D::Z::P::R::AFM
Dist::Zilla::Plugin::Rinci::Validate => D::Z::P::R::V
Dist::Zilla::Plugin::Run => D::Z::P::Run
Dist::Zilla::Plugin::SchwartzRatio => D::Z::P::SR
Dist::Zilla::Plugin::SetScriptShebang => D::Z::P::SetSS
Dist::Zilla::Plugin::Signature => D::Z::P::S
Dist::Zilla::Plugin::StaticInstall => D::Z::P::SI
Dist::Zilla::Plugin::StaticVersion => D::Z::P::SV
Dist::Zilla::Plugin::SurgicalPodWeaver => D::Z::P::SPodW
Dist::Zilla::Plugin::TaskWeaver => D::Z::P::TW
Dist::Zilla::Plugin::Test::CPAN::Changes => D::Z::P::T::CPAN::C
Dist::Zilla::Plugin::Test::CPAN::Meta::JSON => D::Z::P::T::CPAN::M::JSON
Dist::Zilla::Plugin::Test::CheckBreaks => D::Z::P::T::CB
Dist::Zilla::Plugin::Test::CheckDeps => D::Z::P::T::CD
Dist::Zilla::Plugin::Test::CleanNamespaces => D::Z::P::T::CN
Dist::Zilla::Plugin::Test::Compile => D::Z::P::T::C
Dist::Zilla::Plugin::Test::DistManifest => D::Z::P::T::DM
Dist::Zilla::Plugin::Test::EOL => D::Z::P::T::EOL
Dist::Zilla::Plugin::Test::Kwalitee => D::Z::P::T::K
Dist::Zilla::Plugin::Test::Kwalitee::Extra => D::Z::P::T::K::E
Dist::Zilla::Plugin::Test::Map::Tube => D::Z::P::T::Map::T
Dist::Zilla::Plugin::Test::MinimumVersion => D::Z::P::T::MV
Dist::Zilla::Plugin::Test::NoTabs => D::Z::P::T::NoT
Dist::Zilla::Plugin::Test::Perl::Critic => D::Z::P::T::P::C
Dist::Zilla::Plugin::Test::Pod::Coverage::Configurable => D::Z::P::T::Pod::C::C
Dist::Zilla::Plugin::Test::Pod::LinkCheck => D::Z::P::T::Pod::LC
Dist::Zilla::Plugin::Test::Pod::No404s => D::Z::P::T::Pod::No404s
Dist::Zilla::Plugin::Test::PodSpelling => D::Z::P::T::PodS
Dist::Zilla::Plugin::Test::Portability => D::Z::P::T::P
Dist::Zilla::Plugin::Test::ReportPrereqs => D::Z::P::T::RP
Dist::Zilla::Plugin::Test::Synopsis => D::Z::P::T::S
Dist::Zilla::Plugin::Test::TidyAll => D::Z::P::T::TAll
Dist::Zilla::Plugin::Test::UnusedVars => D::Z::P::T::UV
Dist::Zilla::Plugin::Test::Version => D::Z::P::T::V
Dist::Zilla::Plugin::Travis::ConfigForReleaseBranch => D::Z::P::T::CForRB
Dist::Zilla::Plugin::TravisCI::StatusBadge => D::Z::P::TCI::SB
Dist::Zilla::Plugin::Twitter => D::Z::P::T
Dist::Zilla::Plugin::UploadToGoogleCode => D::Z::P::UToGC
Dist::Zilla::Plugin::UseUnsafeInc => D::Z::P::UseUInc
Dist::Zilla::Plugin::VerifyPhases => D::Z::P::VP
Dist::Zilla::Plugin::VersionFromMainModule => D::Z::P::VFMM
Dist::Zilla::PluginBundle::Author::AMON => D::Z::PB::A::AMON
Dist::Zilla::PluginBundle::Author::DBOOK => D::Z::PB::A::DBOOK
Dist::Zilla::PluginBundle::Author::DOHERTY => D::Z::PB::A::DOHERTY
Dist::Zilla::PluginBundle::Author::ETHER => D::Z::PB::A::ETHER
Dist::Zilla::PluginBundle::Author::FERREIRA => D::Z::PB::A::FERREIRA
Dist::Zilla::PluginBundle::Author::IOANR => D::Z::PB::A::IOANR
Dist::Zilla::PluginBundle::Author::Plicease => D::Z::PB::A::P
Dist::Zilla::PluginBundle::Author::WATERKIP => D::Z::PB::A::WATERKIP
Dist::Zilla::PluginBundle::Git::CheckFor => D::Z::PB::Git::CFor
Dist::Zilla::PluginBundle::Git::VersionManager => D::Z::PB::Git::VM
Dist::Zilla::PluginBundle::MAXMIND => D::Z::PB::MAXMIND
Dist::Zilla::PluginBundle::MITHALDU => D::Z::PB::MITHALDU
Dist::Zilla::PluginBundle::MSCHOUT => D::Z::PB::MSCHOUT
Dist::Zilla::PluginBundle::NGLENN => D::Z::PB::NGLENN
Dist::Zilla::PluginBundle::RJBS => D::Z::PB::RJBS
Dist::Zilla::PluginBundle::TestingMania => D::Z::PB::TM
Dist::Zilla::Role::Bootstrap => D::Z::R::B
Dist::Zilla::Role::FileWatcher => D::Z::R::FW
Dist::Zilla::Role::MetaCPANInterfacer => D::Z::R::MCPANI
Dist::Zilla::Role::ModuleMetadata => D::Z::R::MM
Dist::Zilla::Role::PluginBundle::PluginRemover => D::Z::R::PB::PR
Dist::Zilla::Role::RepoFileInjector => D::Z::R::RFI
Dist::Zilla::Role::Rinci::CheckDefinesMeta => D::Z::R::R::CDM
Dist::Zilla::TravisCI => D::Z::TCI
Dist::Zilla::Util::BundleInfo => D::Z::U::BI
Dist::Zilla::Util::ConfigDumper => D::Z::U::CD
Dist::Zilla::Util::CurrentCmd => D::Z::U::CCmd
Dist::Zilla::Util::ExpandINI => D::Z::U::EINI
Dist::Zilla::Util::FileGenerator => D::Z::U::FG
Dist::Zilla::Util::Git::Wrapper => D::Z::U::Git::W
Dist::Zilla::Util::Test::KENTNL => D::Z::U::T::KENTNL
Dist::Zilla::UtilRole::MaybeZilla => D::Z::UR::MZ
Distribution::Metadata => *undef*
Document::OOXML => D::OOXML
DynaLoader => DL
DynaLoader::Functions => DL::F
EBook::EPUB::Check => EB::EPUB::C
EBook::EPUB::Lite => EB::EPUB::L
ETL::Yertl => ETL::Y
EekBoek => EekB
Email::Abstract => E::A
Email::Address => *undef*
Email::Address::XS => E::A::XS
Email::Date => E::D
Email::Date::Format => E::D::F
Email::MIME => E::MIME
Email::MIME::ContentType => E::MIME::CT
Email::MIME::CreateHTML => E::MIME::CHTML
Email::MIME::Encodings => E::MIME::E
Email::MIME::RFC2047 => E::MIME::RFC2047
Email::MessageID => E::MID
Email::Send => E::S
Email::Send::SMTP::Gmail => E::S::SMTP::G
Email::Sender => *undef*
Email::Simple => *undef*
Email::Stuff => *undef*
Email::Stuffer => *undef*
Email::Valid => E::V
Email::Valid::Loose => E::V::L
Encode::Alias => *undef*
Encode::Base58::BigInt => E::B58::BigInt
Encode::Byte => E::B
Encode::CJKConstants => E::CJKC
Encode::CN => E::CN
Encode::CN::HZ => E::CN::HZ
Encode::Config => E::C
Encode::Detect => *undef*
Encode::Detect::CJK => E::D::CJK
Encode::EBCDIC => E::EBCDIC
Encode::Encoder => E::E
Encode::Encoding => *undef*
Encode::GSM0338 => E::GSM0338
Encode::Guess => E::G
Encode::JP => E::JP
Encode::JP::H2Z => E::JP::H2Z
Encode::JP::JIS7 => E::JP::JIS7
Encode::KR => E::KR
Encode::KR::2022_KR => E::KR::2022_KR
Encode::Locale => E::L
Encode::MIME::Header => E::MIME::H
Encode::MIME::Header::ISO_2022_JP => E::MIME::H::ISO_2022_JP
Encode::MIME::Name => E::MIME::N
Encode::Positive::Digits => E::P::D
Encode::Positive::Pairs => E::P::P
Encode::Symbol => *undef*
Encode::TW => E::TW
Encode::Unicode => E::U
Encode::Unicode::UTF7 => E::U::UTF7
Encoding::FixLatin => E::FixL
Encoding::FixLatin::XS => E::FixL::XS
Env::Path => Env::P
Env::ShellWords => Env::SW
Error::Helper => E::H
Error::ROP => E::ROP
Escape::Houdini => *undef*
Etsy::StatsD => E::SD
Eval::Closure => *undef*
Eval::LineNumbers => E::LN
Eval::WithLexicals => E::WL
Evented::API::Engine => E::API::E
Evented::Object => E::O
Excel::Writer::XLSX => E::W::XLSX
Exception::Class => *undef*
Exception::Class::TryCatch => E::C::TryC
Exception::Tiny => E::T
Export::Attrs => *undef*
Exporter::ConditionalSubs => E::CS
Exporter::Declare => *undef*
Exporter::Easy => *undef*
Exporter::Heavy => *undef*
Exporter::Lite => *undef*
Exporter::Rinci => E::R
Exporter::Tidy => *undef*
Exporter::Tiny => *undef*
ExtUtils::CBuilder => ExtU::CB
ExtUtils::CBuilder::Base => ExtU::CB::B
ExtUtils::CBuilder::Platform::Unix => ExtU::CB::P::U
ExtUtils::CBuilder::Platform::VMS => ExtU::CB::P::VMS
ExtUtils::CBuilder::Platform::Windows => ExtU::CB::P::W
ExtUtils::CBuilder::Platform::Windows::BCC => ExtU::CB::P::W::BCC
ExtUtils::CBuilder::Platform::Windows::GCC => ExtU::CB::P::W::GCC
ExtUtils::CBuilder::Platform::Windows::MSVC => ExtU::CB::P::W::MSVC
ExtUtils::CBuilder::Platform::aix => ExtU::CB::P::aix
ExtUtils::CBuilder::Platform::android => ExtU::CB::P::a
ExtUtils::CBuilder::Platform::cygwin => ExtU::CB::P::c
ExtUtils::CBuilder::Platform::darwin => ExtU::CB::P::d
ExtUtils::CBuilder::Platform::dec_osf => *undef*
ExtUtils::CBuilder::Platform::os2 => ExtU::CB::P::os2
ExtUtils::CChecker => ExtU::CC
ExtUtils::CXX => ExtU::CXX
ExtUtils::Command => ExtU::C
ExtUtils::Command::MM => ExtU::C::MM
ExtUtils::Config => *undef*
ExtUtils::Constant => *undef*
ExtUtils::Constant::Base => ExtU::C::B
ExtUtils::Constant::ProxySubs => ExtU::C::PS
ExtUtils::Constant::Utils => ExtU::C::U
ExtUtils::Constant::XS => ExtU::C::XS
ExtUtils::CppGuess => ExtU::CppG
ExtUtils::Depends => ExtU::D
ExtUtils::Embed => ExtU::E
ExtUtils::F77 => ExtU::F77
ExtUtils::HasCompiler => ExtU::HasC
ExtUtils::Helpers => ExtU::H
ExtUtils::Install => ExtU::I
ExtUtils::InstallPaths => ExtU::IP
ExtUtils::Installed => *undef*
ExtUtils::LibBuilder => ExtU::LibB
ExtUtils::Liblist => ExtU::L
ExtUtils::Liblist::Kid => ExtU::L::Kid
ExtUtils::MM => ExtU::MM
ExtUtils::MM_AIX => ExtU::MM_AIX
ExtUtils::MM_Any => ExtU::MM_Any
ExtUtils::MM_BeOS => ExtU::MM_BeOS
ExtUtils::MM_Cygwin => ExtU::MM_C
ExtUtils::MM_DOS => ExtU::MM_DOS
ExtUtils::MM_Darwin => ExtU::MM_D
ExtUtils::MM_MacOS => ExtU::MM_MacOS
ExtUtils::MM_NW5 => ExtU::MM_NW5
ExtUtils::MM_OS2 => ExtU::MM_OS2
ExtUtils::MM_QNX => ExtU::MM_QNX
ExtUtils::MM_UWIN => ExtU::MM_UWIN
ExtUtils::MM_Unix => ExtU::MM_U
ExtUtils::MM_VMS => ExtU::MM_VMS
ExtUtils::MM_VOS => ExtU::MM_VOS
ExtUtils::MM_Win32 => ExtU::MM_Win32
ExtUtils::MM_Win95 => ExtU::MM_Win95
ExtUtils::MY => ExtU::MY
ExtUtils::MakeMaker => *undef*
ExtUtils::MakeMaker::CPANfile => ExtU::MM::CPAN
ExtUtils::MakeMaker::Config => ExtU::MM::C
ExtUtils::MakeMaker::Locale => ExtU::MM::L
ExtUtils::MakeMaker::version => ExtU::MM::v
ExtUtils::MakeMaker::version::regex => ExtU::MM::v::r
ExtUtils::Manifest => ExtU::M
ExtUtils::Miniperl => *undef*
ExtUtils::Mkbootstrap => *undef*
ExtUtils::Mksymlists => *undef*
ExtUtils::Packlist => ExtU::P
ExtUtils::ParseXS => ExtU::PXS
ExtUtils::ParseXS::Constants => ExtU::PXS::C
ExtUtils::ParseXS::CountLines => ExtU::PXS::CL
ExtUtils::ParseXS::Eval => ExtU::PXS::E
ExtUtils::ParseXS::Utilities => ExtU::PXS::U
ExtUtils::PkgConfig => ExtU::PkgC
ExtUtils::Typemaps => ExtU::T
ExtUtils::Typemaps::Cmd => ExtU::T::Cmd
ExtUtils::Typemaps::Default => ExtU::T::D
ExtUtils::Typemaps::InputMap => ExtU::T::IMap
ExtUtils::Typemaps::OutputMap => ExtU::T::OMap
ExtUtils::Typemaps::Type => ExtU::T::T
ExtUtils::XSSymSet => ExtU::XSSymSet
ExtUtils::XSpp => ExtU::XSpp
ExtUtils::testlib => ExtU::t
FFI::CheckLib => FFI::CLib
FFI::Platypus => FFI::P
FFI::TinyCC => FFI::TCC
FIX::Lite => FIX::L
FSM::Basic => FSM::B
Facebook::InstantArticle => F::IA
Feed::Find => F::F
Fennec::Lite => F::L
File::ArchivableFormats => F::AF
File::BOM => F::BOM
File::BaseDir => F::BDir
File::Basename => F::B
File::Cat => F::Cat
File::ChangeNotify => F::CN
File::Compare => F::C
File::Copy => *undef*
File::Copy::Recursive => F::C::R
File::DesktopEntry => F::DE
File::Details => F::D
File::Digest => *undef*
File::DirCompare => F::DirC
File::DirObject => F::DirO
File::DosGlob => F::DosG
File::Feed => *undef*
File::Fetch => *undef*
File::Find => *undef*
File::Find::Iterator => F::F::I
File::Find::Object => F::F::O
File::Find::Rule => F::F::R
File::Find::Rule::Perl => F::F::R::P
File::Find::Wanted => F::F::W
File::Flock => *undef*
File::Flock::Retry => *undef*
File::Flock::Tiny => F::F::T
File::Glob => F::G
File::GlobMapper => F::GM
File::Grep => *undef*
File::HomeDir => F::HDir
File::HomeDir::Tiny => F::HDir::T
File::JSON::Slurper => F::JSON::S
File::Kit => F::Kit
File::Kvpar => F::K
File::LibMagic => F::LibM
File::Listing => *undef*
File::Map => F::Map
File::MimeInfo => F::MI
File::MoreUtil => F::MU
File::Next => F::N
File::Path => F::P
File::Path::Expand => F::P::E
File::Pid => F::Pid
File::Policy => *undef*
File::ReadBackwards => F::RB
File::Remove => F::R
File::Replace => *undef*
File::Rotate::Simple => F::R::S
File::RotateLogs => F::RL
File::Rsync => *undef*
File::Save::Home => F::S::H
File::SearchPath => F::SP
File::Share => F::S
File::ShareDir => F::SDir
File::ShareDir::Dist => F::SDir::D
File::ShareDir::Install => F::SDir::I
File::ShareDir::ProjectDistDir => F::SDir::PDDir
File::ShareDir::Tarball => F::SDir::T
File::Slurp => *undef*
File::Slurp::Tiny => F::S::T
File::Slurper => *undef*
File::Sort => *undef*
File::Spec => *undef*
File::Spec::AmigaOS => F::S::AOS
File::Spec::Cygwin => F::S::C
File::Spec::Epoc => F::S::E
File::Spec::Functions => F::S::F
File::Spec::Mac => F::S::Mac
File::Spec::Native => F::S::N
File::Spec::OS2 => F::S::OS2
File::Spec::Unix => F::S::U
File::Spec::VMS => F::S::VMS
File::Spec::Win32 => F::S::Win32
File::Stat::OO => F::S::OO
File::Sync => *undef*
File::Temp => F::T
File::Touch => *undef*
File::Type => *undef*
File::Util::Tempdir => F::U::T
File::Versions => F::V
File::Which => F::W
File::Write::Rotate => F::W::R
File::Zglob => F::Z
File::chdir => F::c
File::chmod => *undef*
File::chmod::Recursive => F::c::R
File::pfopen => F::p
File::pushd => *undef*
File::stat => F::s
FileCache => FC
FileHandle => FH
Filename::Backup => *undef*
Filename::Compressed => *undef*
Filesys::Cap => F::Cap
Filesys::Df => F::Df
Filesys::Notify::Simple => F::N::S
Filesys::Statvfs => *undef*
Filter::Simple => *undef*
Filter::Simple::Compile => *undef*
Filter::Util::Call => F::U::C
Filter::signatures => *undef*
Finance-QuoteHist => F-QH
Finance::BTCIndo => F::BTCI
Finance::Bank::ID::BCA => F::B::ID::BCA
Finance::Bank::Postbank_de => F::B::P
Finance::Budget => *undef*
Finance::Currency::Convert::WebserviceX => F::C::C::WX
Finance::GDAX::API => F::GDAX::API
Finance::Loan::Repayment => F::L::R
Finance::Quote => F::Q
Finance::YahooQuote => F::YQ
Find::Lib => F::Lib
FindBin => FBin
FindBin::libs => FBin::l
Flip::Flop => *undef*
Font::AFM => F::AFM
Font::FreeType => F::FT
Font::TTF => F::TTF
FormValidator::Lite => FV::L
Format::Human::Bytes => F::H::B
FreezeThaw => FT
Function::Fallback::CoreOrPP => F::F::COrPP
Function::Parameters => *undef*
Future::AsyncAwait => F::AA
Future::HTTP => F::HTTP
Future::Mojo => F::M
GD::Barcode => GD::B
GDBM_File => GDBM_F
GPS::Track => GPS::T
GPSD::Parse => GPSD::P
Game::Tibia::Packet => G::T::P
Games::Sudoku::CLI => G::S::CLI
Games::Sudoku::Component => G::S::C
Gen::Test::Rinci::FuncResult => Gen::T::R::FR
Genealogy::Ahnentafel => G::A
Gentoo::App::Pram => G::App::P
Geo::Coder::CA => Geo::C::CA
Geo::Coder::Geocoder::US => Geo::C::G::US
Geo::Coder::Google => Geo::C::G
Geo::Coder::OSM => Geo::C::OSM
Geo::Coder::OpenCage => Geo::C::OC
Geo::Coder::Postcodes => Geo::C::P
Geo::Coder::US::Census => Geo::C::US::C
Geo::Coder::XYZ => Geo::C::XYZ
Geo::Compass::Variation => Geo::C::V
Geo::Converter::dms2dd => Geo::C::dms2dd
Geo::Coordinates::OSGB => Geo::C::OSGB
Geo::Distance => Geo::D
Geo::GDAL::Const => Geo::GDAL::C
Geo::GNS::Parser => Geo::GNS::P
Geo::IP::PurePerl => Geo::IP::PP
Geo::IPinfo => *undef*
Geo::OGC::Service => Geo::OGC::S
Geo::OGC::Service::WMTS => Geo::OGC::S::WMTS
Geo::OSM::Primitive => Geo::OSM::P
Geo::ShapeFile => Geo::SF
Geo::Shapefile::Writer => Geo::S::W
Geo::StreetAddress::US => Geo::SA::US
Geo::UK::Postcode::CodePointOpen => Geo::UK::P::CPO
Geo::UK::Postcode::Regex => Geo::UK::P::R
Geometry::Primitive => G::P
Gerrit::REST => G::REST
Getopt::Alt => G::Alt
Getopt::ArgvFile => G::AF
Getopt::EX => G::EX
Getopt::Euclid => G::E
Getopt::Kingpin => G::K
Getopt::Long => G::L
Getopt::Long::Complete => G::L::C
Getopt::Long::Descriptive => G::L::D
Getopt::Long::Descriptive::Dump => G::L::D::D
Getopt::Long::Descriptive::Util => G::L::D::U
Getopt::Long::Dump => *undef*
Getopt::Long::EvenLess => G::L::EL
Getopt::Long::Less::Dump => G::L::L::D
Getopt::Long::Negate::EN => G::L::N::EN
Getopt::Long::Subcommand => G::L::S
Getopt::Long::Util => G::L::U
Getopt::Lucid => *undef*
Getopt::Std => G::Std
Getopt::Std::Dump => G::Std::D
Getopt::Std::Util => G::Std::U
Git::Bunch => Git::B
Git::Hooks => Git::H
Git::Repository => Git::R
Git::Repository::Plugin::Log => Git::R::P::Log
Git::Version::Compare => Git::V::C
Git::Wrapper => Git::W
Git::Wrapper::Plus => Git::W::P
GitHub::Crud => GitHub::C
Glib-Ex-ObjectBits => G-Ex-OB
Glib::Object::Introspection => G::O::I
Gnome2::Canvas => G2::C
Google::Code::Upload => G::C::U
Google::ProtocolBuffers => G::PB
Google::ProtocolBuffers::Dynamic => G::PB::D
Grammar::Formal => G::F
Grammar::Graph => G::G
Graph::ChuLiuEdmonds => G::ChuLiuE
Graph::SomeUtils => G::SU
GraphQL => GQL
GraphQL::Plugin::Convert::DBIC => GQL::P::C::DBIC
GraphViz => GViz
GraphViz::Graph => GViz::G
Graphics::Color => G::C
Graphics::ColorNames => G::CN
Graphics::ColorUtils => G::CU
Graphics::Fig => G::Fig
Graphics::Primitive => *undef*
Graphics::Primitive::Driver::Cairo => G::P::D::C
Graphics::TIFF => G::TIFF
Gravatar::URL => G::URL
Grep::Query => G::Q
Group::Git => G::Git
Gtk2-Ex-WidgetBits => Gtk2-Ex-WB
Gtk2::Ex::Spinner => Gtk2::Ex::S
Gzip::Faster => *undef*
HOP::Lexer => HOP::L
HOP::Stream => HOP::S
HTML-TableExtract => HTML-TE
HTML::Encoding => HTML::E
HTML::Entities::Interpolate => HTML::E::I
HTML::Entities::Numbered => HTML::E::N
HTML::Escape => *undef*
HTML::FillInForm::Lite => HTML::FInF::L
HTML::Form => HTML::F
HTML::FormHandler => HTML::FH
HTML::FormatExternal => HTML::FE
HTML::FormatText::WithLinks => HTML::FT::WL
HTML::Formatter => *undef*
HTML::FromANSI => HTML::FANSI
HTML::HTML5::Entities => HTML::HTML5::E
HTML::HTML5::Parser => HTML::HTML5::P
HTML::HTML5::Sanity => HTML::HTML5::S
HTML::HTML5::Writer => HTML::HTML5::W
HTML::Lint => HTML::L
HTML::Packer => HTML::P
HTML::Parser => *undef*
HTML::QuickTable => HTML::QT
HTML::Restrict => HTML::R
HTML::Scrubber => HTML::S
HTML::Selector::XPath => HTML::S::XP
HTML::Show => *undef*
HTML::SocialMeta => HTML::SM
HTML::StickyQuery => HTML::SQ
HTML::Strip => *undef*
HTML::Tagset => HTML::T
HTML::Tiny => *undef*
HTML::TokeParser::Simple => HTML::TP::S
HTML::Tree => *undef*
HTML::TreeBuilder::XPath => HTML::TB::XP
HTML::Untidy => HTML::U
HTTP::Async => HTTP::A
HTTP::Body => HTTP::B
HTTP::BrowserDetect => HTTP::BD
HTTP::ClickHouse => HTTP::CH
HTTP::ClickHouse::Base => HTTP::CH::B
HTTP::ClientDetect => HTTP::CD
HTTP::CookieJar => HTTP::CJar
HTTP::CookieMonster => HTTP::CM
HTTP::Cookies => HTTP::C
HTTP::Daemon => HTTP::D
HTTP::Date => *undef*
HTTP::Entity::Parser => HTTP::E::P
HTTP::Headers::ActionPack => HTTP::H::AP
HTTP::Headers::Fast => HTTP::H::F
HTTP::Lite => HTTP::L
HTTP::Message => HTTP::M
HTTP::MultiGet => HTTP::MGet
HTTP::MultiPartParser => HTTP::MPP
HTTP::Negotiate => HTTP::N
HTTP::Parser::XS => HTTP::P::XS
HTTP::Request::AsCGI => HTTP::R::AsCGI
HTTP::Request::StreamingUpload => HTTP::R::SU
HTTP::Response::Stringable => HTTP::R::S
HTTP::Server::Simple => HTTP::S::S
HTTP::Server::Simple::PSGI => HTTP::S::S::PSGI
HTTP::Session => HTTP::S
HTTP::Session::Store::DBI => HTTP::S::S::DBI
HTTP::Thin => HTTP::T
HTTP::Throwable => *undef*
HTTP::Tiny => *undef*
HTTP::Tiny::FileProtocol => HTTP::T::FP
HTTP::Tiny::Mech => HTTP::T::M
HTTP::Tiny::Multipart => *undef*
HTTP::Tiny::Paranoid => HTTP::T::P
HTTP::Tiny::UA => HTTP::T::UA
HTTP::Tiny::UNIX => HTTP::T::UNIX
HTTP::Tinyish => *undef*
HTTP::XSCookies => HTTP::XSC
HTTP::XSHeaders => HTTP::XSH
HackaMol => HMol
Hash::AutoHash => H::AH
Hash::AutoHash::Args => H::AH::A
Hash::Diff => H::D
Hash::FieldHash => H::FH
Hash::Flatten => H::F
Hash::GuavaRing => H::GR
Hash::Inflator => H::I
Hash::Iterator => *undef*
Hash::Layout => H::L
Hash::Match => H::M
Hash::Merge => *undef*
Hash::Merge::Simple => H::M::S
Hash::MoreUtils => H::MU
Hash::MostUtils => *undef*
Hash::MultiValue => H::MV
Hash::Objectify => H::O
Hash::Path => H::P
Hash::StoredIterator => H::SI
Hash::Util => H::U
Hash::Util::FieldHash => H::U::FH
Hash::Util::FieldHash::Compat => H::U::FH::C
Hook::AfterRuntime => H::AR
Hook::LexWrap => H::LexW
I18N::Collate => I18N::C
I18N::LangTags => I18N::LT
I18N::LangTags::Detect => I18N::LT::D
I18N::LangTags::List => I18N::LT::L
I18N::Langinfo => I18N::L
IO::AIO::LoadLimited => IO::AIO::LL
IO::Async => IO::A
IO::Async::SSL => IO::A::SSL
IO::Capture => IO::C
IO::CaptureOutput => IO::CO
IO::Compress::Adapter::Bzip2 => IO::C::A::B2
IO::Compress::Adapter::Deflate => IO::C::A::D
IO::Compress::Adapter::Identity => IO::C::A::I
IO::Compress::Base => IO::C::B
IO::Compress::Base::Common => IO::C::B::C
IO::Compress::Brotli => *undef*
IO::Compress::Bzip2 => IO::C::B2
IO::Compress::Deflate => IO::C::D
IO::Compress::Gzip => IO::C::G
IO::Compress::Gzip::Constants => IO::C::G::C
IO::Compress::Lzma => IO::C::L
IO::Compress::RawDeflate => IO::C::RawD
IO::Compress::Zip => IO::C::Zip
IO::Compress::Zip::Constants => IO::C::Zip::C
IO::Compress::Zlib::Constants => IO::C::Z::C
IO::Compress::Zlib::Extra => IO::C::Z::E
IO::Event => IO::E
IO::ExplicitHandle => IO::EH
IO::FDPass => IO::FDP
IO::File => IO::F
IO::File::WithFilename => IO::F::WF
IO::Framed => *undef*
IO::Handle => IO::H
IO::Handle::Record => IO::H::R
IO::Handle::Util => IO::H::U
IO::Interactive => IO::I
IO::Interactive::Tiny => IO::I::T
IO::Interface => *undef*
IO::LockedFile => IO::LF
IO::Pager => IO::P
IO::Pipe => *undef*
IO::Pipely => *undef*
IO::Poll => *undef*
IO::Prompt => *undef*
IO::Prompt::I18N => IO::P::I18N
IO::Prompt::Simple => IO::P::S
IO::Prompt::Tiny => IO::P::T
IO::Prompter => *undef*
IO::ReadHandle::Chain => IO::RH::C
IO::Seekable => IO::S
IO::Select => *undef*
IO::SessionData => IO::SD
IO::SigGuard => IO::SigG
IO::Socket => *undef*
IO::Socket::INET => IO::S::INET
IO::Socket::INET6 => IO::S::INET6
IO::Socket::IP => IO::S::IP
IO::Socket::Multicast => IO::S::M
IO::Socket::SSL => IO::S::SSL
IO::Socket::Timeout => IO::S::T
IO::Socket::UNIX => IO::S::UNIX
IO::String => *undef*
IO::Stringy => *undef*
IO::Stty => *undef*
IO::Termios => IO::T
IO::TieCombine => IO::TieC
IO::Uncompress::Adapter::Bunzip2 => IO::U::A::B2
IO::Uncompress::Adapter::Identity => IO::U::A::I
IO::Uncompress::Adapter::Inflate => *undef*
IO::Uncompress::AnyInflate => IO::U::AnyI
IO::Uncompress::AnyUncompress => IO::U::AnyU
IO::Uncompress::Base => IO::U::B
IO::Uncompress::Bunzip2 => IO::U::B2
IO::Uncompress::Gunzip => IO::U::G
IO::Uncompress::Inflate => IO::U::I
IO::Uncompress::RawInflate => IO::U::RawI
IO::Uncompress::Unzip => IO::U::U
IO::Zlib => IO::Z
IOD::Examples => IOD::E
IP::CountryFlag => IP::CF
IP::Random => IP::R
IPC::Filter => IPC::F
IPC::MorseSignals => IPC::MS
IPC::Open2 => IPC::O2
IPC::Open3 => IPC::O3
IPC::Open3::Callback => IPC::O3::C
IPC::Queue::Duplex => IPC::Q::D
IPC::Run3::Shell => IPC::Run3::S
IPC::Semaphore => IPC::S
IPC::SharedMem => IPC::SMem
IPC::Signal => *undef*
IPC::Signal::Force => IPC::S::F
IPC::System::Options => IPC::S::O
IPC::System::Simple => IPC::S::S
IRC::Utils => IRC::U
Image::Base => I::B
Image::CCV => I::CCV
Image::ExifTool => I::ET
Image::Info => I::I
Image::Magick => I::M
Image::PNG::Libpng => I::PNG::L
Image::Randim => I::R
Image::Sane => I::S
Image::Scale => *undef*
Image::Similar => *undef*
Image::Size => *undef*
Image::Xbm => I::Xbm
Image::Xpm => I::Xpm
Import::Base => *undef*
Import::Export => I::E
Import::Into => *undef*
Importer::Zim => I::Zim
Importer::Zim::Base => I::Zim::B
Importer::Zim::Lexical => I::Zim::L
Importer::Zim::Unit => I::Zim::U
InfluxDB::HTTP => IDB::HTTP
Inline::C => I::C
Inline::CPP => I::CPP
Inline::Filters => I::F
Iterator::Diamond => I::D
Iterator::Paged => I::P
Iterator::Simple => *undef*
Iterator::Util => I::U
JCM::Boilerplate => JCM::B
JCM::Net::Patricia => JCM::Net::P
JSON::Assert => JSON::A
JSON::Color => JSON::C
JSON::Create => *undef*
JSON::MaybeXS => JSON::MXS
JSON::MultiValueOrdered => JSON::MVO
JSON::PP::Boolean => JSON::PP::B
JSON::Parse => JSON::P
JSON::Path => *undef*
JSON::Pointer => *undef*
JSON::Schema::AsType => JSON::S::AsT
JSON::Util => JSON::U
JSON::Validator => JSON::V
JSON::WithComments => JSON::WC
JSON::XS::ByteString => JSON::XS::BS
JSV::Compilator => JSV::C
JSV::Compiler => *undef*
Java::Doc => J::Doc
JavaScript::Beautifier => JS::B
JavaScript::Duktape => JS::D
JavaScript::Minifier::XS => JS::M::XS
JavaScript::Packer => JS::P
JavaScript::V8 => JS::V8
JavaScript::V8x::TestMoreish => JS::V8x::TM
JavaScript::Value::Escape => JS::V::E
Jenkins::API => J::API
JobCenter::Client::Mojo => JobC::C::M
Jojo::Role => J::R
JsonSQL => JSQL
Kevin::Command::kevin => K::C::k
Keyword::DEVELOPMENT => K::DEVELOPMENT
Keyword::Declare => K::D
Keyword::Simple => K::S
LWP::ConsoleLogger => LWP::CL
LWP::MediaTypes => LWP::MT
LWP::Online => LWP::O
LWP::Protocol::http::SocketUnixAlt => LWP::P::h::SUAlt
LWP::Protocol::https => LWP::P::h
LWP::UserAgent::Determined => LWP::UA::D
LWP::UserAgent::Patch::FilterMirror => LWP::UA::P::FM
LWP::UserAgent::Throttled => LWP::UA::T
Lab::Measurement => Lab::M
Layout::Manager => L::M
Lazy::Util => L::U
Lazy::Utils => *undef*
Lexical::Accessor => L::A
Lexical::Persistence => L::P
Lexical::SealRequireHints => L::SRH
Lexical::Types => L::T
Lido::XML => L::XML
Lingua::AR::Regexp => L::AR::R
Lingua::AR::Tashkeel => L::AR::T
Lingua::Conjunction => L::C
Lingua::EN::ABC => L::EN::ABC
Lingua::EN::FindNumber => L::EN::FN
Lingua::EN::Inflect => L::EN::I
Lingua::EN::Inflect::Number => L::EN::I::N
Lingua::EN::Inflect::Phrase => L::EN::I::P
Lingua::EN::Inflexion => *undef*
Lingua::EN::Number::IsOrdinal => L::EN::N::IsO
Lingua::EN::Numbers => L::EN::N
Lingua::EN::Numbers::Ordinate => L::EN::N::O
Lingua::EN::Nums2Words => L::EN::N2W
Lingua::EN::PluralToSingular => L::EN::PToS
Lingua::EN::Sentence => L::EN::S
Lingua::EN::Syllable => *undef*
Lingua::EN::Tagger => L::EN::T
Lingua::EN::Words2Nums => L::EN::W2N
Lingua::Interset => L::I
Lingua::JA::FindDates => L::JA::FD
Lingua::JA::KanjiTable => L::JA::KT
Lingua::JA::Moji => L::JA::M
Lingua::JA::Name::Splitter => L::JA::N::S
Lingua::KO::Hangul::Util => L::KO::H::U
Lingua::LO::NLP => L::LO::NLP
Lingua::PT::Abbrev => L::PT::A
Lingua::PT::PLNbase => L::PT::PLN
Lingua::PT::Stemmer => L::PT::S
Lingua::PTD => L::PTD
Lingua::Sentence => L::S
Lingua::Stem => *undef*
Lingua::Stem::Fr => L::S::Fr
Lingua::Stem::It => L::S::It
Lingua::Stem::Ru => L::S::Ru
Lingua::Stem::Snowball::Ca => L::S::S::Ca
Lingua::Stem::Snowball::Da => L::S::S::Da
Lingua::Stem::Snowball::No => L::S::S::No
Lingua::Stem::Snowball::Se => L::S::S::Se
Lingua::Word::Parser => L::W::P
Linux::Clone => *undef*
Linux::DesktopFiles => L::DF
Linux::GetPidstat => L::GetP
Linux::IO_Prio => L::IO_P
Linux::Info => *undef*
Linux::Inotify2 => L::I2
Linux::MemInfo => L::MemI
Linux::Prctl => *undef*
Linux::Seccomp => *undef*
LinuxMint::Releases => LM::R
List::AllUtils => L::AllU
List::BinarySearch => L::BS
List::BinarySearch::XS => L::BS::XS
List::Compare => *undef*
List::Haystack => L::H
List::Lazy => L::L
List::Member => *undef*
List::MoreUtils => L::MU
List::MoreUtils::XS => L::MU::XS
List::Pairwise => *undef*
List::PowerSet => L::PSet
List::Sliding::Changes => L::S::C
List::SomeUtils => L::SU
List::SomeUtils::XS => L::SU::XS
List::ToHash => L::ToH
List::Uniq => *undef*
List::Util => *undef*
List::Util::XS => L::U::XS
List::UtilsBy => L::UBy
List::Vectorize => L::V
Locale::Babelfish => L::B
Locale::Codes => *undef*
Locale::Codes::Constants => L::C::C
Locale::Codes::Country => *undef*
Locale::Codes::Country_Codes => L::C::CC
Locale::Codes::Country_Retired => L::C::CR
Locale::Codes::Currency => *undef*
Locale::Codes::Currency_Codes => *undef*
Locale::Codes::Currency_Retired => *undef*
Locale::Codes::LangExt => L::C::LExt
Locale::Codes::LangExt_Codes => L::C::LEC
Locale::Codes::LangExt_Retired => L::C::LER
Locale::Codes::LangFam => L::C::LFam
Locale::Codes::LangFam_Codes => L::C::LFC
Locale::Codes::LangFam_Retired => L::C::LFR
Locale::Codes::LangVar => L::C::LVar
Locale::Codes::LangVar_Codes => L::C::LVC
Locale::Codes::LangVar_Retired => L::C::LVR
Locale::Codes::Language => L::C::L
Locale::Codes::Language_Codes => L::C::LC
Locale::Codes::Language_Retired => L::C::LR
Locale::Codes::Script => L::C::S
Locale::Codes::Script_Codes => L::C::SC
Locale::Codes::Script_Retired => L::C::SR
Locale::Country => *undef*
Locale::Currency => *undef*
Locale::Currency::Format => L::C::F
Locale::File::PO::Header => L::F::PO::H
Locale::Language => *undef*
Locale::MO::File => L::MO::F
Locale::Maketext => *undef*
Locale::Maketext::Guts => L::M::G
Locale::Maketext::GutsLoader => L::M::GL
Locale::Maketext::Lexicon => L::M::L
Locale::Maketext::Simple => L::M::S
Locale::Msgfmt => *undef*
Locale::PO => L::PO
Locale::Script => *undef*
Locale::Set => L::Set
Locale::TextDomain::OO => L::TD::OO
Locale::TextDomain::OO::Extract => L::TD::OO::E
Locale::TextDomain::OO::Util => L::TD::OO::U
Locale::TextDomain::UTF8 => L::TD::UTF8
Locale::Utils::Autotranslator => L::U::A
Locale::Utils::PlaceholderBabelFish => L::U::PBF
Locale::Utils::PlaceholderMaketext => L::U::PM
Locale::Utils::PlaceholderNamed => L::U::PN
Locale::XGettext => L::XG
Locale::gettext => L::g
Lock::Server => *undef*
Log::Agent => Log::A
Log::Any::Adapter::Callback => Log::Any::A::C
Log::Any::Adapter::Handler => Log::Any::A::H
Log::Any::Adapter::Log4perl => Log::Any::A::Log4
Log::Any::Adapter::LogGer => Log::Any::A::LogGer
Log::Any::Adapter::MojoLog => Log::Any::A::MLog
Log::Any::Adapter::Screen => Log::Any::A::S
Log::Any::Adapter::TAP => Log::Any::A::TAP
Log::Colorize::Helper => Log::C::H
Log::Contextual => Log::C
Log::Contextual::LogDispatchouli => Log::C::LogD
Log::Dispatch => Log::D
Log::Dispatch::Array => Log::D::A
Log::Dispatch::Config => Log::D::C
Log::Dispatch::Configurator::Any => Log::D::C::Any
Log::Dispatch::Dir => Log::D::Dir
Log::Dispatch::FileRotate => Log::D::FR
Log::Dispatchouli => *undef*
Log::Fast => Log::F
Log::Funlog => *undef*
Log::Funlog::Lang => Log::F::L
Log::Handler => Log::H
Log::Log4perl => Log::Log4
Log::Log4perl::Appender::TAP => Log::Log4::A::TAP
Log::Log4perl::Layout::Syslog => Log::Log4::L::S
Log::Log4perl::Tiny => Log::Log4::T
Log::LogMethods => Log::LogM
Log::Message => Log::M
Log::Message::Simple => Log::M::S
Log::Minimal => *undef*
Log::Report => Log::R
Log::Report::Lexicon => Log::R::L
Log::Report::Optional => Log::R::O
Log::Report::Template => Log::R::T
Log::Scrubber => Log::S
Log::Trace => Log::T
Log::ger::For::Class => Log::ger::For::C
Log::ger::Format::Block => Log::ger::F::B
Log::ger::Format::Sprintfn => Log::ger::F::S
Log::ger::Layout::JSON => Log::ger::L::JSON
Log::ger::Layout::LTSV => Log::ger::L::LTSV
Log::ger::Layout::Pattern => Log::ger::L::P
Log::ger::Layout::YAML => Log::ger::L::YAML
Log::ger::LevelFromEnv => Log::ger::LFEnv
Log::ger::Like::Log4perl => Log::ger::L::Log4
Log::ger::Like::LogAny => Log::ger::L::LogAny
Log::ger::Manual => Log::ger::M
Log::ger::Output::ArrayWithLimits => Log::ger::O::AWL
Log::ger::Output::Callback => Log::ger::O::C
Log::ger::Output::Composite => *undef*
Log::ger::Output::DirWriteRotate => Log::ger::O::DirWR
Log::ger::Output::File => Log::ger::O::F
Log::ger::Output::FileWriteRotate => Log::ger::O::FWR
Log::ger::Output::LogAny => Log::ger::O::LogAny
Log::ger::Output::Screen => Log::ger::O::S
Log::ger::Output::Syslog => *undef*
Log::ger::Plugin::OptAway => Log::ger::P::OptA
Logfile::Rotate => L::R
Lyrics::Fetcher => L::F
Lyrics::Fetcher::LyricsTranslate => L::F::LT
MARC::Charset => MARC::C
MARC::File::MARCMaker => MARC::F::MARCM
MARC::File::MiJ => MARC::F::MiJ
MARC::File::XML => MARC::F::XML
MARC::Lint => MARC::L
MARC::Parser::RAW => MARC::P::RAW
MARC::Record => MARC::R
MARC::Spec => MARC::S
MCE::Shared => MCE::S
MDK::Common => MDK::C
MDV::Packdrakeng => MDV::P
MEME::Alphabet => MEME::A
MIME::Base32 => MIME::B32
MIME::Base64 => MIME::B64
MIME::Charset => MIME::C
MIME::Lite => MIME::L
MIME::QuotedPrint => MIME::QP
MIME::Tools => MIME::T
MIME::Types => *undef*
MODS::Record => MODS::R
MRO::Compat => MRO::C
MToken => MT
MVC::Neaf => MVC::N
Mac::PropertyList => Mac::PL
Mac::PropertyList::SAX => Mac::PL::SAX
Mail::BIMI => M::BIMI
Mail::Box => M::Box
Mail::Box::IMAP4 => M::Box::IMAP4
Mail::Box::POP3 => M::Box::POP3
Mail::DKIM => M::DKIM
Mail::DMARC => M::DMARC
Mail::IMAPClient => M::IMAPC
Mail::Message => M::M
Mail::OpenDKIM => M::ODKIM
Mail::POP3 => M::POP3
Mail::RFC822::Address => M::RFC822::A
Mail::Sender => M::S
Mail::Sendmail => *undef*
Mail::Transport => M::T
MailTools => *undef*
MailboxValidator::SingleValidation => MV::SV
Manta::Client => M::C
Map::Tube => Map::T
Map::Tube::Athens => Map::T::A
Map::Tube::Barcelona => Map::T::B
Map::Tube::Berlin => *undef*
Map::Tube::CLI => Map::T::CLI
Map::Tube::Delhi => Map::T::D
Map::Tube::Exception => Map::T::E
Map::Tube::Kazan => Map::T::K
Map::Tube::Kharkiv => *undef*
Map::Tube::Kolkatta => *undef*
Map::Tube::London => Map::T::L
Map::Tube::Milan => Map::T::M
Map::Tube::NYC => Map::T::NYC
Map::Tube::Samara => Map::T::S
Map::Tube::Tokyo => Map::T::T
Maplat::Array::Unique => M::A::U
MariaDB::NonBlocking => MDB::NonB
Markdown::Pod => M::Pod
Markdown::To::POD => M::To::POD
Marketplace::Ebay => M::E
Marpa::R2 => M::R2
MarpaX::ESLIF => MX::ESLIF
MarpaX::ESLIF::ECMA404 => MX::ESLIF::ECMA404
MarpaX::ESLIF::URI => MX::ESLIF::URI
MarpaX::Languages::M4 => MX::L::M4
Math::AnyNum => M::AnyNum
Math::Base85 => M::B85
Math::Base::Convert => M::B::C
Math::BigFloat => M::BigF
Math::BigFloat::Trace => M::BigF::T
Math::BigInt => M::BigInt
Math::BigInt::Calc => M::BigInt::C
Math::BigInt::CalcEmu => M::BigInt::CEmu
Math::BigInt::FastCalc => M::BigInt::FC
Math::BigInt::GMP => M::BigInt::GMP
Math::BigInt::Lib => M::BigInt::Lib
Math::BigInt::Trace => M::BigInt::T
Math::BigRat => M::BigRat
Math::CDF => M::CDF
Math::Cartesian::Product => M::C::P
Math::Combinatorics => *undef*
Math::Complex => *undef*
Math::Decimal => M::D
Math::Derivative => *undef*
Math::EllipticCurve::Prime => M::EC::P
Math::Expression => *undef*
Math::Fibonacci => M::F
Math::GMP => M::GMP
Math::GMPq => M::GMPq
Math::GMPz => M::GMPz
Math::Geometry::Planar::GPC::PolygonXS => M::G::P::GPC::PXS
Math::Int64 => M::Int64
Math::LongDouble => M::LD
Math::MPC => M::MPC
Math::MPFR => M::MPFR
Math::Pari => M::P
Math::Permute::Lists => M::P::L
Math::Polygon => *undef*
Math::Polygon::Tree => M::P::T
Math::Prime::Util => M::P::U
Math::Prime::Util::GMP => M::P::U::GMP
Math::Random => M::R
Math::Random::ISAAC => M::R::ISAAC
Math::Random::ISAAC::XS => M::R::ISAAC::XS
Math::Random::MT => M::R::MT
Math::Random::MT::Auto => M::R::MT::A
Math::Random::MTwist => *undef*
Math::Random::Secure => M::R::S
Math::Round => *undef*
Math::ScientificNotation::Util => M::SN::U
Math::Spline => *undef*
Math::Transform::List => M::T::L
Math::Trig => *undef*
Math::Units => M::U
Math::Utils => *undef*
Math::Vector::Real => M::V::R
Math::Vector::Real::Random => M::V::R::R
Math::Vector::Real::XS => M::V::R::XS
Math::Vector::Real::kdTree => M::V::R::kdT
Math::VectorReal => M::VR
Math::Vectors2 => M::V2
MaxMind::DB::Common => MaxM::DB::C
MaxMind::DB::Reader => MaxM::DB::R
Memoize::AnyDBM_File => M::AnyDBM_F
Memoize::Expire => *undef*
Memoize::ExpireFile => M::EF
Memoize::ExpireLRU => M::ELRU
Memoize::ExpireTest => M::ET
Memoize::NDBM_File => M::NDBM_F
Memoize::SDBM_File => M::SDBM_F
Memoize::Storable => *undef*
Memory::Usage => *undef*
Message::Passing => *undef*
Message::Passing::Output::Search::Elasticsearch => M::P::O::S::E
Meta::Builder => M::B
MetaCPAN::API => MCPAN::API
MetaCPAN::Client => MCPAN::C
MetaMap::DataStructures => MMap::DS
Metabase::Client::Simple => M::C::S
Metabase::Fact => *undef*
Method::Signatures => *undef*
Method::Signatures::PP => M::S::PP
Method::Signatures::Simple => M::S::S
Method::Traits => *undef*
Method::WeakCallback => M::WC
Minion::Backend::SQLite => M::B::SQL
Minion::Backend::mysql => M::B::m
Minion::Command::minion::version => M::C::m::v
Mixin::Event::Dispatch => M::E::D
Mixin::Linewise => M::L
Mock::Config => *undef*
Mock::MonkeyPatch => M::MP
Mock::Quick => M::Q
Mock::Sub => M::Sub
Modern::Perl => *undef*
Module-Versions-Report => M-V-R
Module::Build => *undef*
Module::Build::FFI => M::B::FFI
Module::Build::Pluggable => M::B::P
Module::Build::Pluggable::CPANfile => M::B::P::CPAN
Module::Build::Pluggable::PPPort => M::B::P::PPP
Module::Build::Tiny => M::B::T
Module::Build::WithXSpp => M::B::WXSpp
Module::Build::XSUtil => M::B::XSU
Module::CPANTS::Analyse => M::CPANTS::A
Module::CPANfile => M::CPAN
Module::CPANfile::FromDistINI => M::CPAN::FDINI
Module::CheckDep::Version => M::CDep::V
Module::Compile => *undef*
Module::CoreList => M::CL
Module::CoreList::More => M::CL::M
Module::CoreList::TieHashDelta => M::CL::TieHD
Module::CoreList::Utils => M::CL::U
Module::Data => *undef*
Module::DataPack => M::DP
Module::Extract::Namespaces => M::E::N
Module::Extract::Use => M::E::Use
Module::ExtractUse => M::EUse
Module::FatPack => M::FatP
Module::Find => *undef*
Module::Implementation => M::I
Module::Info => *undef*
Module::Install => *undef*
Module::Install::CPANfile => M::I::CPAN
Module::Installed::Tiny => M::I::T
Module::List => *undef*
Module::Load => *undef*
Module::Load::Conditional => M::L::C
Module::Load::In::INIT => M::L::In::INIT
Module::Loaded => *undef*
Module::Loader => *undef*
Module::Locate => *undef*
Module::Manifest => *undef*
Module::Metadata => *undef*
Module::Metadata::CoreList => M::M::CL
Module::Patch => *undef*
Module::Path => *undef*
Module::Path::More => M::P::M
Module::Pluggable => *undef*
Module::Pluggable::Fast => M::P::F
Module::PrintUsed => M::PU
Module::Reader => *undef*
Module::Refresh => *undef*
Module::Runtime => *undef*
Module::Runtime::Conflicts => M::R::C
Module::ScanDeps => M::SD
Module::Signature => *undef*
Module::Spy => M::Spy
Module::Starter => *undef*
Module::Starter::Smart => *undef*
Module::Util => *undef*
Module::Version => M::V
Module::XSOrPP => M::XSOrPP
Mojo::ACME => M::ACME
Mojo::Base::XS => M::B::XS
Mojo::Bass => *undef*
Mojo::DOM58 => M::DOM58
Mojo::GoogleAnalytics => M::GA
Mojo::IOLoop::ForkCall => M::IOL::FC
Mojo::IOLoop::ReadWriteFork => M::IOL::RWF
Mojo::IOLoop::ReadWriteProcess => M::IOL::RWP
Mojo::JWT => M::JWT
Mojo::Log::Che => M::Log::Che
Mojo::Log::Colored => M::Log::C
Mojo::Pg => M::Pg
Mojo::Reactor::IOAsync => M::R::IOA
Mojo::Redis2 => *undef*
Mojo::SMTP::Client => M::SMTP::C
Mojo::SQLite => M::SQL
Mojo::UserAgent::Cached => M::UA::C
Mojo::XMLRPC => M::XMLRPC
Mojo::mysql => M::m
MojoX::Log::Log4perl => MX::Log::Log4
MojoX::NetstringStream => MX::NS
MojoX::Validate::Util => MX::V::U
Mojolicious::Che => M::Che
Mojolicious::Plugin::AssetPack => M::P::AP
Mojolicious::Plugin::AssetPack::Che => M::P::AP::Che
Mojolicious::Plugin::Authentication => M::P::A
Mojolicious::Plugin::Check => M::P::C
Mojolicious::Plugin::ClientIP::Pluggable => M::P::CIP::P
Mojolicious::Plugin::DOCRenderer => M::P::DOCR
Mojolicious::Plugin::EDumper => M::P::ED
Mojolicious::Plugin::GraphQL => M::P::GQL
Mojolicious::Plugin::Helper::Vars => M::P::H::V
Mojolicious::Plugin::Multiplex => *undef*
Mojolicious::Plugin::OAuth2 => M::P::OA2
Mojolicious::Plugin::OAuth2::Che => M::P::OA2::Che
Mojolicious::Plugin::OpenAPI => M::P::OAPI
Mojolicious::Plugin::Pager => M::P::P
Mojolicious::Plugin::Qooxdoo => M::P::Q
Mojolicious::Plugin::RoutesAuthDBI => M::P::RADBI
Mojolicious::Plugin::Tables => *undef*
Mojolicious::Plugin::Text::Caml => M::P::T::C
Mojolicious::Plugin::Vparam => M::P::V
Mojolicious::Plugin::Web::Auth => M::P::Web::A
Mojolicious::Plugin::Webtail => M::P::W
MongoDB => MDB
Monkey::Patch => *undef*
Monkey::Patch::Action => *undef*
MooX::Aliases => MooX::A
MooX::ClassAttribute => MooX::CA
MooX::HandlesVia => MooX::HVia
MooX::LazierAttributes => MooX::LA
MooX::Locale::Passthrough => MooX::L::P
MooX::Options => MooX::O
MooX::ReturnModifiers => MooX::RM
MooX::Role::CachedURL => MooX::R::CURL
MooX::Role::Logger => MooX::R::L
MooX::Singleton => MooX::S
MooX::StrictConstructor => MooX::SC
MooX::Struct => *undef*
MooX::Thunking => MooX::T
MooX::Traits => *undef*
MooX::TypeTiny => MooX::TT
MooX::Types::MooseLike => MooX::T::ML
MooX::Types::MooseLike::Numeric => MooX::T::ML::N
MooX::ValidateSubs => MooX::VS
MooX::late => MooX::l
Moose::Autobox => M::A
MooseX::Aliases => MX::A
MooseX::App => MX::App
MooseX::ArrayRef => MX::ARef
MooseX::Attribute::ENV => MX::A::ENV
MooseX::AttributeDocumented => MX::AD
MooseX::AttributeShortcuts => MX::AS
MooseX::ClassAttribute => MX::CA
MooseX::Clone => MX::C
MooseX::ConfigCascade => MX::CC
MooseX::ConfigFromFile => MX::CFF
MooseX::DIC => MX::DIC
MooseX::Daemonize => MX::D
MooseX::DataModel => MX::DM
MooseX::Deprecated => *undef*
MooseX::Emulate::Class::Accessor::Fast => MX::E::C::A::F
MooseX::Enumeration => MX::E
MooseX::ExtraArgs => MX::EA
MooseX::Final => MX::F
MooseX::Getopt => MX::G
MooseX::Getopt::Kingpin => MX::G::K
MooseX::HandlesConstructor => MX::HC
MooseX::Has::Sugar => MX::Has::S
MooseX::HasDefaults => MX::HasD
MooseX::LazyRequire => MX::LR
MooseX::Log::Log4perl => *undef*
MooseX::MarkAsMethods => MX::MAsM
MooseX::Meta::TypeConstraint::ForceCoercion => MX::M::TC::FC
MooseX::Meta::TypeConstraint::Mooish => MX::M::TC::M
MooseX::Method::Signatures => MX::M::S
MooseX::MethodAttributes => MX::MA
MooseX::MungeHas => MX::MHas
MooseX::NonMoose => MX::NonM
MooseX::Object::Pluggable => MX::O::P
MooseX::OneArgNew => MX::OneArgNew
MooseX::Params::Validate => MX::P::V
MooseX::Privacy => MX::P
MooseX::Role::Parameterized => MX::R::P
MooseX::Role::WithOverloading => MX::R::WO
MooseX::SemiAffordanceAccessor => MX::SAA
MooseX::SetOnce => MX::SetO
MooseX::SimpleConfig => MX::SC
MooseX::Singleton => MX::S
MooseX::SlurpyConstructor => *undef*
MooseX::Storage => *undef*
MooseX::Storage::Format::JSONpm => MX::S::F::JSONpm
MooseX::StrictConstructor => *undef*
MooseX::Traits => MX::T
MooseX::Traits::Pluggable => MX::T::P
MooseX::Types => *undef*
MooseX::Types::Common => MX::T::C
MooseX::Types::DateTime => MX::T::DT
MooseX::Types::DateTime::MoreCoercions => MX::T::DT::MC
MooseX::Types::Email => MX::T::E
MooseX::Types::LoadableClass => MX::T::LC
MooseX::Types::Path::Class => MX::T::P::C
MooseX::Types::Path::Tiny => MX::T::P::T
MooseX::Types::Perl => *undef*
MooseX::Types::Stringlike => MX::T::S
MooseX::Types::Structured => *undef*
MooseX::Types::URI => MX::T::URI
MooseX::UndefTolerant => MX::UT
Moped::Msg => M::Msg
MouseX::Foreign => *undef*
MouseX::NativeTraits => MX::NT
MouseX::StrictConstructor => *undef*
MouseX::Types => *undef*
MozRepl => MozR
MozRepl::RemoteObject => MozR::RO
Mozilla::CA => M::CA
Mozilla::PublicSuffix => M::PS
MsgPack::RPC => MsgP::RPC
Music::Lyrics::LRC => M::L::LRC
Mustache::Simple => *undef*
MySQL::Sandbox => MySQL::S
NDBM_File => NDBM_F
NKTI::general => NKTI::g
NanoB2B::NER => NB2B::NER
NativeCall => NC
Neo4j::Cypher::Abstract => Neo4j::C::A
Neovim::RPC => N::RPC
Net::AMQP::RabbitMQ => Net::AMQP::RMQ
Net::AMQP::RabbitMQ::Batch => Net::AMQP::RMQ::B
Net::Amazon::AlexaValidator => Net::A::AV
Net::Amazon::DynamoDB::Marshaler => Net::A::DDB::M
Net::Amazon::Signature::V3 => Net::A::S::V3
Net::Amazon::Signature::V4 => Net::A::S::V4
Net::AppDynamics::REST => Net::AppD::REST
Net::Appliance::Session => Net::A::S
Net::Async::HTTP => Net::A::HTTP
Net::Async::OAuth => Net::A::OA
Net::Async::Pusher => Net::A::P
Net::Async::Slack => *undef*
Net::Async::Tangence => Net::A::T
Net::Async::Trello => *undef*
Net::Async::WebSocket => Net::A::WebS
Net::Azure::CognitiveServices::Face => Net::A::CS::F
Net::CIDR::Lite => Net::CIDR::L
Net::CLI::Interact => Net::CLI::I
Net::CalDAVTalk => Net::CalDAVT
Net::CardDAVTalk => Net::CDAVT
Net::Config => Net::C
Net::Curl => *undef*
Net::DAVTalk => Net::DAVT
Net::DNS::Paranoid => Net::DNS::P
Net::DNS::Resolver::Mock => Net::DNS::R::M
Net::DNS::Resolver::Programmable => Net::DNS::R::P
Net::Domain => Net::D
Net::Domain::TLD => Net::D::TLD
Net::Etcd => Net::E
Net::FTP::Tiny => Net::FTP::T
Net::FTP::dataconn => Net::FTP::d
Net::Frame => Net::F
Net::Frame::Simple => Net::F::S
Net::HTTP::Spore => Net::HTTP::S
Net::HTTP::Spore::Middleware::DefaultParams => Net::HTTP::S::M::DP
Net::HTTP::Tiny => Net::HTTP::T
Net::HTTPServer => Net::HTTPS
Net::Hadoop::YARN => Net::H::YARN
Net::IDN::Encode => Net::IDN::E
Net::IMAP::Simple => Net::IMAP::S
Net::IP::Match::Regexp => Net::IP::M::R
Net::IP::Minimal => Net::IP::M
Net::IPAddress::Util => Net::IPA::U
Net::IPv4Addr => Net::IPv4A
Net::IPv6Addr => Net::IPv6A
Net::Ident => Net::I
Net::Inspect => *undef*
Net::KashFlow => Net::KF
Net::LDAP::Server => Net::LDAP::S
Net::LDAP::SimpleServer => Net::LDAP::SS
Net::MAC::Vendor => Net::MAC::V
Net::NATS::Client => Net::NATS::C
Net::NATS::Streaming::PB => Net::NATS::S::PB
Net::Netmask => Net::N
Net::Netrc => *undef*
Net::OAuth => Net::OA
Net::OpenSSH => Net::OSSH
Net::Pcap => Net::P
Net::Ping => *undef*
Net::Rendezvous::Publish => Net::R::P
Net::SMTP_auth => *undef*
Net::SNMP::Mixin => Net::SNMP::M
Net::SNMP::Mixin::Dot1abLldp => Net::SNMP::M::Dot1abL
Net::SSH::Perl => Net::SSH::P
Net::SSLeay => Net::SSL
Net::Server => Net::S
Net::SolarWinds::REST => Net::SW::REST
Net::Statsd::Client => Net::S::C
Net::Stomp => *undef*
Net::Stomp::MooseHelpers => Net::S::MH
Net::Stomp::Producer => Net::S::P
Net::Telnet => Net::T
Net::Telnet::Cisco => Net::T::C
Net::Time => *undef*
Net::Travis::API => Net::T::API
Net::Twitter => *undef*
Net::Twitter::Lite => Net::T::L
Net::Waiter => Net::W
Net::Whois::Raw => Net::W::Raw
Net::ZooKeeper => Net::ZooK
Net::hostent => Net::h
Net::netent => Net::n
Net::protoent => Net::p
Net::servent => Net::s
NetAddr::IP => NetA::IP
NetAddr::MAC => NetA::MAC
NetPacket => NetP
Nmap::Parser => N::P
Nodejs::Util => N::U
Novel::Robot::Browser => N::R::B
Novel::Robot::Parser => N::R::P
Number::Bytes::Human => N::B::H
Number::Compare => N::C
Number::Format => N::F
Number::Format::Metric => N::F::M
Number::Misc => N::M
Number::Phone => *undef*
Number::Phone::FR => N::P::FR
Number::Phone::Formatter::EPP => N::P::F::EPP
Number::Phone::JP => N::P::JP
Number::Range => N::R
Number::Tolerant => N::T
Number::WithError => N::WE
Number::ZipCode::JP => N::ZipC::JP
ODBM_File => ODBM_F
OLE::Storage_Lite => OLE::SL
OS2::ExtAttr => OS2::ExtA
OS2::Process => OS2::P
OTRS::OPM::Installer => OTRS::OPM::I
OTRS::OPM::Maker => OTRS::OPM::M
OTRS::OPM::Maker::Command::sopm => OTRS::OPM::M::C::s
OTRS::OPM::Parser => OTRS::OPM::P
OTRS::Repository => OTRS::R
Object-Persistence => O-P
Object::Accessor => O::A
Object::Event => O::E
Object::ForkAware => O::FA
Object::HashBase => O::HB
Object::ID => O::ID
Object::Import => O::I
Object::InsideOut => O::IOut
Object::MultiType => O::MT
Object::Pluggable => O::P
Object::Realize::Later => O::R::L
Object::Signature => O::S
Object::Simple => *undef*
Object::Tiny => O::T
Object::Tiny::RW => O::T::RW
Object::Tiny::RW::XS => O::T::RW::XS
Object::Tiny::XS => O::T::XS
ObjectDB => ODB
OpenAPI::Client => OAPI::C
OpenSSH::Fingerprint => OSSH::F
OptArgs => OptA
Outthentic::DSL => O::DSL
P5kkelabels => P5
PAR::Dist => PAR::D
PAR::Packer => PAR::P
PBKDF2::Tiny => PBKDF2::T
PDF::Builder => PDF::B
PDF::Cropmarks => PDF::C
PDF::Imposition => PDF::I
PDF::Tiny => PDF::T
PDL::Graphics::Gnuplot => PDL::G::G
PDL::Transform::Color => PDL::T::C
PDL::VectorValued => PDL::VV
PERLANCAR::AppUtil::PerlStripper => PERLANCAR::AppU::PS
PERLANCAR::File::HomeDir => PERLANCAR::F::HDir
PERLANCAR::Module::List => PERLANCAR::M::L
PGObject::Util::PGConfig => PGO::U::PGC
PGObject::Util::Replication::Master => PGO::U::R::M
PGObject::Util::Replication::SMO => PGO::U::R::SMO
PGObject::Util::Replication::Slot => PGO::U::R::S
PGObject::Util::Replication::Standby => *undef*
PGPLOT::Device => PGPLOT::D
PHP::Functions::Password => PHP::F::P
PHP::Serialization => PHP::S
PHP::Serialization::XS => PHP::S::XS
PICA::Data => PICA::D
PICA::Record => PICA::R
POE::Component::Client::DNS => POE::C::C::DNS
POE::Component::Client::HTTP => POE::C::C::HTTP
POE::Component::Client::Keepalive => POE::C::C::K
POE::Component::Client::Ping => POE::C::C::P
POE::Component::Client::eris => POE::C::C::e
POE::Component::IRC => POE::C::IRC
POE::Component::Resolver => POE::C::R
POE::Component::Server::eris => POE::C::S::e
POE::Component::Syndicator => POE::C::S
POE::Component::WheelRun::Pool => POE::C::WRun::P
POE::Filter::IRCD => POE::F::IRCD
POE::Filter::SSL => POE::F::SSL
POE::Test::Loops => POE::T::L
PONAPI::Client => PONAPI::C
POSIX::strftime::Compiler => POSIX::s::C
POSIX::strptime => POSIX::s
PPIx::Literal => PPIx::L
PPIx::QuoteLike => PPIx::QL
PPIx::Regexp => PPIx::R
PPIx::Utilities => PPIx::U
Package::Abbreviate => P::A
Package::Constants => P::C
Package::DeprecationManager => P::DM
Package::Generator => P::G
Package::MoreUtil => P::MU
Package::Stash => P::S
Package::Stash::XS => P::S::XS
Package::Variant => P::V
PadWalker => PadW
Paginator::Lite => P::L
Panda::Date => P::D
Panda::Export => P::E
Panda::Install => P::I
Panda::Lib => P::Lib
Panda::Time => P::T
Panda::XS => P::XS
Parallel::ForkManager => P::FM
Parallel::Iterator => *undef*
Parallel::Loops => *undef*
Parallel::Pipes => P::P
Parallel::Prefork => *undef*
Parallel::WorkUnit => P::WU
Params::Check => *undef*
Params::Classify => *undef*
Params::Registry => P::R
Params::Util => P::U
Params::Validate => *undef*
Params::ValidationCompiler => P::VC
Parse::ABNF => P::ABNF
Parse::CPAN::Meta => P::CPAN::M
Parse::CPAN::Packages::Fast => P::CPAN::P::F
Parse::DebControl => P::DebC
Parse::ErrorString::Perl => P::ES::P
Parse::Eyapp => *undef*
Parse::Hosts => P::H
Parse::Keyword => P::K
Parse::LocalDistribution => P::LD
Parse::MIME => P::MIME
Parse::Method::Signatures => P::M::S
Parse::Netstat => P::N
Parse::Number::EN => P::N::EN
Parse::Number::ID => P::N::ID
Parse::PMFile => P::PMF
Parse::RPM::Spec => P::RPM::S
Parse::RecDescent => P::RecD
Parse::Services => *undef*
Parse::Syslog::Line => P::S::L
Parse::VarName => P::VarN
Parse::Yapp => P::Y
Parser::MGC => P::MGC
Path::Abstract => *undef*
Path::Class => *undef*
Path::FindDev => P::FDev
Path::IsDev => P::IsDev
Path::Iterator::Rule => P::I::R
Path::Router => *undef*
Path::ScanINC => P::SINC
Path::Tiny => *undef*
Patterns::UndefObject => P::UO
Paws::Kinesis::MemoryCaller => P::K::MC
Paws::Net::MultiplexCaller => P::Net::MC
PawsX::DynamoDB::DocumentClient => PX::DDB::DC
Perinci::Access => *undef*
Perinci::Access::Base => P::A::B
Perinci::Access::HTTP::Client => P::A::HTTP::C
Perinci::Access::HTTP::Server => P::A::HTTP::S
Perinci::Access::Lite => P::A::L
Perinci::Access::Perl => P::A::P
Perinci::Access::Simple::Client => P::A::S::C
Perinci::Access::Simple::Server => P::A::S::S
Perinci::AccessUtil => P::AU
Perinci::CmdLine => P::CmdL
Perinci::CmdLine::Any => P::CmdL::Any
Perinci::CmdLine::Call => P::CmdL::C
Perinci::CmdLine::Dump => P::CmdL::D
Perinci::CmdLine::Gen => P::CmdL::Gen
Perinci::CmdLine::Help => P::CmdL::H
Perinci::CmdLine::Inline => P::CmdL::I
Perinci::CmdLine::Lite => P::CmdL::L
Perinci::CmdLine::POD => P::CmdL::POD
Perinci::CmdLine::Util => P::CmdL::U
Perinci::CmdLine::Util::Config => P::CmdL::U::C
Perinci::Examples => *undef*
Perinci::Gen::ForModule => P::Gen::ForM
Perinci::Object => P::O
Perinci::Result::Format => P::R::F
Perinci::Result::Format::Lite => P::R::F::L
Perinci::Sub::ArgEntity::dirname => P::Sub::ArgE::d
Perinci::Sub::ArgEntity::distname => *undef*
Perinci::Sub::ArgEntity::filename => P::Sub::ArgE::f
Perinci::Sub::ArgEntity::modulename => P::Sub::ArgE::m
Perinci::Sub::ArgEntity::perl_version => P::Sub::ArgE::p
Perinci::Sub::ArgEntity::riap_url => P::Sub::ArgE::r
Perinci::Sub::Complete => P::Sub::C
Perinci::Sub::ConvertArgs::Argv => P::Sub::CA::A
Perinci::Sub::ConvertArgs::Array => *undef*
Perinci::Sub::DepChecker => P::Sub::DepC
Perinci::Sub::Gen => P::Sub::Gen
Perinci::Sub::Gen::AccessTable => P::Sub::Gen::AT
Perinci::Sub::GetArgs::Argv => P::Sub::GetA::A
Perinci::Sub::GetArgs::Array => *undef*
Perinci::Sub::Normalize => P::Sub::N
Perinci::Sub::Property::arg::cmdline => P::Sub::P::arg::c
Perinci::Sub::Property::cmdline => P::Sub::P::c
Perinci::Sub::Property::result::table => P::Sub::P::r::t
Perinci::Sub::Property::retry => P::Sub::P::r
Perinci::Sub::Property::timeout => P::Sub::P::t
Perinci::Sub::PropertyUtil => P::Sub::PU
Perinci::Sub::To::CLIDocData => P::Sub::To::CLIDocD
Perinci::Sub::Util => P::Sub::U
Perinci::Sub::Wrapper => P::Sub::W
Perinci::Sub::XCompletion => P::Sub::XC
Perinci::To::Doc => P::To::Doc
Perl6::Slurp => P6::S
Perl::Critic => *undef*
Perl::Critic::Freenode => P::C::F
Perl::Critic::Lokku => P::C::L
Perl::Critic::Moose => P::C::M
Perl::Critic::Policy::BadStrings => P::C::P::BadS
Perl::Critic::Policy::Variables::ProhibitUnusedVarsStricter => P::C::P::V::PUVS
Perl::Critic::PolicyBundle::PERLANCAR => P::C::PB::PERLANCAR
Perl::Critic::Pulp => P::C::P
Perl::Examples::Accessors => P::E::A
Perl::MinimumVersion => P::MV
Perl::MinimumVersion::Fast => P::MV::F
Perl::OSType => P::OST
Perl::PrereqScanner => P::PS
Perl::PrereqScanner::NotQuiteLite => P::PS::NotQL
Perl::PrereqScanner::Scanner::Catalyst => P::PS::S::C
Perl::PrereqScanner::Scanner::Mojo => P::PS::S::M
Perl::PrereqScanner::Scanner::Zim => P::PS::S::Zim
Perl::Squish => *undef*
Perl::Strip => *undef*
Perl::Stripper => *undef*
Perl::Tidy => *undef*
Perl::Version => *undef*
Perl::osnames => P::o
PerlIO => PIO
PerlIO::Layers => PIO::L
PerlIO::encoding => PIO::e
PerlIO::gzip => PIO::g
PerlIO::locale => PIO::l
PerlIO::mmap => PIO::m
PerlIO::rewindable => PIO::r
PerlIO::scalar => PIO::s
PerlIO::subfile => *undef*
PerlIO::utf8_strict => PIO::utf8
PerlIO::via => PIO::via
PerlIO::via::ANSIColor => PIO::via::ANSIC
PerlIO::via::QuotedPrint => PIO::via::QP
PerlIO::via::Timeout => PIO::via::T
PerlX::Assert => PX::A
PerlX::AsyncAwait => PX::AA
PerlX::Maybe => PX::M
PerlX::Maybe::XS => PX::M::XS
PerlX::bash => PX::b
Permute::Named::Iter => P::N::I
Pg::Explain => Pg::E
Pg::Queue => Pg::Q
Pipe::Find => P::F
PkgConfig => PkgC
Plack::App::URLMux => P::App::URLMux
Plack::App::dbi2http => P::App::dbi2
Plack::Handler::CLI => P::H::CLI
Plack::Middleware::Auth::JWT => P::M::A::JWT
Plack::Middleware::DBIx::DisconnectAll => P::M::DBIx::DAll
Plack::Middleware::Expires => P::M::E
Plack::Middleware::FixMissingBodyInRedirect => P::M::FixMBInR
Plack::Middleware::LogErrors => P::M::LogE
Plack::Middleware::MethodOverride => P::M::MO
Plack::Middleware::PrettyException => P::M::PE
Plack::Middleware::RedirectSSL => P::M::RSSL
Plack::Middleware::RemoveRedundantBody => P::M::RRB
Plack::Middleware::ReverseProxy => P::M::RP
Plack::Middleware::Session => *undef*
Plack::Middleware::XForwardedFor => P::M::XFFor
Plack::Middleware::XSRFBlock => P::M::XSRFB
Plack::Test::Agent => P::T::A
Plack::Test::AnyEvent => P::T::AnyE
Plack::Test::ExternalServer => P::T::ES
PlugAuth => PA
Pod-MinimumVersion => Pod-MV
Pod::Checker => Pod::C
Pod::Constants => *undef*
Pod::Coverage => *undef*
Pod::Coverage::Moose => Pod::C::M
Pod::Coverage::TrustPod => Pod::C::TPod
Pod::Elemental => Pod::E
Pod::Elemental::MakeSelector => Pod::E::MS
Pod::Elemental::PerlMunger => Pod::E::PM
Pod::Elemental::Transformer::List => Pod::E::T::L
Pod::Elemental::Transformer::Verbatim => Pod::E::T::V
Pod::Elemental::Transformer::WikiDoc => Pod::E::T::WDoc
Pod::Escapes => *undef*
Pod::Eventual => *undef*
Pod::Find => Pod::F
Pod::Functions => *undef*
Pod::Functions::Functions => Pod::F::F
Pod::Github => Pod::G
Pod::Html => Pod::H
Pod::InputObjects => Pod::IO
Pod::Markdown => Pod::M
Pod::Markdown::Github => Pod::M::G
Pod::ParseLink => Pod::PL
Pod::ParseUtils => Pod::PU
Pod::Parser => Pod::P
Pod::Perldoc => *undef*
Pod::Perldoc::BaseTo => Pod::P::BTo
Pod::Perldoc::GetOptsOO => Pod::P::GetOOO
Pod::Perldoc::ToANSI => Pod::P::ToANSI
Pod::Perldoc::ToChecker => Pod::P::ToC
Pod::Perldoc::ToMan => Pod::P::ToMan
Pod::Perldoc::ToNroff => Pod::P::ToN
Pod::Perldoc::ToPod => Pod::P::ToPod
Pod::Perldoc::ToRtf => Pod::P::ToRtf
Pod::Perldoc::ToTerm => Pod::P::ToT
Pod::Perldoc::ToText => *undef*
Pod::Perldoc::ToTk => Pod::P::ToTk
Pod::Perldoc::ToXml => Pod::P::ToXml
Pod::PlainText => Pod::PT
Pod::PseudoPod => Pod::PPod
Pod::Readme => Pod::R
Pod::Select => Pod::S
Pod::Simple => *undef*
Pod::Simple::BlackBox => Pod::S::BBox
Pod::Simple::Checker => Pod::S::C
Pod::Simple::Debug => Pod::S::D
Pod::Simple::DumpAsText => Pod::S::DAsT
Pod::Simple::DumpAsXML => Pod::S::DAsXML
Pod::Simple::HTML => Pod::S::HTML
Pod::Simple::HTMLBatch => Pod::S::HTMLB
Pod::Simple::HTMLLegacy => Pod::S::HTMLL
Pod::Simple::LaTeX => Pod::S::LaTeX
Pod::Simple::LinkSection => Pod::S::LS
Pod::Simple::Methody => Pod::S::M
Pod::Simple::Progress => Pod::S::P
Pod::Simple::PullParser => Pod::S::PP
Pod::Simple::PullParserEndToken => Pod::S::PPEndT
Pod::Simple::PullParserStartToken => Pod::S::PPST
Pod::Simple::PullParserTextToken => Pod::S::PPTT
Pod::Simple::PullParserToken => Pod::S::PPT
Pod::Simple::RTF => Pod::S::RTF
Pod::Simple::Search => Pod::S::S
Pod::Simple::SimpleTree => Pod::S::ST
Pod::Simple::Text => Pod::S::T
Pod::Simple::TextContent => Pod::S::TC
Pod::Simple::TiedOutFH => Pod::S::TOutFH
Pod::Simple::Transcode => *undef*
Pod::Simple::TranscodeDumb => Pod::S::TD
Pod::Simple::TranscodeSmart => Pod::S::TS
Pod::Simple::XHTML => Pod::S::XHTML
Pod::Simple::XMLOutStream => Pod::S::XMLOutS
Pod::Spell => *undef*
Pod::Spell::CommonMistakes => Pod::S::CM
Pod::Strip => *undef*
Pod::Text => Pod::T
Pod::Text::Color => Pod::T::C
Pod::Text::Overstrike => Pod::T::O
Pod::Text::Termcap => Pod::T::T
Pod::Usage => Pod::U
Pod::Usage::Return => Pod::U::R
Pod::Weaver => Pod::W
Pod::Weaver::Plugin::EnsureUniqueSections => Pod::W::P::EUS
Pod::Weaver::Plugin::Include => Pod::W::P::I
Pod::Weaver::Plugin::Rinci => Pod::W::P::R
Pod::Weaver::Plugin::StopWords => Pod::W::P::SW
Pod::Weaver::PluginBundle::Author::DOHERTY => Pod::W::PB::A::DOHERTY
Pod::Weaver::Role::AddTextToSection => Pod::W::R::AddTToS
Pod::Weaver::Section::AllowOverride => Pod::W::S::AO
Pod::Weaver::Section::Availability => Pod::W::S::A
Pod::Weaver::Section::BugsAndLimitations => Pod::W::S::BAndL
Pod::Weaver::Section::BugsRT => Pod::W::S::BRT
Pod::Weaver::Section::CommentString => Pod::W::S::CS
Pod::Weaver::Section::Contributors => Pod::W::S::C
Pod::Weaver::Section::GenerateSection => Pod::W::S::GS
Pod::Weaver::Section::MooseDep => Pod::W::S::MDep
Pod::Weaver::Section::Requires => Pod::W::S::R
Pod::Weaver::Section::SourceGitHub => Pod::W::S::SGitHub
Pod::Weaver::Section::Support => Pod::W::S::S
Pod::Weaver::Section::WarrantyDisclaimer => Pod::W::S::WD
Pod::WikiDoc => Pod::WDoc
Pootle-Client => P-C
Pootle::Client => *undef*
PostScript::Metrics => PS::M
Privileges::Drop => *undef*
Probe::Perl => *undef*
Proc::CPUUsage => P::CPUU
Proc::ChildError => P::CE
Proc::Daemon => *undef*
Proc::Daemon::Prefork => P::D::P
Proc::Find => *undef*
Proc::Find::Parents => P::F::P
Proc::Fork => *undef*
Proc::InvokeEditor => P::IE
Proc::Memory => P::M
Proc::PID::File => P::PID::F
Proc::ProcessTable => P::PT
Proc::ProcessTableLight => P::PTL
Proc::Wait3 => P::W3
Proc::tored => P::t
Progress::Any => P::Any
Progress::Any::Output::TermProgressBarColor => P::Any::O::TPBarC
Progress::Awesome => *undef*
Prompt::ReadKey => P::RKey
Protocol::OSC => P::OSC
Protocol::Redis => *undef*
Protocol::WebSocket => P::WebS
QBit::Application => QBit::A
QBit::Application::Model::DB => QBit::A::M::DB
QBit::Application::Model::DB::clickhouse => QBit::A::M::DB::c
QBit::Application::Model::DB::mysql => QBit::A::M::DB::m
QBit::Application::Model::DBManager => QBit::A::M::DBM
QBit::Class => QBit::C
QBit::Validator => QBit::V
RDF::NS::Curated => RDF::NS::C
RDF::Prefixes => RDF::P
RDF::Trine => RDF::T
REST::Client => REST::C
RPC::Switch::Client => RPC::S::C
RPi::Const => RPi::C
RPi::WiringPi::Constant => RPi::WPi::C
RabbitMQ::Consumer::Batcher => RMQ::C::B
Rails::Assets => R::A
Rarbg::torrentapi => R::t
Razor2::Client::Agent => R2::C::A
Readonly::XS => R::XS
RedHat::Releases => RedHat::R
Reddit::Client => R::C
Redis::RateLimit => R::RL
RedisDB => RDB
RedisDB::Parser => RDB::P
Ref::Util => Ref::U
Ref::Util::XS => Ref::U::XS
Regexp::CharClasses::Helper => R::CC::H
Regexp::Common => *undef*
Regexp::Common::Email::Address => R::C::E::A
Regexp::Common::Other => R::C::O
Regexp::Common::time => R::C::t
Regexp::IPv6 => R::IPv6
Regexp::Pattern => R::P
Regexp::Pattern::License => R::P::L
Regexp::RegGrp => R::RegGrp
Regexp::Stringify => R::S
Regexp::Trie => R::T
Regexp::Util => R::U
Regexp::Wildcards => R::W
Release::Util::Git => R::U::Git
Remember::Anything::AsPath => R::A::AsP
Return::MultiLevel => R::ML
Return::Type => *undef*
Return::Value => R::V
Riemann::Client => *undef*
Role::Basic => R::B
Role::HasMessage => R::HasM
Role::Identifiable => R::I
Role::Markup::XML => R::M::XML
Role::MimeInfo => R::MI
Role::REST::Client => R::REST::C
Role::REST::Client::Auth::Basic => R::REST::C::A::B
Role::Tiny => *undef*
Router::Simple => *undef*
Ryu::Async => Ryu::A
SDBM_File => SDBM_F
SHARYANTO::Utils => SHARYANTO::U
SMS::Send => SMS::S
SMS::Send::Twilio => SMS::S::T
SOAP::Lite => SOAP::L
SPVM::Examples => SPVM::E
SQL::Abstract => SQL::A
SQL::Abstract::More => SQL::A::M
SQL::Composer => SQL::C
SQL::Format => SQL::F
SQL::Maker => SQL::M
SQL::Maker::Plugin::JoinSelect => SQL::M::P::JS
SQL::NamedPlaceholder => SQL::NP
SQL::QueryMaker => SQL::QM
SQL::Schema::Versioned => SQL::S::V
SQL::Statement => SQL::S
SQL::Translator => SQL::T
SQL::Translator::Producer::GraphQL => SQL::T::P::GQL
SVG::Graph => SVG::G
SVG::Timeline => SVG::T
SVG::Timeline::Compact => SVG::T::C
SVG::Timeline::Genealogy => SVG::T::G
SVG::TrafficLight => SVG::TL
SWF::Builder => SWF::B
SWF::File => SWF::F
Safe::Isa => S::Isa
Sah::Schemas::CPANMeta => Sah::S::CPANM
Sah::Schemas::Color => Sah::S::C
Sah::Schemas::Examples => Sah::S::E
Sah::Schemas::Float => Sah::S::F
Sah::Schemas::Int => Sah::S::Int
Sah::Schemas::Path => Sah::S::P
Sah::Schemas::Perl => *undef*
Sah::Schemas::Riap => Sah::S::R
Sah::Schemas::Rinci => *undef*
Sah::Schemas::URL => Sah::S::URL
Scalar::String => S::S
Scalar::Util => S::U
Scalar::Util::LooksLikeNumber => S::U::LLN
Scalar::Util::Numeric => S::U::N
Scalar::Util::Numeric::PP => S::U::N::PP
Schedule::LongSteps => S::LS
School::Code::Compare => S::C::C
Scope::Guard => S::G
Scope::Upper => *undef*
Search::Dict => S::D
Search::Elasticsearch => S::E
Search::Elasticsearch::Async => S::E::A
Search::Elasticsearch::Client::5_0 => S::E::C::5_0
Search::Elasticsearch::Client::5_0::Async => S::E::C::5_0::A
Search::Indexer => S::I
Search::Query => S::Q
Search::QueryParser => S::QP
Search::Tools => S::T
SelectSaver => SS
Selenium::Remote::Driver => S::R::D
SelfLoader => SL
Sendmail::AbuseIPDB => S::AIPDB
Sereal::Decoder => *undef*
Sereal::Encoder => *undef*
Sereal::Path => S::P
Server::Starter => *undef*
Session::Storage::Secure => S::S::S
Set::Array => Set::A
Set::Crontab => Set::C
Set::Infinite => Set::I
Set::IntSpan => Set::IntS
Set::Intersection => *undef*
Set::IntervalTree => Set::IT
Set::Object => Set::O
Set::Scalar => Set::S
Set::SegmentTree => Set::ST
Set::Tiny => Set::T
Shannon::Entropy => *undef*
Shell::Config::Generate => S::C::G
Shell::Guess => *undef*
Shell::POSIX::Select => S::POSIX::S
ShellQuote::Any::Tiny => SQ::Any::T
Siebel::AssertOS => S::AOS
Signal::Mask => S::M
Simple::Accessor => S::A
Smart::Args::TypeTiny => S::A::TT
Smart::Comments => S::C
Socket6 => S6
Software::License => S::L
Software::License::CCpack => S::L::CC
Sort::ByExample => S::ByE
Sort::Key => S::Key
Sort::Key::Top => S::Key::Top
Sort::Naturally => S::N
Sort::Naturally::ICU => S::N::ICU
Sort::Naturally::XS => S::N::XS
Sort::Sub => S::Sub
Sort::Versions => S::V
SourceCode::LineCounter::Perl => SC::LC::P
Specio::Library::Path::Tiny => S::L::P::T
Sphinx::Search => *undef*
Splunk::HEC => S::HEC
Spreadsheet::ParseExcel => S::PE
Spreadsheet::ParseXLSX => S::PXLSX
Spreadsheet::Read => S::R
Spreadsheet::ReadSXC => S::RSXC
Spreadsheet::XLSX => S::XLSX
Sql::Textify => Sql::T
Starlink::AST => S::AST
Statistics::Basic => S::B
Statistics::CaseResampling => S::CR
Statistics::Descriptive => *undef*
Statistics::Descriptive::LogScale => S::D::LogS
Statistics::Distribution::Generator => S::D::G
Statistics::Diversity::Shannon => S::D::S
Statistics::Lite => *undef*
Statistics::Multtest => *undef*
Statistics::R::IO => S::R::IO
Statistics::Sampler::Multinomial => S::S::M
Store::Digest => *undef*
Stream::Buffered => *undef*
String::Approx => *undef*
String::Base => *undef*
String::CRC32 => S::CRC32
String::CamelCase => S::CC
String::Clean => *undef*
String::Compare::ConstantTime => S::C::CT
String::Copyright => *undef*
String::Elide::FromArray => S::E::FA
String::Elide::Parts => S::E::P
String::Errf => *undef*
String::Escape => *undef*
String::Expando => *undef*
String::Flogger => S::F
String::Format => *undef*
String::Formatter => *undef*
String::Glob::Permute => S::G::P
String::Indent => *undef*
String::Interpolate::Shell => S::I::S
String::LineNumber => S::LN
String::Numeric => *undef*
String::Pad => S::Pad
String::PerlQuote => S::PQ
String::Print => *undef*
String::Random => *undef*
String::RewritePrefix => S::RP
String::ShellQuote => S::SQ
String::Tagged => *undef*
String::Tagged::Terminal => S::T::T
String::ToIdentifier::EN => S::ToI::EN
String::Tokenizer => *undef*
String::Trim => *undef*
String::Truncate => *undef*
String::Util => *undef*
String::Util::Match => S::U::M
String::Wildcard::Bash => S::W::B
Struct::Diff => *undef*
Struct::Dumb => *undef*
Struct::Path => *undef*
Struct::Path::PerlStyle => S::P::PS
Struct::WOP => S::WOP
Sub::Attribute => Sub::A
Sub::Delete => Sub::D
Sub::Exporter => Sub::E
Sub::Exporter::ForMethods => Sub::E::ForM
Sub::Exporter::GlobExporter => Sub::E::GE
Sub::Exporter::Progressive => Sub::E::P
Sub::Identify => Sub::I
Sub::Infix => *undef*
Sub::Info => *undef*
Sub::Inject => *undef*
Sub::Install => *undef*
Sub::Iterator => *undef*
Sub::Metadata => Sub::M
Sub::Name => Sub::N
Sub::Override => Sub::O
Sub::Prototype => Sub::P
Sub::Quote => Sub::Q
Sub::Replace => Sub::R
Sub::Retry => *undef*
Sub::Uplevel => Sub::U
Sub::Util => *undef*
Sub::WrapPackages => Sub::WP
Swagger::Schema => *undef*
Symbol::Util => *undef*
Syntax::Feature::EachOnArray => S::F::EOnA
Syntax::Feature::Qi => S::F::Qi
Syntax::Feature::Qs => S::F::Qs
Syntax::Highlight::Engine::Kate => S::H::E::K
Syntax::Highlight::Engine::Simple => S::H::E::S
Syntax::Highlight::Perl::Improved => S::H::P::I
Syntax::Kamelon => S::K
Syntax::Keyword::Junction => S::K::J
Syntax::Keyword::Try => S::K::Try
Sys::CpuAffinity => Sys::CpuA
Sys::HostAddr => Sys::HA
Sys::Hostname => Sys::H
Sys::Hostname::FQDN => Sys::H::FQDN
Sys::Hostname::Long => Sys::H::L
Sys::Info => Sys::I
Sys::Info::Base => Sys::I::B
Sys::Info::Driver::Linux => Sys::I::D::L
Sys::Linux::Namespace => Sys::L::N
Sys::Load => Sys::L
Sys::MemInfo => Sys::MemI
Sys::Path => Sys::P
Sys::Proctitle => *undef*
Sys::RunAlone => Sys::RunA
Sys::SigAction => Sys::SigA
Sys::Syslog => Sys::S
Sys::Syslog::Win32 => Sys::S::Win32
System::Command => *undef*
System::Sub => *undef*
TAP::Base => TAP::B
TAP::Formatter::Base => TAP::F::B
TAP::Formatter::Color => TAP::F::C
TAP::Formatter::Console => *undef*
TAP::Formatter::Console::ParallelSession => TAP::F::C::PS
TAP::Formatter::Console::Session => TAP::F::C::S
TAP::Formatter::File => TAP::F::F
TAP::Formatter::File::Session => TAP::F::F::S
TAP::Formatter::Session => TAP::F::S
TAP::Harness => TAP::H
TAP::Harness::Env => TAP::H::Env
TAP::Object => TAP::O
TAP::Parser => TAP::P
TAP::Parser::Aggregator => TAP::P::A
TAP::Parser::Grammar => TAP::P::G
TAP::Parser::Iterator => TAP::P::I
TAP::Parser::Iterator::Array => TAP::P::I::A
TAP::Parser::Iterator::Process => TAP::P::I::P
TAP::Parser::Iterator::Stream => TAP::P::I::S
TAP::Parser::IteratorFactory => TAP::P::IF
TAP::Parser::Multiplexer => TAP::P::M
TAP::Parser::Result => TAP::P::R
TAP::Parser::Result::Bailout => TAP::P::R::B
TAP::Parser::Result::Comment => TAP::P::R::C
TAP::Parser::Result::Plan => TAP::P::R::P
TAP::Parser::Result::Pragma => *undef*
TAP::Parser::Result::Test => TAP::P::R::T
TAP::Parser::Result::Unknown => TAP::P::R::U
TAP::Parser::Result::Version => TAP::P::R::V
TAP::Parser::Result::YAML => TAP::P::R::YAML
TAP::Parser::ResultFactory => TAP::P::RF
TAP::Parser::Scheduler => TAP::P::S
TAP::Parser::Scheduler::Job => TAP::P::S::Job
TAP::Parser::Scheduler::Spinner => TAP::P::S::S
TAP::Parser::Source => *undef*
TAP::Parser::SourceHandler => TAP::P::SH
TAP::Parser::SourceHandler::Executable => TAP::P::SH::E
TAP::Parser::SourceHandler::File => TAP::P::SH::F
TAP::Parser::SourceHandler::Handle => TAP::P::SH::H
TAP::Parser::SourceHandler::Perl => TAP::P::SH::P
TAP::Parser::SourceHandler::RawTAP => TAP::P::SH::RawTAP
TAP::Parser::YAMLish::Reader => TAP::P::YAML::R
TAP::Parser::YAMLish::Writer => TAP::P::YAML::W
TAP::SimpleOutput => TAP::SO
TOML::Parser => TOML::P
TableData::Object => TD::O
Taint::Runtime => T::R
Task::Biodiverse => T::B
Task::Biodiverse::NoGUI => T::B::NoGUI
Task::Devel::Essentials => T::D::E
Task::Weaken => T::W
Taskwarrior::Kusarigama => T::K
Teamcity::Executor => T::E
Telegram::Bot => T::Bot
Telegram::CamshotBot => T::CBot
Template::Alloy => T::A
Template::Compiled => T::C
Template::Lace => T::L
Template::Mustache => T::M
Template::Plugin::CSV => T::P::CSV
Template::Plugin::Filter::Base64 => T::P::F::B64
Template::Plugin::Gettext => T::P::G
Template::Plugin::JSON::Escape => T::P::JSON::E
Template::Plugin::Number::Format => T::P::N::F
Template::Plugin::String::CRC32 => T::P::S::CRC32
Template::Provider::FromDATA => T::P::FDATA
Template::Reverse => *undef*
Template::Timer => T::T
Template::Tiny => *undef*
Term::ANSIColor => T::ANSIC
Term::ANSIColor::Conditional => T::ANSIC::C
Term::ANSIColor::Markup => T::ANSIC::M
Term::ANSIScreen => T::ANSIS
Term::App::Roles => T::App::R
Term::Cap => T::Cap
Term::Complete => *undef*
Term::Completion => *undef*
Term::Detect::Software => T::D::S
Term::Encoding => *undef*
Term::ProgressBar => T::PBar
Term::ProgressBar::Quiet => T::PBar::Q
Term::ProgressBar::Simple => T::PBar::S
Term::Prompt => T::P
Term::ReadKey => T::RKey
Term::ReadLine => T::RL
Term::ReadLine::Gnu => T::RL::Gnu
Term::ReadLine::Perl5 => T::RL::P5
Term::ReadPassword => T::RP
Term::Screen => T::S
Term::Screen::Lite => T::S::L
Term::Size => *undef*
Term::Size::Any => T::S::Any
Term::Size::Perl => T::S::P
Term::Spinner => *undef*
Term::Spinner::Color => T::S::C
Term::Table => *undef*
Term::Tmux::Layout => T::T::L
Term::UI => T::UI
Term::VT102 => T::VT102
Term::VT102::Boundless => T::VT102::B
Test2 => T2
Test2::API => T2::API
Test2::API::Breakage => T2::API::B
Test2::API::Context => T2::API::C
Test2::API::Instance => T2::API::I
Test2::API::Stack => T2::API::S
Test2::AsyncSubtest => T2::AS
Test2::Event => T2::E
Test2::Event::Bail => T2::E::B
Test2::Event::Diag => T2::E::D
Test2::Event::Encoding => T2::E::E
Test2::Event::Exception => *undef*
Test2::Event::Generic => T2::E::G
Test2::Event::Info => T2::E::I
Test2::Event::Note => T2::E::N
Test2::Event::Ok => T2::E::Ok
Test2::Event::Plan => T2::E::P
Test2::Event::Skip => T2::E::S
Test2::Event::Subtest => *undef*
Test2::Event::TAP::Version => T2::E::TAP::V
Test2::Event::Waiting => T2::E::W
Test2::Formatter => T2::F
Test2::Formatter::TAP => T2::F::TAP
Test2::Harness => T2::H
Test2::Hub => T2::Hub
Test2::Hub::Interceptor => T2::Hub::I
Test2::Hub::Interceptor::Terminator => T2::Hub::I::T
Test2::Hub::Subtest => T2::Hub::S
Test2::IPC => T2::IPC
Test2::IPC::Driver => T2::IPC::D
Test2::IPC::Driver::Files => T2::IPC::D::F
Test2::Plugin::FauxHomeDir => T2::P::FHDir
Test2::Plugin::NoWarnings => T2::P::NoW
Test2::Plugin::SourceDiag => T2::P::SD
Test2::Suite => T2::S
Test2::Tools::Condition => T2::T::C
Test2::Tools::Explain => T2::T::E
Test2::Tools::Tiny => T2::T::T
Test2::Tools::URL => T2::T::URL
Test2::Util => T2::U
Test2::Util::ExternalMeta => T2::U::EM
Test2::Util::HashBase => T2::U::HB
Test2::Util::Trace => T2::U::T
Test2::Workflow => T2::W
Test::API => T::API
Test::Abortable => *undef*
Test::Alien => *undef*
Test::Alien::CPP => T::A::CPP
Test::AllModules => T::AllM
Test::Applify => *undef*
Test::Approx => *undef*
Test::Assertions => *undef*
Test::Base => *undef*
Test::Bits => *undef*
Test::Builder => *undef*
Test::Builder::Formatter => T::B::F
Test::Builder::IO::Scalar => T::B::IO::S
Test::Builder::Module => T::B::M
Test::Builder::Tester => T::B::T
Test::Builder::Tester::Color => T::B::T::C
Test::Builder::TodoDiag => T::B::TD
Test::CPAN::Meta => T::CPAN::M
Test::CPAN::Meta::JSON => T::CPAN::M::JSON
Test::CPANfile => T::CPAN
Test::Carp => *undef*
Test::CheckDeps => T::CD
Test::CheckManifest => T::CM
Test::Class => *undef*
Test::Class::Moose => T::C::M
Test::Class::Most => *undef*
Test::Class::WithStrictPlan => T::C::WSP
Test::ClassAPI => T::CAPI
Test::CleanNamespaces => T::CN
Test::Clustericious::Blocking => T::C::B
Test::Clustericious::Cluster => T::C::C
Test::Command => *undef*
Test::Compile => *undef*
Test::Consul => *undef*
Test::DatabaseRow => T::DRow
Test::Deep => T::D
Test::Deep::Fuzzy => T::D::F
Test::Deep::JSON => T::D::JSON
Test::Deep::Type => T::D::T
Test::Deep::UnorderedPairs => T::D::UP
Test::DescribeMe => T::DMe
Test::Differences => *undef*
Test::Dir => T::Dir
Test::Directory => *undef*
Test::DistManifest => T::DM
Test::Distribution => *undef*
Test::Double => *undef*
Test::EOL => T::EOL
Test::Excel => *undef*
Test::Exception => *undef*
Test::Exit => *undef*
Test::Exports => *undef*
Test::Expr => *undef*
Test::FailWarnings => T::FW
Test::Fatal => T::F
Test::File => *undef*
Test::File::Contents => T::F::C
Test::File::ShareDir => T::F::SDir
Test::Filename => *undef*
Test::Files => *undef*
Test::Fixme => *undef*
Test::Fork => *undef*
Test::HTML::Content => T::HTML::C
Test::HTTP::LocalServer => T::HTTP::LS
Test::HTTP::Server::Simple => T::HTTP::S::S
Test::Harness => T::H
Test::HexDifferences => T::HexD
Test::HexString => T::HexS
Test::Identity => T::I
Test::InDistDir => T::InDDir
Test::Inter => *undef*
Test::Internet => *undef*
Test::JSON => T::JSON
Test::Kwalitee => *undef*
Test::Kwalitee::Extra => T::K::E
Test::LWP::UserAgent => T::LWP::UA
Test::Lazy => *undef*
Test::LeakTrace => T::LT
Test::LectroTest => *undef*
Test::Lib => T::Lib
Test::LongString => T::LS
Test::Manifest => *undef*
Test::Map::Tube => T::Map::T
Test::Memory::Cycle => T::M::C
Test::MinimumVersion => T::MV
Test::Mock::Furl => T::M::F
Test::Mock::Guard => T::M::G
Test::Mock::LWP => T::M::LWP
Test::Mock::One => T::M::One
Test::Mock::Time => T::M::T
Test::MockDateTime => T::MDT
Test::MockModule => T::MM
Test::MockObject => T::MO
Test::MockRandom => T::MR
Test::MockTime => T::MT
Test::Modern => *undef*
Test::Mojibake => *undef*
Test::Mojo::Role::Selenium => T::M::R::S
Test::Mojo::WithRoles => T::M::WR
Test::Moose::More => T::M::M
Test::More => *undef*
Test::More::UTF8 => T::M::UTF8
Test::Most => *undef*
Test::Name::FromLine => T::N::FL
Test::Needs => T::N
Test::NoTabs => T::NoT
Test::NoWarnings => T::NoW
Test::Number::Delta => T::N::D
Test::Object => T::O
Test::Output => *undef*
Test::POE::Server::TCP => T::POE::S::TCP
Test::Perinci::CmdLine => T::P::CmdL
Test::Perl::Critic => T::P::C
Test::Perl::Critic::Progressive => T::P::C::P
Test::Pod => T::Pod
Test::Pod::Content => T::Pod::C
Test::Pod::Coverage => *undef*
Test::Pod::LinkCheck => T::Pod::LC
Test::Pod::No404s => T::Pod::No404s
Test::Portability::Files => T::P::F
Test::PostgreSQL => T::PSQL
Test::Refcount => *undef*
Test::Regexp => *undef*
Test::Reporter => *undef*
Test::Reporter::Transport::Metabase => T::R::T::M
Test::Reporter::Transport::Socket => T::R::T::S
Test::Requires => *undef*
Test::Requires::Git => T::R::Git
Test::RequiresInternet => T::RI
Test::Roo => T::Roo
Test::Routine => *undef*
Test::Script => *undef*
Test::Settings => *undef*
Test::SharedFork => T::SF
Test::Signature => *undef*
Test::Simple => *undef*
Test::Spec => *undef*
Test::Spelling => *undef*
Test::Strict => *undef*
Test::SubCalls => T::SubC
Test::Subtest::Attribute => T::S::A
Test::Synopsis => *undef*
Test::Sys::Info => T::Sys::I
Test::TCP => T::TCP
Test::TempDir::Tiny => T::TDir::T
Test::Tester => *undef*
Test::Tester::Capture => T::T::C
Test::Tester::CaptureRunner => T::T::CR
Test::Tester::Delegate => T::T::D
Test::Time => *undef*
Test::Timer => *undef*
Test::TinyMocker => T::TM
Test::Toolbox => *undef*
Test::Trap => *undef*
Test::UseAllModules => T::UseAllM
Test::Vars => T::V
Test::Version => *undef*
Test::WWW::Mechanize => T::WWW::M
Test::WWW::Mechanize::Catalyst => T::WWW::M::C
Test::WWW::Mechanize::PSGI => T::WWW::M::PSGI
Test::Warn => *undef*
Test::Warnings => *undef*
Test::WithDB => T::WDB
Test::Without::Module => T::W::M
Test::WriteVariants => T::WV
Test::XML => T::XML
Test::XS::Check => T::XS::C
Test::XT => T::XT
Test::YAML => T::YAML
Test::mysqld => T::m
Test::use::ok => T::use::ok
Test::utf8 => T::utf8
Text::ANSI::Util => T::ANSI::U
Text::ANSI::WideUtil => T::ANSI::WU
Text::ANSITable => T::ANSIT
Text::ASCIIPipe => T::ASCIIP
Text::ASCIITable => T::ASCIIT
Text::Abbrev => *undef*
Text::Aligner => *undef*
Text::Amuse => *undef*
Text::Amuse::Compile => T::A::C
Text::Aspell => *undef*
Text::AutoCSV => T::ACSV
Text::Autoformat => *undef*
Text::Balanced => *undef*
Text::BibTeX => T::BibTeX
Text::Brew => *undef*
Text::CSV => T::CSV
Text::CSV::Slurp => T::CSV::S
Text::CSV_XS => T::CSV_XS
Text::Caml => *undef*
Text::Continuation::Parser => T::C::P
Text::Diff => *undef*
Text::Distill => *undef*
Text::DoubleMetaphone => *undef*
Text::DumbTemplate => T::DT
Text::Extract::Word => T::E::W
Text::FIGlet => T::FIG
Text::Flow => *undef*
Text::FormatTable => T::FT
Text::Fuzzy => *undef*
Text::German => T::G
Text::Glob => *undef*
Text::Haml => *undef*
Text::Hogan => *undef*
Text::IQ => T::IQ
Text::LTSV::Liner => T::LTSV::L
Text::Levenshtein => *undef*
Text::Levenshtein::Damerau => T::L::D
Text::Levenshtein::Flexible => T::L::F
Text::Levenshtein::XS => T::L::XS
Text::LevenshteinXS => T::LXS
Text::LineNumber => T::LN
Text::Markdown => *undef*
Text::Markdown::Discount => T::M::D
Text::Markdown::Hoedown => T::M::H
Text::MarkdownTable => *undef*
Text::Metaphone => *undef*
Text::MicroTemplate => *undef*
Text::MicroTemplate::DataSection => T::MT::DS
Text::MicroTemplate::Extended => T::MT::E
Text::Numbers::100 => T::N::100
Text::NumericData => T::ND
Text::ParseWords => T::PW
Text::Password::AutoMigration => T::P::AM
Text::Phonetic => *undef*
Text::Pluralize => *undef*
Text::RecordParser => *undef*
Text::Reflow => *undef*
Text::Reform => *undef*
Text::SimpleTable => T::ST
Text::SimpleTable::AutoWidth => T::ST::AW
Text::Soundex => *undef*
Text::SpellChecker => T::SC
Text::Sprintf::Named => T::S::N
Text::Summarizer => *undef*
Text::Table => *undef*
Text::Table::Any => T::T::Any
Text::Table::CSV => T::T::CSV
Text::Table::HTML => T::T::HTML
Text::Table::HTML::DataTables => T::T::HTML::DT
Text::Table::Manifold => T::T::M
Text::Table::Org => T::T::Org
Text::Table::Paragraph => T::T::P
Text::Table::Tiny => T::T::T
Text::Table::TinyColor => T::T::TC
Text::Table::TinyColorWide => T::T::TCW
Text::Table::TinyWide => T::T::TW
Text::Tabs => *undef*
Text::TabularDisplay => T::TD
Text::Template => *undef*
Text::Template::Compact => *undef*
Text::TestBase => T::TB
Text::Textile => *undef*
Text::Trim => *undef*
Text::Unidecode => T::U
Text::VCardFast => T::VCF
Text::VimColor => T::VimC
Text::VisualPrintf => T::VP
Text::VisualWidth::PP => T::VW::PP
Text::WagnerFischer => T::WF
Text::WideChar::Util => T::WC::U
Text::WordDiff::Unified::ANSIColor => T::WD::U::ANSIC
Text::Wrap => *undef*
Text::Wrapper => *undef*
Text::Xslate => T::X
Text::Xslate::Bridge::TT2Like => T::X::B::TT2L
Text::Xslate::Bridge::TypeDeclaration => T::X::B::TD
Text::Yeti::Table => T::Y::T
Text::sprintfn => T::s
Text::vCard::Precisely => T::vC::P
Text::vFile::asData => T::vF::asD
Text::vFile::toXML => T::vF::toXML
Thread::Queue => T::Q
Thread::Semaphore => *undef*
Thread::SigMask => T::SigM
Throwable::Factory => *undef*
Tickit::Async => *undef*
Tickit::DSL => T::DSL
Tickit::Widget::Breadcrumb => T::W::B
Tickit::Widget::Calendars => T::W::C
Tickit::Widget::Choice => *undef*
Tickit::Widget::Decoration => T::W::D
Tickit::Widget::Figlet => T::W::F
Tickit::Widget::FileViewer => T::W::FV
Tickit::Widget::FloatBox => T::W::FBox
Tickit::Widget::Layout::Desktop => T::W::L::D
Tickit::Widget::Layout::Relative => T::W::L::R
Tickit::Widget::LogAny => T::W::LogAny
Tickit::Widget::Menu => *undef*
Tickit::Widget::Progressbar => T::W::P
Tickit::Widget::ScrollBox => T::W::SBox
Tickit::Widget::Scroller => T::W::S
Tickit::Widget::SegmentDisplay => T::W::SD
Tickit::Widget::SparkLine => T::W::SL
Tickit::Widget::Statusbar => *undef*
Tickit::Widget::Tabbed => T::W::T
Tickit::Widget::Table => *undef*
Tickit::Widget::Term => *undef*
Tickit::Widget::Tree => *undef*
Tickit::Widget::VHBox => T::W::VHBox
Tickit::WidgetRole::Movable => T::WR::M
Tickit::Widgets => *undef*
Tie::Array => Tie::A
Tie::Cache => Tie::C
Tie::Cycle => *undef*
Tie::DataUUID => Tie::DUUID
Tie::Diamond => Tie::D
Tie::EncryptedHash => Tie::EH
Tie::File => Tie::F
Tie::File::Indexed => Tie::F::I
Tie::FileSection => Tie::FS
Tie::Filehandle::Preempt::Stdin => Tie::F::P::S
Tie::Function => *undef*
Tie::Handle => Tie::H
Tie::Handle::LogAny => Tie::H::LogAny
Tie::Handle::LogGer => Tie::H::LogGer
Tie::Handle::Offset => Tie::H::O
Tie::Handle::Scalar => Tie::H::S
Tie::Hash => *undef*
Tie::Hash::LRU => Tie::H::LRU
Tie::Hash::Method => Tie::H::M
Tie::Hash::MultiValue => Tie::H::MV
Tie::Hash::NamedCapture => Tie::H::NC
Tie::IxHash => Tie::IxH
Tie::Memoize => Tie::M
Tie::RefHash => Tie::RefH
Tie::Scalar => Tie::S
Tie::Simple => *undef*
Tie::StdHandle => Tie::StdH
Tie::SubstrHash => Tie::SH
Tie::ToObject => Tie::ToO
Time::Crontab => *undef*
Time::Date => *undef*
Time::Duration => *undef*
Time::Duration::Parse => T::D::P
Time::Duration::Parse::AsHash => T::D::P::AsH
Time::HiRes => T::HiRes
Time::Local => *undef*
Time::Moment => *undef*
Time::Moment::Ext => T::M::Ext
Time::OlsonTZ::Data => T::OTZ::D
Time::Out => T::Out
Time::Piece => *undef*
Time::Piece::MySQL => T::P::MySQL
Time::Seconds => *undef*
Time::Spent => *undef*
Time::TAI64 => T::TAI64
Time::TAI::Now => T::TAI::Now
Time::TCB => T::TCB
Time::UTC => T::UTC
Time::UTC::Now => T::UTC::Now
Time::Unix => *undef*
Time::gmtime => T::g
Time::localtime => T::l
Time::timegm => T::t
Time::tm => T::tm
Tk::AbstractCanvas => Tk::AC
Tk::Canvas::GradientColor => Tk::C::GC
Tk::ColoredButton => Tk::CB
Tk::DirSelect => Tk::DirS
Tk::DoubleClick => Tk::DC
Tk::EntryCheck => Tk::EC
Tk::FontDialog => Tk::FD
Tk::Getopt => Tk::G
Tree::DAG_Node => T::DAG_N
Tree::R => *undef*
Tree::RB => T::RB
Tree::Simple => *undef*
Tree::Simple::VisitorFactory => T::S::VF
Tree::Trie => *undef*
Treex::PML => T::PML
Tribology::Lubricant => *undef*
Try::Catch => Try::C
Try::Tiny => Try::T
Try::Tiny::ByClass => Try::T::ByC
TryCatch => TryC
Twitter::Queue => *undef*
Type::Simple => *undef*
Type::Tie => T::Tie
Type::Tiny => *undef*
Type::Tiny::XS => T::T::XS
Type::TinyX::Facets => T::TX::F
Types::PDL => T::PDL
Types::Path::Tiny => T::P::T
Types::Serialiser => *undef*
Types::URI => T::URI
Types::UUID => T::UUID
UNIVERSAL::Object => UNIVERSAL::O
UNIVERSAL::require => UNIVERSAL::r
URI::Encode => URI::E
URI::Escape::XS => URI::E::XS
URI::Fetch => URI::F
URI::Find => *undef*
URI::FromHash => URI::FH
URI::NamespaceMap => URI::NMap
URI::Nested => URI::N
URI::Normalize => *undef*
URI::Query => URI::Q
URI::Template => URI::T
URI::redis => URI::r
URL::Encode => URL::E
URL::Encode::XS => URL::E::XS
UUID::Random => UUID::R
UUID::Tiny => UUID::T
UV::Util => UV::U
Ubuntu::Releases => U::R
Udev::FFI => U::FFI
Ufal::UDPipe => U::UDP
Unicode::CaseFold => U::CF
Unicode::CheckUTF8 => U::CUTF8
Unicode::CheckUTF8::PP => U::CUTF8::PP
Unicode::Collate => U::C
Unicode::Collate::CJK::Big5 => U::C::CJK::Big5
Unicode::Collate::CJK::GB2312 => U::C::CJK::GB2312
Unicode::Collate::CJK::JISX0208 => U::C::CJK::JISX0208
Unicode::Collate::CJK::Korean => U::C::CJK::K
Unicode::Collate::CJK::Pinyin => U::C::CJK::P
Unicode::Collate::CJK::Stroke => U::C::CJK::S
Unicode::Collate::CJK::Zhuyin => U::C::CJK::Z
Unicode::Collate::Locale => U::C::L
Unicode::EastAsianWidth => U::EAW
Unicode::EastAsianWidth::Detect => U::EAW::D
Unicode::LineBreak => U::LB
Unicode::Normalize => U::N
Unicode::Peek => U::P
Unicode::Stringprep => U::S
Unicode::UCD => U::UCD
Unicode::UTF8 => U::UTF8
Unix::Mknod => U::M
Unix::Passwd::File => U::P::F
Unix::Processors => *undef*
User::Identity => U::I
User::grent => U::g
User::pwent => U::p
VCS::Which => VCS::W
VMS::DCLsym => VMS::DCL
VMS::Filespec => VMS::F
VMS::Stdio => VMS::S
VMware::vCloudDirector => VM::vCD
Variable::Disposition => V::D
Variable::Magic => V::M
Vector::Object3D => V::O3D
Version::Compare => V::C
Version::Next => V::N
Version::Util => V::U
WWW::Amazon::Wishlist => WWW::A::W
WWW::CheckGzip => WWW::CG
WWW::Codeguard => WWW::C
WWW::Dict::Leo::Org => WWW::D::Leo::Org
WWW::DuckDuckGo => WWW::DDGo
WWW::Eksi => WWW::E
WWW::Form::UrlEncoded => WWW::F::UrlE
WWW::Google::APIDiscovery => WWW::G::APID
WWW::Google::KnowledgeGraphSearch => WWW::G::KGS
WWW::Google::URLShortener => WWW::G::URLS
WWW::Google::UserAgent => WWW::G::UA
WWW::Lengthen => WWW::L
WWW::Mechanize => WWW::M
WWW::Mechanize::Cached => WWW::M::C
WWW::Mechanize::Cached::GZip => WWW::M::C::GZip
WWW::Mechanize::Chrome => *undef*
WWW::Mechanize::GZip => WWW::M::GZip
WWW::Mechanize::Plugin::Selector => WWW::M::P::S
WWW::PAUSE::Simple => WWW::PAUSE::S
WWW::RobotRules => WWW::RR
WWW::Salesforce => WWW::S
WWW::Scraper::ISBN => WWW::S::ISBN
WWW::Search => *undef*
WWW::Shodan::API => WWW::S::API
WWW::Shorten => *undef*
WWW::Shorten::Googl => WWW::S::G
WWW::Shorten::Simple => WWW::S::S
WWW::Splunk => *undef*
WWW::Subsonic => *undef*
WWW::Telegram::BotAPI => WWW::T::BotAPI
WWW::Twilio::API => WWW::T::API
WWW::Zotero => WWW::Z
WWW::Zotero::Write => WWW::Z::W
Web::Machine => Web::M
Web::Request => Web::R
Web::Request::Role::JSON => Web::R::R::JSON
Web::Request::Role::JWT => Web::R::R::JWT
Web::Scraper => Web::S
WebColors => WebC
WebDyne => WebD
WebService::2Captcha => WebS::2C
WebService::Antigate => WebS::A
WebService::BR::Vindi => WebS::BR::V
WebService::BitbucketServer => WebS::BS
WebService::CastleIO => WebS::CIO
WebService::Client => WebS::C
WebService::Europeana => WebS::E
WebService::Freshservice => WebS::F
WebService::Gitter => WebS::G
WebService::HabitRPG => WebS::HRPG
WebService::HashiCorp::Vault => WebS::HC::V
WebService::IFConfig::Client => WebS::IFC::C
WebService::ILS => WebS::ILS
WebService::KVV::Live::Stop => WebS::KVV::L::S
WebService::Mackerel => WebS::M
WebService::MinFraud => WebS::MinF
WebService::Slack::WebApi => WebS::S::WebApi
WebService::Solr => WebS::S
WebService::SonarQube => WebS::SQ
Webservice::Shipment => W::S
Win32::ShellQuote => Win32::SQ
Win32API::File => Win32API::F
Win32API::File::inc::ExtUtils::Myconst2perl => Win32API::F::inc::ExtU::M2
WordList => WL
WordList::EN::Enable => WL::EN::E
WordList::ID::KBBI => WL::ID::KBBI
X11::Xlib => X11::X
X::Tiny => X::T
XBase => XB
XML::Atom => XML::A
XML::Atom::SimpleFeed => XML::A::SF
XML::Catalog => XML::C
XML::CommonNS => XML::CNS
XML::CompactTree => XML::CT
XML::Compile => *undef*
XML::Compile::Cache => XML::C::C
XML::Compile::SOAP => XML::C::SOAP
XML::Compile::SOAP::Daemon => XML::C::SOAP::D
XML::Compile::Tester => XML::C::T
XML::Compile::WSDL11 => XML::C::WSDL11
XML::DTDParser => XML::DTDP
XML::Descent => XML::D
XML::Dumper => *undef*
XML::Easy => XML::E
XML::Easy::SimpleSchemaUtil => XML::E::SSU
XML::Entities => *undef*
XML::Fast => XML::F
XML::Feed => *undef*
XML::Filter::BufferText => XML::F::BT
XML::Generator => XML::G
XML::Hash::XS => XML::H::XS
XML::LibXML::Debugging => XML::LibXML::D
XML::LibXML::LazyBuilder => XML::LibXML::LB
XML::LibXML::PrettyPrint => XML::LibXML::PP
XML::LibXML::Simple => XML::LibXML::S
XML::Namespace => XML::N
XML::NamespaceFactory => XML::NF
XML::NamespaceSupport => XML::NS
XML::OPML::SimpleGen => XML::OPML::SGen
XML::Parser => XML::P
XML::Parser::EasyTree => XML::P::ET
XML::Parser::Lite => XML::P::L
XML::Printer::ESCPOS => XML::P::ESCPOS
XML::Quick => XML::Q
XML::SAX::Base => XML::SAX::B
XML::SAX::Expat => XML::SAX::E
XML::SAX::ExpatXS => XML::SAX::EXS
XML::SAX::Writer => XML::SAX::W
XML::SemanticDiff => XML::SD
XML::Simple => XML::S
XML::Simple::Sugar => XML::S::S
XML::Spice => *undef*
XML::Stream => *undef*
XML::Struct => *undef*
XML::Tidy::Tiny => XML::T::T
XML::Tiny => XML::T
XML::TokeParser => XML::TP
XML::TreeBuilder => XML::TB
XML::Twig => *undef*
XML::Writer => XML::W
XML::XPath => XML::XP
XML::XPathEngine => XML::XPE
XS::APItest => XS::API
XS::Check => XS::C
XS::Object::Magic => XS::O::M
XS::Typemap => XS::T
XSLoader => XSL
YAML::AppConfig => YAML::AppC
YAML::Syck => YAML::S
YAML::SyckWrapper => YAML::SW
YAML::Tiny => YAML::T
YAML::Tiny::Color => YAML::T::C
Yote::Server => Y::S
Youri::Config => Y::C
Zabbix::Check => Z::C
autobox::Core => a::C
autodie::Scope::Guard => a::S::G
autodie::Scope::GuardStack => a::S::GS
autodie::Util => a::U
autodie::exception => a::e
autodie::exception::system => a::e::s
autodie::hints => a::h
autodie::skip => a::s
bareword::filehandles => b::f
colorize::stderr => c::s
common::sense => *undef*
constant::Atom => c::A
constant::defer => c::d
cppAdaptive1 => cppA1
encoding::warnings => e::w
ex::monkeypatched => ex::m
fastQ_brew => fQ
goto::file => g::f
lib::filter => lib::f
libintl-perl => l-p
libwww::perl => l::p
libxml-perl => *undef*
local::lib => l::lib
match::simple => m::s
match::simple::XS => m::s::XS
namespace::autoclean => n::a
namespace::clean => n::c
namespace::clean::xs => n::c::xs
namespace::functions => n::f
namespace::sweep => n::s
overload::numbers => o::n
re::engine::GNU => re::e::GNU
sBNC::User::Summary => sBNC::U::S
spamcupNG => sNG
threads::shared => t::s
unicore::Name => u::N
version::regex => v::r
warnings::illegalproto => w::i
warnings::register => w::r
warnings::unused => w::u
t/10-check.t ................. ok
t/author-critic.t ............ skipped: these tests are for testing by the author
t/author-test-eol.t .......... skipped: these tests are for testing by the author
t/release-cpan-changes.t ..... skipped: these tests are for release candidate testing
t/release-dist-manifest.t .... skipped: these tests are for release candidate testing
t/release-distmeta.t ......... skipped: these tests are for release candidate testing
t/release-kwalitee.t ......... skipped: these tests are for release candidate testing
t/release-minimum-version.t .. skipped: these tests are for release candidate testing
t/release-mojibake.t ......... skipped: these tests are for release candidate testing
t/release-no-tabs.t .......... skipped: these tests are for release candidate testing
t/release-pod-coverage.t ..... skipped: these tests are for release candidate testing
t/release-pod-linkcheck.t .... skipped: these tests are for release candidate testing
t/release-pod-syntax.t ....... skipped: these tests are for release candidate testing
t/release-portability.t ...... skipped: these tests are for release candidate testing
t/release-test-version.t ..... skipped: these tests are for release candidate testing
t/release-unused-vars.t ...... skipped: these tests are for release candidate testing
All tests successful.
Files=18, Tests=4, 11 wallclock secs ( 0.07 usr 0.06 sys + 5.44 cusr 3.66 csys = 9.23 CPU)
Result: PASS
------------------------------
PREREQUISITES
------------------------------
Prerequisite modules loaded:
requires:
Module Need Have
------------------- ---- ----------
File::HomeDir 0 1.002
List::MoreUtils 0 0.426
Module::CoreList 0 5.20171020
build_requires:
Module Need Have
------------------- ---- ----------
ExtUtils::MakeMaker 0 7.30
configure_requires:
Module Need Have
------------------- ---- ----------
ExtUtils::MakeMaker 6.30 7.30
------------------------------
ENVIRONMENT AND OTHER CONTEXT
------------------------------
Environment variables:
LANG = C
PATH = /usr/local/bin:/usr/bin:/bin:/usr/local/sbin:/usr/sbin:/sbin:/home/cpansand/bin/linux-gnu:/home/cpansand/bin/sh:/home/cpansand/bin:/usr/games:/home/cpansand/devel:/home/eserte/src/srezic-misc/scripts
PERL5LIB = /home/cpansand/.cpan/build/2017121018/AI-DecisionTree-0.11-0/blib/arch:/home/cpansand/.cpan/build/2017121018/AI-DecisionTree-0.11-0/blib/lib:/home/cpansand/.cpan/build/2017121018/Algorithm-NaiveBayes-0.04-0/blib/arch:/home/cpansand/.cpan/build/2017121018/Algorithm-NaiveBayes-0.04-0/blib/lib:/home/cpansand/.cpan/build/2017121018/Time-Progress-2.12-0/blib/arch:/home/cpansand/.cpan/build/2017121018/Time-Progress-2.12-0/blib/lib:/home/cpansand/.cpan/build/2017121018/AI-Categorizer-0.09-0/blib/arch:/home/cpansand/.cpan/build/2017121018/AI-Categorizer-0.09-0/blib/lib:/home/cpansand/.cpan/build/2017121018/Statistics-Contingency-0.09-0/blib/arch:/home/cpansand/.cpan/build/2017121018/Statistics-Contingency-0.09-0/blib/lib:/home/cpansand/.cpan/build/2017121018/Class-Container-0.13-0/blib/arch:/home/cpansand/.cpan/build/2017121018/Class-Container-0.13-0/blib/lib:/home/cpansand/.cpan/build/2017121018/File-HomeDir-1.002-0/blib/arch:/home/cpansand/.cpan/build/2017121018/File-HomeDir-1.002-0/blib/lib:/home/cpansand/.cpan/build/2017121018/Getopt-AsDocumented-v0.0.2-0/blib/arch:/home/cpansand/.cpan/build/2017121018/Getopt-AsDocumented-v0.0.2-0/blib/lib:/home/cpansand/.cpan/build/2017121018/Getopt-Base-v0.0.3-0/blib/arch:/home/cpansand/.cpan/build/2017121018/Getopt-Base-v0.0.3-0/blib/lib:/home/cpansand/.cpan/build/2017121018/File-Fu-v0.0.8-0/blib/arch:/home/cpansand/.cpan/build/2017121018/File-Fu-v0.0.8-0/blib/lib:/home/cpansand/.cpan/build/2017121018/Class-Accessor-Classy-v0.9.1-0/blib/arch:/home/cpansand/.cpan/build/2017121018/Class-Accessor-Classy-v0.9.1-0/blib/lib:/home/cpansand/.cpan/build/2017121018/File-CleanupTask-0.11-0/blib/arch:/home/cpansand/.cpan/build/2017121018/File-CleanupTask-0.11-0/blib/lib:/home/cpansand/.cpan/build/2017121018/Gtk2-Ex-Entry-Pango-0.10-0/blib/arch:/home/cpansand/.cpan/build/2017121018/Gtk2-Ex-Entry-Pango-0.10-0/blib/lib:/home/cpansand/.cpan/build/2017121018/WWW-Postmark-1.000001-1/blib/arch:/home/cpansand/.cpan/build/2017121018/WWW-Postmark-1.000001-1/blib/lib:/home/cpansand/.cpan/build/2017121018/WWW-Google-Drive-0.05-0/blib/arch:/home/cpansand/.cpan/build/2017121018/WWW-Google-Drive-0.05-0/blib/lib:/home/cpansand/.cpan/build/2017121018/Sysadm-Install-0.48-1/blib/arch:/home/cpansand/.cpan/build/2017121018/Sysadm-Install-0.48-1/blib/lib:/home/cpansand/.cpan/build/2017121018/JSON-WebToken-0.10-0/blib/arch:/home/cpansand/.cpan/build/2017121018/JSON-WebToken-0.10-0/blib/lib:/home/cpansand/.cpan/build/2017121018/Config-JSON-1.5202-0/blib/arch:/home/cpansand/.cpan/build/2017121018/Config-JSON-1.5202-0/blib/lib:/home/cpansand/.cpan/build/2017121018/Role-MimeInfo-0.02-0/blib/arch:/home/cpansand/.cpan/build/2017121018/Role-MimeInfo-0.02-0/blib/lib:/home/cpansand/.cpan/build/2017121018/LEOCHARRE-Debug-1.03-1/blib/arch:/home/cpansand/.cpan/build/2017121018/LEOCHARRE-Debug-1.03-1/blib/lib:/home/cpansand/.cpan/build/2017121018/CGI-Application-Plugin-Forward-1.06-1/blib/arch:/home/cpansand/.cpan/build/2017121018/CGI-Application-Plugin-Forward-1.06-1/blib/lib:/home/cpansand/.cpan/build/2017121018/CGI-Application-Plugin-Feedback-1.05-1/blib/arch:/home/cpansand/.cpan/build/2017121018/CGI-Application-Plugin-Feedback-1.05-1/blib/lib:/home/cpansand/.cpan/build/2017121018/CGI-Application-Plugin-Session-1.05-1/blib/arch:/home/cpansand/.cpan/build/2017121018/CGI-Application-Plugin-Session-1.05-1/blib/lib:/home/cpansand/.cpan/build/2017121018/CGI-Session-4.48-2/blib/arch:/home/cpansand/.cpan/build/2017121018/CGI-Session-4.48-2/blib/lib:/home/cpansand/.cpan/build/2017121018/CGI-Application-Plugin-AutoRunmode-0.18-1/blib/arch:/home/cpansand/.cpan/build/2017121018/CGI-Application-Plugin-AutoRunmode-0.18-1/blib/lib:/home/cpansand/.cpan/build/2017121018/CGI-PSGI-0.15-2/blib/arch:/home/cpansand/.cpan/build/2017121018/CGI-PSGI-0.15-2/blib/lib:/home/cpansand/.cpan/build/2017121018/CGI-Application-4.50-2/blib/arch:/home/cpansand/.cpan/build/2017121018/CGI-Application-4.50-2/blib/lib:/home/cpansand/.cpan/build/2017121018/Catalyst-View-Reproxy-0.05-0/blib/arch:/home/cpansand/.cpan/build/2017121018/Catalyst-View-Reproxy-0.05-0/blib/lib:/home/cpansand/.cpan/build/2017121018/HTTP-Server-Simple-Static-0.14-0/blib/arch:/home/cpansand/.cpan/build/2017121018/HTTP-Server-Simple-Static-0.14-0/blib/lib:/home/cpansand/.cpan/build/2017121018/File-MMagic-1.30-0/blib/arch:/home/cpansand/.cpan/build/2017121018/File-MMagic-1.30-0/blib/lib:/home/cpansand/.cpan/build/2017121018/Catalyst-Plugin-Upload-MIME-0.01-0/blib/arch:/home/cpansand/.cpan/build/2017121018/Catalyst-Plugin-Upload-MIME-0.01-0/blib/lib:/home/cpansand/.cpan/build/2017121018/Test-Expect-0.34-0/blib/arch:/home/cpansand/.cpan/build/2017121018/Test-Expect-0.34-0/blib/lib:/home/cpansand/.cpan/build/2017121018/Expect-Simple-0.04-0/blib/arch:/home/cpansand/.cpan/build/2017121018/Expect-Simple-0.04-0/blib/lib:/home/cpansand/.cpan/build/2017121018/HTML-Prototype-1.48-0/blib/arch:/home/cpansand/.cpan/build/2017121018/HTML-Prototype-1.48-0/blib/lib:/home/cpansand/.cpan/build/2017121018/Devel-ebug-0.59-0/blib/arch:/home/cpansand/.cpan/build/2017121018/Devel-ebug-0.59-0/blib/lib:/home/cpansand/.cpan/build/2017121018/String-Koremutake-0.30-0/blib/arch:/home/cpansand/.cpan/build/2017121018/String-Koremutake-0.30-0/blib/lib:/home/cpansand/.cpan/build/2017121018/Proc-Background-1.10-0/blib/arch:/home/cpansand/.cpan/build/2017121018/Proc-Background-1.10-0/blib/lib:/home/cpansand/.cpan/build/2017121018/Catalyst-Plugin-Static-0.11-0/blib/arch:/home/cpansand/.cpan/build/2017121018/Catalyst-Plugin-Static-0.11-0/blib/lib:/home/cpansand/.cpan/build/2017121018/Cantella-Store-UUID-0.003003-0/blib/arch:/home/cpansand/.cpan/build/2017121018/Cantella-Store-UUID-0.003003-0/blib/lib:/home/cpansand/.cpan/build/2017121018/MooseX-Types-Data-GUID-0.001000-0/blib/arch:/home/cpansand/.cpan/build/2017121018/MooseX-Types-Data-GUID-0.001000-0/blib/lib:/home/cpansand/.cpan/build/2017121018/Directory-Scratch-0.18-2/blib/arch:/home/cpansand/.cpan/build/2017121018/Directory-Scratch-0.18-2/blib/lib:/home/cpansand/.cpan/build/2017121018/App-OTRS-CreateTicket-1.16-0/blib/arch:/home/cpansand/.cpan/build/2017121018/App-OTRS-CreateTicket-1.16-0/blib/lib:/home/cpansand/.cpan/build/2017121018/Locale-PO-Callback-0.04-0/blib/arch:/home/cpansand/.cpan/build/2017121018/Locale-PO-Callback-0.04-0/blib/lib:/home/cpansand/.cpan/build/2017121018/Lingua-EN-Alphabet-Shaw-0.64-0/blib/arch:/home/cpansand/.cpan/build/2017121018/Lingua-EN-Alphabet-Shaw-0.64-0/blib/lib:/home/cpansand/.cpan/build/2017121018/File-MimeInfo-0.28-0/blib/arch:/home/cpansand/.cpan/build/2017121018/File-MimeInfo-0.28-0/blib/lib:/home/cpansand/.cpan/build/2017121018/File-DesktopEntry-0.22-0/blib/arch:/home/cpansand/.cpan/build/2017121018/File-DesktopEntry-0.22-0/blib/lib:/home/cpansand/.cpan/build/2017121018/App-Wax-1.1.1-0/blib/arch:/home/cpansand/.cpan/build/2017121018/App-Wax-1.1.1-0/blib/lib:/home/cpansand/.cpan/build/2017121018/Parallel-parallel_map-0.02-0/blib/arch:/home/cpansand/.cpan/build/2017121018/Parallel-parallel_map-0.02-0/blib/lib:/home/cpansand/.cpan/build/2017121018/Parallel-DataPipe-0.11-0/blib/arch:/home/cpansand/.cpan/build/2017121018/Parallel-DataPipe-0.11-0/blib/lib:/home/cpansand/.cpan/build/2017121018/HTML-Template-2.97-2/blib/arch:/home/cpansand/.cpan/build/2017121018/HTML-Template-2.97-2/blib/lib:/home/cpansand/.cpan/build/2017121018/App-Raps2-0.54-0/blib/arch:/home/cpansand/.cpan/build/2017121018/App-Raps2-0.54-0/blib/lib:/home/cpansand/.cpan/build/2017121018/App-DocKnot-1.01-0/blib/arch:/home/cpansand/.cpan/build/2017121018/App-DocKnot-1.01-0/blib/lib:/home/cpansand/.cpan/build/2017121018/File-BaseDir-0.07-0/blib/arch:/home/cpansand/.cpan/build/2017121018/File-BaseDir-0.07-0/blib/lib:/home/cpansand/.cpan/build/2017121018/EV-Hiredis-0.04-0/blib/arch:/home/cpansand/.cpan/build/2017121018/EV-Hiredis-0.04-0/blib/lib:/home/cpansand/.cpan/build/2017121018/Test-RedisServer-0.21-0/blib/arch:/home/cpansand/.cpan/build/2017121018/Test-RedisServer-0.21-0/blib/lib:/home/cpansand/.cpan/build/2017121018/Palm-PDB-1.400-0/blib/arch:/home/cpansand/.cpan/build/2017121018/Palm-PDB-1.400-0/blib/lib:/home/cpansand/.cpan/build/2017121018/Lingua-EN-NameParse-1.36-0/blib/arch:/home/cpansand/.cpan/build/2017121018/Lingua-EN-NameParse-1.36-0/blib/lib:/home/cpansand/.cpan/build/2017121018/txt2html-2.5201-0/blib/arch:/home/cpansand/.cpan/build/2017121018/txt2html-2.5201-0/blib/lib
PERL5OPT =
PERL5_CPANPLUS_IS_RUNNING = 1678
PERL5_CPAN_IS_RUNNING = 1678
PERL5_CPAN_IS_RUNNING_IN_RECURSION = 28175,1678
PERLDOC = -MPod::Perldoc::ToTextOverstrike
PERL_BATCH = yes
PERL_CANARY_STABILITY_NOPROMPT = 1
PERL_CPAN_REPORTER_CONFIG = /var/tmp/cpansmoker-1023/2017120921/cpanreporter_000_config.ini
PERL_EXTUTILS_AUTOINSTALL = --defaultdeps
PERL_USE_UNSAFE_INC = 1
SHELL = /usr/bin/zsh
TERM = screen
TMPDIR = /var/tmp/cpansmoker-1023/2017120921
Perl special variables (and OS-specific diagnostics, for MSWin32):
$^X = /opt/perl-5.26.0/bin/perl
$UID/$EUID = 1023 / 1023
$GID = 1023 1023
$EGID = 1023 1023
Perl module toolchain versions installed:
Module Have
------------------- --------
CPAN 2.18
CPAN::Meta 2.150010
Cwd 3.67
ExtUtils::CBuilder 0.280230
ExtUtils::Command 7.30
ExtUtils::Install 2.06
ExtUtils::MakeMaker 7.30
ExtUtils::Manifest 1.70
ExtUtils::ParseXS 3.34
File::Spec 3.67
JSON 2.94
JSON::PP 2.95
Module::Build 0.4224
Module::Signature 0.81
Parse::CPAN::Meta 2.150010
Test::Harness 3.39
Test::More 1.302120
YAML 1.24
YAML::Syck 1.30
version 0.9917
--
Summary of my perl5 (revision 5 version 26 subversion 0) configuration:
Platform:
osname=linux
osvers=4.9.0-3-amd64
archname=x86_64-linux
uname='linux debian9 4.9.0-3-amd64 #1 smp debian 4.9.30-2+deb9u1 (2017-06-18) x86_64 gnulinux '
config_args='-ds -e -Dprefix=/opt/perl-5.26.0 -Dcf_email=srezic@cpan.org'
hint=recommended
useposix=true
d_sigaction=define
useithreads=undef
usemultiplicity=undef
use64bitint=define
use64bitall=define
uselongdouble=undef
usemymalloc=n
default_inc_excludes_dot=define
bincompat5005=undef
Compiler:
cc='cc'
ccflags ='-fwrapv -fno-strict-aliasing -pipe -fstack-protector-strong -I/usr/local/include -D_LARGEFILE_SOURCE -D_FILE_OFFSET_BITS=64'
optimize='-O2'
cppflags='-fwrapv -fno-strict-aliasing -pipe -fstack-protector-strong -I/usr/local/include'
ccversion=''
gccversion='6.3.0 20170516'
gccosandvers=''
intsize=4
longsize=8
ptrsize=8
doublesize=8
byteorder=12345678
doublekind=3
d_longlong=define
longlongsize=8
d_longdbl=define
longdblsize=16
longdblkind=3
ivtype='long'
ivsize=8
nvtype='double'
nvsize=8
Off_t='off_t'
lseeksize=8
alignbytes=8
prototype=define
Linker and Libraries:
ld='cc'
ldflags =' -fstack-protector-strong -L/usr/local/lib'
libpth=/usr/local/lib /usr/lib/gcc/x86_64-linux-gnu/6/include-fixed /usr/include/x86_64-linux-gnu /usr/lib /lib/x86_64-linux-gnu /lib/../lib /usr/lib/x86_64-linux-gnu /usr/lib/../lib /lib
libs=-lpthread -lnsl -lgdbm -ldb -ldl -lm -lcrypt -lutil -lc -lgdbm_compat
perllibs=-lpthread -lnsl -ldl -lm -lcrypt -lutil -lc
libc=libc-2.24.so
so=so
useshrplib=false
libperl=libperl.a
gnulibc_version='2.24'
Dynamic Linking:
dlsrc=dl_dlopen.xs
dlext=so
d_dlsymun=undef
ccdlflags='-Wl,-E'
cccdlflags='-fPIC'
lddlflags='-shared -O2 -L/usr/local/lib -fstack-protector-strong'
Characteristics of this binary (from libperl):
Compile-time options:
HAS_TIMES
PERLIO_LAYERS
PERL_COPY_ON_WRITE
PERL_DONT_CREATE_GVSV
PERL_MALLOC_WRAP
PERL_OP_PARENT
PERL_PRESERVE_IVUV
USE_64_BIT_ALL
USE_64_BIT_INT
USE_LARGE_FILES
USE_LOCALE
USE_LOCALE_COLLATE
USE_LOCALE_CTYPE
USE_LOCALE_NUMERIC
USE_LOCALE_TIME
USE_PERLIO
USE_PERL_ATOF
Built under linux
Compiled at Jun 23 2017 06:17:13
%ENV:
PERL5LIB="/home/cpansand/.cpan/build/2017121018/AI-DecisionTree-0.11-0/blib/arch:/home/cpansand/.cpan/build/2017121018/AI-DecisionTree-0.11-0/blib/lib:/home/cpansand/.cpan/build/2017121018/Algorithm-NaiveBayes-0.04-0/blib/arch:/home/cpansand/.cpan/build/2017121018/Algorithm-NaiveBayes-0.04-0/blib/lib:/home/cpansand/.cpan/build/2017121018/Time-Progress-2.12-0/blib/arch:/home/cpansand/.cpan/build/2017121018/Time-Progress-2.12-0/blib/lib:/home/cpansand/.cpan/build/2017121018/AI-Categorizer-0.09-0/blib/arch:/home/cpansand/.cpan/build/2017121018/AI-Categorizer-0.09-0/blib/lib:/home/cpansand/.cpan/build/2017121018/Statistics-Contingency-0.09-0/blib/arch:/home/cpansand/.cpan/build/2017121018/Statistics-Contingency-0.09-0/blib/lib:/home/cpansand/.cpan/build/2017121018/Class-Container-0.13-0/blib/arch:/home/cpansand/.cpan/build/2017121018/Class-Container-0.13-0/blib/lib:/home/cpansand/.cpan/build/2017121018/File-HomeDir-1.002-0/blib/arch:/home/cpansand/.cpan/build/2017121018/File-HomeDir-1.002-0/blib/lib:/home/cpansand/.cpan/build/2017121018/Getopt-AsDocumented-v0.0.2-0/blib/arch:/home/cpansand/.cpan/build/2017121018/Getopt-AsDocumented-v0.0.2-0/blib/lib:/home/cpansand/.cpan/build/2017121018/Getopt-Base-v0.0.3-0/blib/arch:/home/cpansand/.cpan/build/2017121018/Getopt-Base-v0.0.3-0/blib/lib:/home/cpansand/.cpan/build/2017121018/File-Fu-v0.0.8-0/blib/arch:/home/cpansand/.cpan/build/2017121018/File-Fu-v0.0.8-0/blib/lib:/home/cpansand/.cpan/build/2017121018/Class-Accessor-Classy-v0.9.1-0/blib/arch:/home/cpansand/.cpan/build/2017121018/Class-Accessor-Classy-v0.9.1-0/blib/lib:/home/cpansand/.cpan/build/2017121018/File-CleanupTask-0.11-0/blib/arch:/home/cpansand/.cpan/build/2017121018/File-CleanupTask-0.11-0/blib/lib:/home/cpansand/.cpan/build/2017121018/Gtk2-Ex-Entry-Pango-0.10-0/blib/arch:/home/cpansand/.cpan/build/2017121018/Gtk2-Ex-Entry-Pango-0.10-0/blib/lib:/home/cpansand/.cpan/build/2017121018/WWW-Postmark-1.000001-1/blib/arch:/home/cpansand/.cpan/build/2017121018/WWW-Postmark-1.000001-1/blib/lib:/home/cpansand/.cpan/build/2017121018/WWW-Google-Drive-0.05-0/blib/arch:/home/cpansand/.cpan/build/2017121018/WWW-Google-Drive-0.05-0/blib/lib:/home/cpansand/.cpan/build/2017121018/Sysadm-Install-0.48-1/blib/arch:/home/cpansand/.cpan/build/2017121018/Sysadm-Install-0.48-1/blib/lib:/home/cpansand/.cpan/build/2017121018/JSON-WebToken-0.10-0/blib/arch:/home/cpansand/.cpan/build/2017121018/JSON-WebToken-0.10-0/blib/lib:/home/cpansand/.cpan/build/2017121018/Config-JSON-1.5202-0/blib/arch:/home/cpansand/.cpan/build/2017121018/Config-JSON-1.5202-0/blib/lib:/home/cpansand/.cpan/build/2017121018/Role-MimeInfo-0.02-0/blib/arch:/home/cpansand/.cpan/build/2017121018/Role-MimeInfo-0.02-0/blib/lib:/home/cpansand/.cpan/build/2017121018/LEOCHARRE-Debug-1.03-1/blib/arch:/home/cpansand/.cpan/build/2017121018/LEOCHARRE-Debug-1.03-1/blib/lib:/home/cpansand/.cpan/build/2017121018/CGI-Application-Plugin-Forward-1.06-1/blib/arch:/home/cpansand/.cpan/build/2017121018/CGI-Application-Plugin-Forward-1.06-1/blib/lib:/home/cpansand/.cpan/build/2017121018/CGI-Application-Plugin-Feedback-1.05-1/blib/arch:/home/cpansand/.cpan/build/2017121018/CGI-Application-Plugin-Feedback-1.05-1/blib/lib:/home/cpansand/.cpan/build/2017121018/CGI-Application-Plugin-Session-1.05-1/blib/arch:/home/cpansand/.cpan/build/2017121018/CGI-Application-Plugin-Session-1.05-1/blib/lib:/home/cpansand/.cpan/build/2017121018/CGI-Session-4.48-2/blib/arch:/home/cpansand/.cpan/build/2017121018/CGI-Session-4.48-2/blib/lib:/home/cpansand/.cpan/build/2017121018/CGI-Application-Plugin-AutoRunmode-0.18-1/blib/arch:/home/cpansand/.cpan/build/2017121018/CGI-Application-Plugin-AutoRunmode-0.18-1/blib/lib:/home/cpansand/.cpan/build/2017121018/CGI-PSGI-0.15-2/blib/arch:/home/cpansand/.cpan/build/2017121018/CGI-PSGI-0.15-2/blib/lib:/home/cpansand/.cpan/build/2017121018/CGI-Application-4.50-2/blib/arch:/home/cpansand/.cpan/build/2017121018/CGI-Application-4.50-2/blib/lib:/home/cpansand/.cpan/build/2017121018/Catalyst-View-Reproxy-0.05-0/blib/arch:/home/cpansand/.cpan/build/2017121018/Catalyst-View-Reproxy-0.05-0/blib/lib:/home/cpansand/.cpan/build/2017121018/HTTP-Server-Simple-Static-0.14-0/blib/arch:/home/cpansand/.cpan/build/2017121018/HTTP-Server-Simple-Static-0.14-0/blib/lib:/home/cpansand/.cpan/build/2017121018/File-MMagic-1.30-0/blib/arch:/home/cpansand/.cpan/build/2017121018/File-MMagic-1.30-0/blib/lib:/home/cpansand/.cpan/build/2017121018/Catalyst-Plugin-Upload-MIME-0.01-0/blib/arch:/home/cpansand/.cpan/build/2017121018/Catalyst-Plugin-Upload-MIME-0.01-0/blib/lib:/home/cpansand/.cpan/build/2017121018/Test-Expect-0.34-0/blib/arch:/home/cpansand/.cpan/build/2017121018/Test-Expect-0.34-0/blib/lib:/home/cpansand/.cpan/build/2017121018/Expect-Simple-0.04-0/blib/arch:/home/cpansand/.cpan/build/2017121018/Expect-Simple-0.04-0/blib/lib:/home/cpansand/.cpan/build/2017121018/HTML-Prototype-1.48-0/blib/arch:/home/cpansand/.cpan/build/2017121018/HTML-Prototype-1.48-0/blib/lib:/home/cpansand/.cpan/build/2017121018/Devel-ebug-0.59-0/blib/arch:/home/cpansand/.cpan/build/2017121018/Devel-ebug-0.59-0/blib/lib:/home/cpansand/.cpan/build/2017121018/String-Koremutake-0.30-0/blib/arch:/home/cpansand/.cpan/build/2017121018/String-Koremutake-0.30-0/blib/lib:/home/cpansand/.cpan/build/2017121018/Proc-Background-1.10-0/blib/arch:/home/cpansand/.cpan/build/2017121018/Proc-Background-1.10-0/blib/lib:/home/cpansand/.cpan/build/2017121018/Catalyst-Plugin-Static-0.11-0/blib/arch:/home/cpansand/.cpan/build/2017121018/Catalyst-Plugin-Static-0.11-0/blib/lib:/home/cpansand/.cpan/build/2017121018/Cantella-Store-UUID-0.003003-0/blib/arch:/home/cpansand/.cpan/build/2017121018/Cantella-Store-UUID-0.003003-0/blib/lib:/home/cpansand/.cpan/build/2017121018/MooseX-Types-Data-GUID-0.001000-0/blib/arch:/home/cpansand/.cpan/build/2017121018/MooseX-Types-Data-GUID-0.001000-0/blib/lib:/home/cpansand/.cpan/build/2017121018/Directory-Scratch-0.18-2/blib/arch:/home/cpansand/.cpan/build/2017121018/Directory-Scratch-0.18-2/blib/lib:/home/cpansand/.cpan/build/2017121018/App-OTRS-CreateTicket-1.16-0/blib/arch:/home/cpansand/.cpan/build/2017121018/App-OTRS-CreateTicket-1.16-0/blib/lib:/home/cpansand/.cpan/build/2017121018/Locale-PO-Callback-0.04-0/blib/arch:/home/cpansand/.cpan/build/2017121018/Locale-PO-Callback-0.04-0/blib/lib:/home/cpansand/.cpan/build/2017121018/Lingua-EN-Alphabet-Shaw-0.64-0/blib/arch:/home/cpansand/.cpan/build/2017121018/Lingua-EN-Alphabet-Shaw-0.64-0/blib/lib:/home/cpansand/.cpan/build/2017121018/File-MimeInfo-0.28-0/blib/arch:/home/cpansand/.cpan/build/2017121018/File-MimeInfo-0.28-0/blib/lib:/home/cpansand/.cpan/build/2017121018/File-DesktopEntry-0.22-0/blib/arch:/home/cpansand/.cpan/build/2017121018/File-DesktopEntry-0.22-0/blib/lib:/home/cpansand/.cpan/build/2017121018/App-Wax-1.1.1-0/blib/arch:/home/cpansand/.cpan/build/2017121018/App-Wax-1.1.1-0/blib/lib:/home/cpansand/.cpan/build/2017121018/Parallel-parallel_map-0.02-0/blib/arch:/home/cpansand/.cpan/build/2017121018/Parallel-parallel_map-0.02-0/blib/lib:/home/cpansand/.cpan/build/2017121018/Parallel-DataPipe-0.11-0/blib/arch:/home/cpansand/.cpan/build/2017121018/Parallel-DataPipe-0.11-0/blib/lib:/home/cpansand/.cpan/build/2017121018/HTML-Template-2.97-2/blib/arch:/home/cpansand/.cpan/build/2017121018/HTML-Template-2.97-2/blib/lib:/home/cpansand/.cpan/build/2017121018/App-Raps2-0.54-0/blib/arch:/home/cpansand/.cpan/build/2017121018/App-Raps2-0.54-0/blib/lib:/home/cpansand/.cpan/build/2017121018/App-DocKnot-1.01-0/blib/arch:/home/cpansand/.cpan/build/2017121018/App-DocKnot-1.01-0/blib/lib:/home/cpansand/.cpan/build/2017121018/File-BaseDir-0.07-0/blib/arch:/home/cpansand/.cpan/build/2017121018/File-BaseDir-0.07-0/blib/lib:/home/cpansand/.cpan/build/2017121018/EV-Hiredis-0.04-0/blib/arch:/home/cpansand/.cpan/build/2017121018/EV-Hiredis-0.04-0/blib/lib:/home/cpansand/.cpan/build/2017121018/Test-RedisServer-0.21-0/blib/arch:/home/cpansand/.cpan/build/2017121018/Test-RedisServer-0.21-0/blib/lib:/home/cpansand/.cpan/build/2017121018/Palm-PDB-1.400-0/blib/arch:/home/cpansand/.cpan/build/2017121018/Palm-PDB-1.400-0/blib/lib:/home/cpansand/.cpan/build/2017121018/Lingua-EN-NameParse-1.36-0/blib/arch:/home/cpansand/.cpan/build/2017121018/Lingua-EN-NameParse-1.36-0/blib/lib:/home/cpansand/.cpan/build/2017121018/txt2html-2.5201-0/blib/arch:/home/cpansand/.cpan/build/2017121018/txt2html-2.5201-0/blib/lib"
PERL5OPT=""
PERL5_CPANPLUS_IS_RUNNING="1678"
PERL5_CPAN_IS_RUNNING="1678"
PERL5_CPAN_IS_RUNNING_IN_RECURSION="28175,1678"
PERLDOC="-MPod::Perldoc::ToTextOverstrike"
PERL_BATCH="yes"
PERL_CANARY_STABILITY_NOPROMPT="1"
PERL_CPAN_REPORTER_CONFIG="/var/tmp/cpansmoker-1023/2017120921/cpanreporter_000_config.ini"
PERL_EXTUTILS_AUTOINSTALL="--defaultdeps"
PERL_USE_UNSAFE_INC="1"
@INC:
/home/cpansand/.cpan/build/2017121018/AI-DecisionTree-0.11-0/blib/arch
/home/cpansand/.cpan/build/2017121018/AI-DecisionTree-0.11-0/blib/lib
/home/cpansand/.cpan/build/2017121018/Algorithm-NaiveBayes-0.04-0/blib/arch
/home/cpansand/.cpan/build/2017121018/Algorithm-NaiveBayes-0.04-0/blib/lib
/home/cpansand/.cpan/build/2017121018/Time-Progress-2.12-0/blib/arch
/home/cpansand/.cpan/build/2017121018/Time-Progress-2.12-0/blib/lib
/home/cpansand/.cpan/build/2017121018/AI-Categorizer-0.09-0/blib/arch
/home/cpansand/.cpan/build/2017121018/AI-Categorizer-0.09-0/blib/lib
/home/cpansand/.cpan/build/2017121018/Statistics-Contingency-0.09-0/blib/arch
/home/cpansand/.cpan/build/2017121018/Statistics-Contingency-0.09-0/blib/lib
/home/cpansand/.cpan/build/2017121018/Class-Container-0.13-0/blib/arch
/home/cpansand/.cpan/build/2017121018/Class-Container-0.13-0/blib/lib
/home/cpansand/.cpan/build/2017121018/File-HomeDir-1.002-0/blib/arch
/home/cpansand/.cpan/build/2017121018/File-HomeDir-1.002-0/blib/lib
/home/cpansand/.cpan/build/2017121018/Getopt-AsDocumented-v0.0.2-0/blib/arch
/home/cpansand/.cpan/build/2017121018/Getopt-AsDocumented-v0.0.2-0/blib/lib
/home/cpansand/.cpan/build/2017121018/Getopt-Base-v0.0.3-0/blib/arch
/home/cpansand/.cpan/build/2017121018/Getopt-Base-v0.0.3-0/blib/lib
/home/cpansand/.cpan/build/2017121018/File-Fu-v0.0.8-0/blib/arch
/home/cpansand/.cpan/build/2017121018/File-Fu-v0.0.8-0/blib/lib
/home/cpansand/.cpan/build/2017121018/Class-Accessor-Classy-v0.9.1-0/blib/arch
/home/cpansand/.cpan/build/2017121018/Class-Accessor-Classy-v0.9.1-0/blib/lib
/home/cpansand/.cpan/build/2017121018/File-CleanupTask-0.11-0/blib/arch
/home/cpansand/.cpan/build/2017121018/File-CleanupTask-0.11-0/blib/lib
/home/cpansand/.cpan/build/2017121018/Gtk2-Ex-Entry-Pango-0.10-0/blib/arch
/home/cpansand/.cpan/build/2017121018/Gtk2-Ex-Entry-Pango-0.10-0/blib/lib
/home/cpansand/.cpan/build/2017121018/WWW-Postmark-1.000001-1/blib/arch
/home/cpansand/.cpan/build/2017121018/WWW-Postmark-1.000001-1/blib/lib
/home/cpansand/.cpan/build/2017121018/WWW-Google-Drive-0.05-0/blib/arch
/home/cpansand/.cpan/build/2017121018/WWW-Google-Drive-0.05-0/blib/lib
/home/cpansand/.cpan/build/2017121018/Sysadm-Install-0.48-1/blib/arch
/home/cpansand/.cpan/build/2017121018/Sysadm-Install-0.48-1/blib/lib
/home/cpansand/.cpan/build/2017121018/JSON-WebToken-0.10-0/blib/arch
/home/cpansand/.cpan/build/2017121018/JSON-WebToken-0.10-0/blib/lib
/home/cpansand/.cpan/build/2017121018/Config-JSON-1.5202-0/blib/arch
/home/cpansand/.cpan/build/2017121018/Config-JSON-1.5202-0/blib/lib
/home/cpansand/.cpan/build/2017121018/Role-MimeInfo-0.02-0/blib/arch
/home/cpansand/.cpan/build/2017121018/Role-MimeInfo-0.02-0/blib/lib
/home/cpansand/.cpan/build/2017121018/LEOCHARRE-Debug-1.03-1/blib/arch
/home/cpansand/.cpan/build/2017121018/LEOCHARRE-Debug-1.03-1/blib/lib
/home/cpansand/.cpan/build/2017121018/CGI-Application-Plugin-Forward-1.06-1/blib/arch
/home/cpansand/.cpan/build/2017121018/CGI-Application-Plugin-Forward-1.06-1/blib/lib
/home/cpansand/.cpan/build/2017121018/CGI-Application-Plugin-Feedback-1.05-1/blib/arch
/home/cpansand/.cpan/build/2017121018/CGI-Application-Plugin-Feedback-1.05-1/blib/lib
/home/cpansand/.cpan/build/2017121018/CGI-Application-Plugin-Session-1.05-1/blib/arch
/home/cpansand/.cpan/build/2017121018/CGI-Application-Plugin-Session-1.05-1/blib/lib
/home/cpansand/.cpan/build/2017121018/CGI-Session-4.48-2/blib/arch
/home/cpansand/.cpan/build/2017121018/CGI-Session-4.48-2/blib/lib
/home/cpansand/.cpan/build/2017121018/CGI-Application-Plugin-AutoRunmode-0.18-1/blib/arch
/home/cpansand/.cpan/build/2017121018/CGI-Application-Plugin-AutoRunmode-0.18-1/blib/lib
/home/cpansand/.cpan/build/2017121018/CGI-PSGI-0.15-2/blib/arch
/home/cpansand/.cpan/build/2017121018/CGI-PSGI-0.15-2/blib/lib
/home/cpansand/.cpan/build/2017121018/CGI-Application-4.50-2/blib/arch
/home/cpansand/.cpan/build/2017121018/CGI-Application-4.50-2/blib/lib
/home/cpansand/.cpan/build/2017121018/Catalyst-View-Reproxy-0.05-0/blib/arch
/home/cpansand/.cpan/build/2017121018/Catalyst-View-Reproxy-0.05-0/blib/lib
/home/cpansand/.cpan/build/2017121018/HTTP-Server-Simple-Static-0.14-0/blib/arch
/home/cpansand/.cpan/build/2017121018/HTTP-Server-Simple-Static-0.14-0/blib/lib
/home/cpansand/.cpan/build/2017121018/File-MMagic-1.30-0/blib/arch
/home/cpansand/.cpan/build/2017121018/File-MMagic-1.30-0/blib/lib
/home/cpansand/.cpan/build/2017121018/Catalyst-Plugin-Upload-MIME-0.01-0/blib/arch
/home/cpansand/.cpan/build/2017121018/Catalyst-Plugin-Upload-MIME-0.01-0/blib/lib
/home/cpansand/.cpan/build/2017121018/Test-Expect-0.34-0/blib/arch
/home/cpansand/.cpan/build/2017121018/Test-Expect-0.34-0/blib/lib
/home/cpansand/.cpan/build/2017121018/Expect-Simple-0.04-0/blib/arch
/home/cpansand/.cpan/build/2017121018/Expect-Simple-0.04-0/blib/lib
/home/cpansand/.cpan/build/2017121018/HTML-Prototype-1.48-0/blib/arch
/home/cpansand/.cpan/build/2017121018/HTML-Prototype-1.48-0/blib/lib
/home/cpansand/.cpan/build/2017121018/Devel-ebug-0.59-0/blib/arch
/home/cpansand/.cpan/build/2017121018/Devel-ebug-0.59-0/blib/lib
/home/cpansand/.cpan/build/2017121018/String-Koremutake-0.30-0/blib/arch
/home/cpansand/.cpan/build/2017121018/String-Koremutake-0.30-0/blib/lib
/home/cpansand/.cpan/build/2017121018/Proc-Background-1.10-0/blib/arch
/home/cpansand/.cpan/build/2017121018/Proc-Background-1.10-0/blib/lib
/home/cpansand/.cpan/build/2017121018/Catalyst-Plugin-Static-0.11-0/blib/arch
/home/cpansand/.cpan/build/2017121018/Catalyst-Plugin-Static-0.11-0/blib/lib
/home/cpansand/.cpan/build/2017121018/Cantella-Store-UUID-0.003003-0/blib/arch
/home/cpansand/.cpan/build/2017121018/Cantella-Store-UUID-0.003003-0/blib/lib
/home/cpansand/.cpan/build/2017121018/MooseX-Types-Data-GUID-0.001000-0/blib/arch
/home/cpansand/.cpan/build/2017121018/MooseX-Types-Data-GUID-0.001000-0/blib/lib
/home/cpansand/.cpan/build/2017121018/Directory-Scratch-0.18-2/blib/arch
/home/cpansand/.cpan/build/2017121018/Directory-Scratch-0.18-2/blib/lib
/home/cpansand/.cpan/build/2017121018/App-OTRS-CreateTicket-1.16-0/blib/arch
/home/cpansand/.cpan/build/2017121018/App-OTRS-CreateTicket-1.16-0/blib/lib
/home/cpansand/.cpan/build/2017121018/Locale-PO-Callback-0.04-0/blib/arch
/home/cpansand/.cpan/build/2017121018/Locale-PO-Callback-0.04-0/blib/lib
/home/cpansand/.cpan/build/2017121018/Lingua-EN-Alphabet-Shaw-0.64-0/blib/arch
/home/cpansand/.cpan/build/2017121018/Lingua-EN-Alphabet-Shaw-0.64-0/blib/lib
/home/cpansand/.cpan/build/2017121018/File-MimeInfo-0.28-0/blib/arch
/home/cpansand/.cpan/build/2017121018/File-MimeInfo-0.28-0/blib/lib
/home/cpansand/.cpan/build/2017121018/File-DesktopEntry-0.22-0/blib/arch
/home/cpansand/.cpan/build/2017121018/File-DesktopEntry-0.22-0/blib/lib
/home/cpansand/.cpan/build/2017121018/App-Wax-1.1.1-0/blib/arch
/home/cpansand/.cpan/build/2017121018/App-Wax-1.1.1-0/blib/lib
/home/cpansand/.cpan/build/2017121018/Parallel-parallel_map-0.02-0/blib/arch
/home/cpansand/.cpan/build/2017121018/Parallel-parallel_map-0.02-0/blib/lib
/home/cpansand/.cpan/build/2017121018/Parallel-DataPipe-0.11-0/blib/arch
/home/cpansand/.cpan/build/2017121018/Parallel-DataPipe-0.11-0/blib/lib
/home/cpansand/.cpan/build/2017121018/HTML-Template-2.97-2/blib/arch
/home/cpansand/.cpan/build/2017121018/HTML-Template-2.97-2/blib/lib
/home/cpansand/.cpan/build/2017121018/App-Raps2-0.54-0/blib/arch
/home/cpansand/.cpan/build/2017121018/App-Raps2-0.54-0/blib/lib
/home/cpansand/.cpan/build/2017121018/App-DocKnot-1.01-0/blib/arch
/home/cpansand/.cpan/build/2017121018/App-DocKnot-1.01-0/blib/lib
/home/cpansand/.cpan/build/2017121018/File-BaseDir-0.07-0/blib/arch
/home/cpansand/.cpan/build/2017121018/File-BaseDir-0.07-0/blib/lib
/home/cpansand/.cpan/build/2017121018/EV-Hiredis-0.04-0/blib/arch
/home/cpansand/.cpan/build/2017121018/EV-Hiredis-0.04-0/blib/lib
/home/cpansand/.cpan/build/2017121018/Test-RedisServer-0.21-0/blib/arch
/home/cpansand/.cpan/build/2017121018/Test-RedisServer-0.21-0/blib/lib
/home/cpansand/.cpan/build/2017121018/Palm-PDB-1.400-0/blib/arch
/home/cpansand/.cpan/build/2017121018/Palm-PDB-1.400-0/blib/lib
/home/cpansand/.cpan/build/2017121018/Lingua-EN-NameParse-1.36-0/blib/arch
/home/cpansand/.cpan/build/2017121018/Lingua-EN-NameParse-1.36-0/blib/lib
/home/cpansand/.cpan/build/2017121018/txt2html-2.5201-0/blib/arch
/home/cpansand/.cpan/build/2017121018/txt2html-2.5201-0/blib/lib
/opt/perl-5.26.0/lib/site_perl/5.26.0/x86_64-linux
/opt/perl-5.26.0/lib/site_perl/5.26.0
/opt/perl-5.26.0/lib/5.26.0/x86_64-linux
/opt/perl-5.26.0/lib/5.26.0
.