Mail-Mbox-MessageParser v1.5111 Perl 5 v5.18.0 i686-linux-thread-multi
- Status
- Pass
- From
- Chris Williams (BINGOS)
- Dist
-
Mail-Mbox-MessageParser v1.5111
- Platform
- Perl 5 v5.18.0 i686-linux-thread-multi
- Date
- 2018-07-18 11:58:15
- ID
- dab923d4-8a81-11e8-919d-ffef68b7f98c
This distribution has been tested as part of the CPAN Testers
project, supporting the Perl programming language. See
http://wiki.cpantesters.org/ for more information or email
questions to cpan-testers-discuss@perl.org
--
Dear DCOPPIT,
This is a computer-generated error report created automatically by
CPANPLUS, version 0.9176. Testers personal comments may appear
at the end of this report.
Thank you for uploading your work to CPAN. Congratulations!
All tests were successful.
TEST RESULTS:
Below is the error stack from stage 'make test':
PERL_DL_NONLAZY=1 "/home/cpan/pit/thr/perl-5.18.0/bin/perl" "-MExtUtils::Command::MM" "-MTest::Harness" "-e" "undef *Test::Harness::Switches; test_harness(1, 'blib/lib', 'blib/arch')" t/*.t
t/000_standard__compile.t .......
1..6
ok 1 - Compile test for blib/lib/Mail/Mbox/MessageParser.pm
ok 2 - Compile test for blib/lib/Mail/Mbox/MessageParser/MetaInfo.pm
ok 3 - Compile test for blib/lib/Mail/Mbox/MessageParser/Perl.pm
ok 4 - Compile test for blib/lib/Mail/Mbox/MessageParser/Config.pm
ok 5 - Compile test for blib/lib/Mail/Mbox/MessageParser/Grep.pm
ok 6 - Compile test for blib/lib/Mail/Mbox/MessageParser/Cache.pm
ok
t/000_standard__perl_critic.t ... skipped: Author test. Set $ENV{TEST_AUTHOR} to a true value to run.
t/000_standard__pod.t ........... skipped: Test::Pod required for testing POD
t/000_standard__pod_coverage.t .. skipped: Test::Pod::Coverage required for testing POD coverage
t/appended_mailbox.t ............
1..6
Testing modified mailbox with Perl implementation
Comparing /tmp/y23scMy7yd to t/mailboxes/mailarc-1.txt
Output /tmp/y23scMy7yd looks good.
ok 1 - Computing differences
Testing modified mailbox with Cache implementation
Comparing /tmp/SO_pH_PaKX to t/mailboxes/mailarc-1.txt
Output /tmp/SO_pH_PaKX looks good.
ok 2 - Computing differences
Testing modified mailbox with Grep implementation
ok 3 # skip GNU grep not available
Testing modified mailbox with Perl implementation
Comparing /tmp/fXEKu_xMEi to t/mailboxes/mailarc-1.txt
Output /tmp/fXEKu_xMEi looks good.
ok 4 - Computing differences
Testing modified mailbox with Cache implementation
Comparing /tmp/Wn07OxUmtG to t/mailboxes/mailarc-1.txt
Output /tmp/Wn07OxUmtG looks good.
ok 5 - Computing differences
Testing modified mailbox with Grep implementation
ok 6 # skip GNU grep not available
ok
t/bzip2.t .......................
1..1
Running test:
"/bin/cat" "t/mailboxes/mailarc-2.txt.bz2" | "/bin/bzip2" -cd
Comparing /tmp/UH_70SAZJJ to t/results/mailarc-2.txt
Output /tmp/UH_70SAZJJ looks good.
Comparing /tmp/96PBC7Ioo_ to t/results/none
Output /tmp/96PBC7Ioo_ looks good.
ok 1 - Computing differences
ok
t/endline.t .....................
1..8
Testing filename: t/mailboxes/mailarc-1-dos.txt
ok 1 - Dos endline expected
ok 2 - Dos endline expected
ok 3 - Dos endline expected
ok 4 # skip GNU grep not available
Testing filename: t/mailboxes/mailarc-1.txt
ok 5 - Unix endline expected
ok 6 - Unix endline expected
ok 7 - Unix endline expected
ok 8 # skip GNU grep not available
ok
t/filehandle_compressed.t .......
1..16
Testing filename: t/mailboxes/mailarc-2.txt.bz2
Comparing /tmp/Qmr3EABltp to t/mailboxes/mailarc-2.txt
Output /tmp/Qmr3EABltp looks good.
ok 1 - Computing differences
Comparing /tmp/4tSz_pX1jK to t/mailboxes/mailarc-2.txt
Output /tmp/4tSz_pX1jK looks good.
ok 2 - Computing differences
Comparing /tmp/oJv3i9kxH6 to t/mailboxes/mailarc-2.txt
Output /tmp/oJv3i9kxH6 looks good.
ok 3 - Computing differences
ok 4 # skip GNU grep not available
Testing filename: t/mailboxes/mailarc-2.txt.gz
Comparing /tmp/aA5Zbd3vjr to t/mailboxes/mailarc-2.txt
Output /tmp/aA5Zbd3vjr looks good.
ok 5 - Computing differences
Comparing /tmp/c_Nxago1m9 to t/mailboxes/mailarc-2.txt
Output /tmp/c_Nxago1m9 looks good.
ok 6 - Computing differences
Comparing /tmp/KCDsqu4_aK to t/mailboxes/mailarc-2.txt
Output /tmp/KCDsqu4_aK looks good.
ok 7 - Computing differences
ok 8 # skip GNU grep not available
Testing filename: t/mailboxes/mailarc-2.txt.lz
ok 9 # skip lzip not available
ok 10 # skip lzip not available
ok 11 # skip lzip not available
ok 12 # skip lzip not available
Testing filename: t/mailboxes/mailarc-2.txt.xz
Comparing /tmp/GntenIoxW3 to t/mailboxes/mailarc-2.txt
Output /tmp/GntenIoxW3 looks good.
ok 13 - Computing differences
Comparing /tmp/HVpNFOLHQy to t/mailboxes/mailarc-2.txt
Output /tmp/HVpNFOLHQy looks good.
ok 14 - Computing differences
Comparing /tmp/Nb0VDFLrsn to t/mailboxes/mailarc-2.txt
Output /tmp/Nb0VDFLrsn looks good.
ok 15 - Computing differences
ok 16 # skip GNU grep not available
ok
t/filehandle_noncompressed.t ....
1..44
Testing filename: t/mailboxes/binary_body.txt
Comparing /tmp/9udtijK4L9 to t/mailboxes/binary_body.txt
Output /tmp/9udtijK4L9 looks good.
ok 1 - Computing differences
Comparing /tmp/AuWacewWXJ to t/mailboxes/binary_body.txt
Output /tmp/AuWacewWXJ looks good.
ok 2 - Computing differences
Comparing /tmp/_rVk5VGtYE to t/mailboxes/binary_body.txt
Output /tmp/_rVk5VGtYE looks good.
ok 3 - Computing differences
ok 4 # skip GNU grep not available
Testing filename: t/mailboxes/hessbug.txt
Comparing /tmp/rRehiWIC5A to t/mailboxes/hessbug.txt
Output /tmp/rRehiWIC5A looks good.
ok 5 - Computing differences
Comparing /tmp/6vPG8dICuH to t/mailboxes/hessbug.txt
Output /tmp/6vPG8dICuH looks good.
ok 6 - Computing differences
Comparing /tmp/TPH5JLHqwS to t/mailboxes/hessbug.txt
Output /tmp/TPH5JLHqwS looks good.
ok 7 - Computing differences
ok 8 # skip GNU grep not available
Testing filename: t/mailboxes/invalid-boundaries.txt
Comparing /tmp/rL27QzNzhV to t/mailboxes/invalid-boundaries.txt
Output /tmp/rL27QzNzhV looks good.
ok 9 - Computing differences
Comparing /tmp/1P1HnG5zsC to t/mailboxes/invalid-boundaries.txt
Output /tmp/1P1HnG5zsC looks good.
ok 10 - Computing differences
Comparing /tmp/v23jzdXkpF to t/mailboxes/invalid-boundaries.txt
Output /tmp/v23jzdXkpF looks good.
ok 11 - Computing differences
ok 12 # skip GNU grep not available
Testing filename: t/mailboxes/mailarc-1-dos.txt
Comparing /tmp/dFgJrIWHKu to t/mailboxes/mailarc-1-dos.txt
Output /tmp/dFgJrIWHKu looks good.
ok 13 - Computing differences
Comparing /tmp/WpwnMR_nJa to t/mailboxes/mailarc-1-dos.txt
Output /tmp/WpwnMR_nJa looks good.
ok 14 - Computing differences
Comparing /tmp/l8HOkaiJuz to t/mailboxes/mailarc-1-dos.txt
Output /tmp/l8HOkaiJuz looks good.
ok 15 - Computing differences
ok 16 # skip GNU grep not available
Testing filename: t/mailboxes/mailarc-1.txt
Comparing /tmp/CN8mjrmI3N to t/mailboxes/mailarc-1.txt
Output /tmp/CN8mjrmI3N looks good.
ok 17 - Computing differences
Comparing /tmp/6ZAoTJzcQa to t/mailboxes/mailarc-1.txt
Output /tmp/6ZAoTJzcQa looks good.
ok 18 - Computing differences
Comparing /tmp/SqVgLQa5gx to t/mailboxes/mailarc-1.txt
Output /tmp/SqVgLQa5gx looks good.
ok 19 - Computing differences
ok 20 # skip GNU grep not available
Testing filename: t/mailboxes/mailarc-2.txt
Comparing /tmp/9zEOPfJYai to t/mailboxes/mailarc-2.txt
Output /tmp/9zEOPfJYai looks good.
ok 21 - Computing differences
Comparing /tmp/XSkS3Gk9Zr to t/mailboxes/mailarc-2.txt
Output /tmp/XSkS3Gk9Zr looks good.
ok 22 - Computing differences
Comparing /tmp/qctKcqTDyA to t/mailboxes/mailarc-2.txt
Output /tmp/qctKcqTDyA looks good.
ok 23 - Computing differences
ok 24 # skip GNU grep not available
Testing filename: t/mailboxes/mailarc-3.txt
Comparing /tmp/GtWurFTw5T to t/mailboxes/mailarc-3.txt
Output /tmp/GtWurFTw5T looks good.
ok 25 - Computing differences
Comparing /tmp/squgJeR7st to t/mailboxes/mailarc-3.txt
Output /tmp/squgJeR7st looks good.
ok 26 - Computing differences
Comparing /tmp/g_ZOFzMwqx to t/mailboxes/mailarc-3.txt
Output /tmp/g_ZOFzMwqx looks good.
ok 27 - Computing differences
ok 28 # skip GNU grep not available
Testing filename: t/mailboxes/mailseparators.txt
Comparing /tmp/4cgXSgCv9w to t/mailboxes/mailseparators.txt
Output /tmp/4cgXSgCv9w looks good.
ok 29 - Computing differences
Comparing /tmp/USrmCBQILM to t/mailboxes/mailseparators.txt
Output /tmp/USrmCBQILM looks good.
ok 30 - Computing differences
Comparing /tmp/RC5urhLNG9 to t/mailboxes/mailseparators.txt
Output /tmp/RC5urhLNG9 looks good.
ok 31 - Computing differences
ok 32 # skip GNU grep not available
Testing filename: t/mailboxes/malformed.txt
Comparing /tmp/syKCs2nTyH to t/mailboxes/malformed.txt
Output /tmp/syKCs2nTyH looks good.
ok 33 - Computing differences
Comparing /tmp/XC1HgMEXrm to t/mailboxes/malformed.txt
Output /tmp/XC1HgMEXrm looks good.
ok 34 - Computing differences
Comparing /tmp/6ow_rKBbka to t/mailboxes/malformed.txt
Output /tmp/6ow_rKBbka looks good.
ok 35 - Computing differences
ok 36 # skip GNU grep not available
Testing filename: t/mailboxes/newlines_at_beginning.txt
Comparing /tmp/Mnjs1kGQkN to t/mailboxes/newlines_at_beginning.txt
Output /tmp/Mnjs1kGQkN looks good.
ok 37 - Computing differences
Comparing /tmp/MdwWQS5nHe to t/mailboxes/newlines_at_beginning.txt
Output /tmp/MdwWQS5nHe looks good.
ok 38 - Computing differences
Comparing /tmp/CQUC3tr4a5 to t/mailboxes/newlines_at_beginning.txt
Output /tmp/CQUC3tr4a5 looks good.
ok 39 - Computing differences
ok 40 # skip GNU grep not available
Testing filename: t/mailboxes/vm-emacs.txt
Comparing /tmp/d8n0pq4jkY to t/mailboxes/vm-emacs.txt
Output /tmp/d8n0pq4jkY looks good.
ok 41 - Computing differences
Comparing /tmp/VA673woyip to t/mailboxes/vm-emacs.txt
Output /tmp/VA673woyip looks good.
ok 42 - Computing differences
Comparing /tmp/2xQvJYIWZ8 to t/mailboxes/vm-emacs.txt
Output /tmp/2xQvJYIWZ8 looks good.
ok 43 - Computing differences
ok 44 # skip GNU grep not available
ok
t/filename_compressed.t .........
1..4
Testing filename: t/mailboxes/mailarc-2.txt.bz2
Comparing /tmp/6j0T1E5_bp to t/mailboxes/mailarc-2.txt
Output /tmp/6j0T1E5_bp looks good.
ok 1 - Computing differences
Testing filename: t/mailboxes/mailarc-2.txt.gz
Comparing /tmp/qw74RF3oGF to t/mailboxes/mailarc-2.txt
Output /tmp/qw74RF3oGF looks good.
ok 2 - Computing differences
Testing filename: t/mailboxes/mailarc-2.txt.lz
ok 3 # skip lzip not available
Testing filename: t/mailboxes/mailarc-2.txt.xz
Comparing /tmp/6BuL04M3kr to t/mailboxes/mailarc-2.txt
Output /tmp/6BuL04M3kr looks good.
ok 4 - Computing differences
ok
t/filename_noncompressed.t ......
1..11
Testing filename: t/mailboxes/binary_body.txt
Comparing /tmp/UdfqPp742_ to t/mailboxes/binary_body.txt
Output /tmp/UdfqPp742_ looks good.
ok 1 - Computing differences
Testing filename: t/mailboxes/hessbug.txt
Comparing /tmp/nfvCKl_YWb to t/mailboxes/hessbug.txt
Output /tmp/nfvCKl_YWb looks good.
ok 2 - Computing differences
Testing filename: t/mailboxes/invalid-boundaries.txt
Comparing /tmp/r_6fcUw928 to t/mailboxes/invalid-boundaries.txt
Output /tmp/r_6fcUw928 looks good.
ok 3 - Computing differences
Testing filename: t/mailboxes/mailarc-1-dos.txt
Comparing /tmp/SBRwefXrI6 to t/mailboxes/mailarc-1-dos.txt
Output /tmp/SBRwefXrI6 looks good.
ok 4 - Computing differences
Testing filename: t/mailboxes/mailarc-1.txt
Comparing /tmp/TyJOA0sDV0 to t/mailboxes/mailarc-1.txt
Output /tmp/TyJOA0sDV0 looks good.
ok 5 - Computing differences
Testing filename: t/mailboxes/mailarc-2.txt
Comparing /tmp/FyXR_qf619 to t/mailboxes/mailarc-2.txt
Output /tmp/FyXR_qf619 looks good.
ok 6 - Computing differences
Testing filename: t/mailboxes/mailarc-3.txt
Comparing /tmp/Ya3IrHiN9w to t/mailboxes/mailarc-3.txt
Output /tmp/Ya3IrHiN9w looks good.
ok 7 - Computing differences
Testing filename: t/mailboxes/mailseparators.txt
Comparing /tmp/GHY0Jq9zAm to t/mailboxes/mailseparators.txt
Output /tmp/GHY0Jq9zAm looks good.
ok 8 - Computing differences
Testing filename: t/mailboxes/malformed.txt
Comparing /tmp/2iABLPrpiu to t/mailboxes/malformed.txt
Output /tmp/2iABLPrpiu looks good.
ok 9 - Computing differences
Testing filename: t/mailboxes/newlines_at_beginning.txt
Comparing /tmp/vrAwfX8c9X to t/mailboxes/newlines_at_beginning.txt
Output /tmp/vrAwfX8c9X looks good.
ok 10 - Computing differences
Testing filename: t/mailboxes/vm-emacs.txt
Comparing /tmp/aNH4ofB_5a to t/mailboxes/vm-emacs.txt
Output /tmp/aNH4ofB_5a looks good.
ok 11 - Computing differences
ok
t/grep.t ........................
1..4
Running test:
unset LC_ALL LC_COLLATE LANG LC_CTYPE LC_MESSAGES; grep --extended-regexp --line-number --byte-offset --binary-files=text "^From [^:]+(:[0-9][0-9]){1,2}( *([A-Z]{2,6}|[+-]?[0-9]{4})){1,3}( remote from .*)?
?$" t/mailboxes/mailarc-1.txt
ok 1 # skip 1
Running test:
unset LC_ALL LC_COLLATE LANG LC_CTYPE LC_MESSAGES; grep --extended-regexp --line-number --byte-offset --binary-files=text "^From [^:]+(:[0-9][0-9]){1,2}( *([A-Z]{2,6}|[+-]?[0-9]{4})){1,3}( remote from .*)?
?$" t/mailboxes/mailarc-2.txt
ok 2 # skip 1
Running test:
unset LC_ALL LC_COLLATE LANG LC_CTYPE LC_MESSAGES; grep --extended-regexp --line-number --byte-offset --binary-files=text "^From [^:]+(:[0-9][0-9]){1,2}( *([A-Z]{2,6}|[+-]?[0-9]{4})){1,3}( remote from .*)?
?$" t/mailboxes/mailarc-3.txt
ok 3 # skip 1
Running test:
unset LC_ALL LC_COLLATE LANG LC_CTYPE LC_MESSAGES; grep --extended-regexp --line-number --byte-offset --binary-files=text "^From [^:]+(:[0-9][0-9]){1,2}( *([A-Z]{2,6}|[+-]?[0-9]{4})){1,3}( remote from .*)?
?$" t/mailboxes/mailseparators.txt
ok 4 # skip 1
ok
t/gzip.t ........................
1..1
Running test:
"/bin/cat" "t/mailboxes/mailarc-2.txt.gz" | "/bin/gzip" -cd
Comparing /tmp/v_vHevygno to t/results/mailarc-2.txt
Output /tmp/v_vHevygno looks good.
Comparing /tmp/a43vZ4neg0 to t/results/none
Output /tmp/a43vZ4neg0 looks good.
ok 1 - Computing differences
ok
t/length.t ......................
1..30
Testing filename: t/mailboxes/binary_body.txt
Comparing /tmp/DiWSDzehrB to t/results/length_binary_body.stdout
Output /tmp/DiWSDzehrB looks good.
ok 1 - Computing differences
Comparing /tmp/gNZIHJlg2x to t/results/length_binary_body.stdout
Output /tmp/gNZIHJlg2x looks good.
ok 2 - Computing differences
ok 3 # skip GNU grep not available
Testing filename: t/mailboxes/hessbug.txt
Comparing /tmp/6u955Yd0RF to t/results/length_hessbug.stdout
Output /tmp/6u955Yd0RF looks good.
ok 4 - Computing differences
Comparing /tmp/V4xmoNqOMS to t/results/length_hessbug.stdout
Output /tmp/V4xmoNqOMS looks good.
ok 5 - Computing differences
ok 6 # skip GNU grep not available
Testing filename: t/mailboxes/invalid-boundaries.txt
Comparing /tmp/Ojw3PGybDU to t/results/length_invalid-boundaries.stdout
Output /tmp/Ojw3PGybDU looks good.
ok 7 - Computing differences
Comparing /tmp/fQy6tKX0Fj to t/results/length_invalid-boundaries.stdout
Output /tmp/fQy6tKX0Fj looks good.
ok 8 - Computing differences
ok 9 # skip GNU grep not available
Testing filename: t/mailboxes/mailarc-1-dos.txt
Comparing /tmp/iULISPbf3r to t/results/length_mailarc-1-dos.stdout
Output /tmp/iULISPbf3r looks good.
ok 10 - Computing differences
Comparing /tmp/KX_kMzGSW_ to t/results/length_mailarc-1-dos.stdout
Output /tmp/KX_kMzGSW_ looks good.
ok 11 - Computing differences
ok 12 # skip GNU grep not available
Testing filename: t/mailboxes/mailarc-1.txt
Comparing /tmp/NA6q7gGnQm to t/results/length_mailarc-1.stdout
Output /tmp/NA6q7gGnQm looks good.
ok 13 - Computing differences
Comparing /tmp/memID8w9Or to t/results/length_mailarc-1.stdout
Output /tmp/memID8w9Or looks good.
ok 14 - Computing differences
ok 15 # skip GNU grep not available
Testing filename: t/mailboxes/mailarc-2.txt
Comparing /tmp/3cJvBd9ASk to t/results/length_mailarc-2.stdout
Output /tmp/3cJvBd9ASk looks good.
ok 16 - Computing differences
Comparing /tmp/kD75_k1eM6 to t/results/length_mailarc-2.stdout
Output /tmp/kD75_k1eM6 looks good.
ok 17 - Computing differences
ok 18 # skip GNU grep not available
Testing filename: t/mailboxes/mailarc-3.txt
Comparing /tmp/cD8e6N3Xs8 to t/results/length_mailarc-3.stdout
Output /tmp/cD8e6N3Xs8 looks good.
ok 19 - Computing differences
Comparing /tmp/xhyyBiobiw to t/results/length_mailarc-3.stdout
Output /tmp/xhyyBiobiw looks good.
ok 20 - Computing differences
ok 21 # skip GNU grep not available
Testing filename: t/mailboxes/mailseparators.txt
Comparing /tmp/EWWTUvGoOm to t/results/length_mailseparators.stdout
Output /tmp/EWWTUvGoOm looks good.
ok 22 - Computing differences
Comparing /tmp/o2HedfOQMF to t/results/length_mailseparators.stdout
Output /tmp/o2HedfOQMF looks good.
ok 23 - Computing differences
ok 24 # skip GNU grep not available
Testing filename: t/mailboxes/malformed.txt
Comparing /tmp/We3YGXIUyg to t/results/length_malformed.stdout
Output /tmp/We3YGXIUyg looks good.
ok 25 - Computing differences
Comparing /tmp/bRXFpux_TV to t/results/length_malformed.stdout
Output /tmp/bRXFpux_TV looks good.
ok 26 - Computing differences
ok 27 # skip GNU grep not available
Testing filename: t/mailboxes/newlines_at_beginning.txt
Comparing /tmp/hVQRXsErVO to t/results/length_newlines_at_beginning.stdout
Output /tmp/hVQRXsErVO looks good.
ok 28 - Computing differences
Comparing /tmp/6bswvshwT4 to t/results/length_newlines_at_beginning.stdout
Output /tmp/6bswvshwT4 looks good.
ok 29 - Computing differences
ok 30 # skip GNU grep not available
ok
t/line_number.t .................
1..30
Testing filename: t/mailboxes/binary_body.txt
Comparing /tmp/cjb6pzLoJZ to t/results/line_number_binary_body.stdout
Output /tmp/cjb6pzLoJZ looks good.
ok 1 - Computing differences
Comparing /tmp/nqNIeVq1k4 to t/results/line_number_binary_body.stdout
Output /tmp/nqNIeVq1k4 looks good.
ok 2 - Computing differences
ok 3 # skip GNU grep not available
Testing filename: t/mailboxes/hessbug.txt
Comparing /tmp/cEfnGOPcIZ to t/results/line_number_hessbug.stdout
Output /tmp/cEfnGOPcIZ looks good.
ok 4 - Computing differences
Comparing /tmp/CTqqQOPlhS to t/results/line_number_hessbug.stdout
Output /tmp/CTqqQOPlhS looks good.
ok 5 - Computing differences
ok 6 # skip GNU grep not available
Testing filename: t/mailboxes/invalid-boundaries.txt
Comparing /tmp/9mdkW3_SNd to t/results/line_number_invalid-boundaries.stdout
Output /tmp/9mdkW3_SNd looks good.
ok 7 - Computing differences
Comparing /tmp/KMwESyMUCO to t/results/line_number_invalid-boundaries.stdout
Output /tmp/KMwESyMUCO looks good.
ok 8 - Computing differences
ok 9 # skip GNU grep not available
Testing filename: t/mailboxes/mailarc-1-dos.txt
Comparing /tmp/rrnjS2dkT5 to t/results/line_number_mailarc-1-dos.stdout
Output /tmp/rrnjS2dkT5 looks good.
ok 10 - Computing differences
Comparing /tmp/FG2Ll2nA7M to t/results/line_number_mailarc-1-dos.stdout
Output /tmp/FG2Ll2nA7M looks good.
ok 11 - Computing differences
ok 12 # skip GNU grep not available
Testing filename: t/mailboxes/mailarc-1.txt
Comparing /tmp/JAy4cMASR4 to t/results/line_number_mailarc-1.stdout
Output /tmp/JAy4cMASR4 looks good.
ok 13 - Computing differences
Comparing /tmp/X7pUhY8Wz1 to t/results/line_number_mailarc-1.stdout
Output /tmp/X7pUhY8Wz1 looks good.
ok 14 - Computing differences
ok 15 # skip GNU grep not available
Testing filename: t/mailboxes/mailarc-2.txt
Comparing /tmp/UXqTGl7bXA to t/results/line_number_mailarc-2.stdout
Output /tmp/UXqTGl7bXA looks good.
ok 16 - Computing differences
Comparing /tmp/LMhPuB2sCW to t/results/line_number_mailarc-2.stdout
Output /tmp/LMhPuB2sCW looks good.
ok 17 - Computing differences
ok 18 # skip GNU grep not available
Testing filename: t/mailboxes/mailarc-3.txt
Comparing /tmp/2gLe0LVyB4 to t/results/line_number_mailarc-3.stdout
Output /tmp/2gLe0LVyB4 looks good.
ok 19 - Computing differences
Comparing /tmp/upiqqZpZyb to t/results/line_number_mailarc-3.stdout
Output /tmp/upiqqZpZyb looks good.
ok 20 - Computing differences
ok 21 # skip GNU grep not available
Testing filename: t/mailboxes/mailseparators.txt
Comparing /tmp/6XeFBPq5p9 to t/results/line_number_mailseparators.stdout
Output /tmp/6XeFBPq5p9 looks good.
ok 22 - Computing differences
Comparing /tmp/yU_40J7hKW to t/results/line_number_mailseparators.stdout
Output /tmp/yU_40J7hKW looks good.
ok 23 - Computing differences
ok 24 # skip GNU grep not available
Testing filename: t/mailboxes/malformed.txt
Comparing /tmp/xteNtgLPsu to t/results/line_number_malformed.stdout
Output /tmp/xteNtgLPsu looks good.
ok 25 - Computing differences
Comparing /tmp/3CRQZhSaOD to t/results/line_number_malformed.stdout
Output /tmp/3CRQZhSaOD looks good.
ok 26 - Computing differences
ok 27 # skip GNU grep not available
Testing filename: t/mailboxes/newlines_at_beginning.txt
Comparing /tmp/yDsrXkLmsd to t/results/line_number_newlines_at_beginning.stdout
Output /tmp/yDsrXkLmsd looks good.
ok 28 - Computing differences
Comparing /tmp/ZQG5aD4BRb to t/results/line_number_newlines_at_beginning.stdout
Output /tmp/ZQG5aD4BRb looks good.
ok 29 - Computing differences
ok 30 # skip GNU grep not available
ok
t/lzip.t ........................
1..1
Running test:
"/bin/cat" "t/mailboxes/mailarc-2.txt.lz" | "lzip" -cd
ok 1 # skip lzip not available
ok
t/number.t ......................
1..30
Testing filename: t/mailboxes/binary_body.txt
Comparing /tmp/Es2plLmhKR to t/results/number_binary_body.stdout
Output /tmp/Es2plLmhKR looks good.
ok 1 - Computing differences
Comparing /tmp/AVDzNUtOgO to t/results/number_binary_body.stdout
Output /tmp/AVDzNUtOgO looks good.
ok 2 - Computing differences
ok 3 # skip GNU grep not available
Testing filename: t/mailboxes/hessbug.txt
Comparing /tmp/LXO8UB9r7Y to t/results/number_hessbug.stdout
Output /tmp/LXO8UB9r7Y looks good.
ok 4 - Computing differences
Comparing /tmp/JKk9hTUFJe to t/results/number_hessbug.stdout
Output /tmp/JKk9hTUFJe looks good.
ok 5 - Computing differences
ok 6 # skip GNU grep not available
Testing filename: t/mailboxes/invalid-boundaries.txt
Comparing /tmp/8ZiqhnMfrH to t/results/number_invalid-boundaries.stdout
Output /tmp/8ZiqhnMfrH looks good.
ok 7 - Computing differences
Comparing /tmp/XWbF1iZunD to t/results/number_invalid-boundaries.stdout
Output /tmp/XWbF1iZunD looks good.
ok 8 - Computing differences
ok 9 # skip GNU grep not available
Testing filename: t/mailboxes/mailarc-1-dos.txt
Comparing /tmp/uOptMbRF6F to t/results/number_mailarc-1-dos.stdout
Output /tmp/uOptMbRF6F looks good.
ok 10 - Computing differences
Comparing /tmp/d_ZYqXL6uc to t/results/number_mailarc-1-dos.stdout
Output /tmp/d_ZYqXL6uc looks good.
ok 11 - Computing differences
ok 12 # skip GNU grep not available
Testing filename: t/mailboxes/mailarc-1.txt
Comparing /tmp/QWTCayINgK to t/results/number_mailarc-1.stdout
Output /tmp/QWTCayINgK looks good.
ok 13 - Computing differences
Comparing /tmp/8movgq1ywD to t/results/number_mailarc-1.stdout
Output /tmp/8movgq1ywD looks good.
ok 14 - Computing differences
ok 15 # skip GNU grep not available
Testing filename: t/mailboxes/mailarc-2.txt
Comparing /tmp/blqMl4KQ0H to t/results/number_mailarc-2.stdout
Output /tmp/blqMl4KQ0H looks good.
ok 16 - Computing differences
Comparing /tmp/Kv7HgP_ALL to t/results/number_mailarc-2.stdout
Output /tmp/Kv7HgP_ALL looks good.
ok 17 - Computing differences
ok 18 # skip GNU grep not available
Testing filename: t/mailboxes/mailarc-3.txt
Comparing /tmp/btWMgAV74d to t/results/number_mailarc-3.stdout
Output /tmp/btWMgAV74d looks good.
ok 19 - Computing differences
Comparing /tmp/SWKEQZTxsI to t/results/number_mailarc-3.stdout
Output /tmp/SWKEQZTxsI looks good.
ok 20 - Computing differences
ok 21 # skip GNU grep not available
Testing filename: t/mailboxes/mailseparators.txt
Comparing /tmp/3JnN1Z6v5F to t/results/number_mailseparators.stdout
Output /tmp/3JnN1Z6v5F looks good.
ok 22 - Computing differences
Comparing /tmp/5tp4388_02 to t/results/number_mailseparators.stdout
Output /tmp/5tp4388_02 looks good.
ok 23 - Computing differences
ok 24 # skip GNU grep not available
Testing filename: t/mailboxes/malformed.txt
Comparing /tmp/FckVoMJHq4 to t/results/number_malformed.stdout
Output /tmp/FckVoMJHq4 looks good.
ok 25 - Computing differences
Comparing /tmp/vxoB6GPPHN to t/results/number_malformed.stdout
Output /tmp/vxoB6GPPHN looks good.
ok 26 - Computing differences
ok 27 # skip GNU grep not available
Testing filename: t/mailboxes/newlines_at_beginning.txt
Comparing /tmp/ifFdE8iVba to t/results/number_newlines_at_beginning.stdout
Output /tmp/ifFdE8iVba looks good.
ok 28 - Computing differences
Comparing /tmp/35MVW7Crzt to t/results/number_newlines_at_beginning.stdout
Output /tmp/35MVW7Crzt looks good.
ok 29 - Computing differences
ok 30 # skip GNU grep not available
ok
t/offset.t ......................
1..30
Testing filename: t/mailboxes/binary_body.txt
Comparing /tmp/wsKyyRHMbm to t/results/offset_binary_body.stdout
Output /tmp/wsKyyRHMbm looks good.
ok 1 - Computing differences
Comparing /tmp/ehCAKWPr9y to t/results/offset_binary_body.stdout
Output /tmp/ehCAKWPr9y looks good.
ok 2 - Computing differences
ok 3 # skip GNU grep not available
Testing filename: t/mailboxes/hessbug.txt
Comparing /tmp/U3YjcyxYRI to t/results/offset_hessbug.stdout
Output /tmp/U3YjcyxYRI looks good.
ok 4 - Computing differences
Comparing /tmp/A4eJSHttVl to t/results/offset_hessbug.stdout
Output /tmp/A4eJSHttVl looks good.
ok 5 - Computing differences
ok 6 # skip GNU grep not available
Testing filename: t/mailboxes/invalid-boundaries.txt
Comparing /tmp/YtEc1QQcDX to t/results/offset_invalid-boundaries.stdout
Output /tmp/YtEc1QQcDX looks good.
ok 7 - Computing differences
Comparing /tmp/xCKOqS0zqU to t/results/offset_invalid-boundaries.stdout
Output /tmp/xCKOqS0zqU looks good.
ok 8 - Computing differences
ok 9 # skip GNU grep not available
Testing filename: t/mailboxes/mailarc-1-dos.txt
Comparing /tmp/4hVZDrnQRc to t/results/offset_mailarc-1-dos.stdout
Output /tmp/4hVZDrnQRc looks good.
ok 10 - Computing differences
Comparing /tmp/33pL4Je3sa to t/results/offset_mailarc-1-dos.stdout
Output /tmp/33pL4Je3sa looks good.
ok 11 - Computing differences
ok 12 # skip GNU grep not available
Testing filename: t/mailboxes/mailarc-1.txt
Comparing /tmp/b3j77uJHQa to t/results/offset_mailarc-1.stdout
Output /tmp/b3j77uJHQa looks good.
ok 13 - Computing differences
Comparing /tmp/9RjJR9yh1N to t/results/offset_mailarc-1.stdout
Output /tmp/9RjJR9yh1N looks good.
ok 14 - Computing differences
ok 15 # skip GNU grep not available
Testing filename: t/mailboxes/mailarc-2.txt
Comparing /tmp/89FTGqWPIA to t/results/offset_mailarc-2.stdout
Output /tmp/89FTGqWPIA looks good.
ok 16 - Computing differences
Comparing /tmp/g2TokqC3wD to t/results/offset_mailarc-2.stdout
Output /tmp/g2TokqC3wD looks good.
ok 17 - Computing differences
ok 18 # skip GNU grep not available
Testing filename: t/mailboxes/mailarc-3.txt
Comparing /tmp/zm3D_5iU_q to t/results/offset_mailarc-3.stdout
Output /tmp/zm3D_5iU_q looks good.
ok 19 - Computing differences
Comparing /tmp/ph3tpixRXq to t/results/offset_mailarc-3.stdout
Output /tmp/ph3tpixRXq looks good.
ok 20 - Computing differences
ok 21 # skip GNU grep not available
Testing filename: t/mailboxes/mailseparators.txt
Comparing /tmp/x7FeZF8jYd to t/results/offset_mailseparators.stdout
Output /tmp/x7FeZF8jYd looks good.
ok 22 - Computing differences
Comparing /tmp/plzzfZjFW7 to t/results/offset_mailseparators.stdout
Output /tmp/plzzfZjFW7 looks good.
ok 23 - Computing differences
ok 24 # skip GNU grep not available
Testing filename: t/mailboxes/malformed.txt
Comparing /tmp/ZLlAxF1in1 to t/results/offset_malformed.stdout
Output /tmp/ZLlAxF1in1 looks good.
ok 25 - Computing differences
Comparing /tmp/pX7zGwMbTX to t/results/offset_malformed.stdout
Output /tmp/pX7zGwMbTX looks good.
ok 26 - Computing differences
ok 27 # skip GNU grep not available
Testing filename: t/mailboxes/newlines_at_beginning.txt
Comparing /tmp/SBjwAzP4iX to t/results/offset_newlines_at_beginning.stdout
Output /tmp/SBjwAzP4iX looks good.
ok 28 - Computing differences
Comparing /tmp/wB1EWbesbD to t/results/offset_newlines_at_beginning.stdout
Output /tmp/wB1EWbesbD looks good.
ok 29 - Computing differences
ok 30 # skip GNU grep not available
ok
t/prologue.t ....................
1..33
Testing filename: t/mailboxes/binary_body.txt
Comparing /tmp/SSTvowyJxg to t/mailboxes/binary_body.txt
Output /tmp/SSTvowyJxg looks good.
ok 1 - Computing differences
Comparing /tmp/fZDY3Y6T4A to t/mailboxes/binary_body.txt
Output /tmp/fZDY3Y6T4A looks good.
ok 2 - Computing differences
ok 3 # skip GNU grep not available
Testing filename: t/mailboxes/hessbug.txt
Comparing /tmp/UMjHSj3etP to t/mailboxes/hessbug.txt
Output /tmp/UMjHSj3etP looks good.
ok 4 - Computing differences
Comparing /tmp/Dl6eLwZz93 to t/mailboxes/hessbug.txt
Output /tmp/Dl6eLwZz93 looks good.
ok 5 - Computing differences
ok 6 # skip GNU grep not available
Testing filename: t/mailboxes/invalid-boundaries.txt
Comparing /tmp/qll26EEeDm to t/mailboxes/invalid-boundaries.txt
Output /tmp/qll26EEeDm looks good.
ok 7 - Computing differences
Comparing /tmp/nSmaT6cgxD to t/mailboxes/invalid-boundaries.txt
Output /tmp/nSmaT6cgxD looks good.
ok 8 - Computing differences
ok 9 # skip GNU grep not available
Testing filename: t/mailboxes/mailarc-1-dos.txt
Comparing /tmp/uJ2ExdTtk8 to t/mailboxes/mailarc-1-dos.txt
Output /tmp/uJ2ExdTtk8 looks good.
ok 10 - Computing differences
Comparing /tmp/h32QeZJQQl to t/mailboxes/mailarc-1-dos.txt
Output /tmp/h32QeZJQQl looks good.
ok 11 - Computing differences
ok 12 # skip GNU grep not available
Testing filename: t/mailboxes/mailarc-1.txt
Comparing /tmp/Pyg6wZOVBJ to t/mailboxes/mailarc-1.txt
Output /tmp/Pyg6wZOVBJ looks good.
ok 13 - Computing differences
Comparing /tmp/CMKKfPWwXi to t/mailboxes/mailarc-1.txt
Output /tmp/CMKKfPWwXi looks good.
ok 14 - Computing differences
ok 15 # skip GNU grep not available
Testing filename: t/mailboxes/mailarc-2.txt
Comparing /tmp/tYfdwYRTHv to t/mailboxes/mailarc-2.txt
Output /tmp/tYfdwYRTHv looks good.
ok 16 - Computing differences
Comparing /tmp/THsrwWjkyQ to t/mailboxes/mailarc-2.txt
Output /tmp/THsrwWjkyQ looks good.
ok 17 - Computing differences
ok 18 # skip GNU grep not available
Testing filename: t/mailboxes/mailarc-3.txt
Comparing /tmp/eBnyb5Sv4y to t/mailboxes/mailarc-3.txt
Output /tmp/eBnyb5Sv4y looks good.
ok 19 - Computing differences
Comparing /tmp/YL_a2pYXS9 to t/mailboxes/mailarc-3.txt
Output /tmp/YL_a2pYXS9 looks good.
ok 20 - Computing differences
ok 21 # skip GNU grep not available
Testing filename: t/mailboxes/mailseparators.txt
Comparing /tmp/5g_sXOGHok to t/mailboxes/mailseparators.txt
Output /tmp/5g_sXOGHok looks good.
ok 22 - Computing differences
Comparing /tmp/GFnTal1ewN to t/mailboxes/mailseparators.txt
Output /tmp/GFnTal1ewN looks good.
ok 23 - Computing differences
ok 24 # skip GNU grep not available
Testing filename: t/mailboxes/malformed.txt
Comparing /tmp/SHmEsmUj9o to t/mailboxes/malformed.txt
Output /tmp/SHmEsmUj9o looks good.
ok 25 - Computing differences
Comparing /tmp/TrRvT8VpVA to t/mailboxes/malformed.txt
Output /tmp/TrRvT8VpVA looks good.
ok 26 - Computing differences
ok 27 # skip GNU grep not available
Testing filename: t/mailboxes/newlines_at_beginning.txt
Comparing /tmp/wCKKES9Fl7 to t/mailboxes/newlines_at_beginning.txt
Output /tmp/wCKKES9Fl7 looks good.
ok 28 - Computing differences
Comparing /tmp/32fo7eeyDB to t/mailboxes/newlines_at_beginning.txt
Output /tmp/32fo7eeyDB looks good.
ok 29 - Computing differences
ok 30 # skip GNU grep not available
Testing filename: t/mailboxes/vm-emacs.txt
Comparing /tmp/d_tDa0zYTk to t/mailboxes/vm-emacs.txt
Output /tmp/d_tDa0zYTk looks good.
ok 31 - Computing differences
Comparing /tmp/XifLDURKHa to t/mailboxes/vm-emacs.txt
Output /tmp/XifLDURKHa looks good.
ok 32 - Computing differences
ok 33 # skip GNU grep not available
ok
t/reset.t .......................
1..60
Testing filename: t/mailboxes/binary_body.txt
Testing partial mailbox reset with Perl implementation
Comparing /tmp/5iiD0V6bSa to t/results/reset_binary_body.stdout
Output /tmp/5iiD0V6bSa looks good.
ok 1 - Computing differences
Testing partial mailbox reset with Cache implementation
Comparing /tmp/XplhC6WAbd to t/results/reset_binary_body.stdout
Output /tmp/XplhC6WAbd looks good.
ok 2 - Computing differences
Testing partial mailbox reset with Grep implementation
ok 3 # skip GNU grep not available
Testing full mailbox reset with Perl implementation
Comparing /tmp/jBhp37gHLe to t/results/reset_binary_body.stdout
Output /tmp/jBhp37gHLe looks good.
ok 4 - Computing differences
Testing full mailbox reset with Cache implementation
Comparing /tmp/1CPferA3GZ to t/results/reset_binary_body.stdout
Output /tmp/1CPferA3GZ looks good.
ok 5 - Computing differences
Testing full mailbox reset with Grep implementation
ok 6 # skip GNU grep not available
Testing filename: t/mailboxes/hessbug.txt
Testing partial mailbox reset with Perl implementation
Comparing /tmp/YrWZlmrX_h to t/results/reset_hessbug.stdout
Output /tmp/YrWZlmrX_h looks good.
ok 7 - Computing differences
Testing partial mailbox reset with Cache implementation
Comparing /tmp/aTvLHGKl6j to t/results/reset_hessbug.stdout
Output /tmp/aTvLHGKl6j looks good.
ok 8 - Computing differences
Testing partial mailbox reset with Grep implementation
ok 9 # skip GNU grep not available
Testing full mailbox reset with Perl implementation
Comparing /tmp/B8DPRLkwAf to t/results/reset_hessbug.stdout
Output /tmp/B8DPRLkwAf looks good.
ok 10 - Computing differences
Testing full mailbox reset with Cache implementation
Comparing /tmp/8wW_5IEPnG to t/results/reset_hessbug.stdout
Output /tmp/8wW_5IEPnG looks good.
ok 11 - Computing differences
Testing full mailbox reset with Grep implementation
ok 12 # skip GNU grep not available
Testing filename: t/mailboxes/invalid-boundaries.txt
Testing partial mailbox reset with Perl implementation
Comparing /tmp/iPvO8DzDAx to t/results/reset_invalid-boundaries.stdout
Output /tmp/iPvO8DzDAx looks good.
ok 13 - Computing differences
Testing partial mailbox reset with Cache implementation
Comparing /tmp/f24vHtaHrN to t/results/reset_invalid-boundaries.stdout
Output /tmp/f24vHtaHrN looks good.
ok 14 - Computing differences
Testing partial mailbox reset with Grep implementation
ok 15 # skip GNU grep not available
Testing full mailbox reset with Perl implementation
Comparing /tmp/m9MWkC4mLA to t/results/reset_invalid-boundaries.stdout
Output /tmp/m9MWkC4mLA looks good.
ok 16 - Computing differences
Testing full mailbox reset with Cache implementation
Comparing /tmp/6NICN4j44z to t/results/reset_invalid-boundaries.stdout
Output /tmp/6NICN4j44z looks good.
ok 17 - Computing differences
Testing full mailbox reset with Grep implementation
ok 18 # skip GNU grep not available
Testing filename: t/mailboxes/mailarc-1-dos.txt
Testing partial mailbox reset with Perl implementation
Comparing /tmp/UmJzdGFqNQ to t/results/reset_mailarc-1-dos.stdout
Output /tmp/UmJzdGFqNQ looks good.
ok 19 - Computing differences
Testing partial mailbox reset with Cache implementation
Comparing /tmp/47qzESQAc4 to t/results/reset_mailarc-1-dos.stdout
Output /tmp/47qzESQAc4 looks good.
ok 20 - Computing differences
Testing partial mailbox reset with Grep implementation
ok 21 # skip GNU grep not available
Testing full mailbox reset with Perl implementation
Comparing /tmp/YoBmbpYxIj to t/results/reset_mailarc-1-dos.stdout
Output /tmp/YoBmbpYxIj looks good.
ok 22 - Computing differences
Testing full mailbox reset with Cache implementation
Comparing /tmp/ZnD83WQF8R to t/results/reset_mailarc-1-dos.stdout
Output /tmp/ZnD83WQF8R looks good.
ok 23 - Computing differences
Testing full mailbox reset with Grep implementation
ok 24 # skip GNU grep not available
Testing filename: t/mailboxes/mailarc-1.txt
Testing partial mailbox reset with Perl implementation
Comparing /tmp/oy6MIal9GU to t/results/reset_mailarc-1.stdout
Output /tmp/oy6MIal9GU looks good.
ok 25 - Computing differences
Testing partial mailbox reset with Cache implementation
Comparing /tmp/77_R8qp7Kk to t/results/reset_mailarc-1.stdout
Output /tmp/77_R8qp7Kk looks good.
ok 26 - Computing differences
Testing partial mailbox reset with Grep implementation
ok 27 # skip GNU grep not available
Testing full mailbox reset with Perl implementation
Comparing /tmp/3Sqt28NJCK to t/results/reset_mailarc-1.stdout
Output /tmp/3Sqt28NJCK looks good.
ok 28 - Computing differences
Testing full mailbox reset with Cache implementation
Comparing /tmp/SBktBK6Qlz to t/results/reset_mailarc-1.stdout
Output /tmp/SBktBK6Qlz looks good.
ok 29 - Computing differences
Testing full mailbox reset with Grep implementation
ok 30 # skip GNU grep not available
Testing filename: t/mailboxes/mailarc-2.txt
Testing partial mailbox reset with Perl implementation
Comparing /tmp/xxzdJcJAcG to t/results/reset_mailarc-2.stdout
Output /tmp/xxzdJcJAcG looks good.
ok 31 - Computing differences
Testing partial mailbox reset with Cache implementation
Comparing /tmp/8ERMpDk6l0 to t/results/reset_mailarc-2.stdout
Output /tmp/8ERMpDk6l0 looks good.
ok 32 - Computing differences
Testing partial mailbox reset with Grep implementation
ok 33 # skip GNU grep not available
Testing full mailbox reset with Perl implementation
Comparing /tmp/1kRpaDCGnb to t/results/reset_mailarc-2.stdout
Output /tmp/1kRpaDCGnb looks good.
ok 34 - Computing differences
Testing full mailbox reset with Cache implementation
Comparing /tmp/LlxhzfvXso to t/results/reset_mailarc-2.stdout
Output /tmp/LlxhzfvXso looks good.
ok 35 - Computing differences
Testing full mailbox reset with Grep implementation
ok 36 # skip GNU grep not available
Testing filename: t/mailboxes/mailarc-3.txt
Testing partial mailbox reset with Perl implementation
Comparing /tmp/8AjbqaqU0D to t/results/reset_mailarc-3.stdout
Output /tmp/8AjbqaqU0D looks good.
ok 37 - Computing differences
Testing partial mailbox reset with Cache implementation
Comparing /tmp/0FpXygw_4H to t/results/reset_mailarc-3.stdout
Output /tmp/0FpXygw_4H looks good.
ok 38 - Computing differences
Testing partial mailbox reset with Grep implementation
ok 39 # skip GNU grep not available
Testing full mailbox reset with Perl implementation
Comparing /tmp/DRoRsagXNX to t/results/reset_mailarc-3.stdout
Output /tmp/DRoRsagXNX looks good.
ok 40 - Computing differences
Testing full mailbox reset with Cache implementation
Comparing /tmp/0ZK1hK4waD to t/results/reset_mailarc-3.stdout
Output /tmp/0ZK1hK4waD looks good.
ok 41 - Computing differences
Testing full mailbox reset with Grep implementation
ok 42 # skip GNU grep not available
Testing filename: t/mailboxes/mailseparators.txt
Testing partial mailbox reset with Perl implementation
Comparing /tmp/JJV23s8OT8 to t/results/reset_mailseparators.stdout
Output /tmp/JJV23s8OT8 looks good.
ok 43 - Computing differences
Testing partial mailbox reset with Cache implementation
Comparing /tmp/7hnIwAPwq4 to t/results/reset_mailseparators.stdout
Output /tmp/7hnIwAPwq4 looks good.
ok 44 - Computing differences
Testing partial mailbox reset with Grep implementation
ok 45 # skip GNU grep not available
Testing full mailbox reset with Perl implementation
Comparing /tmp/tyhM8TIXvM to t/results/reset_mailseparators.stdout
Output /tmp/tyhM8TIXvM looks good.
ok 46 - Computing differences
Testing full mailbox reset with Cache implementation
Comparing /tmp/te2SVQHWTx to t/results/reset_mailseparators.stdout
Output /tmp/te2SVQHWTx looks good.
ok 47 - Computing differences
Testing full mailbox reset with Grep implementation
ok 48 # skip GNU grep not available
Testing filename: t/mailboxes/malformed.txt
Testing partial mailbox reset with Perl implementation
Comparing /tmp/2U7vGSIZBV to t/results/reset_malformed.stdout
Output /tmp/2U7vGSIZBV looks good.
ok 49 - Computing differences
Testing partial mailbox reset with Cache implementation
Comparing /tmp/vpquBvrweJ to t/results/reset_malformed.stdout
Output /tmp/vpquBvrweJ looks good.
ok 50 - Computing differences
Testing partial mailbox reset with Grep implementation
ok 51 # skip GNU grep not available
Testing full mailbox reset with Perl implementation
Comparing /tmp/oRgyLy41QJ to t/results/reset_malformed.stdout
Output /tmp/oRgyLy41QJ looks good.
ok 52 - Computing differences
Testing full mailbox reset with Cache implementation
Comparing /tmp/Mba5ee6HP8 to t/results/reset_malformed.stdout
Output /tmp/Mba5ee6HP8 looks good.
ok 53 - Computing differences
Testing full mailbox reset with Grep implementation
ok 54 # skip GNU grep not available
Testing filename: t/mailboxes/newlines_at_beginning.txt
Testing partial mailbox reset with Perl implementation
Comparing /tmp/Szn6XkreJA to t/results/reset_newlines_at_beginning.stdout
Output /tmp/Szn6XkreJA looks good.
ok 55 - Computing differences
Testing partial mailbox reset with Cache implementation
Comparing /tmp/ifGAWKSg1v to t/results/reset_newlines_at_beginning.stdout
Output /tmp/ifGAWKSg1v looks good.
ok 56 - Computing differences
Testing partial mailbox reset with Grep implementation
ok 57 # skip GNU grep not available
Testing full mailbox reset with Perl implementation
Comparing /tmp/Z7k12ls10e to t/results/reset_newlines_at_beginning.stdout
Output /tmp/Z7k12ls10e looks good.
ok 58 - Computing differences
Testing full mailbox reset with Cache implementation
Comparing /tmp/sXzqQp00cI to t/results/reset_newlines_at_beginning.stdout
Output /tmp/sXzqQp00cI looks good.
ok 59 - Computing differences
Testing full mailbox reset with Grep implementation
ok 60 # skip GNU grep not available
ok
t/separators.t ..................
1..6
Testing filename: t/mailboxes/separators2.sep
ok 1 - Number of emails in t/mailboxes/separators2.sep
ok 2 - Number of emails in t/mailboxes/separators2.sep
ok 3 # skip GNU grep not available
Testing filename: t/mailboxes/separators1.sep
ok 4 - Number of emails in t/mailboxes/separators1.sep
ok 5 - Number of emails in t/mailboxes/separators1.sep
ok 6 # skip GNU grep not available
ok
t/stdin_compressed.t ............
1..4
Testing filename: t/mailboxes/mailarc-2.txt.bz2
Comparing /tmp/V_6CfK2Ntu to t/mailboxes/mailarc-2.txt
Output /tmp/V_6CfK2Ntu looks good.
ok 1 - Computing differences
Testing filename: t/mailboxes/mailarc-2.txt.gz
Comparing /tmp/irnkHvejHS to t/mailboxes/mailarc-2.txt
Output /tmp/irnkHvejHS looks good.
ok 2 - Computing differences
Testing filename: t/mailboxes/mailarc-2.txt.lz
ok 3 # skip lzip not available
Testing filename: t/mailboxes/mailarc-2.txt.xz
Comparing /tmp/y07w8KS9bs to t/mailboxes/mailarc-2.txt
Output /tmp/y07w8KS9bs looks good.
ok 4 - Computing differences
ok
t/stdin_uncompressed.t ..........
1..11
Testing filename: t/mailboxes/binary_body.txt
Comparing /tmp/hO78n3B59N to t/mailboxes/binary_body.txt
Output /tmp/hO78n3B59N looks good.
ok 1 - Computing differences
Testing filename: t/mailboxes/hessbug.txt
Comparing /tmp/W0GzQG3Rt3 to t/mailboxes/hessbug.txt
Output /tmp/W0GzQG3Rt3 looks good.
ok 2 - Computing differences
Testing filename: t/mailboxes/invalid-boundaries.txt
Comparing /tmp/avOFEx9HwM to t/mailboxes/invalid-boundaries.txt
Output /tmp/avOFEx9HwM looks good.
ok 3 - Computing differences
Testing filename: t/mailboxes/mailarc-1-dos.txt
Comparing /tmp/or4z2pzmxI to t/mailboxes/mailarc-1-dos.txt
Output /tmp/or4z2pzmxI looks good.
ok 4 - Computing differences
Testing filename: t/mailboxes/mailarc-1.txt
Comparing /tmp/mh6RSgTaue to t/mailboxes/mailarc-1.txt
Output /tmp/mh6RSgTaue looks good.
ok 5 - Computing differences
Testing filename: t/mailboxes/mailarc-2.txt
Comparing /tmp/V2jHByWujy to t/mailboxes/mailarc-2.txt
Output /tmp/V2jHByWujy looks good.
ok 6 - Computing differences
Testing filename: t/mailboxes/mailarc-3.txt
Comparing /tmp/Wtq4aC5ZcU to t/mailboxes/mailarc-3.txt
Output /tmp/Wtq4aC5ZcU looks good.
ok 7 - Computing differences
Testing filename: t/mailboxes/mailseparators.txt
Comparing /tmp/_h_slpaE7c to t/mailboxes/mailseparators.txt
Output /tmp/_h_slpaE7c looks good.
ok 8 - Computing differences
Testing filename: t/mailboxes/malformed.txt
Comparing /tmp/T00rN4sj81 to t/mailboxes/malformed.txt
Output /tmp/T00rN4sj81 looks good.
ok 9 - Computing differences
Testing filename: t/mailboxes/newlines_at_beginning.txt
Comparing /tmp/khLYRojqgZ to t/mailboxes/newlines_at_beginning.txt
Output /tmp/khLYRojqgZ looks good.
ok 10 - Computing differences
Testing filename: t/mailboxes/vm-emacs.txt
Comparing /tmp/6g2qJ6YzHv to t/mailboxes/vm-emacs.txt
Output /tmp/6g2qJ6YzHv looks good.
ok 11 - Computing differences
ok
t/undef_return_value.t ..........
1..33
Testing Perl
Comparing /tmp/4ma7yIbJ2v to t/mailboxes/binary_body.txt
Output /tmp/4ma7yIbJ2v looks good.
ok 1 - Computing differences
Testing Cache implementation
Comparing /tmp/cP6GTL6taS to t/mailboxes/binary_body.txt
Output /tmp/cP6GTL6taS looks good.
ok 2 - Computing differences
ok 3 # skip GNU grep not available
Testing Perl
Comparing /tmp/Iyy3HUAVnG to t/mailboxes/hessbug.txt
Output /tmp/Iyy3HUAVnG looks good.
ok 4 - Computing differences
Testing Cache implementation
Comparing /tmp/KHU7DpXxxl to t/mailboxes/hessbug.txt
Output /tmp/KHU7DpXxxl looks good.
ok 5 - Computing differences
ok 6 # skip GNU grep not available
Testing Perl
Comparing /tmp/zTC3eVfmzP to t/mailboxes/invalid-boundaries.txt
Output /tmp/zTC3eVfmzP looks good.
ok 7 - Computing differences
Testing Cache implementation
Comparing /tmp/HBz6AFNmOz to t/mailboxes/invalid-boundaries.txt
Output /tmp/HBz6AFNmOz looks good.
ok 8 - Computing differences
ok 9 # skip GNU grep not available
Testing Perl
Comparing /tmp/Ue5afVVNWV to t/mailboxes/mailarc-1-dos.txt
Output /tmp/Ue5afVVNWV looks good.
ok 10 - Computing differences
Testing Cache implementation
Comparing /tmp/SnoBui4_4c to t/mailboxes/mailarc-1-dos.txt
Output /tmp/SnoBui4_4c looks good.
ok 11 - Computing differences
ok 12 # skip GNU grep not available
Testing Perl
Comparing /tmp/Fiu6vRMRE6 to t/mailboxes/mailarc-1.txt
Output /tmp/Fiu6vRMRE6 looks good.
ok 13 - Computing differences
Testing Cache implementation
Comparing /tmp/tbl3ay2MA6 to t/mailboxes/mailarc-1.txt
Output /tmp/tbl3ay2MA6 looks good.
ok 14 - Computing differences
ok 15 # skip GNU grep not available
Testing Perl
Comparing /tmp/iMosNZfgXW to t/mailboxes/mailarc-2.txt
Output /tmp/iMosNZfgXW looks good.
ok 16 - Computing differences
Testing Cache implementation
Comparing /tmp/IBV3McN5Ri to t/mailboxes/mailarc-2.txt
Output /tmp/IBV3McN5Ri looks good.
ok 17 - Computing differences
ok 18 # skip GNU grep not available
Testing Perl
Comparing /tmp/0H5tVqIDp8 to t/mailboxes/mailarc-3.txt
Output /tmp/0H5tVqIDp8 looks good.
ok 19 - Computing differences
Testing Cache implementation
Comparing /tmp/zWV_F5N2gN to t/mailboxes/mailarc-3.txt
Output /tmp/zWV_F5N2gN looks good.
ok 20 - Computing differences
ok 21 # skip GNU grep not available
Testing Perl
Comparing /tmp/G3544DGpZh to t/mailboxes/mailseparators.txt
Output /tmp/G3544DGpZh looks good.
ok 22 - Computing differences
Testing Cache implementation
Comparing /tmp/igVhsMzv_J to t/mailboxes/mailseparators.txt
Output /tmp/igVhsMzv_J looks good.
ok 23 - Computing differences
ok 24 # skip GNU grep not available
Testing Perl
Comparing /tmp/fWenYsyDtT to t/mailboxes/malformed.txt
Output /tmp/fWenYsyDtT looks good.
ok 25 - Computing differences
Testing Cache implementation
Comparing /tmp/L3OtTIQ5Cv to t/mailboxes/malformed.txt
Output /tmp/L3OtTIQ5Cv looks good.
ok 26 - Computing differences
ok 27 # skip GNU grep not available
Testing Perl
Comparing /tmp/pOzRH6Nm6S to t/mailboxes/newlines_at_beginning.txt
Output /tmp/pOzRH6Nm6S looks good.
ok 28 - Computing differences
Testing Cache implementation
Comparing /tmp/YoAydup7va to t/mailboxes/newlines_at_beginning.txt
Output /tmp/YoAydup7va looks good.
ok 29 - Computing differences
ok 30 # skip GNU grep not available
Testing Perl
Comparing /tmp/gsYIWxPuZd to t/mailboxes/vm-emacs.txt
Output /tmp/gsYIWxPuZd looks good.
ok 31 - Computing differences
Testing Cache implementation
Comparing /tmp/9mA0MhLJOl to t/mailboxes/vm-emacs.txt
Output /tmp/9mA0MhLJOl looks good.
ok 32 - Computing differences
ok 33 # skip GNU grep not available
ok
t/xz.t ..........................
1..1
Running test:
"/bin/cat" "t/mailboxes/mailarc-2.txt.xz" | "/usr/bin/xz" -cd
Comparing /tmp/tbu2FAOJ_j to t/results/mailarc-2.txt
Output /tmp/tbu2FAOJ_j looks good.
Comparing /tmp/5cRGqtvO8I to t/results/none
Output /tmp/5cRGqtvO8I looks good.
ok 1 - Computing differences
ok
All tests successful.
Files=25, Tests=370, 4 wallclock secs ( 0.13 usr 0.02 sys + 3.11 cusr 0.50 csys = 3.76 CPU)
Result: PASS
PREREQUISITES:
Here is a list of prerequisites you specified and versions we
managed to load:
Module Name Have Want
ExtUtils::MakeMaker 7.34 6.36
File::Path 2.15 2.08
File::Slurper 0.012 0
FileHandle::Unget 0.1634 0
Storable 3.11 0
Test::Compile v1.3.0 0
Test::More 1.302136 0
Text::Diff 1.45 0
UNIVERSAL::require 0.18 0
URI::Escape 3.31 0
Perl module toolchain versions installed:
Module Name Have
CPANPLUS 0.9176
CPANPLUS::Dist::Build 0.90
Cwd 3.74
ExtUtils::CBuilder 0.280230
ExtUtils::Command 7.34
ExtUtils::Install 2.14
ExtUtils::MakeMaker 7.34
ExtUtils::Manifest 1.71
ExtUtils::ParseXS 3.35
File::Spec 3.74
Module::Build 0.4224
Pod::Parser 1.60
Pod::Simple 3.28
Test2 1.302136
Test::Harness 3.42
Test::More 1.302136
version 0.9924
******************************** NOTE ********************************
The comments above are created mechanically, possibly without manual
checking by the sender. As there are many people performing automatic
tests on each upload to CPAN, it is likely that you will receive
identical messages about the same problem.
If you believe that the message is mistaken, please reply to the first
one with correction and/or additional informations, and do not take
it personally. We appreciate your patience. :)
**********************************************************************
Additional comments:
This report was machine-generated by CPANPLUS::Dist::YACSmoke 1.02.
Powered by minismokebox version 0.68
------------------------------
ENVIRONMENT AND OTHER CONTEXT
------------------------------
Environment variables:
AUTOMATED_TESTING = 1
LANG = en_GB.UTF-8
LANGUAGE = en_GB:en
NONINTERACTIVE_TESTING = 1
PATH = /usr/local/bin:/usr/bin:/bin:/usr/local/games:/usr/games
PERL5LIB = :/home/cpan/pit/thr/conf/perl-5.18.0/.cpanplus/5.18.0/build/fKvSHiKyTr/Test-Needs-0.002005/blib/lib:/home/cpan/pit/thr/conf/perl-5.18.0/.cpanplus/5.18.0/build/fKvSHiKyTr/Test-Needs-0.002005/blib/arch:/home/cpan/pit/thr/conf/perl-5.18.0/.cpanplus/5.18.0/build/GxCd1w2MpD/URI-1.74/blib/lib:/home/cpan/pit/thr/conf/perl-5.18.0/.cpanplus/5.18.0/build/GxCd1w2MpD/URI-1.74/blib/arch:/home/cpan/pit/thr/conf/perl-5.18.0/.cpanplus/5.18.0/build/WgiQzszbz6/Test-Warnings-0.026/blib/lib:/home/cpan/pit/thr/conf/perl-5.18.0/.cpanplus/5.18.0/build/WgiQzszbz6/Test-Warnings-0.026/blib/arch:/home/cpan/pit/thr/conf/perl-5.18.0/.cpanplus/5.18.0/build/wyeSvw3H5i/File-Slurper-0.012/blib/lib:/home/cpan/pit/thr/conf/perl-5.18.0/.cpanplus/5.18.0/build/wyeSvw3H5i/File-Slurper-0.012/blib/arch:/home/cpan/pit/thr/conf/perl-5.18.0/.cpanplus/5.18.0/build/cpCm5RNAqG/UNIVERSAL-require-0.18/blib/lib:/home/cpan/pit/thr/conf/perl-5.18.0/.cpanplus/5.18.0/build/cpCm5RNAqG/UNIVERSAL-require-0.18/blib/arch:/home/cpan/pit/thr/conf/perl-5.18.0/.cpanplus/5.18.0/build/pbwuVioxko/Test-Compile-v1.3.0/blib/lib:/home/cpan/pit/thr/conf/perl-5.18.0/.cpanplus/5.18.0/build/pbwuVioxko/Test-Compile-v1.3.0/blib/arch:/home/cpan/pit/thr/conf/perl-5.18.0/.cpanplus/5.18.0/build/mZSgipKMKJ/FileHandle-Unget-0.1634/blib/lib:/home/cpan/pit/thr/conf/perl-5.18.0/.cpanplus/5.18.0/build/mZSgipKMKJ/FileHandle-Unget-0.1634/blib/arch:/home/cpan/pit/thr/conf/perl-5.18.0/.cpanplus/5.18.0/build/CojAuzSOmF/Algorithm-Diff-1.1903/blib/lib:/home/cpan/pit/thr/conf/perl-5.18.0/.cpanplus/5.18.0/build/CojAuzSOmF/Algorithm-Diff-1.1903/blib/arch:/home/cpan/pit/thr/conf/perl-5.18.0/.cpanplus/5.18.0/build/PJjV4oYvfg/Text-Diff-1.45/blib/lib:/home/cpan/pit/thr/conf/perl-5.18.0/.cpanplus/5.18.0/build/PJjV4oYvfg/Text-Diff-1.45/blib/arch:/home/cpan/pit/thr/conf/perl-5.18.0/.cpanplus/5.18.0/build/6SxOsBXGoL/Mail-Mbox-MessageParser-1.5111/blib/lib:/home/cpan/pit/thr/conf/perl-5.18.0/.cpanplus/5.18.0/build/6SxOsBXGoL/Mail-Mbox-MessageParser-1.5111/blib/arch
PERL5_CPANPLUS_IS_RUNNING = 7155
PERL5_CPANPLUS_IS_VERSION = 0.9176
PERL5_MINISMOKEBOX = 0.68
PERL5_YACSMOKE_BASE = /home/cpan/pit/thr/conf/perl-5.18.0
PERL_EXTUTILS_AUTOINSTALL = --defaultdeps
PERL_MM_USE_DEFAULT = 1
SHELL = /bin/bash
TERM = screen
Perl special variables (and OS-specific diagnostics, for MSWin32):
Perl: $^X = /home/cpan/pit/thr/perl-5.18.0/bin/perl
UID: $< = 1001
EUID: $> = 1001
GID: $( = 1001 1001
EGID: $) = 1001 1001
-------------------------------
--
Summary of my perl5 (revision 5 version 18 subversion 0) configuration:
Platform:
osname=linux, osvers=4.16.0-1-686, archname=i686-linux-thread-multi
uname='linux dodo 4.16.0-1-686 #1 smp debian 4.16.5-1 (2018-04-29) i686 gnulinux '
config_args='-des -Dprefix=/home/cpan/pit/thr/perl-5.18.0 -Dusethreads'
hint=recommended, useposix=true, d_sigaction=define
useithreads=define, usemultiplicity=define
useperlio=define, d_sfio=undef, uselargefiles=define, usesocks=undef
use64bitint=undef, use64bitall=undef, uselongdouble=undef
usemymalloc=n, bincompat5005=undef
Compiler:
cc='cc', ccflags ='-D_REENTRANT -D_GNU_SOURCE -fno-strict-aliasing -pipe -fstack-protector -I/usr/local/include -D_LARGEFILE_SOURCE -D_FILE_OFFSET_BITS=64',
optimize='-O2',
cppflags='-D_REENTRANT -D_GNU_SOURCE -fno-strict-aliasing -pipe -fstack-protector -I/usr/local/include'
ccversion='', gccversion='7.3.0', gccosandvers=''
intsize=4, longsize=4, ptrsize=4, doublesize=8, byteorder=1234
d_longlong=define, longlongsize=8, d_longdbl=define, longdblsize=12
ivtype='long', ivsize=4, nvtype='double', nvsize=8, Off_t='off_t', lseeksize=8
alignbytes=4, prototype=define
Linker and Libraries:
ld='cc', ldflags =' -fstack-protector -L/usr/local/lib'
libpth=/usr/local/lib /lib/i386-linux-gnu /lib/../lib /usr/lib/i386-linux-gnu /usr/lib/../lib /lib /usr/lib
libs=-lnsl -lgdbm -ldl -lm -lcrypt -lutil -lpthread -lc
perllibs=-lnsl -ldl -lm -lcrypt -lutil -lpthread -lc
libc=libc-2.27.so, so=so, useshrplib=false, libperl=libperl.a
gnulibc_version='2.27'
Dynamic Linking:
dlsrc=dl_dlopen.xs, dlext=so, d_dlsymun=undef, ccdlflags='-Wl,-E'
cccdlflags='-fPIC', lddlflags='-shared -O2 -L/usr/local/lib -fstack-protector'
Characteristics of this binary (from libperl):
Compile-time options: HAS_TIMES MULTIPLICITY PERLIO_LAYERS
PERL_DONT_CREATE_GVSV
PERL_HASH_FUNC_ONE_AT_A_TIME_HARD
PERL_IMPLICIT_CONTEXT PERL_MALLOC_WRAP
PERL_PRESERVE_IVUV PERL_SAWAMPERSAND USE_ITHREADS
USE_LARGE_FILES USE_LOCALE USE_LOCALE_COLLATE
USE_LOCALE_CTYPE USE_LOCALE_NUMERIC USE_PERLIO
USE_PERL_ATOF USE_REENTRANT_API
Locally applied patches:
Devel::PatchPerl 1.48
Built under linux
Compiled at May 14 2018 06:43:05
%ENV:
PERL5LIB=":/home/cpan/pit/thr/conf/perl-5.18.0/.cpanplus/5.18.0/build/fKvSHiKyTr/Test-Needs-0.002005/blib/lib:/home/cpan/pit/thr/conf/perl-5.18.0/.cpanplus/5.18.0/build/fKvSHiKyTr/Test-Needs-0.002005/blib/arch:/home/cpan/pit/thr/conf/perl-5.18.0/.cpanplus/5.18.0/build/GxCd1w2MpD/URI-1.74/blib/lib:/home/cpan/pit/thr/conf/perl-5.18.0/.cpanplus/5.18.0/build/GxCd1w2MpD/URI-1.74/blib/arch:/home/cpan/pit/thr/conf/perl-5.18.0/.cpanplus/5.18.0/build/WgiQzszbz6/Test-Warnings-0.026/blib/lib:/home/cpan/pit/thr/conf/perl-5.18.0/.cpanplus/5.18.0/build/WgiQzszbz6/Test-Warnings-0.026/blib/arch:/home/cpan/pit/thr/conf/perl-5.18.0/.cpanplus/5.18.0/build/wyeSvw3H5i/File-Slurper-0.012/blib/lib:/home/cpan/pit/thr/conf/perl-5.18.0/.cpanplus/5.18.0/build/wyeSvw3H5i/File-Slurper-0.012/blib/arch:/home/cpan/pit/thr/conf/perl-5.18.0/.cpanplus/5.18.0/build/cpCm5RNAqG/UNIVERSAL-require-0.18/blib/lib:/home/cpan/pit/thr/conf/perl-5.18.0/.cpanplus/5.18.0/build/cpCm5RNAqG/UNIVERSAL-require-0.18/blib/arch:/home/cpan/pit/thr/conf/perl-5.18.0/.cpanplus/5.18.0/build/pbwuVioxko/Test-Compile-v1.3.0/blib/lib:/home/cpan/pit/thr/conf/perl-5.18.0/.cpanplus/5.18.0/build/pbwuVioxko/Test-Compile-v1.3.0/blib/arch:/home/cpan/pit/thr/conf/perl-5.18.0/.cpanplus/5.18.0/build/mZSgipKMKJ/FileHandle-Unget-0.1634/blib/lib:/home/cpan/pit/thr/conf/perl-5.18.0/.cpanplus/5.18.0/build/mZSgipKMKJ/FileHandle-Unget-0.1634/blib/arch:/home/cpan/pit/thr/conf/perl-5.18.0/.cpanplus/5.18.0/build/CojAuzSOmF/Algorithm-Diff-1.1903/blib/lib:/home/cpan/pit/thr/conf/perl-5.18.0/.cpanplus/5.18.0/build/CojAuzSOmF/Algorithm-Diff-1.1903/blib/arch:/home/cpan/pit/thr/conf/perl-5.18.0/.cpanplus/5.18.0/build/PJjV4oYvfg/Text-Diff-1.45/blib/lib:/home/cpan/pit/thr/conf/perl-5.18.0/.cpanplus/5.18.0/build/PJjV4oYvfg/Text-Diff-1.45/blib/arch:/home/cpan/pit/thr/conf/perl-5.18.0/.cpanplus/5.18.0/build/6SxOsBXGoL/Mail-Mbox-MessageParser-1.5111/blib/lib:/home/cpan/pit/thr/conf/perl-5.18.0/.cpanplus/5.18.0/build/6SxOsBXGoL/Mail-Mbox-MessageParser-1.5111/blib/arch"
PERL5_CPANPLUS_IS_RUNNING="7155"
PERL5_CPANPLUS_IS_VERSION="0.9176"
PERL5_MINISMOKEBOX="0.68"
PERL5_YACSMOKE_BASE="/home/cpan/pit/thr/conf/perl-5.18.0"
PERL_EXTUTILS_AUTOINSTALL="--defaultdeps"
PERL_MM_USE_DEFAULT="1"
@INC:
/home/cpan/pit/thr/conf/perl-5.18.0/.cpanplus/5.18.0/build/fKvSHiKyTr/Test-Needs-0.002005/blib/lib
/home/cpan/pit/thr/conf/perl-5.18.0/.cpanplus/5.18.0/build/fKvSHiKyTr/Test-Needs-0.002005/blib/arch
/home/cpan/pit/thr/conf/perl-5.18.0/.cpanplus/5.18.0/build/GxCd1w2MpD/URI-1.74/blib/lib
/home/cpan/pit/thr/conf/perl-5.18.0/.cpanplus/5.18.0/build/GxCd1w2MpD/URI-1.74/blib/arch
/home/cpan/pit/thr/conf/perl-5.18.0/.cpanplus/5.18.0/build/WgiQzszbz6/Test-Warnings-0.026/blib/lib
/home/cpan/pit/thr/conf/perl-5.18.0/.cpanplus/5.18.0/build/WgiQzszbz6/Test-Warnings-0.026/blib/arch
/home/cpan/pit/thr/conf/perl-5.18.0/.cpanplus/5.18.0/build/wyeSvw3H5i/File-Slurper-0.012/blib/lib
/home/cpan/pit/thr/conf/perl-5.18.0/.cpanplus/5.18.0/build/wyeSvw3H5i/File-Slurper-0.012/blib/arch
/home/cpan/pit/thr/conf/perl-5.18.0/.cpanplus/5.18.0/build/cpCm5RNAqG/UNIVERSAL-require-0.18/blib/lib
/home/cpan/pit/thr/conf/perl-5.18.0/.cpanplus/5.18.0/build/cpCm5RNAqG/UNIVERSAL-require-0.18/blib/arch
/home/cpan/pit/thr/conf/perl-5.18.0/.cpanplus/5.18.0/build/pbwuVioxko/Test-Compile-v1.3.0/blib/lib
/home/cpan/pit/thr/conf/perl-5.18.0/.cpanplus/5.18.0/build/pbwuVioxko/Test-Compile-v1.3.0/blib/arch
/home/cpan/pit/thr/conf/perl-5.18.0/.cpanplus/5.18.0/build/mZSgipKMKJ/FileHandle-Unget-0.1634/blib/lib
/home/cpan/pit/thr/conf/perl-5.18.0/.cpanplus/5.18.0/build/mZSgipKMKJ/FileHandle-Unget-0.1634/blib/arch
/home/cpan/pit/thr/conf/perl-5.18.0/.cpanplus/5.18.0/build/CojAuzSOmF/Algorithm-Diff-1.1903/blib/lib
/home/cpan/pit/thr/conf/perl-5.18.0/.cpanplus/5.18.0/build/CojAuzSOmF/Algorithm-Diff-1.1903/blib/arch
/home/cpan/pit/thr/conf/perl-5.18.0/.cpanplus/5.18.0/build/PJjV4oYvfg/Text-Diff-1.45/blib/lib
/home/cpan/pit/thr/conf/perl-5.18.0/.cpanplus/5.18.0/build/PJjV4oYvfg/Text-Diff-1.45/blib/arch
/home/cpan/pit/thr/conf/perl-5.18.0/.cpanplus/5.18.0/build/6SxOsBXGoL/Mail-Mbox-MessageParser-1.5111/blib/lib
/home/cpan/pit/thr/conf/perl-5.18.0/.cpanplus/5.18.0/build/6SxOsBXGoL/Mail-Mbox-MessageParser-1.5111/blib/arch
/home/cpan/pit/thr/perl-5.18.0/lib/site_perl/5.18.0/i686-linux-thread-multi
/home/cpan/pit/thr/perl-5.18.0/lib/site_perl/5.18.0
/home/cpan/pit/thr/perl-5.18.0/lib/5.18.0/i686-linux-thread-multi
/home/cpan/pit/thr/perl-5.18.0/lib/5.18.0
.