Class-Method-Modifiers v2.15 Perl 5 v5.34.1 x86_64-linux-multi
- Status
- Pass
- From
- Nigel Horne
- Dist
-
Class-Method-Modifiers v2.15
- Platform
- Perl 5 v5.34.1 x86_64-linux-multi
- Date
- 2025-10-10 16:12:00
- ID
- da6ef404-a5f3-11f0-ae08-a55ff1391b13
This distribution has been tested as part of the CPAN Testers
project, supporting the Perl programming language. See
http://wiki.cpantesters.org/ for more information or email
questions to cpan-testers-discuss@perl.org
--
Dear Karen Etheridge,
This is a computer-generated report for Class-Method-Modifiers-2.15
on perl 5.34.1, created by CPAN-Reporter-1.2020.
Thank you for uploading your work to CPAN. Congratulations!
All tests were successful.
Sections of this report:
* Tester comments
* Program output
* Prerequisites
* Environment and other context
------------------------------
TESTER COMMENTS
------------------------------
Additional comments from tester:
this report is from an automated smoke testing program
and was not reviewed by a human for accuracy
------------------------------
PROGRAM OUTPUT
------------------------------
Output from '/usr/bin/make test':
PERL_DL_NONLAZY=1 "/home/njh/perl5/perlbrew/perls/perl-5.34.1-multi/bin/perl5.34.1" "-MExtUtils::Command::MM" "-MTest::Harness" "-e" "undef *Test::Harness::Switches; test_harness(0, 'blib/lib', 'blib/arch')" t/*.t
t/000-load.t ........................ ok
t/001-error.t ....................... ok
t/002-cache.t ....................... ok
t/003-basic.t ....................... ok
t/004-around.t ...................... ok
t/005-return.t ...................... ok
t/010-before-args.t ................. ok
#
# Versions for all modules listed in MYMETA.json (including optional ones):
#
# === Configure Requires ===
#
# Module Want Have
# ------------------- ----- --------
# ExtUtils::MakeMaker any 7.70
# perl 5.006 5.034001
#
# === Build Requires ===
#
# Module Want Have
# ------------------- ---- ----
# ExtUtils::MakeMaker any 7.70
#
# === Test Requires ===
#
# Module Want Have
# ------------------- ----- --------
# ExtUtils::MakeMaker any 7.70
# File::Spec any 3.80
# Test::More 0.88 1.302214
# if any 0.0609
# perl 5.006 5.034001
#
# === Test Recommends ===
#
# Module Want Have
# ---------- -------- --------
# CPAN::Meta 2.120900 2.150010
#
# === Runtime Requires ===
#
# Module Want Have
# -------- ----- --------
# B any 1.82
# Carp any 1.52
# Exporter any 5.76
# base any 2.27
# perl 5.006 5.034001
# strict any 1.12
# warnings any 1.51
#
# === Other Modules ===
#
# Module Have
# -------------------- -------
# Encode 3.08_01
# File::Temp 0.2311
# JSON::PP 4.06
# Module::Runtime 0.018
# Moo missing
# Moose missing
# Pod::Coverage missing
# Role::Tiny missing
# Sub::Install 0.929
# Sub::Name missing
# YAML 1.31
# autodie 2.34
# namespace::autoclean missing
# namespace::clean missing
#
t/00-report-prereqs.t ............... ok
t/011-after-args.t .................. ok
t/012-around-args.t ................. ok
t/020-multiple-inheritance.t ........ ok
t/030-multiple-before.t ............. ok
t/031-multiple-after.t .............. ok
t/032-multiple-around.t ............. ok
t/034-multiple-everything.t ......... ok
t/035-multiple-everything-twice.t ... ok
t/040-twice-orig.t .................. ok
t/051-undef-list-ctxt.t ............. ok
t/041-modify-parent.t ............... ok
t/060-caller.t ...................... ok
t/070-modify-multiple-at-once.t ..... ok
t/080-multiple-modifiers.t .......... ok
t/090-diamond.t ..................... ok
t/081-sub-and-modifier.t ............ ok
t/100-class-mop-method-modifiers.t .. ok
t/110-namespace-clean.t ............. ok
t/120-fresh.t ....................... ok
t/130-clean-underscore.t ............ ok
t/140-lvalue.t ...................... ok
All tests successful.
Files=29, Tests=131, 1 wallclock secs ( 0.07 usr 0.02 sys + 1.06 cusr 0.50 csys = 1.65 CPU)
Result: PASS
------------------------------
PREREQUISITES
------------------------------
Prerequisite modules loaded:
requires:
Module Need Have
------------------- ----- --------
B 0 1.82
base 0 2.27
Carp 0 1.52
Exporter 0 5.76
perl 5.006 5.034001
strict 0 1.12
warnings 0 1.51
build_requires:
Module Need Have
------------------- ----- --------
ExtUtils::MakeMaker 0 7.70
File::Spec 0 3.80
if 0 0.0609
Test::More 0.88 1.302214
configure_requires:
Module Need Have
------------------- ----- --------
ExtUtils::MakeMaker 0 7.70
perl 5.006 5.034001
------------------------------
ENVIRONMENT AND OTHER CONTEXT
------------------------------
Environment variables:
AUTOMATED_TESTING = 1
HARNESS_OPTIONS = j4
LANG = en_US.UTF-8
PATH = /home/njh/perl5/perlbrew/bin:/home/njh/perl5/perlbrew/perls/perl-5.34.1-multi/bin:/home/njh/perl5/perlbrew/bin:/home/njh/src/njh/smoker/bin:/usr/bin:/bin
PERL5LIB = /tmp/user/1000/build/File-Find-Rule-0.35-0/blib/arch:/tmp/user/1000/build/File-Find-Rule-0.35-0/blib/lib:/tmp/user/1000/build/Text-Glob-0.11-0/blib/arch:/tmp/user/1000/build/Text-Glob-0.11-0/blib/lib:/tmp/user/1000/build/Number-Compare-0.03-0/blib/arch:/tmp/user/1000/build/Number-Compare-0.03-0/blib/lib:/tmp/user/1000/build/Class-XSAccessor-1.19-0/blib/arch:/tmp/user/1000/build/Class-XSAccessor-1.19-0/blib/lib:/tmp/user/1000/build/Schedule-Activity-0.1.1-0/blib/arch:/tmp/user/1000/build/Schedule-Activity-0.1.1-0/blib/lib:/tmp/user/1000/build/Ref-Util-0.204-0/blib/arch:/tmp/user/1000/build/Ref-Util-0.204-0/blib/lib:/tmp/user/1000/build/Ref-Util-XS-0.117-0/blib/arch:/tmp/user/1000/build/Ref-Util-XS-0.117-0/blib/lib
PERL5OPT =
PERL5_CPANPLUS_IS_RUNNING = 80762
PERL5_CPAN_IS_RUNNING = 80762
PERL5_CPAN_IS_RUNNING_IN_RECURSION = 80752,80762
PERLBREW_LIB =
PERLBREW_MANPATH = /home/njh/perl5/perlbrew/perls/perl-5.34.1-multi/man
PERLBREW_PATH = /home/njh/perl5/perlbrew/bin:/home/njh/perl5/perlbrew/perls/perl-5.34.1-multi/bin
PERLBREW_PERL = perl-5.34.1-multi
PERLBREW_ROOT = /home/njh/perl5/perlbrew
PERLBREW_SHELLRC_VERSION = 0.91
PERLBREW_VERSION = 0.91
PERL_LOCAL_LIB_ROOT =
PERL_MM_USE_DEFAULT = 1
PERL_USE_UNSAFE_INC = 1
SHELL = /bin/sh
TEMP = /tmp/user/1000
TMPDIR = /tmp/user/1000/testwrapper.80755
Perl special variables (and OS-specific diagnostics, for MSWin32):
$^X = /home/njh/perl5/perlbrew/perls/perl-5.34.1-multi/bin/perl5.34.1
$UID/$EUID = 1000 / 1000
$GID = 1000 4 24 25 29 30 44 46 103 108 115 123 996 1000
$EGID = 1000 4 24 25 29 30 44 46 103 108 115 123 996 1000
Perl module toolchain versions installed:
Module Have
------------------- --------
CPAN 2.28
CPAN::Meta 2.150010
Cwd 3.80
ExtUtils::CBuilder 0.280236
ExtUtils::Command 7.70
ExtUtils::Install 2.20
ExtUtils::MakeMaker 7.70
ExtUtils::Manifest 1.73
ExtUtils::ParseXS 3.43
File::Spec 3.80
JSON n/a
JSON::PP 4.06
Module::Build 0.4234
Module::Signature n/a
Parse::CPAN::Meta 2.150010
Test2 1.302214
Test::Harness 3.43
Test::More 1.302214
YAML 1.31
YAML::Syck n/a
version 0.9928
--
Summary of my perl5 (revision 5 version 34 subversion 1) configuration:
Platform:
osname=linux
osvers=6.12.5-amd64
archname=x86_64-linux-multi
uname='linux amelia 6.12.5-amd64 #1 smp preempt_dynamic debian 6.12.5-1 (2024-12-15) x86_64 gnulinux '
config_args='-de -Dprefix=/home/njh/perl5/perlbrew/perls/perl-5.34.1-multi -Dusedevel -Dusemultiplicity -Accflags=-O2 -W -Wformat=2 -Wswitch -Wshadow -Wwrite-strings -Wuninitialized -Wall -pipe -fomit-frame-pointer -pedantic -D_FORTIFY_SOURCE=2 -Wpointer-arith -Wstrict-prototypes -fstack-protector -Wstack-protector -Wextra -Wbad-function-cast -Wcast-align -Wcast-qual -Wdisabled-optimization -Wendif-labels -Wfloat-equal -Wformat-nonliteral -Winline -Wmissing-declarations -Wmissing-prototypes -Wnested-externs -Wpointer-arith -Wundef -Wformat-security -ftree-vectorize -msse -mfpmath=sse -msse2 -mssse3 -msse4.1 -msse4.2 -maes -fdiagnostics-color=auto -flto -mtune=native -march=native -Aeval:scriptdir=/home/njh/perl5/perlbrew/perls/perl-5.34.1-multi/bin'
hint=recommended
useposix=true
d_sigaction=define
useithreads=undef
usemultiplicity=define
use64bitint=define
use64bitall=define
uselongdouble=undef
usemymalloc=n
default_inc_excludes_dot=define
Compiler:
cc='cc'
ccflags ='-O2 -W -Wformat=2 -Wswitch -Wshadow -Wwrite-strings -Wuninitialized -Wall -pipe -fomit-frame-pointer -pedantic -D_FORTIFY_SOURCE=2 -Wpointer-arith -Wstrict-prototypes -fstack-protector -Wstack-protector -Wextra -Wbad-function-cast -Wcast-align -Wcast-qual -Wdisabled-optimization -Wendif-labels -Wfloat-equal -Wformat-nonliteral -Winline -Wmissing-declarations -Wmissing-prototypes -Wnested-externs -Wpointer-arith -Wundef -Wformat-security -ftree-vectorize -msse -mfpmath=sse -msse2 -mssse3 -msse4.1 -msse4.2 -maes -fdiagnostics-color=auto -flto -mtune=native -march=native -fwrapv -fno-strict-aliasing -fstack-protector-strong -I/usr/local/include -D_LARGEFILE_SOURCE -D_FILE_OFFSET_BITS=64'
optimize='-O2'
cppflags='-O2 -W -Wformat=2 -Wswitch -Wshadow -Wwrite-strings -Wuninitialized -Wall -pipe -fomit-frame-pointer -pedantic -D_FORTIFY_SOURCE=2 -Wpointer-arith -Wstrict-prototypes -fstack-protector -Wstack-protector -Wextra -Wbad-function-cast -Wcast-align -Wcast-qual -Wdisabled-optimization -Wendif-labels -Wfloat-equal -Wformat-nonliteral -Winline -Wmissing-declarations -Wmissing-prototypes -Wnested-externs -Wpointer-arith -Wundef -Wformat-security -ftree-vectorize -msse -mfpmath=sse -msse2 -mssse3 -msse4.1 -msse4.2 -maes -fdiagnostics-color=auto -flto -mtune=native -march=native -fwrapv -fno-strict-aliasing -fstack-protector-strong -I/usr/local/include'
ccversion=''
gccversion='14.2.0'
gccosandvers=''
intsize=4
longsize=8
ptrsize=8
doublesize=8
byteorder=12345678
doublekind=3
d_longlong=define
longlongsize=8
d_longdbl=define
longdblsize=16
longdblkind=3
ivtype='long'
ivsize=8
nvtype='double'
nvsize=8
Off_t='off_t'
lseeksize=8
alignbytes=8
prototype=define
Linker and Libraries:
ld='cc'
ldflags =' -fstack-protector-strong -L/usr/local/lib'
libpth=/usr/local/lib /usr/lib/x86_64-linux-gnu /usr/lib /usr/lib64
libs=-lpthread -lnsl -lgdbm -ldb -ldl -lm -lcrypt -lutil -lc
perllibs=-lpthread -lnsl -ldl -lm -lcrypt -lutil -lc
libc=/lib/x86_64-linux-gnu/libc.so.6
so=so
useshrplib=false
libperl=libperl.a
gnulibc_version='2.40'
Dynamic Linking:
dlsrc=dl_dlopen.xs
dlext=so
d_dlsymun=undef
ccdlflags='-Wl,-E'
cccdlflags='-fPIC'
lddlflags='-shared -O2 -L/usr/local/lib -fstack-protector-strong'
Characteristics of this binary (from libperl):
Compile-time options:
HAS_TIMES
MULTIPLICITY
PERLIO_LAYERS
PERL_COPY_ON_WRITE
PERL_DONT_CREATE_GVSV
PERL_IMPLICIT_CONTEXT
PERL_MALLOC_WRAP
PERL_OP_PARENT
PERL_PRESERVE_IVUV
PERL_USE_DEVEL
USE_64_BIT_ALL
USE_64_BIT_INT
USE_LARGE_FILES
USE_LOCALE
USE_LOCALE_COLLATE
USE_LOCALE_CTYPE
USE_LOCALE_NUMERIC
USE_LOCALE_TIME
USE_PERLIO
USE_PERL_ATOF
Built under linux
Compiled at Dec 23 2024 16:54:08
%ENV:
PERL5LIB="/tmp/user/1000/build/File-Find-Rule-0.35-0/blib/arch:/tmp/user/1000/build/File-Find-Rule-0.35-0/blib/lib:/tmp/user/1000/build/Text-Glob-0.11-0/blib/arch:/tmp/user/1000/build/Text-Glob-0.11-0/blib/lib:/tmp/user/1000/build/Number-Compare-0.03-0/blib/arch:/tmp/user/1000/build/Number-Compare-0.03-0/blib/lib:/tmp/user/1000/build/Class-XSAccessor-1.19-0/blib/arch:/tmp/user/1000/build/Class-XSAccessor-1.19-0/blib/lib:/tmp/user/1000/build/Schedule-Activity-0.1.1-0/blib/arch:/tmp/user/1000/build/Schedule-Activity-0.1.1-0/blib/lib:/tmp/user/1000/build/Ref-Util-0.204-0/blib/arch:/tmp/user/1000/build/Ref-Util-0.204-0/blib/lib:/tmp/user/1000/build/Ref-Util-XS-0.117-0/blib/arch:/tmp/user/1000/build/Ref-Util-XS-0.117-0/blib/lib"
PERL5OPT=""
PERL5_CPANPLUS_IS_RUNNING="80762"
PERL5_CPAN_IS_RUNNING="80762"
PERL5_CPAN_IS_RUNNING_IN_RECURSION="80752,80762"
PERLBREW_LIB=""
PERLBREW_MANPATH="/home/njh/perl5/perlbrew/perls/perl-5.34.1-multi/man"
PERLBREW_PATH="/home/njh/perl5/perlbrew/bin:/home/njh/perl5/perlbrew/perls/perl-5.34.1-multi/bin"
PERLBREW_PERL="perl-5.34.1-multi"
PERLBREW_ROOT="/home/njh/perl5/perlbrew"
PERLBREW_SHELLRC_VERSION="0.91"
PERLBREW_VERSION="0.91"
PERL_LOCAL_LIB_ROOT=""
PERL_MM_USE_DEFAULT="1"
PERL_USE_UNSAFE_INC="1"
@INC:
/tmp/user/1000/build/File-Find-Rule-0.35-0/blib/arch
/tmp/user/1000/build/File-Find-Rule-0.35-0/blib/lib
/tmp/user/1000/build/Text-Glob-0.11-0/blib/arch
/tmp/user/1000/build/Text-Glob-0.11-0/blib/lib
/tmp/user/1000/build/Number-Compare-0.03-0/blib/arch
/tmp/user/1000/build/Number-Compare-0.03-0/blib/lib
/tmp/user/1000/build/Class-XSAccessor-1.19-0/blib/arch
/tmp/user/1000/build/Class-XSAccessor-1.19-0/blib/lib
/tmp/user/1000/build/Schedule-Activity-0.1.1-0/blib/arch
/tmp/user/1000/build/Schedule-Activity-0.1.1-0/blib/lib
/tmp/user/1000/build/Ref-Util-0.204-0/blib/arch
/tmp/user/1000/build/Ref-Util-0.204-0/blib/lib
/tmp/user/1000/build/Ref-Util-XS-0.117-0/blib/arch
/tmp/user/1000/build/Ref-Util-XS-0.117-0/blib/lib
/home/njh/perl5/perlbrew/perls/perl-5.34.1-multi/lib/site_perl/5.34.1/x86_64-linux-multi
/home/njh/perl5/perlbrew/perls/perl-5.34.1-multi/lib/site_perl/5.34.1
/home/njh/perl5/perlbrew/perls/perl-5.34.1-multi/lib/5.34.1/x86_64-linux-multi
/home/njh/perl5/perlbrew/perls/perl-5.34.1-multi/lib/5.34.1
.