AnyEvent-ProcessPool v0.07 Perl 5 v5.16.3 x86_64-linux

Status
Pass
From
Slaven Rezić (SREZIC)
Dist
AnyEvent-ProcessPool v0.07
Platform
Perl 5 v5.16.3 x86_64-linux
Date
2017-12-01 20:47:32
ID
da6bfcc4-d6d8-11e7-828a-f29e501adcdd
This distribution has been tested as part of the CPAN Testers
project, supporting the Perl programming language.  See
http://wiki.cpantesters.org/ for more information or email
questions to cpan-testers-discuss@perl.org


--
Dear Jeff Ober,

This is a computer-generated report for AnyEvent-ProcessPool-0.07
on perl 5.16.3, created by CPAN-Reporter-1.2018.

Thank you for uploading your work to CPAN.  Congratulations!
All tests were successful.

Sections of this report:

    * Tester comments
    * Program output
    * Prerequisites
    * Environment and other context

------------------------------
TESTER COMMENTS
------------------------------

Additional comments from tester:

none provided

------------------------------
PROGRAM OUTPUT
------------------------------

Output from 'make test':

PERL_DL_NONLAZY=1 "/opt/perl-5.16.3/bin/perl5.16.3" "-MExtUtils::Command::MM" "-MTest::Harness" "-e" "undef *Test::Harness::Switches; test_harness(0, 'blib/lib', 'blib/arch')" t/*.t t/AnyEvent/*.t t/AnyEvent/ProcessPool/*.t
# 
# Versions for all modules listed in MYMETA.json (including optional ones):
# 
# === Configure Requires ===
# 
#     Module              Want Have
#     ------------------- ---- ----
#     ExtUtils::MakeMaker  any 7.30
# 
# === Build Requires ===
# 
#     Module              Want Have
#     ------------------- ---- ----
#     ExtUtils::MakeMaker  any 7.30
# 
# === Test Requires ===
# 
#     Module                  Want     Have
#     ----------------------- ---- --------
#     ExtUtils::MakeMaker      any     7.30
#     File::Spec               any     3.62
#     Test2::Bundle::Extended  any 0.000083
#     Test::More               any 1.302120
#     Test::Pod               1.41     1.51
# 
# === Test Recommends ===
# 
#     Module         Want     Have
#     ---------- -------- --------
#     CPAN::Meta 2.120900 2.150010
# 
# === Runtime Requires ===
# 
#     Module                  Want     Have
#     ----------------------- ---- --------
#     AnyEvent                7.14     7.14
#     AnyEvent::Open3::Simple 0.86     0.86
#     Carp                     any     1.38
#     Class::Load              any     0.24
#     Config                   any    undef
#     Data::Dump::Streamer     any     2.40
#     Data::UUID::MT           any    1.001
#     Exporter                 any     5.72
#     MIME::Base64             any     3.15
#     PadWalker                2.3      2.3
#     String::Escape           any 2010.002
#     Try::Catch               any    1.1.0
#     common::sense           3.74     3.74
#     parent                   any    0.236
# 
t/00-report-prereqs.t .............. ok
t/AnyEvent/ProcessPool.t ........... ok
t/AnyEvent/ProcessPool/Pipeline.t .. ok
t/AnyEvent/ProcessPool/Process.t ... ok
t/AnyEvent/ProcessPool/Task.t ...... ok
t/author-pod-syntax.t .............. skipped: these tests are for testing by the author
All tests successful.
Files=6, Tests=14,  1 wallclock secs ( 0.02 usr  0.02 sys +  0.93 cusr  0.36 csys =  1.33 CPU)
Result: PASS

------------------------------
PREREQUISITES
------------------------------

Prerequisite modules loaded:

requires:

    Module                  Need  Have    
    ----------------------- ----- --------
    AnyEvent                7.14  7.14    
    AnyEvent::Open3::Simple 0.86  0.86    
    Carp                    0     1.38    
    Class::Load             0     0.24    
    common::sense           3.74  3.74    
    Config                  0     0       
    Data::Dump::Streamer    0     2.40    
    Data::UUID::MT          0     1.001   
    Exporter                0     5.72    
    MIME::Base64            0     3.15    
    PadWalker               2.3   2.3     
    parent                  0     0.236   
    perl                    5.010 5.016003
    String::Escape          0     2010.002
    Try::Catch              0     1.1.0   

build_requires:

    Module                  Need  Have    
    ----------------------- ----- --------
    ExtUtils::MakeMaker     0     7.30    
    File::Spec              0     3.62    
    Test2::Bundle::Extended 0     0.000083
    Test::More              0     1.302120
    Test::Pod               1.41  1.51    

configure_requires:

    Module                  Need  Have    
    ----------------------- ----- --------
    ExtUtils::MakeMaker     0     7.30    


------------------------------
ENVIRONMENT AND OTHER CONTEXT
------------------------------

Environment variables:

    LANG = en_US.UTF-8
    PATH = /usr/local/bin:/usr/bin:/bin:/usr/local/sbin:/usr/sbin:/sbin:/home/cpansand/bin/linux-gnu:/home/cpansand/bin/sh:/home/cpansand/bin:/usr/games:/home/cpansand/devel:/home/eserte/src/srezic-misc/scripts
    PERL5LIB = /home/cpansand/.cpan/build/2017120118/PadWalker-2.3-1/blib/arch:/home/cpansand/.cpan/build/2017120118/PadWalker-2.3-1/blib/lib
    PERL5OPT = 
    PERL5_CPANPLUS_IS_RUNNING = 21391
    PERL5_CPAN_IS_RUNNING = 21391
    PERL5_CPAN_IS_RUNNING_IN_RECURSION = 21350,21391
    PERLDOC = -MPod::Perldoc::ToTextOverstrike
    PERL_BATCH = yes
    PERL_CANARY_STABILITY_NOPROMPT = 1
    PERL_CPAN_REPORTER_CONFIG = /var/tmp/cpansmoker-1023/2017120118/cpanreporter_000_config.ini
    PERL_EXTUTILS_AUTOINSTALL = --defaultdeps
    SHELL = /bin/zsh
    TERM = screen
    TMPDIR = /var/tmp/cpansmoker-1023/2017120118

Perl special variables (and OS-specific diagnostics, for MSWin32):

    $^X = /opt/perl-5.16.3/bin/perl5.16.3
    $UID/$EUID = 1023 / 1023
    $GID = 1023 1023
    $EGID = 1023 1023

Perl module toolchain versions installed:

    Module              Have    
    ------------------- --------
    CPAN                2.16    
    CPAN::Meta          2.150010
    Cwd                 3.62    
    ExtUtils::CBuilder  0.280230
    ExtUtils::Command   7.30    
    ExtUtils::Install   2.06    
    ExtUtils::MakeMaker 7.30    
    ExtUtils::Manifest  1.70    
    ExtUtils::ParseXS   3.30    
    File::Spec          3.62    
    JSON                2.94    
    JSON::PP            2.94    
    Module::Build       0.4224  
    Module::Signature   0.81    
    Parse::CPAN::Meta   2.150010
    Test::Harness       3.39    
    Test::More          1.302120
    YAML                1.23    
    YAML::Syck          1.30    
    version             0.9918  


--

Summary of my perl5 (revision 5 version 16 subversion 3) configuration:
   
  Platform:
    osname=linux, osvers=2.6.32-696.3.1.el6.x86_64, archname=x86_64-linux
    uname='linux centos6 2.6.32-696.3.1.el6.x86_64 #1 smp tue may 30 19:52:55 utc 2017 x86_64 x86_64 x86_64 gnulinux '
    config_args='-ds -e -Dprefix=/opt/perl-5.16.3 -Dcf_email=srezic@cpan.org'
    hint=recommended, useposix=true, d_sigaction=define
    useithreads=undef, usemultiplicity=undef
    useperlio=define, d_sfio=undef, uselargefiles=define, usesocks=undef
    use64bitint=define, use64bitall=define, uselongdouble=undef
    usemymalloc=n, bincompat5005=undef
  Compiler:
    cc='cc', ccflags ='-fno-strict-aliasing -pipe -fstack-protector -I/usr/local/include -D_LARGEFILE_SOURCE -D_FILE_OFFSET_BITS=64',
    optimize='-O2',
    cppflags='-fno-strict-aliasing -pipe -fstack-protector -I/usr/local/include'
    ccversion='', gccversion='4.4.7 20120313 (Red Hat 4.4.7-18)', gccosandvers=''
    intsize=4, longsize=8, ptrsize=8, doublesize=8, byteorder=12345678
    d_longlong=define, longlongsize=8, d_longdbl=define, longdblsize=16
    ivtype='long', ivsize=8, nvtype='double', nvsize=8, Off_t='off_t', lseeksize=8
    alignbytes=8, prototype=define
  Linker and Libraries:
    ld='cc', ldflags =' -fstack-protector -L/usr/local/lib'
    libpth=/usr/local/lib /lib/../lib64 /usr/lib/../lib64 /lib /usr/lib /lib64 /usr/lib64 /usr/local/lib64
    libs=-lnsl -lgdbm -ldb -ldl -lm -lcrypt -lutil -lc
    perllibs=-lnsl -ldl -lm -lcrypt -lutil -lc
    libc=, so=so, useshrplib=false, libperl=libperl.a
    gnulibc_version='2.12'
  Dynamic Linking:
    dlsrc=dl_dlopen.xs, dlext=so, d_dlsymun=undef, ccdlflags='-Wl,-E'
    cccdlflags='-fPIC', lddlflags='-shared -O2 -L/usr/local/lib -fstack-protector'


Characteristics of this binary (from libperl): 
  Compile-time options: HAS_TIMES PERLIO_LAYERS PERL_DONT_CREATE_GVSV
                        PERL_MALLOC_WRAP PERL_PRESERVE_IVUV USE_64_BIT_ALL
                        USE_64_BIT_INT USE_LARGE_FILES USE_LOCALE
                        USE_LOCALE_COLLATE USE_LOCALE_CTYPE
                        USE_LOCALE_NUMERIC USE_PERLIO USE_PERL_ATOF
  Built under linux
  Compiled at Jun 24 2017 09:37:57
  %ENV:
    PERL5LIB="/home/cpansand/.cpan/build/2017120118/PadWalker-2.3-1/blib/arch:/home/cpansand/.cpan/build/2017120118/PadWalker-2.3-1/blib/lib"
    PERL5OPT=""
    PERL5_CPANPLUS_IS_RUNNING="21391"
    PERL5_CPAN_IS_RUNNING="21391"
    PERL5_CPAN_IS_RUNNING_IN_RECURSION="21350,21391"
    PERLDOC="-MPod::Perldoc::ToTextOverstrike"
    PERL_BATCH="yes"
    PERL_CANARY_STABILITY_NOPROMPT="1"
    PERL_CPAN_REPORTER_CONFIG="/var/tmp/cpansmoker-1023/2017120118/cpanreporter_000_config.ini"
    PERL_EXTUTILS_AUTOINSTALL="--defaultdeps"
  @INC:
    /home/cpansand/.cpan/build/2017120118/PadWalker-2.3-1/blib/arch
    /home/cpansand/.cpan/build/2017120118/PadWalker-2.3-1/blib/lib
    /opt/perl-5.16.3/lib/site_perl/5.16.3/x86_64-linux
    /opt/perl-5.16.3/lib/site_perl/5.16.3
    /opt/perl-5.16.3/lib/5.16.3/x86_64-linux
    /opt/perl-5.16.3/lib/5.16.3
    .