CPAN-Changes-Group-Dependencies-Details v0.001006 Perl 5 v5.41.4 x86_64-linux

Status
Pass
From
Andreas J. König (ANDK)
Dist
CPAN-Changes-Group-Dependencies-Details v0.001006
Platform
Perl 5 v5.41.4 x86_64-linux
Date
2024-10-22 02:39:25
ID
d9f31a1e-901e-11ef-84c0-a3688ebd96d9
This distribution has been tested as part of the CPAN Testers
project, supporting the Perl programming language.  See
http://wiki.cpantesters.org/ for more information or email
questions to cpan-testers-discuss@perl.org


--
Dear Kent Fredric (PAUSE Custodial Account),

This is a computer-generated report for CPAN-Changes-Group-Dependencies-Details-0.001006
on perl 5.41.4, created by CPAN-Reporter-1.2020.

Thank you for uploading your work to CPAN.  Congratulations!
All tests were successful.

Sections of this report:

    * Tester comments
    * Program output
    * Prerequisites
    * Environment and other context

------------------------------
TESTER COMMENTS
------------------------------

Additional comments from tester:

this report is from an automated smoke testing program
and was not reviewed by a human for accuracy

------------------------------
PROGRAM OUTPUT
------------------------------

Output from '/usr/bin/make test':

PERL_DL_NONLAZY=1 "/tmp/basesmoker-reloperl-l2Mf/bin/perl" "-MExtUtils::Command::MM" "-MTest::Harness" "-e" "undef *Test::Harness::Switches; test_harness(0, 'blib/lib', 'blib/arch')" t/*.t t/00-compile/*.t
t/00-compile/lib_CPAN_Changes_Group_Dependencies_Details_pm.t .. ok
# 
# Versions for all modules listed in MYMETA.json (including optional ones):
# 
# === Configure Requires ===
# 
#     Module              Want Have
#     ------------------- ---- ----
#     ExtUtils::MakeMaker  any 7.70
# 
# === Configure Recommends ===
# 
#     Module              Want Have
#     ------------------- ---- ----
#     ExtUtils::MakeMaker 7.00 7.70
# 
# === Build Requires ===
# 
#     Module              Want Have
#     ------------------- ---- ----
#     ExtUtils::MakeMaker  any 7.70
# 
# === Test Requires ===
# 
#     Module                 Want     Have
#     ---------------------- ---- --------
#     CPAN::Changes::Release  any 0.500004
#     CPAN::Meta::Prereqs     any 2.150010
#     ExtUtils::MakeMaker     any     7.70
#     File::Spec              any     3.93
#     Scalar::Util            any     1.66
#     Test::Differences       any     0.71
#     Test::More              any 1.302204
#     if                      any   0.0610
# 
# === Test Recommends ===
# 
#     Module                  Want     Have
#     ------------------- -------- --------
#     CPAN::Changes       0.400002 0.500004
#     CPAN::Meta          2.120900 2.150010
#     ExtUtils::MakeMaker     7.00     7.70
#     Test::More              0.99 1.302204
# 
# === Runtime Requires ===
# 
#     Module                    Want     Have
#     ------------------------- ---- --------
#     CPAN::Changes             0.30 0.500004
#     CPAN::Changes::Group       any 0.500004
#     CPAN::Meta::Prereqs::Diff  any 0.001004
#     Carp                       any     1.54
#     Moo                        any 2.005005
#     MooX::Lsub                 any 0.002001
#     charnames                  any     1.50
#     constant                   any     1.33
#     strict                     any     1.13
#     warnings                   any     1.70
# 
# === Runtime Recommends ===
# 
#     Module     Want     Have
#     ------ -------- --------
#     Moo    1.000008 2.005005
# 
t/00-report-prereqs.t .......................................... ok
t/basic.t ...................................................... ok
t/efail.t ...................................................... ok
t/format.t ..................................................... ok
All tests successful.
Files=5, Tests=111,  2 wallclock secs ( 0.05 usr  0.01 sys +  1.42 cusr  0.16 csys =  1.64 CPU)
Result: PASS

------------------------------
PREREQUISITES
------------------------------

Prerequisite modules loaded:

requires:

    Module                    Need     Have    
    ------------------------- -------- --------
    Carp                      0        1.54    
    charnames                 0        1.50    
    constant                  0        1.33    
    CPAN::Changes             0.30     0.500004
    CPAN::Changes::Group      0        0.500004
    CPAN::Meta::Prereqs::Diff 0        0.001004
    Moo                       0        2.005005
    MooX::Lsub                0        0.002001
    perl                      5.006    5.041004
    strict                    0        1.13    
    warnings                  0        1.70    

build_requires:

    Module                    Need     Have    
    ------------------------- -------- --------
    CPAN::Changes::Release    0        0.500004
    CPAN::Meta::Prereqs       0        2.150010
    ExtUtils::MakeMaker       0        7.70    
    File::Spec                0        3.93    
    if                        0        0.0610  
    Scalar::Util              0        1.66    
    Test::Differences         0        0.71    
    Test::More                0        1.302204

configure_requires:

    Module                    Need     Have    
    ------------------------- -------- --------
    ExtUtils::MakeMaker       0        7.70    
    perl                      5.006    5.041004

opt_requires:

    Module                    Need     Have    
    ------------------------- -------- --------
    Moo                       1.000008 2.005005


------------------------------
ENVIRONMENT AND OTHER CONTEXT
------------------------------

Environment variables:

    AUTOMATED_TESTING = 1
    LANG = en_US.UTF-8
    LC_ADDRESS = de_DE.UTF-8
    LC_IDENTIFICATION = de_DE.UTF-8
    LC_MEASUREMENT = de_DE.UTF-8
    LC_MONETARY = de_DE.UTF-8
    LC_NAME = de_DE.UTF-8
    LC_NUMERIC = de_DE.UTF-8
    LC_PAPER = de_DE.UTF-8
    LC_TELEPHONE = de_DE.UTF-8
    LC_TIME = de_DE.UTF-8
    PATH = /home/sand/bin:/usr/local/bin:/usr/local/sbin:/usr/sbin:/usr/bin:/sbin:/bin:/usr/games:/usr/local/games:/snap/bin:/usr/local/perl/bin:/usr/X11/bin
    PERL = /tmp/basesmoker-reloperl-l2Mf/bin/perl
    PERL5LIB = /tmp/loop_over_bdir-2263814-024pVW/Debian-Packages-0.03-0/blib/arch:/tmp/loop_over_bdir-2263814-024pVW/Debian-Packages-0.03-0/blib/lib:/tmp/loop_over_bdir-2263814-024pVW/Devel-Required-0.16-0/blib/arch:/tmp/loop_over_bdir-2263814-024pVW/Devel-Required-0.16-0/blib/lib:/tmp/loop_over_bdir-2263814-024pVW/Business-Shipping-DataFiles-1.02-0/blib/arch:/tmp/loop_over_bdir-2263814-024pVW/Business-Shipping-DataFiles-1.02-0/blib/lib:/tmp/loop_over_bdir-2263814-024pVW/Simulation-Automate-1.0.1-0/blib/arch:/tmp/loop_over_bdir-2263814-024pVW/Simulation-Automate-1.0.1-0/blib/lib
    PERL5OPT = 
    PERL5_CPANPLUS_IS_RUNNING = 2263823
    PERL5_CPAN_IS_RUNNING = 2263823
    PERL_CANARY_STABILITY_NOPROMPT = 1
    PERL_MM_USE_DEFAULT = 1
    PERL_USE_UNSAFE_INC = 1
    SHELL = /usr/bin/zsh
    TERM = screen

Perl special variables (and OS-specific diagnostics, for MSWin32):

    $^X = /tmp/basesmoker-reloperl-l2Mf/bin/perl
    $UID/$EUID = 1005 / 1005
    $GID = 1005 1005
    $EGID = 1005 1005

Perl module toolchain versions installed:

    Module              Have    
    ------------------- --------
    CPAN                2.37    
    CPAN::Meta          2.150010
    Cwd                 3.92    
    ExtUtils::CBuilder  0.280240
    ExtUtils::Command   7.70    
    ExtUtils::Install   2.22    
    ExtUtils::MakeMaker 7.70    
    ExtUtils::Manifest  1.75    
    ExtUtils::ParseXS   3.54    
    File::Spec          3.93    
    JSON                4.10    
    JSON::PP            4.16    
    Module::Build       0.4234  
    Module::Signature   0.89    
    Parse::CPAN::Meta   2.150010
    Test2               1.302204
    Test::Harness       3.50    
    Test::More          1.302204
    YAML                1.31    
    YAML::Syck          1.34    
    version             0.9933  


--

Summary of my perl5 (revision 5 version 41 subversion 4) configuration:
  Commit id: 87deea969a7552a96b077acb5708d74c65099c51
  Platform:
    osname=linux
    osvers=6.8.0-40-generic
    archname=x86_64-linux
    uname='linux k93jammy 6.8.0-40-generic #40~22.04.3-ubuntu smp preempt_dynamic tue jul 30 17:30:19 utc 2 x86_64 x86_64 x86_64 gnulinux '
    config_args='-Dprefix=/home/sand/src/perl/repoperls/installed-perls/host/k93jammy/v5.41.4/6567 -Dmyhostname=k93jammy -Dinstallusrbinperl=n -Uversiononly -Dusedevel -des -Ui_db -Dlibswanted=cl pthread socket inet nsl gdbm dbm malloc dl ld sun m crypt sec util c cposix posix ucb BSD gdbm_compat -Uuseithreads -Uuselongdouble -DEBUGGING=-g'
    hint=recommended
    useposix=true
    d_sigaction=define
    useithreads=undef
    usemultiplicity=undef
    use64bitint=define
    use64bitall=define
    uselongdouble=undef
    usemymalloc=n
    default_inc_excludes_dot=define
  Compiler:
    cc='cc'
    ccflags ='-fwrapv -fno-strict-aliasing -pipe -fstack-protector-strong -I/usr/local/include -D_LARGEFILE_SOURCE -D_FILE_OFFSET_BITS=64'
    optimize='-O2 -g'
    cppflags='-fwrapv -fno-strict-aliasing -pipe -fstack-protector-strong -I/usr/local/include'
    ccversion=''
    gccversion='11.4.0'
    gccosandvers=''
    intsize=4
    longsize=8
    ptrsize=8
    doublesize=8
    byteorder=12345678
    doublekind=3
    d_longlong=define
    longlongsize=8
    d_longdbl=define
    longdblsize=16
    longdblkind=3
    ivtype='long'
    ivsize=8
    nvtype='double'
    nvsize=8
    Off_t='off_t'
    lseeksize=8
    alignbytes=8
    prototype=define
  Linker and Libraries:
    ld='cc'
    ldflags =' -fstack-protector-strong -L/usr/local/lib'
    libpth=/usr/local/lib /usr/lib/x86_64-linux-gnu /usr/lib /usr/lib64
    libs=-lpthread -lnsl -ldl -lm -lcrypt -lutil -lc
    perllibs=-lpthread -lnsl -ldl -lm -lcrypt -lutil -lc
    libc=/lib/x86_64-linux-gnu/libc.so.6
    so=so
    useshrplib=false
    libperl=libperl.a
    gnulibc_version='2.35'
  Dynamic Linking:
    dlsrc=dl_dlopen.xs
    dlext=so
    d_dlsymun=undef
    ccdlflags='-Wl,-E'
    cccdlflags='-fPIC'
    lddlflags='-shared -O2 -g -L/usr/local/lib -fstack-protector-strong'


Characteristics of this binary (from libperl): 
  Compile-time options:
    HAS_LONG_DOUBLE
    HAS_STRTOLD
    HAS_TIMES
    PERLIO_LAYERS
    PERL_COPY_ON_WRITE
    PERL_DONT_CREATE_GVSV
    PERL_HASH_FUNC_SIPHASH13
    PERL_HASH_USE_SBOX32
    PERL_MALLOC_WRAP
    PERL_OP_PARENT
    PERL_PRESERVE_IVUV
    PERL_USE_DEVEL
    PERL_USE_SAFE_PUTENV
    USE_64_BIT_ALL
    USE_64_BIT_INT
    USE_LARGE_FILES
    USE_LOCALE
    USE_LOCALE_COLLATE
    USE_LOCALE_CTYPE
    USE_LOCALE_NUMERIC
    USE_LOCALE_TIME
    USE_PERLIO
    USE_PERL_ATOF
  Built under linux
  Compiled at Sep 21 2024 07:58:15
  %ENV:
    PERL="/tmp/basesmoker-reloperl-l2Mf/bin/perl"
    PERL5LIB="/tmp/loop_over_bdir-2263814-024pVW/Debian-Packages-0.03-0/blib/arch:/tmp/loop_over_bdir-2263814-024pVW/Debian-Packages-0.03-0/blib/lib:/tmp/loop_over_bdir-2263814-024pVW/Devel-Required-0.16-0/blib/arch:/tmp/loop_over_bdir-2263814-024pVW/Devel-Required-0.16-0/blib/lib:/tmp/loop_over_bdir-2263814-024pVW/Business-Shipping-DataFiles-1.02-0/blib/arch:/tmp/loop_over_bdir-2263814-024pVW/Business-Shipping-DataFiles-1.02-0/blib/lib:/tmp/loop_over_bdir-2263814-024pVW/Simulation-Automate-1.0.1-0/blib/arch:/tmp/loop_over_bdir-2263814-024pVW/Simulation-Automate-1.0.1-0/blib/lib"
    PERL5OPT=""
    PERL5_CPANPLUS_IS_RUNNING="2263823"
    PERL5_CPAN_IS_RUNNING="2263823"
    PERL_CANARY_STABILITY_NOPROMPT="1"
    PERL_MM_USE_DEFAULT="1"
    PERL_USE_UNSAFE_INC="1"
  @INC:
    /tmp/loop_over_bdir-2263814-024pVW/Debian-Packages-0.03-0/blib/arch
    /tmp/loop_over_bdir-2263814-024pVW/Debian-Packages-0.03-0/blib/lib
    /tmp/loop_over_bdir-2263814-024pVW/Devel-Required-0.16-0/blib/arch
    /tmp/loop_over_bdir-2263814-024pVW/Devel-Required-0.16-0/blib/lib
    /tmp/loop_over_bdir-2263814-024pVW/Business-Shipping-DataFiles-1.02-0/blib/arch
    /tmp/loop_over_bdir-2263814-024pVW/Business-Shipping-DataFiles-1.02-0/blib/lib
    /tmp/loop_over_bdir-2263814-024pVW/Simulation-Automate-1.0.1-0/blib/arch
    /tmp/loop_over_bdir-2263814-024pVW/Simulation-Automate-1.0.1-0/blib/lib
    /home/sand/src/perl/repoperls/installed-perls/host/k93jammy/v5.41.4/6567/lib/site_perl/5.41.4/x86_64-linux
    /home/sand/src/perl/repoperls/installed-perls/host/k93jammy/v5.41.4/6567/lib/site_perl/5.41.4
    /home/sand/src/perl/repoperls/installed-perls/host/k93jammy/v5.41.4/6567/lib/5.41.4/x86_64-linux
    /home/sand/src/perl/repoperls/installed-perls/host/k93jammy/v5.41.4/6567/lib/5.41.4
    .