Test-DBIx-Class v0.52 Perl 5 v5.27.3 amd64-freebsd

Status
Pass
From
Slaven Rezić (SREZIC)
Dist
Test-DBIx-Class v0.52
Platform
Perl 5 v5.27.3 amd64-freebsd
Date
2017-09-12 14:37:06
ID
d9f22246-97c7-11e7-a57e-9b76a10c19d7
This distribution has been tested as part of the CPAN Testers
project, supporting the Perl programming language.  See
http://wiki.cpantesters.org/ for more information or email
questions to cpan-testers-discuss@perl.org


--
Dear Colin Newell,

This is a computer-generated report for Test-DBIx-Class-0.52
on perl 5.27.3, created by CPAN-Reporter-1.2018.

Thank you for uploading your work to CPAN.  Congratulations!
All tests were successful.

Sections of this report:

    * Tester comments
    * Program output
    * Prerequisites
    * Environment and other context

------------------------------
TESTER COMMENTS
------------------------------

Additional comments from tester:

none provided

------------------------------
PROGRAM OUTPUT
------------------------------

Output from '/usr/bin/make test':

PERL_DL_NONLAZY=1 "/usr/perl5.27.3p/bin/perl5.27.3" "-MExtUtils::Command::MM" "-MTest::Harness" "-e" "undef *Test::Harness::Switches; test_harness(0, 'blib/lib', 'blib/arch')" t/*.t t/stress_replication/*.t
t/00-basic.t .................................. ok
# 
# Versions for all modules listed in MYMETA.json (including optional ones):
# 
# === Configure Requires ===
# 
#     Module              Want Have
#     ------------------- ---- ----
#     ExtUtils::MakeMaker  any 7.30
# 
# === Build Requires ===
# 
#     Module              Want Have
#     ------------------- ---- ----
#     ExtUtils::MakeMaker  any 7.30
# 
# === Test Requires ===
# 
#     Module              Want     Have
#     ------------------- ---- --------
#     ExtUtils::MakeMaker  any     7.30
#     File::Spec           any     3.68
#     Test::More          0.94 1.302096
# 
# === Test Recommends ===
# 
#     Module         Want     Have
#     ---------- -------- --------
#     CPAN::Meta 2.120900 2.150010
# 
# === Runtime Requires ===
# 
#     Module                               Want     Have
#     --------------------------------- ------- --------
#     Config::Any                          0.19     0.32
#     DBIx::Class                       0.08123 0.082840
#     DBIx::Class::Schema::PopulateMore    0.16     0.19
#     DBIx::Class::TimeStamp               0.13     0.14
#     DBIx::Class::UUIDColumns          0.02005  0.02006
#     Data::UUID                          1.215    1.221
#     Data::Visitor                        0.27     0.30
#     Digest::MD5                          2.39     2.55
#     File::Path                            any     2.14
#     File::Temp                            any   0.2304
#     Hash::Merge                          0.11    0.200
#     List::MoreUtils                      0.22    0.425
#     Module::Runtime                     0.013    0.015
#     Moose                                1.10   2.2006
#     MooseX::Attribute::ENV               0.01     0.02
#     MooseX::Types                        0.23     0.50
#     Path::Class                          0.21     0.37
#     SQL::Translator                   0.11006  0.11021
#     Scalar::Util                         1.23     1.49
#     Sub::Exporter                       0.982    0.987
#     Test::Builder                        0.96 1.302096
#     Test::Deep                          0.106    1.127
# 
t/00-report-prereqs.t ......................... ok
t/01-normalize-options.t ...................... ok
t/02-initialize-schema.t ...................... ok
t/03-merge-configs.t .......................... ok
t/04-load-fixtures.t .......................... ok
t/05-example-schema.t ......................... ok
t/06-basic-test-schema.t ...................... ok
t/07-alternative-config.t ..................... ok
	(in cleanup) could not find mysqld, please set appropriate PATH at /home/cpansand/.cpan/build/2017091215/Test-DBIx-Class-0.52-0/blib/lib/Test/DBIx/Class/SchemaManager/Trait/Testmysqld.pm line 39.
# Can't initialize a schema with the given configuration
# Returned Error: could not find mysqld, please set appropriate PATH at /home/cpansand/.cpan/build/2017091215/Test-DBIx-Class-0.52-0/blib/lib/Test/DBIx/Class/SchemaManager/Trait/Testmysqld.pm line 39.
# configuration: {
#   'fixture_sets' => {
#     'basic' => [
#       {
#         'Person' => [
#           [
#             'name',
#             'age',
#             'email'
#           ],
#           [
#             'John',
#             '40',
#             'john@nowehere.com'
#           ],
#           [
#             'Vincent',
#             '15',
#             'vincent@home.com'
#           ],
#           [
#             'Vanessa',
#             '35',
#             'vanessaLi@school.com'
#           ]
#         ]
#       }
#     ],
#     'core' => [
#       {
#         'Person' => [
#           [
#             'name',
#             'age',
#             'email'
#           ],
#           [
#             'John',
#             '40',
#             'john@nowehere.com'
#           ],
#           [
#             'Vincent',
#             '15',
#             'vincent@home.com'
#           ],
#           [
#             'Vanessa',
#             '35',
#             'vanessa@school.com'
#           ]
#         ]
#       },
#       {
#         'Company' => [
#           [
#             'name'
#           ],
#           [
#             'Acme'
#           ]
#         ]
#       }
#     ]
#   },
#   'schema_class' => 'Test::DBIx::Class::Example::Schema',
#   'traits' => [
#     'Testmysqld'
#   ]
# }
t/08-test-mysqld.t ............................ skipped: Skipping remaining tests since we don't have a schema
t/09-test-postgresql.t ........................ skipped: Test::Postgresql58 not installed
	(in cleanup) could not find mysqld, please set appropriate PATH at /home/cpansand/.cpan/build/2017091215/Test-DBIx-Class-0.52-0/blib/lib/Test/DBIx/Class/SchemaManager/Trait/Testmysqld.pm line 39.
# Can't initialize a schema with the given configuration
# Returned Error: could not find mysqld, please set appropriate PATH at /home/cpansand/.cpan/build/2017091215/Test-DBIx-Class-0.52-0/blib/lib/Test/DBIx/Class/SchemaManager/Trait/Testmysqld.pm line 39.
# configuration: {
#   'fixture_sets' => {
#     'basic' => [
#       {
#         'Person' => [
#           [
#             'name',
#             'age',
#             'email'
#           ],
#           [
#             'John',
#             '40',
#             'john@nowehere.com'
#           ],
#           [
#             'Vincent',
#             '15',
#             'vincent@home.com'
#           ],
#           [
#             'Vanessa',
#             '35',
#             'vanessaLi@school.com'
#           ]
#         ]
#       }
#     ],
#     'core' => [
#       {
#         'Person' => [
#           [
#             'name',
#             'age',
#             'email'
#           ],
#           [
#             'John',
#             '40',
#             'john@nowehere.com'
#           ],
#           [
#             'Vincent',
#             '15',
#             'vincent@home.com'
#           ],
#           [
#             'Vanessa',
#             '35',
#             'vanessa@school.com'
#           ]
#         ]
#       },
#       {
#         'Company' => [
#           [
#             'name'
#           ],
#           [
#             'Acme'
#           ]
#         ]
#       }
#     ]
#   },
#   'replicants' => 2,
#   'schema_class' => 'Test::DBIx::Class::Example::Schema',
#   'traits' => 'Testmysqld'
# }
t/10-replication-mysql.t ...................... skipped: Skipping remaining tests since we don't have a schema
t/11-fixtures_ok_populate.t ................... ok
t/11-set-from-env.t ........................... ok
t/12-fixtures_ok_populatemore.t ............... ok
t/13-test-sqlite.t ............................ ok
t/14-hide-diag.t .............................. ok
t/14-test-connection-opts.t ................... ok
	(in cleanup) could not find mysqld, please set appropriate PATH at /home/cpansand/.cpan/build/2017091215/Test-DBIx-Class-0.52-0/blib/lib/Test/DBIx/Class/SchemaManager/Trait/Testmysqld.pm line 39.
t/15-hide-diag-mysqld.t ....................... ok
t/16-hide-diag-postgres.t ..................... skipped: Test::Postgresql58 not installed
t/17-importing-sources-gives-new-resultset.t .. ok
t/18-deploy-opts-sources.t .................... ok
t/19-deploy-opts-parser-args.t ................ ok
t/20-fixtures_ok_populate_hash.t .............. ok
t/stress_replication/10-replication-mysql.t ... skipped: STRESS_MYSQL_REPLICATION not set
t/stress_replication/11-replication-mysql.t ... skipped: STRESS_MYSQL_REPLICATION not set
t/stress_replication/12-replication-mysql.t ... skipped: STRESS_MYSQL_REPLICATION not set
t/stress_replication/13-replication-mysql.t ... skipped: STRESS_MYSQL_REPLICATION not set
t/stress_replication/14-replication-mysql.t ... skipped: STRESS_MYSQL_REPLICATION not set
t/stress_replication/15-replication-mysql.t ... skipped: STRESS_MYSQL_REPLICATION not set
All tests successful.
Files=30, Tests=182, 18 wallclock secs ( 0.00 usr  0.23 sys +  3.88 cusr 13.10 csys = 17.21 CPU)
Result: PASS

------------------------------
PREREQUISITES
------------------------------

Prerequisite modules loaded:

requires:

    Module                            Need    Have    
    --------------------------------- ------- --------
    Config::Any                       0.19    0.32    
    Data::UUID                        1.215   1.221   
    Data::Visitor                     0.27    0.30    
    DBIx::Class                       0.08123 0.082840
    DBIx::Class::Schema::PopulateMore 0.16    0.19    
    DBIx::Class::TimeStamp            0.13    0.14    
    DBIx::Class::UUIDColumns          0.02005 0.02006 
    Digest::MD5                       2.39    2.55    
    File::Path                        0       2.14    
    File::Temp                        0       0.2304  
    Hash::Merge                       0.11    0.200   
    List::MoreUtils                   0.22    0.425   
    Module::Runtime                   0.013   0.015   
    Moose                             1.10    2.2006  
    MooseX::Attribute::ENV            0.01    0.02    
    MooseX::Types                     0.23    0.50    
    Path::Class                       0.21    0.37    
    Scalar::Util                      1.23    1.49    
    SQL::Translator                   0.11006 0.11021 
    Sub::Exporter                     0.982   0.987   
    Test::Builder                     0.96    1.302096
    Test::Deep                        0.106   1.127   

build_requires:

    Module                            Need    Have    
    --------------------------------- ------- --------
    ExtUtils::MakeMaker               0       7.30    
    File::Spec                        0       3.68    
    Test::More                        0.94    1.302096

configure_requires:

    Module                            Need    Have    
    --------------------------------- ------- --------
    ExtUtils::MakeMaker               0       7.30    


------------------------------
ENVIRONMENT AND OTHER CONTEXT
------------------------------

Environment variables:

    LC_ALL = de_DE.ISO8859-1
    PATH = /usr/local/bin:/usr/bin:/bin:/usr/local/sbin:/usr/sbin:/sbin:/home/cpansand/bin/freebsd10.3:/home/cpansand/bin/sh:/home/cpansand/bin:/usr/games:/home/cpansand/devel:/home/eserte/src/srezic-misc/scripts
    PERL5LIB = /home/cpansand/.cpan/build/2017091215/MooseX-Attribute-ENV-0.02-0/blib/arch:/home/cpansand/.cpan/build/2017091215/MooseX-Attribute-ENV-0.02-0/blib/lib:/home/cpansand/.cpan/build/2017091215/DBIx-Class-UUIDColumns-0.02006-0/blib/arch:/home/cpansand/.cpan/build/2017091215/DBIx-Class-UUIDColumns-0.02006-0/blib/lib:/home/cpansand/.cpan/build/2017091215/DBIx-Class-TimeStamp-0.14-0/blib/arch:/home/cpansand/.cpan/build/2017091215/DBIx-Class-TimeStamp-0.14-0/blib/lib:/home/cpansand/.cpan/build/2017091215/Time-Warp-0.52-0/blib/arch:/home/cpansand/.cpan/build/2017091215/Time-Warp-0.52-0/blib/lib:/home/cpansand/.cpan/build/2017091215/DBIx-Class-DynamicDefault-0.04-0/blib/arch:/home/cpansand/.cpan/build/2017091215/DBIx-Class-DynamicDefault-0.04-0/blib/lib:/home/cpansand/.cpan/build/2017091215/DBICx-TestDatabase-0.05-0/blib/arch:/home/cpansand/.cpan/build/2017091215/DBICx-TestDatabase-0.05-0/blib/lib:/home/cpansand/.cpan/build/2017091215/DBIx-Class-Schema-PopulateMore-0.19-0/blib/arch:/home/cpansand/.cpan/build/2017091215/DBIx-Class-Schema-PopulateMore-0.19-0/blib/lib:/home/cpansand/.cpan/build/2017091215/DateTimeX-Easy-0.089-0/blib/arch:/home/cpansand/.cpan/build/2017091215/DateTimeX-Easy-0.089-0/blib/lib:/home/cpansand/.cpan/build/2017091215/DateTime-Format-Natural-1.05-0/blib/arch:/home/cpansand/.cpan/build/2017091215/DateTime-Format-Natural-1.05-0/blib/lib:/home/cpansand/.cpan/build/2017091215/DateTime-Format-Flexible-0.28-0/blib/arch:/home/cpansand/.cpan/build/2017091215/DateTime-Format-Flexible-0.28-0/blib/lib:/home/cpansand/.cpan/build/2017091215/OpusVL-Text-Util-0.10-0/blib/arch:/home/cpansand/.cpan/build/2017091215/OpusVL-Text-Util-0.10-0/blib/lib:/home/cpansand/.cpan/build/2017091215/Array-Utils-0.5-0/blib/arch:/home/cpansand/.cpan/build/2017091215/Array-Utils-0.5-0/blib/lib:/home/cpansand/.cpan/build/2017091215/OpusVL-SimpleCrypto-0.008-0/blib/arch:/home/cpansand/.cpan/build/2017091215/OpusVL-SimpleCrypto-0.008-0/blib/lib:/home/cpansand/.cpan/build/2017091215/Crypt-Sodium-0.11-0/blib/arch:/home/cpansand/.cpan/build/2017091215/Crypt-Sodium-0.11-0/blib/lib:/home/cpansand/.cpan/build/2017091215/Net-Telnet-Cisco-1.11-48/blib/arch:/home/cpansand/.cpan/build/2017091215/Net-Telnet-Cisco-1.11-48/blib/lib
    PERL5OPT = 
    PERL5_CPANPLUS_IS_RUNNING = 15287
    PERL5_CPAN_IS_RUNNING = 15287
    PERL5_CPAN_IS_RUNNING_IN_RECURSION = 15255,15287
    PERLDOC = -MPod::Perldoc::ToTextOverstrike
    PERL_BATCH = yes
    PERL_CANARY_STABILITY_NOPROMPT = 1
    PERL_CPAN_REPORTER_CONFIG = /var/tmp/cpansmoker-1023/2017091215/cpanreporter_000_config.ini
    PERL_EXTUTILS_AUTOINSTALL = --defaultdeps
    PERL_USE_UNSAFE_INC = 1
    SHELL = /usr/local/bin/zsh
    TERM = screen
    TMPDIR = /var/tmp/cpansmoker-1023/2017091215

Perl special variables (and OS-specific diagnostics, for MSWin32):

    $^X = /usr/perl5.27.3p/bin/perl5.27.3
    $UID/$EUID = 1023 / 1023
    $GID = 1023 1023
    $EGID = 1023 1023

Perl module toolchain versions installed:

    Module              Have    
    ------------------- --------
    CPAN                2.18    
    CPAN::Meta          2.150010
    Cwd                 3.68    
    ExtUtils::CBuilder  0.280228
    ExtUtils::Command   7.30    
    ExtUtils::Install   2.14    
    ExtUtils::MakeMaker 7.30    
    ExtUtils::Manifest  1.70    
    ExtUtils::ParseXS   3.35    
    File::Spec          3.68    
    JSON                2.94    
    JSON::PP            2.94    
    Module::Build       0.4224  
    Module::Signature   0.81    
    Parse::CPAN::Meta   2.150010
    Test::Harness       3.39    
    Test::More          1.302096
    YAML                1.23    
    YAML::Syck          1.30    
    version             0.9918  


--

Summary of my perl5 (revision 5 version 27 subversion 3) configuration:
   
  Platform:
    osname=freebsd
    osvers=10.3-release-p11
    archname=amd64-freebsd
    uname='freebsd cvrsnica-freebsd-101.herceg.de 10.3-release-p11 freebsd 10.3-release-p11 #0: mon oct 24 18:49:24 utc 2016 root@amd64-builder.daemonology.net:usrobjusrsrcsysgeneric amd64 '
    config_args='-ds -e -Dprefix=/usr/perl5.27.3p -Dusedevel -Dusemallocwrap=no -Dcf_email=srezic@cpan.org -Doptimize=-O2 -pipe'
    hint=recommended
    useposix=true
    d_sigaction=define
    useithreads=undef
    usemultiplicity=undef
    use64bitint=define
    use64bitall=define
    uselongdouble=undef
    usemymalloc=n
    default_inc_excludes_dot=define
    bincompat5005=undef
  Compiler:
    cc='cc'
    ccflags ='-DHAS_FPSETMASK -DHAS_FLOATINGPOINT_H -fno-strict-aliasing -pipe -fstack-protector -I/usr/local/include -D_FORTIFY_SOURCE=2'
    optimize='-O2 -pipe'
    cppflags='-DHAS_FPSETMASK -DHAS_FLOATINGPOINT_H -fno-strict-aliasing -pipe -fstack-protector -I/usr/local/include'
    ccversion=''
    gccversion='4.2.1 Compatible FreeBSD Clang 3.4.1 (tags/RELEASE_34/dot1-final 208032)'
    gccosandvers=''
    intsize=4
    longsize=8
    ptrsize=8
    doublesize=8
    byteorder=12345678
    doublekind=3
    d_longlong=define
    longlongsize=8
    d_longdbl=define
    longdblsize=16
    longdblkind=3
    ivtype='long'
    ivsize=8
    nvtype='double'
    nvsize=8
    Off_t='off_t'
    lseeksize=8
    alignbytes=8
    prototype=define
  Linker and Libraries:
    ld='cc'
    ldflags ='-pthread -Wl,-E  -fstack-protector -L/usr/local/lib'
    libpth=/usr/lib /usr/local/lib /usr/include/clang/3.4.1 /usr/lib
    libs=-lpthread -lgdbm -lm -lcrypt -lutil -lc -lelf
    perllibs=-lpthread -lm -lcrypt -lutil -lc -lelf
    libc=
    so=so
    useshrplib=false
    libperl=libperl.a
    gnulibc_version=''
  Dynamic Linking:
    dlsrc=dl_dlopen.xs
    dlext=so
    d_dlsymun=undef
    ccdlflags=' '
    cccdlflags='-DPIC -fPIC'
    lddlflags='-shared  -L/usr/local/lib -fstack-protector'


Characteristics of this binary (from libperl): 
  Compile-time options:
    HAS_TIMES
    PERLIO_LAYERS
    PERL_COPY_ON_WRITE
    PERL_DONT_CREATE_GVSV
    PERL_OP_PARENT
    PERL_PRESERVE_IVUV
    PERL_USE_DEVEL
    USE_64_BIT_ALL
    USE_64_BIT_INT
    USE_LARGE_FILES
    USE_LOCALE
    USE_LOCALE_COLLATE
    USE_LOCALE_CTYPE
    USE_LOCALE_NUMERIC
    USE_LOCALE_TIME
    USE_PERLIO
    USE_PERL_ATOF
  Built under freebsd
  Compiled at Aug 21 2017 23:30:22
  %ENV:
    PERL5LIB="/home/cpansand/.cpan/build/2017091215/MooseX-Attribute-ENV-0.02-0/blib/arch:/home/cpansand/.cpan/build/2017091215/MooseX-Attribute-ENV-0.02-0/blib/lib:/home/cpansand/.cpan/build/2017091215/DBIx-Class-UUIDColumns-0.02006-0/blib/arch:/home/cpansand/.cpan/build/2017091215/DBIx-Class-UUIDColumns-0.02006-0/blib/lib:/home/cpansand/.cpan/build/2017091215/DBIx-Class-TimeStamp-0.14-0/blib/arch:/home/cpansand/.cpan/build/2017091215/DBIx-Class-TimeStamp-0.14-0/blib/lib:/home/cpansand/.cpan/build/2017091215/Time-Warp-0.52-0/blib/arch:/home/cpansand/.cpan/build/2017091215/Time-Warp-0.52-0/blib/lib:/home/cpansand/.cpan/build/2017091215/DBIx-Class-DynamicDefault-0.04-0/blib/arch:/home/cpansand/.cpan/build/2017091215/DBIx-Class-DynamicDefault-0.04-0/blib/lib:/home/cpansand/.cpan/build/2017091215/DBICx-TestDatabase-0.05-0/blib/arch:/home/cpansand/.cpan/build/2017091215/DBICx-TestDatabase-0.05-0/blib/lib:/home/cpansand/.cpan/build/2017091215/DBIx-Class-Schema-PopulateMore-0.19-0/blib/arch:/home/cpansand/.cpan/build/2017091215/DBIx-Class-Schema-PopulateMore-0.19-0/blib/lib:/home/cpansand/.cpan/build/2017091215/DateTimeX-Easy-0.089-0/blib/arch:/home/cpansand/.cpan/build/2017091215/DateTimeX-Easy-0.089-0/blib/lib:/home/cpansand/.cpan/build/2017091215/DateTime-Format-Natural-1.05-0/blib/arch:/home/cpansand/.cpan/build/2017091215/DateTime-Format-Natural-1.05-0/blib/lib:/home/cpansand/.cpan/build/2017091215/DateTime-Format-Flexible-0.28-0/blib/arch:/home/cpansand/.cpan/build/2017091215/DateTime-Format-Flexible-0.28-0/blib/lib:/home/cpansand/.cpan/build/2017091215/OpusVL-Text-Util-0.10-0/blib/arch:/home/cpansand/.cpan/build/2017091215/OpusVL-Text-Util-0.10-0/blib/lib:/home/cpansand/.cpan/build/2017091215/Array-Utils-0.5-0/blib/arch:/home/cpansand/.cpan/build/2017091215/Array-Utils-0.5-0/blib/lib:/home/cpansand/.cpan/build/2017091215/OpusVL-SimpleCrypto-0.008-0/blib/arch:/home/cpansand/.cpan/build/2017091215/OpusVL-SimpleCrypto-0.008-0/blib/lib:/home/cpansand/.cpan/build/2017091215/Crypt-Sodium-0.11-0/blib/arch:/home/cpansand/.cpan/build/2017091215/Crypt-Sodium-0.11-0/blib/lib:/home/cpansand/.cpan/build/2017091215/Net-Telnet-Cisco-1.11-48/blib/arch:/home/cpansand/.cpan/build/2017091215/Net-Telnet-Cisco-1.11-48/blib/lib"
    PERL5OPT=""
    PERL5_CPANPLUS_IS_RUNNING="15287"
    PERL5_CPAN_IS_RUNNING="15287"
    PERL5_CPAN_IS_RUNNING_IN_RECURSION="15255,15287"
    PERLDOC="-MPod::Perldoc::ToTextOverstrike"
    PERL_BATCH="yes"
    PERL_CANARY_STABILITY_NOPROMPT="1"
    PERL_CPAN_REPORTER_CONFIG="/var/tmp/cpansmoker-1023/2017091215/cpanreporter_000_config.ini"
    PERL_EXTUTILS_AUTOINSTALL="--defaultdeps"
    PERL_USE_UNSAFE_INC="1"
  @INC:
    /home/cpansand/.cpan/build/2017091215/MooseX-Attribute-ENV-0.02-0/blib/arch
    /home/cpansand/.cpan/build/2017091215/MooseX-Attribute-ENV-0.02-0/blib/lib
    /home/cpansand/.cpan/build/2017091215/DBIx-Class-UUIDColumns-0.02006-0/blib/arch
    /home/cpansand/.cpan/build/2017091215/DBIx-Class-UUIDColumns-0.02006-0/blib/lib
    /home/cpansand/.cpan/build/2017091215/DBIx-Class-TimeStamp-0.14-0/blib/arch
    /home/cpansand/.cpan/build/2017091215/DBIx-Class-TimeStamp-0.14-0/blib/lib
    /home/cpansand/.cpan/build/2017091215/Time-Warp-0.52-0/blib/arch
    /home/cpansand/.cpan/build/2017091215/Time-Warp-0.52-0/blib/lib
    /home/cpansand/.cpan/build/2017091215/DBIx-Class-DynamicDefault-0.04-0/blib/arch
    /home/cpansand/.cpan/build/2017091215/DBIx-Class-DynamicDefault-0.04-0/blib/lib
    /home/cpansand/.cpan/build/2017091215/DBICx-TestDatabase-0.05-0/blib/arch
    /home/cpansand/.cpan/build/2017091215/DBICx-TestDatabase-0.05-0/blib/lib
    /home/cpansand/.cpan/build/2017091215/DBIx-Class-Schema-PopulateMore-0.19-0/blib/arch
    /home/cpansand/.cpan/build/2017091215/DBIx-Class-Schema-PopulateMore-0.19-0/blib/lib
    /home/cpansand/.cpan/build/2017091215/DateTimeX-Easy-0.089-0/blib/arch
    /home/cpansand/.cpan/build/2017091215/DateTimeX-Easy-0.089-0/blib/lib
    /home/cpansand/.cpan/build/2017091215/DateTime-Format-Natural-1.05-0/blib/arch
    /home/cpansand/.cpan/build/2017091215/DateTime-Format-Natural-1.05-0/blib/lib
    /home/cpansand/.cpan/build/2017091215/DateTime-Format-Flexible-0.28-0/blib/arch
    /home/cpansand/.cpan/build/2017091215/DateTime-Format-Flexible-0.28-0/blib/lib
    /home/cpansand/.cpan/build/2017091215/OpusVL-Text-Util-0.10-0/blib/arch
    /home/cpansand/.cpan/build/2017091215/OpusVL-Text-Util-0.10-0/blib/lib
    /home/cpansand/.cpan/build/2017091215/Array-Utils-0.5-0/blib/arch
    /home/cpansand/.cpan/build/2017091215/Array-Utils-0.5-0/blib/lib
    /home/cpansand/.cpan/build/2017091215/OpusVL-SimpleCrypto-0.008-0/blib/arch
    /home/cpansand/.cpan/build/2017091215/OpusVL-SimpleCrypto-0.008-0/blib/lib
    /home/cpansand/.cpan/build/2017091215/Crypt-Sodium-0.11-0/blib/arch
    /home/cpansand/.cpan/build/2017091215/Crypt-Sodium-0.11-0/blib/lib
    /home/cpansand/.cpan/build/2017091215/Net-Telnet-Cisco-1.11-48/blib/arch
    /home/cpansand/.cpan/build/2017091215/Net-Telnet-Cisco-1.11-48/blib/lib
    /usr/perl5.27.3p/lib/site_perl/5.27.3/amd64-freebsd
    /usr/perl5.27.3p/lib/site_perl/5.27.3
    /usr/perl5.27.3p/lib/5.27.3/amd64-freebsd
    /usr/perl5.27.3p/lib/5.27.3
    .