XML-Toolkit v0.15 Perl 5 v5.39.8 x86_64-linux-thread-multi

Status
Pass
From
Andreas J. König (ANDK)
Dist
XML-Toolkit v0.15
Platform
Perl 5 v5.39.8 x86_64-linux-thread-multi
Date
2024-03-08 14:40:47
ID
d9f0bcc4-dd59-11ee-ab10-4c0dc63a7c6b
This distribution has been tested as part of the CPAN Testers
project, supporting the Perl programming language.  See
http://wiki.cpantesters.org/ for more information or email
questions to cpan-testers-discuss@perl.org


--
Dear Chris Prather,

This is a computer-generated report for XML-Toolkit-0.15
on perl 5.39.8, created by CPAN-Reporter-1.2019.

Thank you for uploading your work to CPAN.  Congratulations!
All tests were successful.

Sections of this report:

    * Tester comments
    * Program output
    * Prerequisites
    * Environment and other context

------------------------------
TESTER COMMENTS
------------------------------

Additional comments from tester:

this report is from an automated smoke testing program
and was not reviewed by a human for accuracy

------------------------------
PROGRAM OUTPUT
------------------------------

Output from '/usr/bin/make test':

PERL_DL_NONLAZY=1 "/tmp/basesmoker-reloperl-0n0h/bin/perl" "-MExtUtils::Command::MM" "-MTest::Harness" "-e" "undef *Test::Harness::Switches; test_harness(0, 'blib/lib', 'blib/arch')" t/*.t t/02.namespaces/*.t t/06.reuse/*.t
t/00-compile.t ................................ ok
Class::MOP::load_class is deprecated at /home/sand/src/perl/repoperls/installed-perls/host/k93focal/v5.39.8/d119/lib/site_perl/5.39.8/x86_64-linux-thread-multi/Class/MOP.pm line 69.
	Class::MOP::load_class("MyTest::Note") called at /tmp/loop_over_bdir-2391-PTcHhQ/XML-Toolkit-0.15-0/blib/lib/XML/Toolkit/Loader/Filter.pm line 44
	XML::Toolkit::Loader::Filter::load_class(XML::Toolkit::Loader::Filter=HASH(0x5635a43d37d8), "MyTest::Note") called at /tmp/loop_over_bdir-2391-PTcHhQ/XML-Toolkit-0.15-0/blib/lib/XML/Toolkit/Loader/Filter.pm line 63
	XML::Toolkit::Loader::Filter::start_element(XML::Toolkit::Loader::Filter=HASH(0x5635a43d37d8), HASH(0x5635a4412790)) called at /home/sand/src/perl/repoperls/installed-perls/host/k93focal/v5.39.8/d119/lib/site_perl/5.39.8/x86_64-linux-thread-multi/XML/SAX/ExpatXS/Preload.pm line 230
	XML::SAX::ExpatXS::Preload::__ANON__(HASH(0x5635a4412790)) called at /home/sand/src/perl/repoperls/installed-perls/host/k93focal/v5.39.8/d119/lib/site_perl/5.39.8/x86_64-linux-thread-multi/XML/SAX/ExpatXS.pm line 163
	XML::SAX::ExpatXS::_parse(XML::SAX::ExpatXS=HASH(0x5635a49ec848)) called at /home/sand/src/perl/repoperls/installed-perls/host/k93focal/v5.39.8/d119/lib/site_perl/5.39.8/x86_64-linux-thread-multi/XML/SAX/ExpatXS.pm line 102
	XML::SAX::ExpatXS::_parse_string(XML::SAX::ExpatXS=HASH(0x5635a49ec848), "<?xml version=\"1.0\"?>\x{a}<note>\x{a}    <to>Tove</to>\x{a}    <from>Jani"...) called at /home/sand/src/perl/repoperls/installed-perls/host/k93focal/v5.39.8/d119/lib/site_perl/5.39.8/XML/SAX/Base.pm line 2614
	XML::SAX::Base::parse(XML::SAX::ExpatXS=HASH(0x5635a49ec848), HASH(0x5635a4457f20)) called at /home/sand/src/perl/repoperls/installed-perls/host/k93focal/v5.39.8/d119/lib/site_perl/5.39.8/XML/SAX/Base.pm line 2659
	XML::SAX::Base::parse_string(XML::SAX::ExpatXS=HASH(0x5635a49ec848), "<?xml version=\"1.0\"?>\x{a}<note>\x{a}    <to>Tove</to>\x{a}    <from>Jani"...) called at inline delegation in XML::Toolkit::Loader for parser->parse_string (attribute declared in /tmp/loop_over_bdir-2391-PTcHhQ/XML-Toolkit-0.15-0/blib/lib/XML/Toolkit/Loader.pm at line 22) line 18
	XML::Toolkit::Loader::parse_string(XML::Toolkit::Loader=HASH(0x5635a43b8720), "<?xml version=\"1.0\"?>\x{a}<note>\x{a}    <to>Tove</to>\x{a}    <from>Jani"...) called at /home/sand/src/perl/repoperls/installed-perls/host/k93focal/v5.39.8/d119/lib/site_perl/5.39.8/x86_64-linux-thread-multi/Class/MOP/Method/Wrapped.pm line 44
	XML::Toolkit::Loader::_wrapped_parse_string(XML::Toolkit::Loader=HASH(0x5635a43b8720), "<?xml version=\"1.0\"?>\x{a}<note>\x{a}    <to>Tove</to>\x{a}    <from>Jani"...) called at /home/sand/src/perl/repoperls/installed-perls/host/k93focal/v5.39.8/d119/lib/site_perl/5.39.8/x86_64-linux-thread-multi/Class/MOP/Method/Wrapped.pm line 97
	XML::Toolkit::Loader::parse_string(XML::Toolkit::Loader=HASH(0x5635a43b8720), "<?xml version=\"1.0\"?>\x{a}<note>\x{a}    <to>Tove</to>\x{a}    <from>Jani"...) called at t/01.basic.t line 31
t/01.basic.t .................................. ok
Class::MOP::load_class is deprecated at /home/sand/src/perl/repoperls/installed-perls/host/k93focal/v5.39.8/d119/lib/site_perl/5.39.8/x86_64-linux-thread-multi/Class/MOP.pm line 69.
	Class::MOP::load_class("XMLTK::Test::Foo") called at /tmp/loop_over_bdir-2391-PTcHhQ/XML-Toolkit-0.15-0/blib/lib/XML/Toolkit/Loader/Filter.pm line 44
	XML::Toolkit::Loader::Filter::load_class(XML::Toolkit::Loader::Filter=HASH(0x55ab9d0bbe70), "XMLTK::Test::Foo") called at /tmp/loop_over_bdir-2391-PTcHhQ/XML-Toolkit-0.15-0/blib/lib/XML/Toolkit/Loader/Filter.pm line 63
	XML::Toolkit::Loader::Filter::start_element(XML::Toolkit::Loader::Filter=HASH(0x55ab9d0bbe70), HASH(0x55ab9cfa44c8)) called at /home/sand/src/perl/repoperls/installed-perls/host/k93focal/v5.39.8/d119/lib/site_perl/5.39.8/x86_64-linux-thread-multi/XML/SAX/ExpatXS/Preload.pm line 230
	XML::SAX::ExpatXS::Preload::__ANON__(HASH(0x55ab9cfa44c8)) called at /home/sand/src/perl/repoperls/installed-perls/host/k93focal/v5.39.8/d119/lib/site_perl/5.39.8/x86_64-linux-thread-multi/XML/SAX/ExpatXS.pm line 163
	XML::SAX::ExpatXS::_parse(XML::SAX::ExpatXS=HASH(0x55ab9d1a8b10)) called at /home/sand/src/perl/repoperls/installed-perls/host/k93focal/v5.39.8/d119/lib/site_perl/5.39.8/x86_64-linux-thread-multi/XML/SAX/ExpatXS.pm line 102
	XML::SAX::ExpatXS::_parse_string(XML::SAX::ExpatXS=HASH(0x55ab9d1a8b10), "<foo xmlns:my=\"http://example.org/my/\"><my:bar /></foo>") called at /home/sand/src/perl/repoperls/installed-perls/host/k93focal/v5.39.8/d119/lib/site_perl/5.39.8/XML/SAX/Base.pm line 2614
	XML::SAX::Base::parse(XML::SAX::ExpatXS=HASH(0x55ab9d1a8b10), HASH(0x55ab9b5ec7b0)) called at /home/sand/src/perl/repoperls/installed-perls/host/k93focal/v5.39.8/d119/lib/site_perl/5.39.8/XML/SAX/Base.pm line 2659
	XML::SAX::Base::parse_string(XML::SAX::ExpatXS=HASH(0x55ab9d1a8b10), "<foo xmlns:my=\"http://example.org/my/\"><my:bar /></foo>") called at inline delegation in XML::Toolkit::Loader for parser->parse_string (attribute declared in /tmp/loop_over_bdir-2391-PTcHhQ/XML-Toolkit-0.15-0/blib/lib/XML/Toolkit/Loader.pm at line 22) line 18
	XML::Toolkit::Loader::parse_string(XML::Toolkit::Loader=HASH(0x55ab9d107ea0), "<foo xmlns:my=\"http://example.org/my/\"><my:bar /></foo>") called at /home/sand/src/perl/repoperls/installed-perls/host/k93focal/v5.39.8/d119/lib/site_perl/5.39.8/x86_64-linux-thread-multi/Class/MOP/Method/Wrapped.pm line 44
	XML::Toolkit::Loader::_wrapped_parse_string(XML::Toolkit::Loader=HASH(0x55ab9d107ea0), "<foo xmlns:my=\"http://example.org/my/\"><my:bar /></foo>") called at /home/sand/src/perl/repoperls/installed-perls/host/k93focal/v5.39.8/d119/lib/site_perl/5.39.8/x86_64-linux-thread-multi/Class/MOP/Method/Wrapped.pm line 97
	XML::Toolkit::Loader::parse_string(XML::Toolkit::Loader=HASH(0x55ab9d107ea0), "<foo xmlns:my=\"http://example.org/my/\"><my:bar /></foo>") called at t/02.namespaces/01.basic_namespace.t line 36
t/02.namespaces/01.basic_namespace.t .......... ok
Class::MOP::load_class is deprecated at /home/sand/src/perl/repoperls/installed-perls/host/k93focal/v5.39.8/d119/lib/site_perl/5.39.8/x86_64-linux-thread-multi/Class/MOP.pm line 69.
	Class::MOP::load_class("ABC::Root") called at /tmp/loop_over_bdir-2391-PTcHhQ/XML-Toolkit-0.15-0/blib/lib/XML/Toolkit/Loader/Filter.pm line 44
	XML::Toolkit::Loader::Filter::load_class(XML::Toolkit::Loader::Filter=HASH(0x556fb1ef2628), "ABC::Root") called at /tmp/loop_over_bdir-2391-PTcHhQ/XML-Toolkit-0.15-0/blib/lib/XML/Toolkit/Loader/Filter.pm line 63
	XML::Toolkit::Loader::Filter::start_element(XML::Toolkit::Loader::Filter=HASH(0x556fb1ef2628), HASH(0x556fb237a5e8)) called at /home/sand/src/perl/repoperls/installed-perls/host/k93focal/v5.39.8/d119/lib/site_perl/5.39.8/x86_64-linux-thread-multi/XML/SAX/ExpatXS/Preload.pm line 230
	XML::SAX::ExpatXS::Preload::__ANON__(HASH(0x556fb237a5e8)) called at /home/sand/src/perl/repoperls/installed-perls/host/k93focal/v5.39.8/d119/lib/site_perl/5.39.8/x86_64-linux-thread-multi/XML/SAX/ExpatXS.pm line 163
	XML::SAX::ExpatXS::_parse(XML::SAX::ExpatXS=HASH(0x556fb1dce6e8)) called at /home/sand/src/perl/repoperls/installed-perls/host/k93focal/v5.39.8/d119/lib/site_perl/5.39.8/x86_64-linux-thread-multi/XML/SAX/ExpatXS.pm line 102
	XML::SAX::ExpatXS::_parse_string(XML::SAX::ExpatXS=HASH(0x556fb1dce6e8), "<root xmlns=\"abc\">test1</root>") called at /home/sand/src/perl/repoperls/installed-perls/host/k93focal/v5.39.8/d119/lib/site_perl/5.39.8/XML/SAX/Base.pm line 2614
	XML::SAX::Base::parse(XML::SAX::ExpatXS=HASH(0x556fb1dce6e8), HASH(0x556fb1f8b5d8)) called at /home/sand/src/perl/repoperls/installed-perls/host/k93focal/v5.39.8/d119/lib/site_perl/5.39.8/XML/SAX/Base.pm line 2659
	XML::SAX::Base::parse_string(XML::SAX::ExpatXS=HASH(0x556fb1dce6e8), "<root xmlns=\"abc\">test1</root>") called at inline delegation in XML::Toolkit::Loader for parser->parse_string (attribute declared in /tmp/loop_over_bdir-2391-PTcHhQ/XML-Toolkit-0.15-0/blib/lib/XML/Toolkit/Loader.pm at line 22) line 18
	XML::Toolkit::Loader::parse_string(XML::Toolkit::Loader=HASH(0x556fb160cb50), "<root xmlns=\"abc\">test1</root>") called at /home/sand/src/perl/repoperls/installed-perls/host/k93focal/v5.39.8/d119/lib/site_perl/5.39.8/x86_64-linux-thread-multi/Class/MOP/Method/Wrapped.pm line 44
	XML::Toolkit::Loader::_wrapped_parse_string(XML::Toolkit::Loader=HASH(0x556fb160cb50), "<root xmlns=\"abc\">test1</root>") called at /home/sand/src/perl/repoperls/installed-perls/host/k93focal/v5.39.8/d119/lib/site_perl/5.39.8/x86_64-linux-thread-multi/Class/MOP/Method/Wrapped.pm line 97
	XML::Toolkit::Loader::parse_string(XML::Toolkit::Loader=HASH(0x556fb160cb50), "<root xmlns=\"abc\">test1</root>") called at t/02.namespaces/02.root_namespace_equality.t line 26
t/02.namespaces/02.root_namespace_equality.t .. ok
Class::MOP::is_class_loaded is deprecated at /home/sand/src/perl/repoperls/installed-perls/host/k93focal/v5.39.8/d119/lib/site_perl/5.39.8/x86_64-linux-thread-multi/Class/MOP.pm line 87.
	Class::MOP::is_class_loaded("MyApp::Root") called at t/02.namespaces/03.namespaced_loading.t line 39
	eval {...} called at t/02.namespaces/03.namespaced_loading.t line 34
Class::MOP::load_class is deprecated at /home/sand/src/perl/repoperls/installed-perls/host/k93focal/v5.39.8/d119/lib/site_perl/5.39.8/x86_64-linux-thread-multi/Class/MOP.pm line 69.
	Class::MOP::load_class("MyApp::Root") called at /tmp/loop_over_bdir-2391-PTcHhQ/XML-Toolkit-0.15-0/blib/lib/XML/Toolkit/Loader/Filter.pm line 44
	XML::Toolkit::Loader::Filter::load_class(XML::Toolkit::Loader::Filter=HASH(0x5617ca502de8), "MyApp::Root") called at /tmp/loop_over_bdir-2391-PTcHhQ/XML-Toolkit-0.15-0/blib/lib/XML/Toolkit/Loader/Filter.pm line 63
	XML::Toolkit::Loader::Filter::start_element(XML::Toolkit::Loader::Filter=HASH(0x5617ca502de8), HASH(0x5617ca1b6ac8)) called at /home/sand/src/perl/repoperls/installed-perls/host/k93focal/v5.39.8/d119/lib/site_perl/5.39.8/x86_64-linux-thread-multi/XML/SAX/ExpatXS/Preload.pm line 230
	XML::SAX::ExpatXS::Preload::__ANON__(HASH(0x5617ca1b6ac8)) called at /home/sand/src/perl/repoperls/installed-perls/host/k93focal/v5.39.8/d119/lib/site_perl/5.39.8/x86_64-linux-thread-multi/XML/SAX/ExpatXS.pm line 163
	XML::SAX::ExpatXS::_parse(XML::SAX::ExpatXS=HASH(0x5617ca46d350)) called at /home/sand/src/perl/repoperls/installed-perls/host/k93focal/v5.39.8/d119/lib/site_perl/5.39.8/x86_64-linux-thread-multi/XML/SAX/ExpatXS.pm line 102
	XML::SAX::ExpatXS::_parse_string(XML::SAX::ExpatXS=HASH(0x5617ca46d350), "<root xmlns:a=\"a\" xmlns:b=\"b\">\x{a}    <a:one>oneA</a:one>\x{a}    <b"...) called at /home/sand/src/perl/repoperls/installed-perls/host/k93focal/v5.39.8/d119/lib/site_perl/5.39.8/XML/SAX/Base.pm line 2614
	XML::SAX::Base::parse(XML::SAX::ExpatXS=HASH(0x5617ca46d350), HASH(0x5617ca212bd0)) called at /home/sand/src/perl/repoperls/installed-perls/host/k93focal/v5.39.8/d119/lib/site_perl/5.39.8/XML/SAX/Base.pm line 2659
	XML::SAX::Base::parse_string(XML::SAX::ExpatXS=HASH(0x5617ca46d350), "<root xmlns:a=\"a\" xmlns:b=\"b\">\x{a}    <a:one>oneA</a:one>\x{a}    <b"...) called at inline delegation in XML::Toolkit::Loader for parser->parse_string (attribute declared in /tmp/loop_over_bdir-2391-PTcHhQ/XML-Toolkit-0.15-0/blib/lib/XML/Toolkit/Loader.pm at line 22) line 18
	XML::Toolkit::Loader::parse_string(XML::Toolkit::Loader=HASH(0x5617c94dfee0), "<root xmlns:a=\"a\" xmlns:b=\"b\">\x{a}    <a:one>oneA</a:one>\x{a}    <b"...) called at /home/sand/src/perl/repoperls/installed-perls/host/k93focal/v5.39.8/d119/lib/site_perl/5.39.8/x86_64-linux-thread-multi/Class/MOP/Method/Wrapped.pm line 44
	XML::Toolkit::Loader::_wrapped_parse_string(XML::Toolkit::Loader=HASH(0x5617c94dfee0), "<root xmlns:a=\"a\" xmlns:b=\"b\">\x{a}    <a:one>oneA</a:one>\x{a}    <b"...) called at /home/sand/src/perl/repoperls/installed-perls/host/k93focal/v5.39.8/d119/lib/site_perl/5.39.8/x86_64-linux-thread-multi/Class/MOP/Method/Wrapped.pm line 97
	XML::Toolkit::Loader::parse_string(XML::Toolkit::Loader=HASH(0x5617c94dfee0), "<root xmlns:a=\"a\" xmlns:b=\"b\">\x{a}    <a:one>oneA</a:one>\x{a}    <b"...) called at t/02.namespaces/03.namespaced_loading.t line 47
	eval {...} called at t/02.namespaces/03.namespaced_loading.t line 45
t/02.namespaces/03.namespaced_loading.t ....... ok
Class::MOP::load_class is deprecated at /home/sand/src/perl/repoperls/installed-perls/host/k93focal/v5.39.8/d119/lib/site_perl/5.39.8/x86_64-linux-thread-multi/Class/MOP.pm line 69.
	Class::MOP::load_class("XML::XSPF::Playlist") called at /tmp/loop_over_bdir-2391-PTcHhQ/XML-Toolkit-0.15-0/blib/lib/XML/Toolkit/Loader/Filter.pm line 44
	XML::Toolkit::Loader::Filter::load_class(XML::Toolkit::Loader::Filter=HASH(0x55f987551d38), "XML::XSPF::Playlist") called at /tmp/loop_over_bdir-2391-PTcHhQ/XML-Toolkit-0.15-0/blib/lib/XML/Toolkit/Loader/Filter.pm line 63
	XML::Toolkit::Loader::Filter::start_element(XML::Toolkit::Loader::Filter=HASH(0x55f987551d38), HASH(0x55f987338510)) called at /home/sand/src/perl/repoperls/installed-perls/host/k93focal/v5.39.8/d119/lib/site_perl/5.39.8/x86_64-linux-thread-multi/XML/SAX/ExpatXS/Preload.pm line 230
	XML::SAX::ExpatXS::Preload::__ANON__(HASH(0x55f987338510)) called at /home/sand/src/perl/repoperls/installed-perls/host/k93focal/v5.39.8/d119/lib/site_perl/5.39.8/x86_64-linux-thread-multi/XML/SAX/ExpatXS.pm line 163
	XML::SAX::ExpatXS::_parse(XML::SAX::ExpatXS=HASH(0x55f9874b99c0)) called at /home/sand/src/perl/repoperls/installed-perls/host/k93focal/v5.39.8/d119/lib/site_perl/5.39.8/x86_64-linux-thread-multi/XML/SAX/ExpatXS.pm line 102
	XML::SAX::ExpatXS::_parse_string(XML::SAX::ExpatXS=HASH(0x55f9874b99c0), "<?xml version=\"1.0\" encoding=\"utf-8\"?>\x{a}<playlist version=\"1\" "...) called at /home/sand/src/perl/repoperls/installed-perls/host/k93focal/v5.39.8/d119/lib/site_perl/5.39.8/XML/SAX/Base.pm line 2614
	XML::SAX::Base::parse(XML::SAX::ExpatXS=HASH(0x55f9874b99c0), HASH(0x55f98730db58)) called at /home/sand/src/perl/repoperls/installed-perls/host/k93focal/v5.39.8/d119/lib/site_perl/5.39.8/XML/SAX/Base.pm line 2659
	XML::SAX::Base::parse_string(XML::SAX::ExpatXS=HASH(0x55f9874b99c0), "<?xml version=\"1.0\" encoding=\"utf-8\"?>\x{a}<playlist version=\"1\" "...) called at inline delegation in XML::Toolkit::Loader for parser->parse_string (attribute declared in /tmp/loop_over_bdir-2391-PTcHhQ/XML-Toolkit-0.15-0/blib/lib/XML/Toolkit/Loader.pm at line 22) line 18
	XML::Toolkit::Loader::parse_string(XML::Toolkit::Loader=HASH(0x55f9872291f8), "<?xml version=\"1.0\" encoding=\"utf-8\"?>\x{a}<playlist version=\"1\" "...) called at /home/sand/src/perl/repoperls/installed-perls/host/k93focal/v5.39.8/d119/lib/site_perl/5.39.8/x86_64-linux-thread-multi/Class/MOP/Method/Wrapped.pm line 44
	XML::Toolkit::Loader::_wrapped_parse_string(XML::Toolkit::Loader=HASH(0x55f9872291f8), "<?xml version=\"1.0\" encoding=\"utf-8\"?>\x{a}<playlist version=\"1\" "...) called at /home/sand/src/perl/repoperls/installed-perls/host/k93focal/v5.39.8/d119/lib/site_perl/5.39.8/x86_64-linux-thread-multi/Class/MOP/Method/Wrapped.pm line 97
	XML::Toolkit::Loader::parse_string(XML::Toolkit::Loader=HASH(0x55f9872291f8), "<?xml version=\"1.0\" encoding=\"utf-8\"?>\x{a}<playlist version=\"1\" "...) called at t/03.xspf.t line 45
t/03.xspf.t ................................... ok
Class::MOP::load_class is deprecated at /home/sand/src/perl/repoperls/installed-perls/host/k93focal/v5.39.8/d119/lib/site_perl/5.39.8/x86_64-linux-thread-multi/Class/MOP.pm line 69.
	Class::MOP::load_class("XML::RDF::RDF") called at /tmp/loop_over_bdir-2391-PTcHhQ/XML-Toolkit-0.15-0/blib/lib/XML/Toolkit/Loader/Filter.pm line 44
	XML::Toolkit::Loader::Filter::load_class(XML::Toolkit::Loader::Filter=HASH(0x555880874de8), "XML::RDF::RDF") called at /tmp/loop_over_bdir-2391-PTcHhQ/XML-Toolkit-0.15-0/blib/lib/XML/Toolkit/Loader/Filter.pm line 63
	XML::Toolkit::Loader::Filter::start_element(XML::Toolkit::Loader::Filter=HASH(0x555880874de8), HASH(0x55588032ded8)) called at /home/sand/src/perl/repoperls/installed-perls/host/k93focal/v5.39.8/d119/lib/site_perl/5.39.8/x86_64-linux-thread-multi/XML/SAX/ExpatXS/Preload.pm line 230
	XML::SAX::ExpatXS::Preload::__ANON__(HASH(0x55588032ded8)) called at /home/sand/src/perl/repoperls/installed-perls/host/k93focal/v5.39.8/d119/lib/site_perl/5.39.8/x86_64-linux-thread-multi/XML/SAX/ExpatXS.pm line 163
	XML::SAX::ExpatXS::_parse(XML::SAX::ExpatXS=HASH(0x5558802b3de0)) called at /home/sand/src/perl/repoperls/installed-perls/host/k93focal/v5.39.8/d119/lib/site_perl/5.39.8/x86_64-linux-thread-multi/XML/SAX/ExpatXS.pm line 102
	XML::SAX::ExpatXS::_parse_string(XML::SAX::ExpatXS=HASH(0x5558802b3de0), "<?xml version=\"1.0\" encoding=\"utf-8\"?>\x{a}<rdf:RDF\x{a}  xmlns:rdf=\""...) called at /home/sand/src/perl/repoperls/installed-perls/host/k93focal/v5.39.8/d119/lib/site_perl/5.39.8/XML/SAX/Base.pm line 2614
	XML::SAX::Base::parse(XML::SAX::ExpatXS=HASH(0x5558802b3de0), HASH(0x555880585878)) called at /home/sand/src/perl/repoperls/installed-perls/host/k93focal/v5.39.8/d119/lib/site_perl/5.39.8/XML/SAX/Base.pm line 2659
	XML::SAX::Base::parse_string(XML::SAX::ExpatXS=HASH(0x5558802b3de0), "<?xml version=\"1.0\" encoding=\"utf-8\"?>\x{a}<rdf:RDF\x{a}  xmlns:rdf=\""...) called at inline delegation in XML::Toolkit::Loader for parser->parse_string (attribute declared in /tmp/loop_over_bdir-2391-PTcHhQ/XML-Toolkit-0.15-0/blib/lib/XML/Toolkit/Loader.pm at line 22) line 18
	XML::Toolkit::Loader::parse_string(XML::Toolkit::Loader=HASH(0x5558804282b8), "<?xml version=\"1.0\" encoding=\"utf-8\"?>\x{a}<rdf:RDF\x{a}  xmlns:rdf=\""...) called at /home/sand/src/perl/repoperls/installed-perls/host/k93focal/v5.39.8/d119/lib/site_perl/5.39.8/x86_64-linux-thread-multi/Class/MOP/Method/Wrapped.pm line 44
	XML::Toolkit::Loader::_wrapped_parse_string(XML::Toolkit::Loader=HASH(0x5558804282b8), "<?xml version=\"1.0\" encoding=\"utf-8\"?>\x{a}<rdf:RDF\x{a}  xmlns:rdf=\""...) called at /home/sand/src/perl/repoperls/installed-perls/host/k93focal/v5.39.8/d119/lib/site_perl/5.39.8/x86_64-linux-thread-multi/Class/MOP/Method/Wrapped.pm line 97
	XML::Toolkit::Loader::parse_string(XML::Toolkit::Loader=HASH(0x5558804282b8), "<?xml version=\"1.0\" encoding=\"utf-8\"?>\x{a}<rdf:RDF\x{a}  xmlns:rdf=\""...) called at t/04.rdf.t line 42
t/04.rdf.t .................................... ok
Class::MOP::load_class is deprecated at /home/sand/src/perl/repoperls/installed-perls/host/k93focal/v5.39.8/d119/lib/site_perl/5.39.8/x86_64-linux-thread-multi/Class/MOP.pm line 69.
	Class::MOP::load_class("MyApp::Code") called at /tmp/loop_over_bdir-2391-PTcHhQ/XML-Toolkit-0.15-0/blib/lib/XML/Toolkit/Loader/Filter.pm line 44
	XML::Toolkit::Loader::Filter::load_class(XML::Toolkit::Loader::Filter=HASH(0x55a10d403308), "MyApp::Code") called at /tmp/loop_over_bdir-2391-PTcHhQ/XML-Toolkit-0.15-0/blib/lib/XML/Toolkit/Loader/Filter.pm line 63
	XML::Toolkit::Loader::Filter::start_element(XML::Toolkit::Loader::Filter=HASH(0x55a10d403308), HASH(0x55a10d313968)) called at /home/sand/src/perl/repoperls/installed-perls/host/k93focal/v5.39.8/d119/lib/site_perl/5.39.8/x86_64-linux-thread-multi/XML/SAX/ExpatXS/Preload.pm line 230
	XML::SAX::ExpatXS::Preload::__ANON__(HASH(0x55a10d313968)) called at /home/sand/src/perl/repoperls/installed-perls/host/k93focal/v5.39.8/d119/lib/site_perl/5.39.8/x86_64-linux-thread-multi/XML/SAX/ExpatXS.pm line 163
	XML::SAX::ExpatXS::_parse(XML::SAX::ExpatXS=HASH(0x55a10d403320)) called at /home/sand/src/perl/repoperls/installed-perls/host/k93focal/v5.39.8/d119/lib/site_perl/5.39.8/x86_64-linux-thread-multi/XML/SAX/ExpatXS.pm line 102
	XML::SAX::ExpatXS::_parse_string(XML::SAX::ExpatXS=HASH(0x55a10d403320), "<code><![CDATA[<crackers & cheese>]]></code>") called at /home/sand/src/perl/repoperls/installed-perls/host/k93focal/v5.39.8/d119/lib/site_perl/5.39.8/XML/SAX/Base.pm line 2614
	XML::SAX::Base::parse(XML::SAX::ExpatXS=HASH(0x55a10d403320), HASH(0x55a10d3a6490)) called at /home/sand/src/perl/repoperls/installed-perls/host/k93focal/v5.39.8/d119/lib/site_perl/5.39.8/XML/SAX/Base.pm line 2659
	XML::SAX::Base::parse_string(XML::SAX::ExpatXS=HASH(0x55a10d403320), "<code><![CDATA[<crackers & cheese>]]></code>") called at inline delegation in XML::Toolkit::Loader for parser->parse_string (attribute declared in /tmp/loop_over_bdir-2391-PTcHhQ/XML-Toolkit-0.15-0/blib/lib/XML/Toolkit/Loader.pm at line 22) line 18
	XML::Toolkit::Loader::parse_string(XML::Toolkit::Loader=HASH(0x55a10ba4f058), "<code><![CDATA[<crackers & cheese>]]></code>") called at /home/sand/src/perl/repoperls/installed-perls/host/k93focal/v5.39.8/d119/lib/site_perl/5.39.8/x86_64-linux-thread-multi/Class/MOP/Method/Wrapped.pm line 44
	XML::Toolkit::Loader::_wrapped_parse_string(XML::Toolkit::Loader=HASH(0x55a10ba4f058), "<code><![CDATA[<crackers & cheese>]]></code>") called at /home/sand/src/perl/repoperls/installed-perls/host/k93focal/v5.39.8/d119/lib/site_perl/5.39.8/x86_64-linux-thread-multi/Class/MOP/Method/Wrapped.pm line 97
	XML::Toolkit::Loader::parse_string(XML::Toolkit::Loader=HASH(0x55a10ba4f058), "<code><![CDATA[<crackers & cheese>]]></code>") called at t/05.cdata.t line 26
t/05.cdata.t .................................. ok
Class::MOP::load_class is deprecated at /home/sand/src/perl/repoperls/installed-perls/host/k93focal/v5.39.8/d119/lib/site_perl/5.39.8/x86_64-linux-thread-multi/Class/MOP.pm line 69.
	Class::MOP::load_class("MyTest::Note") called at /tmp/loop_over_bdir-2391-PTcHhQ/XML-Toolkit-0.15-0/blib/lib/XML/Toolkit/Loader/Filter.pm line 44
	XML::Toolkit::Loader::Filter::load_class(XML::Toolkit::Loader::Filter=HASH(0x5607de059d60), "MyTest::Note") called at /tmp/loop_over_bdir-2391-PTcHhQ/XML-Toolkit-0.15-0/blib/lib/XML/Toolkit/Loader/Filter.pm line 63
	XML::Toolkit::Loader::Filter::start_element(XML::Toolkit::Loader::Filter=HASH(0x5607de059d60), HASH(0x5607ddbc6138)) called at /home/sand/src/perl/repoperls/installed-perls/host/k93focal/v5.39.8/d119/lib/site_perl/5.39.8/x86_64-linux-thread-multi/XML/SAX/ExpatXS/Preload.pm line 230
	XML::SAX::ExpatXS::Preload::__ANON__(HASH(0x5607ddbc6138)) called at /home/sand/src/perl/repoperls/installed-perls/host/k93focal/v5.39.8/d119/lib/site_perl/5.39.8/x86_64-linux-thread-multi/XML/SAX/ExpatXS.pm line 163
	XML::SAX::ExpatXS::_parse(XML::SAX::ExpatXS=HASH(0x5607de134430)) called at /home/sand/src/perl/repoperls/installed-perls/host/k93focal/v5.39.8/d119/lib/site_perl/5.39.8/x86_64-linux-thread-multi/XML/SAX/ExpatXS.pm line 102
	XML::SAX::ExpatXS::_parse_string(XML::SAX::ExpatXS=HASH(0x5607de134430), "<?xml version=\"1.0\"?>\x{a}<note>\x{a}    <to>Tove</to>\x{a}    <from>Jani"...) called at /home/sand/src/perl/repoperls/installed-perls/host/k93focal/v5.39.8/d119/lib/site_perl/5.39.8/XML/SAX/Base.pm line 2614
	XML::SAX::Base::parse(XML::SAX::ExpatXS=HASH(0x5607de134430), HASH(0x5607dd4c9c98)) called at /home/sand/src/perl/repoperls/installed-perls/host/k93focal/v5.39.8/d119/lib/site_perl/5.39.8/XML/SAX/Base.pm line 2659
	XML::SAX::Base::parse_string(XML::SAX::ExpatXS=HASH(0x5607de134430), "<?xml version=\"1.0\"?>\x{a}<note>\x{a}    <to>Tove</to>\x{a}    <from>Jani"...) called at inline delegation in XML::Toolkit::Loader for parser->parse_string (attribute declared in /tmp/loop_over_bdir-2391-PTcHhQ/XML-Toolkit-0.15-0/blib/lib/XML/Toolkit/Loader.pm at line 22) line 18
	XML::Toolkit::Loader::parse_string(XML::Toolkit::Loader=HASH(0x5607de054280), "<?xml version=\"1.0\"?>\x{a}<note>\x{a}    <to>Tove</to>\x{a}    <from>Jani"...) called at /home/sand/src/perl/repoperls/installed-perls/host/k93focal/v5.39.8/d119/lib/site_perl/5.39.8/x86_64-linux-thread-multi/Class/MOP/Method/Wrapped.pm line 44
	XML::Toolkit::Loader::_wrapped_parse_string(XML::Toolkit::Loader=HASH(0x5607de054280), "<?xml version=\"1.0\"?>\x{a}<note>\x{a}    <to>Tove</to>\x{a}    <from>Jani"...) called at /home/sand/src/perl/repoperls/installed-perls/host/k93focal/v5.39.8/d119/lib/site_perl/5.39.8/x86_64-linux-thread-multi/Class/MOP/Method/Wrapped.pm line 97
	XML::Toolkit::Loader::parse_string(XML::Toolkit::Loader=HASH(0x5607de054280), "<?xml version=\"1.0\"?>\x{a}<note>\x{a}    <to>Tove</to>\x{a}    <from>Jani"...) called at t/06.reuse/06.reuse_generator.t line 41
t/06.reuse/06.reuse_generator.t ............... ok
Class::MOP::load_class is deprecated at /home/sand/src/perl/repoperls/installed-perls/host/k93focal/v5.39.8/d119/lib/site_perl/5.39.8/x86_64-linux-thread-multi/Class/MOP.pm line 69.
	Class::MOP::load_class() called at /tmp/loop_over_bdir-2391-PTcHhQ/XML-Toolkit-0.15-0/blib/lib/XML/Toolkit/Loader/Filter.pm line 44
	XML::Toolkit::Loader::Filter::load_class() called at /tmp/loop_over_bdir-2391-PTcHhQ/XML-Toolkit-0.15-0/blib/lib/XML/Toolkit/Loader/Filter.pm line 63
	XML::Toolkit::Loader::Filter::start_element() called at /home/sand/src/perl/repoperls/installed-perls/host/k93focal/v5.39.8/d119/lib/site_perl/5.39.8/x86_64-linux-thread-multi/XML/SAX/ExpatXS/Preload.pm line 230
	XML::SAX::ExpatXS::Preload::__ANON__() called at /home/sand/src/perl/repoperls/installed-perls/host/k93focal/v5.39.8/d119/lib/site_perl/5.39.8/x86_64-linux-thread-multi/XML/SAX/ExpatXS.pm line 163
	XML::SAX::ExpatXS::_parse() called at /home/sand/src/perl/repoperls/installed-perls/host/k93focal/v5.39.8/d119/lib/site_perl/5.39.8/x86_64-linux-thread-multi/XML/SAX/ExpatXS.pm line 102
	XML::SAX::ExpatXS::_parse_string() called at /home/sand/src/perl/repoperls/installed-perls/host/k93focal/v5.39.8/d119/lib/site_perl/5.39.8/XML/SAX/Base.pm line 2614
	XML::SAX::Base::parse() called at /home/sand/src/perl/repoperls/installed-perls/host/k93focal/v5.39.8/d119/lib/site_perl/5.39.8/XML/SAX/Base.pm line 2659
	XML::SAX::Base::parse_string() called at inline delegation in XML::Toolkit::Loader for parser->parse_string (attribute declared in /tmp/loop_over_bdir-2391-PTcHhQ/XML-Toolkit-0.15-0/blib/lib/XML/Toolkit/Loader.pm at line 22) line 18
	XML::Toolkit::Loader::parse_string() called at /home/sand/src/perl/repoperls/installed-perls/host/k93focal/v5.39.8/d119/lib/site_perl/5.39.8/x86_64-linux-thread-multi/Class/MOP/Method/Wrapped.pm line 44
	XML::Toolkit::Loader::_wrapped_parse_string() called at /home/sand/src/perl/repoperls/installed-perls/host/k93focal/v5.39.8/d119/lib/site_perl/5.39.8/x86_64-linux-thread-multi/Class/MOP/Method/Wrapped.pm line 97
	XML::Toolkit::Loader::parse_string() called at t/06.reuse/06.reuse_loader.t line 42
	Test::Exception::lives_ok() called at t/06.reuse/06.reuse_loader.t line 42
t/06.reuse/06.reuse_loader.t .................. ok
t/release-pod-coverage.t ...................... skipped: these tests are for release candidate testing
t/release-pod-syntax.t ........................ skipped: these tests are for release candidate testing
All tests successful.
Files=12, Tests=91, 19 wallclock secs ( 0.06 usr  0.04 sys + 17.65 cusr  1.28 csys = 19.03 CPU)
Result: PASS

------------------------------
PREREQUISITES
------------------------------

Prerequisite modules loaded:

requires:

    Module                                   Need Have    
    ---------------------------------------- ---- --------
    aliased                                  0    0.34    
    Bread::Board                             0    0.37    
    Bread::Board::Container                  0    0.37    
    Devel::PackagePath                       0.01 0.03    
    Encode                                   0    3.20    
    Moose                                    0.92 2.2207  
    Moose::Role                              0    2.2207  
    Moose::Util::TypeConstraints             0    2.2207  
    MooseX::Aliases                          0    0.11    
    MooseX::App::Cmd                         0    0.34    
    MooseX::App::Cmd::Command                0    0.34    
    MooseX::Getopt::Dashes                   0    0.76    
    MooseX::MetaDescription                  0.03 0.06    
    MooseX::MetaDescription::Description     0    0.06    
    MooseX::MetaDescription::Meta::Attribute 0    0.06    
    MooseX::MetaDescription::Meta::Trait     0    0.06    
    MooseX::NonMoose                         0    0.26    
    MooseX::Types::Path::Class               0.04 0.09    
    namespace::autoclean                     0    0.29    
    strict                                   0    1.13    
    Template                                 2.20 3.101   
    warnings                                 0    1.68    
    XML::SAX                                 0.96 1.02    
    XML::SAX::Base                           0    1.09    
    XML::SAX::Writer                         0.50 0.57    

build_requires:

    Module                                   Need Have    
    ---------------------------------------- ---- --------
    File::Find                               0    1.44    
    File::Temp                               0    0.2311  
    Path::Class                              0    0.37    
    Test::Deep                               0    1.204   
    Test::Exception                          0    0.43    
    Test::More                               0    1.302198
    Test::Simple                             0.94 1.302198
    Test::XML                                0.00 0.08    

configure_requires:

    Module                                   Need Have    
    ---------------------------------------- ---- --------
    ExtUtils::MakeMaker                      6.30 7.70    


------------------------------
ENVIRONMENT AND OTHER CONTEXT
------------------------------

Environment variables:

    AUTOMATED_TESTING = 1
    LANG = en_US.UTF-8
    PATH = /home/sand/bin:/usr/local/bin:/usr/local/sbin:/usr/sbin:/usr/bin:/sbin:/bin:/usr/games:/usr/local/games:/snap/bin:/usr/local/perl/bin:/usr/X11/bin
    PERL = /tmp/basesmoker-reloperl-0n0h/bin/perl
    PERL5LIB = /tmp/loop_over_bdir-2391-PTcHhQ/Devel-Required-0.16-0/blib/arch:/tmp/loop_over_bdir-2391-PTcHhQ/Devel-Required-0.16-0/blib/lib:/tmp/loop_over_bdir-2391-PTcHhQ/Business-Shipping-DataFiles-1.02-0/blib/arch:/tmp/loop_over_bdir-2391-PTcHhQ/Business-Shipping-DataFiles-1.02-0/blib/lib:/tmp/loop_over_bdir-2391-PTcHhQ/Sysync-0.38-0/blib/arch:/tmp/loop_over_bdir-2391-PTcHhQ/Sysync-0.38-0/blib/lib
    PERL5OPT = 
    PERL5_CPANPLUS_IS_RUNNING = 2399
    PERL5_CPAN_IS_RUNNING = 2399
    PERL_CANARY_STABILITY_NOPROMPT = 1
    PERL_MM_USE_DEFAULT = 1
    PERL_USE_UNSAFE_INC = 1
    SHELL = /usr/bin/zsh
    TERM = screen

Perl special variables (and OS-specific diagnostics, for MSWin32):

    $^X = /tmp/basesmoker-reloperl-0n0h/bin/perl
    $UID/$EUID = 1005 / 1005
    $GID = 1005 1005
    $EGID = 1005 1005

Perl module toolchain versions installed:

    Module              Have    
    ------------------- --------
    CPAN                2.36    
    CPAN::Meta          2.150010
    Cwd                 3.90    
    ExtUtils::CBuilder  0.280240
    ExtUtils::Command   7.70    
    ExtUtils::Install   2.22    
    ExtUtils::MakeMaker 7.70    
    ExtUtils::Manifest  1.75    
    ExtUtils::ParseXS   3.51    
    File::Spec          3.90    
    JSON                4.10    
    JSON::PP            4.16    
    Module::Build       0.4234  
    Module::Signature   0.88    
    Parse::CPAN::Meta   2.150010
    Test2               1.302198
    Test::Harness       3.48    
    Test::More          1.302198
    YAML                1.31    
    YAML::Syck          1.34    
    version             0.9930  


--

Summary of my perl5 (revision 5 version 39 subversion 8) configuration:
  Commit id: 78455e6e7fa235411fb2b931eda9d816b5ea880f
  Platform:
    osname=linux
    osvers=5.4.0-171-generic
    archname=x86_64-linux-thread-multi
    uname='linux k93focal 5.4.0-171-generic #189-ubuntu smp fri jan 5 14:23:02 utc 2024 x86_64 x86_64 x86_64 gnulinux '
    config_args='-Dprefix=/home/sand/src/perl/repoperls/installed-perls/host/k93focal/v5.39.8/d119 -Dmyhostname=k93focal -Dinstallusrbinperl=n -Uversiononly -Dusedevel -des -Ui_db -Dlibswanted=cl pthread socket inet nsl gdbm dbm malloc dl ld sun m crypt sec util c cposix posix ucb BSD gdbm_compat -Duseithreads -Uuselongdouble -DEBUGGING=both'
    hint=recommended
    useposix=true
    d_sigaction=define
    useithreads=define
    usemultiplicity=define
    use64bitint=define
    use64bitall=define
    uselongdouble=undef
    usemymalloc=n
    default_inc_excludes_dot=define
  Compiler:
    cc='cc'
    ccflags ='-D_REENTRANT -D_GNU_SOURCE -fwrapv -DDEBUGGING -fno-strict-aliasing -pipe -fstack-protector-strong -I/usr/local/include -D_LARGEFILE_SOURCE -D_FILE_OFFSET_BITS=64'
    optimize='-O2 -g'
    cppflags='-D_REENTRANT -D_GNU_SOURCE -fwrapv -DDEBUGGING -fno-strict-aliasing -pipe -fstack-protector-strong -I/usr/local/include'
    ccversion=''
    gccversion='9.4.0'
    gccosandvers=''
    intsize=4
    longsize=8
    ptrsize=8
    doublesize=8
    byteorder=12345678
    doublekind=3
    d_longlong=define
    longlongsize=8
    d_longdbl=define
    longdblsize=16
    longdblkind=3
    ivtype='long'
    ivsize=8
    nvtype='double'
    nvsize=8
    Off_t='off_t'
    lseeksize=8
    alignbytes=8
    prototype=define
  Linker and Libraries:
    ld='cc'
    ldflags =' -fstack-protector-strong -L/usr/local/lib'
    libpth=/usr/local/lib /usr/lib/x86_64-linux-gnu /usr/lib /usr/lib64
    libs=-lpthread -lnsl -ldl -lm -lcrypt -lutil -lc
    perllibs=-lpthread -lnsl -ldl -lm -lcrypt -lutil -lc
    libc=libc-2.31.so
    so=so
    useshrplib=false
    libperl=libperl.a
    gnulibc_version='2.31'
  Dynamic Linking:
    dlsrc=dl_dlopen.xs
    dlext=so
    d_dlsymun=undef
    ccdlflags='-Wl,-E'
    cccdlflags='-fPIC'
    lddlflags='-shared -O2 -g -L/usr/local/lib -fstack-protector-strong'


Characteristics of this binary (from libperl): 
  Compile-time options:
    DEBUGGING
    HAS_LONG_DOUBLE
    HAS_STRTOLD
    HAS_TIMES
    MULTIPLICITY
    PERLIO_LAYERS
    PERL_COPY_ON_WRITE
    PERL_DONT_CREATE_GVSV
    PERL_HASH_FUNC_SIPHASH13
    PERL_HASH_USE_SBOX32
    PERL_MALLOC_WRAP
    PERL_OP_PARENT
    PERL_PRESERVE_IVUV
    PERL_TRACK_MEMPOOL
    PERL_USE_DEVEL
    PERL_USE_SAFE_PUTENV
    USE_64_BIT_ALL
    USE_64_BIT_INT
    USE_ITHREADS
    USE_LARGE_FILES
    USE_LOCALE
    USE_LOCALE_COLLATE
    USE_LOCALE_CTYPE
    USE_LOCALE_NUMERIC
    USE_LOCALE_TIME
    USE_PERLIO
    USE_PERL_ATOF
    USE_REENTRANT_API
    USE_THREAD_SAFE_LOCALE
  Built under linux
  Compiled at Feb 24 2024 09:36:34
  %ENV:
    PERL="/tmp/basesmoker-reloperl-0n0h/bin/perl"
    PERL5LIB="/tmp/loop_over_bdir-2391-PTcHhQ/Devel-Required-0.16-0/blib/arch:/tmp/loop_over_bdir-2391-PTcHhQ/Devel-Required-0.16-0/blib/lib:/tmp/loop_over_bdir-2391-PTcHhQ/Business-Shipping-DataFiles-1.02-0/blib/arch:/tmp/loop_over_bdir-2391-PTcHhQ/Business-Shipping-DataFiles-1.02-0/blib/lib:/tmp/loop_over_bdir-2391-PTcHhQ/Sysync-0.38-0/blib/arch:/tmp/loop_over_bdir-2391-PTcHhQ/Sysync-0.38-0/blib/lib"
    PERL5OPT=""
    PERL5_CPANPLUS_IS_RUNNING="2399"
    PERL5_CPAN_IS_RUNNING="2399"
    PERL_CANARY_STABILITY_NOPROMPT="1"
    PERL_MM_USE_DEFAULT="1"
    PERL_USE_UNSAFE_INC="1"
  @INC:
    /tmp/loop_over_bdir-2391-PTcHhQ/Devel-Required-0.16-0/blib/arch
    /tmp/loop_over_bdir-2391-PTcHhQ/Devel-Required-0.16-0/blib/lib
    /tmp/loop_over_bdir-2391-PTcHhQ/Business-Shipping-DataFiles-1.02-0/blib/arch
    /tmp/loop_over_bdir-2391-PTcHhQ/Business-Shipping-DataFiles-1.02-0/blib/lib
    /tmp/loop_over_bdir-2391-PTcHhQ/Sysync-0.38-0/blib/arch
    /tmp/loop_over_bdir-2391-PTcHhQ/Sysync-0.38-0/blib/lib
    /home/sand/src/perl/repoperls/installed-perls/host/k93focal/v5.39.8/d119/lib/site_perl/5.39.8/x86_64-linux-thread-multi
    /home/sand/src/perl/repoperls/installed-perls/host/k93focal/v5.39.8/d119/lib/site_perl/5.39.8
    /home/sand/src/perl/repoperls/installed-perls/host/k93focal/v5.39.8/d119/lib/5.39.8/x86_64-linux-thread-multi
    /home/sand/src/perl/repoperls/installed-perls/host/k93focal/v5.39.8/d119/lib/5.39.8
    .