MozRepl v0.06 Perl 5 v5.18.0 x86_64-linux-ld
- Status
- Pass
- From
- Andreas J. König (ANDK)
- Dist
-
MozRepl v0.06
- Platform
- Perl 5 v5.18.0 x86_64-linux-ld
- Date
- 2017-10-21 22:19:05
- ID
- d9ec6ac2-b6ad-11e7-9653-360a42a3824d
This distribution has been tested as part of the CPAN Testers
project, supporting the Perl programming language. See
http://wiki.cpantesters.org/ for more information or email
questions to cpan-testers-discuss@perl.org
--
Dear Toru Yamaguchi,
This is a computer-generated report for MozRepl-0.06
on perl 5.18.0, created by CPAN-Reporter-1.2018.
Thank you for uploading your work to CPAN. Congratulations!
All tests were successful.
Sections of this report:
* Tester comments
* Program output
* Prerequisites
* Environment and other context
------------------------------
TESTER COMMENTS
------------------------------
Additional comments from tester:
this report is from an automated smoke testing program
and was not reviewed by a human for accuracy
------------------------------
PROGRAM OUTPUT
------------------------------
Output from '/usr/bin/make test':
"/home/sand/src/perl/repoperls/installed-perls/host/k93msid/v5.18.0/2d7c/bin/perl" "-Iinc" Makefile.PL --config= --installdeps=Data::JavaScript::Anon,0,Module::Pluggable::Fast,0,Net::Telnet,0,Template::Provider::FromDATA,0
PERL_DL_NONLAZY=1 "/home/sand/src/perl/repoperls/installed-perls/host/k93msid/v5.18.0/2d7c/bin/perl" "-MExtUtils::Command::MM" "-MTest::Harness" "-e" "undef *Test::Harness::Switches; test_harness(0, 'inc', 'blib/lib', 'blib/arch')" t/00-load.t t/10-plugin-repl-enter.t t/11-plugin-repl-search.t t/12-plugin-repl-inspect.t t/13-plugin-repl-load.t t/14-plugin-repl-rename.t t/15-plugin-repl-print.t t/16-plugin-repl-home.t t/17-plugin-repl-back.t t/18-plugin-repl-util-help_url_for.t t/19-plugin-repl-util-doc_for.t t/20-plugin-json.t t/pod-coverage.t t/pod.t
# Testing MozRepl 0.06
t/00-load.t ........................... ok
[DEBUG] MozRepl logging enabled
[DEBUG]
---- Client arguments ----
.----------------------+------------------------------------------.
| client_arg_name | client_arg_value |
+----------------------+------------------------------------------+
| host | localhost |
| port | 4242 |
| timeout | 10 |
| extra_client_args | {} |
'----------------------+------------------------------------------'
t/10-plugin-repl-enter.t .............. ok
[DEBUG] MozRepl logging enabled
[DEBUG]
---- Client arguments ----
.----------------------+------------------------------------------.
| client_arg_name | client_arg_value |
+----------------------+------------------------------------------+
| host | localhost |
| port | 4242 |
| timeout | 10 |
| extra_client_args | {} |
'----------------------+------------------------------------------'
t/11-plugin-repl-search.t ............. ok
[DEBUG] MozRepl logging enabled
[DEBUG]
---- Client arguments ----
.----------------------+------------------------------------------.
| client_arg_name | client_arg_value |
+----------------------+------------------------------------------+
| host | localhost |
| port | 4242 |
| timeout | 10 |
| extra_client_args | {} |
'----------------------+------------------------------------------'
t/12-plugin-repl-inspect.t ............ ok
[DEBUG] MozRepl logging enabled
[DEBUG]
---- Client arguments ----
.----------------------+------------------------------------------.
| client_arg_name | client_arg_value |
+----------------------+------------------------------------------+
| host | localhost |
| port | 4242 |
| timeout | 10 |
| extra_client_args | {} |
'----------------------+------------------------------------------'
t/13-plugin-repl-load.t ............... ok
[DEBUG] MozRepl logging enabled
[DEBUG]
---- Client arguments ----
.----------------------+------------------------------------------.
| client_arg_name | client_arg_value |
+----------------------+------------------------------------------+
| host | localhost |
| port | 4242 |
| timeout | 10 |
| extra_client_args | {} |
'----------------------+------------------------------------------'
t/14-plugin-repl-rename.t ............. ok
[DEBUG] MozRepl logging enabled
[DEBUG]
---- Client arguments ----
.----------------------+------------------------------------------.
| client_arg_name | client_arg_value |
+----------------------+------------------------------------------+
| host | localhost |
| port | 4242 |
| timeout | 10 |
| extra_client_args | {} |
'----------------------+------------------------------------------'
t/15-plugin-repl-print.t .............. ok
[DEBUG] MozRepl logging enabled
[DEBUG]
---- Client arguments ----
.----------------------+------------------------------------------.
| client_arg_name | client_arg_value |
+----------------------+------------------------------------------+
| host | localhost |
| port | 4242 |
| timeout | 10 |
| extra_client_args | {} |
'----------------------+------------------------------------------'
t/16-plugin-repl-home.t ............... ok
[DEBUG] MozRepl logging enabled
[DEBUG]
---- Client arguments ----
.----------------------+------------------------------------------.
| client_arg_name | client_arg_value |
+----------------------+------------------------------------------+
| host | localhost |
| port | 4242 |
| timeout | 10 |
| extra_client_args | {} |
'----------------------+------------------------------------------'
t/17-plugin-repl-back.t ............... ok
[DEBUG] MozRepl logging enabled
[DEBUG]
---- Client arguments ----
.----------------------+------------------------------------------.
| client_arg_name | client_arg_value |
+----------------------+------------------------------------------+
| host | localhost |
| port | 4242 |
| timeout | 10 |
| extra_client_args | {} |
'----------------------+------------------------------------------'
t/18-plugin-repl-util-help_url_for.t .. ok
[DEBUG] MozRepl logging enabled
[DEBUG]
---- Client arguments ----
.----------------------+------------------------------------------.
| client_arg_name | client_arg_value |
+----------------------+------------------------------------------+
| host | localhost |
| port | 4242 |
| timeout | 10 |
| extra_client_args | {} |
'----------------------+------------------------------------------'
t/19-plugin-repl-util-doc_for.t ....... ok
[DEBUG] MozRepl logging enabled
[DEBUG]
---- Client arguments ----
.----------------------+------------------------------------------.
| client_arg_name | client_arg_value |
+----------------------+------------------------------------------+
| host | localhost |
| port | 4242 |
| timeout | 10 |
| extra_client_args | {} |
'----------------------+------------------------------------------'
t/20-plugin-json.t .................... ok
t/pod-coverage.t ...................... ok
t/pod.t ............................... ok
All tests successful.
Files=14, Tests=74, 4 wallclock secs ( 0.04 usr 0.08 sys + 1.02 cusr 0.32 csys = 1.46 CPU)
Result: PASS
------------------------------
PREREQUISITES
------------------------------
Prerequisite modules loaded:
requires:
Module Need Have
---------------------------- ---- ----
Carp::Clan 0 6.06
Class::Accessor::Fast 0 0.34
Class::Data::Inheritable 0 0.08
Data::Dump 0 1.23
Data::JavaScript::Anon 0 1.03
File::Spec 0 3.62
Module::Pluggable::Fast 0 0.19
Net::Telnet 0 3.04
Template 0 2.27
Template::Provider::FromDATA 0 0.13
Text::SimpleTable 0 2.03
UNIVERSAL::require 0 0.18
URI 0 1.72
build_requires:
Module Need Have
---------------------------- ---- ----
ExtUtils::MakeMaker 0 7.30
------------------------------
ENVIRONMENT AND OTHER CONTEXT
------------------------------
Environment variables:
AUTOMATED_TESTING = 1
LANG = en_US.UTF-8
PATH = /home/sand/bin:/usr/local/bin:/usr/bin:/bin:/usr/games:/usr/local/perl/bin:/usr/X11/bin:/sbin:/usr/sbin
PERL5LIB = /tmp/loop_over_bdir-4341-RFh6qL/Template-Provider-FromDATA-0.13-0/blib/arch:/tmp/loop_over_bdir-4341-RFh6qL/Template-Provider-FromDATA-0.13-0/blib/lib:/tmp/loop_over_bdir-4341-RFh6qL/Net-Telnet-3.04-0/blib/arch:/tmp/loop_over_bdir-4341-RFh6qL/Net-Telnet-3.04-0/blib/lib:/tmp/loop_over_bdir-4341-RFh6qL/Module-Pluggable-Fast-0.19-0/blib/arch:/tmp/loop_over_bdir-4341-RFh6qL/Module-Pluggable-Fast-0.19-0/blib/lib:/tmp/loop_over_bdir-4341-RFh6qL/Data-JavaScript-Anon-1.03-0/blib/arch:/tmp/loop_over_bdir-4341-RFh6qL/Data-JavaScript-Anon-1.03-0/blib/lib:/tmp/loop_over_bdir-4341-RFh6qL/Class-Default-1.51-0/blib/arch:/tmp/loop_over_bdir-4341-RFh6qL/Class-Default-1.51-0/blib/lib
PERL5OPT =
PERL5_CPANPLUS_IS_RUNNING = 4349
PERL5_CPAN_IS_RUNNING = 4349
PERL5_CPAN_IS_RUNNING_IN_RECURSION = 5690,4349
PERL_CANARY_STABILITY_NOPROMPT = 1
PERL_MM_USE_DEFAULT = 1
PERL_USE_UNSAFE_INC = 1
SHELL = /usr/bin/zsh
TERM = screen
Perl special variables (and OS-specific diagnostics, for MSWin32):
$^X = /home/sand/src/perl/repoperls/installed-perls/host/k93msid/v5.18.0/2d7c/bin/perl
$UID/$EUID = 1005 / 1005
$GID = 1005 1005
$EGID = 1005 1005
Perl module toolchain versions installed:
Module Have
------------------- --------
CPAN 2.18
CPAN::Meta 2.150010
Cwd 3.62
ExtUtils::CBuilder 0.280226
ExtUtils::Command 7.30
ExtUtils::Install 2.06
ExtUtils::MakeMaker 7.30
ExtUtils::Manifest 1.70
ExtUtils::ParseXS 3.35
File::Spec 3.62
JSON 2.94
JSON::PP 2.94
Module::Build 0.4224
Module::Signature 0.81
Parse::CPAN::Meta 2.150010
Test::Harness 3.39
Test::More 1.302106
YAML 1.23
YAML::Syck 1.30
version 0.9918
--
Summary of my perl5 (revision 5 version 18 subversion 0) configuration:
Derived from: a9acda3b5f74585852a57b51b724804ac586cb0b
Platform:
osname=linux, osvers=4.12.0-2-amd64, archname=x86_64-linux-ld
uname='linux k93msid 4.12.0-2-amd64 #1 smp debian 4.12.13-1 (2017-09-19) x86_64 gnulinux '
config_args='-Dprefix=/home/sand/src/perl/repoperls/installed-perls/host/k93msid/v5.18.0/2d7c -Dmyhostname=k93msid -Dinstallusrbinperl=n -Uversiononly -Dusedevel -des -Ui_db -Dlibswanted=cl pthread socket inet nsl gdbm dbm malloc dl ld sun m crypt sec util c cposix posix ucb BSD gdbm_compat -Uuseithreads -Duselongdouble -DDEBUGGING=-g'
hint=recommended, useposix=true, d_sigaction=define
useithreads=undef, usemultiplicity=undef
useperlio=define, d_sfio=undef, uselargefiles=define, usesocks=undef
use64bitint=define, use64bitall=define, uselongdouble=define
usemymalloc=n, bincompat5005=undef
Compiler:
cc='cc', ccflags ='-fno-strict-aliasing -pipe -fstack-protector -I/usr/local/include -D_LARGEFILE_SOURCE -D_FILE_OFFSET_BITS=64',
optimize='-O2 -g',
cppflags='-fno-strict-aliasing -pipe -fstack-protector -I/usr/local/include'
ccversion='', gccversion='7.2.0', gccosandvers=''
intsize=4, longsize=8, ptrsize=8, doublesize=8, byteorder=12345678
d_longlong=define, longlongsize=8, d_longdbl=define, longdblsize=16
ivtype='long', ivsize=8, nvtype='long double', nvsize=16, Off_t='off_t', lseeksize=8
alignbytes=16, prototype=define
Linker and Libraries:
ld='cc', ldflags =' -fstack-protector -L/usr/local/lib'
libpth=/usr/local/lib /lib/x86_64-linux-gnu /lib/../lib /usr/lib/x86_64-linux-gnu /usr/lib/../lib /lib /usr/lib
libs=-lpthread -lnsl -ldl -lm -lcrypt -lutil -lc
perllibs=-lpthread -lnsl -ldl -lm -lcrypt -lutil -lc
libc=libc-2.24.so, so=so, useshrplib=false, libperl=libperl.a
gnulibc_version='2.24'
Dynamic Linking:
dlsrc=dl_dlopen.xs, dlext=so, d_dlsymun=undef, ccdlflags='-Wl,-E'
cccdlflags='-fPIC', lddlflags='-shared -O2 -g -L/usr/local/lib -fstack-protector'
Characteristics of this binary (from libperl):
Compile-time options: HAS_TIMES PERLIO_LAYERS PERL_DONT_CREATE_GVSV
PERL_HASH_FUNC_ONE_AT_A_TIME_HARD PERL_MALLOC_WRAP
PERL_PRESERVE_IVUV PERL_SAWAMPERSAND PERL_USE_DEVEL
USE_64_BIT_ALL USE_64_BIT_INT USE_LARGE_FILES
USE_LOCALE USE_LOCALE_COLLATE USE_LOCALE_CTYPE
USE_LOCALE_NUMERIC USE_LONG_DOUBLE USE_PERLIO
USE_PERL_ATOF
Locally applied patches:
uncommitted-changes
Built under linux
Compiled at Oct 4 2017 06:24:09
%ENV:
PERL5LIB="/tmp/loop_over_bdir-4341-RFh6qL/Template-Provider-FromDATA-0.13-0/blib/arch:/tmp/loop_over_bdir-4341-RFh6qL/Template-Provider-FromDATA-0.13-0/blib/lib:/tmp/loop_over_bdir-4341-RFh6qL/Net-Telnet-3.04-0/blib/arch:/tmp/loop_over_bdir-4341-RFh6qL/Net-Telnet-3.04-0/blib/lib:/tmp/loop_over_bdir-4341-RFh6qL/Module-Pluggable-Fast-0.19-0/blib/arch:/tmp/loop_over_bdir-4341-RFh6qL/Module-Pluggable-Fast-0.19-0/blib/lib:/tmp/loop_over_bdir-4341-RFh6qL/Data-JavaScript-Anon-1.03-0/blib/arch:/tmp/loop_over_bdir-4341-RFh6qL/Data-JavaScript-Anon-1.03-0/blib/lib:/tmp/loop_over_bdir-4341-RFh6qL/Class-Default-1.51-0/blib/arch:/tmp/loop_over_bdir-4341-RFh6qL/Class-Default-1.51-0/blib/lib"
PERL5OPT=""
PERL5_CPANPLUS_IS_RUNNING="4349"
PERL5_CPAN_IS_RUNNING="4349"
PERL5_CPAN_IS_RUNNING_IN_RECURSION="5690,4349"
PERL_CANARY_STABILITY_NOPROMPT="1"
PERL_MM_USE_DEFAULT="1"
PERL_USE_UNSAFE_INC="1"
@INC:
/tmp/loop_over_bdir-4341-RFh6qL/Template-Provider-FromDATA-0.13-0/blib/arch
/tmp/loop_over_bdir-4341-RFh6qL/Template-Provider-FromDATA-0.13-0/blib/lib
/tmp/loop_over_bdir-4341-RFh6qL/Net-Telnet-3.04-0/blib/arch
/tmp/loop_over_bdir-4341-RFh6qL/Net-Telnet-3.04-0/blib/lib
/tmp/loop_over_bdir-4341-RFh6qL/Module-Pluggable-Fast-0.19-0/blib/arch
/tmp/loop_over_bdir-4341-RFh6qL/Module-Pluggable-Fast-0.19-0/blib/lib
/tmp/loop_over_bdir-4341-RFh6qL/Data-JavaScript-Anon-1.03-0/blib/arch
/tmp/loop_over_bdir-4341-RFh6qL/Data-JavaScript-Anon-1.03-0/blib/lib
/tmp/loop_over_bdir-4341-RFh6qL/Class-Default-1.51-0/blib/arch
/tmp/loop_over_bdir-4341-RFh6qL/Class-Default-1.51-0/blib/lib
/home/sand/src/perl/repoperls/installed-perls/host/k93msid/v5.18.0/2d7c/lib/site_perl/5.18.0/x86_64-linux-ld
/home/sand/src/perl/repoperls/installed-perls/host/k93msid/v5.18.0/2d7c/lib/site_perl/5.18.0
/home/sand/src/perl/repoperls/installed-perls/host/k93msid/v5.18.0/2d7c/lib/5.18.0/x86_64-linux-ld
/home/sand/src/perl/repoperls/installed-perls/host/k93msid/v5.18.0/2d7c/lib/5.18.0
.