Text-Amuse-Preprocessor v0.67 Perl 5 v5.28.3 x86_64-linux-thread-multi-ld

Status
Pass
From
Chris Williams (BINGOS)
Dist
Text-Amuse-Preprocessor v0.67
Platform
Perl 5 v5.28.3 x86_64-linux-thread-multi-ld
Date
2023-07-14 22:57:47
ID
d9e4be5e-2299-11ee-98b0-b3c3213a625c
This distribution has been tested as part of the CPAN Testers
project, supporting the Perl programming language.  See
http://wiki.cpantesters.org/ for more information or email
questions to cpan-testers-discuss@perl.org


--

Dear MELMOTHX,

This is a computer-generated error report created automatically by
CPANPLUS, version 0.9914. Testers personal comments may appear
at the end of this report.


Thank you for uploading your work to CPAN.  Congratulations!
All tests were successful.

TEST RESULTS:

Below is the error stack from stage 'make test':

PERL_DL_NONLAZY=1 "/home/cpan/pit/thr-ld/perl-5.28.3/bin/perl" "-MExtUtils::Command::MM" "-MTest::Harness" "-e" "undef *Test::Harness::Switches; test_harness(0, 'blib/lib', 'blib/arch')" t/*.t
# Testing Text::Amuse::Preprocessor 0.67, Perl 5.028003, /home/cpan/pit/thr-ld/perl-5.28.3/bin/perl
t/00-load.t ........... ok
t/changes.t ........... skipped: Changes testing not required (or Test::CPAN::Changes not found)
t/chars.t ............. ok
t/chinese.t ........... ok
# Using /tmp/9NNHqJDxuO for ligatures
# Using /tmp/yeDg6lxtm0 for missing_nl
# Using /tmp/tx5fgCuP4c for garbage
# Using /tmp/d7nnOMYjOY for ellipsis_no_fix
# Using /tmp/JuwOEgBNrc for ellipsis
# Using /tmp/c2hDA_GBuw for links
# Using /tmp/TVUWVbchcd for en
# Using /tmp/WbvOc5ev_e for fi
# Using /tmp/_scVw1G6eH for es
# Using /tmp/UdgoNdbvk_ for sr
# Using /tmp/kMo30RYVVa for hr
# Using /tmp/TDig0sv5Wq for ru
# Using /tmp/er8G0zgNPs for it
# Using /tmp/rLY7aSW0qz for mk
# Using /tmp/h2HJF0WGqw for sv
# Using /tmp/dc0ctnSBCO for de
# Using /tmp/weufypkBw8 for pl
# Using /tmp/2GrX9RmAzE for bg
# Using /tmp/ag8iMvNeWC for eo
# Using /tmp/ND30IXfCQj for fr
# Using /tmp/ke_03SVqZ6 for pt
# Using /tmp/ZhlHZCMLzj for sq
# Using /tmp/5ayKUPqBLo for da
# Using /tmp/6pudwiG2HB for nl
# Using /tmp/rpQfLaKNL_ for id
# Using /tmp/ttuIZrcfUU for Full example
# Using /tmp/dSK3M8MVW_ for Quote
# Using /tmp/m_wf7C3QPb for Quote
# Using /tmp/W9NGrK2RTY for Nl quotation
t/common.t ............ ok
t/crash-on-verb.t ..... ok
# $VAR1 = "#title Test
# #lang en
# 
# 0
# 
# \x{201c}0\x{201d}
# 
# 0
# ";
# $VAR1 = "#title Test
# #lang en
# 
# 0
# 
# \x{201c}0\x{201d}
# 
# 0
# ";
t/crash_on_loop.t ..... ok
# /tmp/JrfeBYZ58A/verbatim-in.muse
# /tmp/JrfeBYZ58A
t/exclude-verbatim.t .. ok
tagpile mismatch: meta, head
tagpile mismatch: head, html
tagpile mismatch: link, head
tagpile mismatch: hr, div
tagpile mismatch: br, body
tagpile mismatch: div, html
# 
# 
# <right>
# سلام من هیچکسی نیستم.[1]
# </right>
# 
# <br>
# 
# [1] https://amusewiki.org
# 
tagpile mismatch: link, head
tagpile mismatch: hr, div
tagpile mismatch: br, body
tagpile mismatch: div, html
# 
# 
# سلام من هیچکسی نیستم.[1]
# 
# <br>
# 
# [1] https://amusewiki.org
# 
t/farsi.t ............. ok
# Testing t/footnotes/good.in => t/footnotes/good.out
# Testing t/footnotes/good2.in => t/footnotes/good2.out
# Testing t/footnotes/good3.in => t/footnotes/good3.out
# Testing t/footnotes/mixed.in => t/footnotes/mixed.out
# Testing t/footnotes/indentation.in => t/footnotes/indentation.out
# Testing t/footnotes/sec-good.in => t/footnotes/sec-good.out
# Testing t/footnotes/sec-good2.in => t/footnotes/sec-good2.out
# Testing t/footnotes/sec-good3.in => t/footnotes/sec-good3.out
# Testing t/footnotes/sec-bad.in => t/footnotes/sec-bad.out
# @@ -1 +1,2 @@
# -{4}
# +{3}
# +{3}
# Testing t/footnotes/sec-bad2.in => t/footnotes/sec-bad2.out
# @@ -1,3 +1,2 @@
# -{4}
# +{3}
# -{5}
# +{3}
# -{6}
# Testing t/footnotes/bad.in => t/footnotes/bad.out
# @@ -1,2 +1,3 @@
#  [1]
# -[1]
# +[2]
# +[4]
# Testing t/footnotes/bad2.in => t/footnotes/bad2.out
# @@ -1,4 +1,3 @@
#  [1]
# -[1]
# +[2]
#  [4]
# -[5]
t/footnotes.t ......... ok
tagpile mismatch: root, p
t/html-2.t ............ ok
# Using /tmp/gbR8NtSEUH.html
# Using /tmp/LbYOHO3Q8v.html
# Using /tmp/yBab5s6aLQ.html
# Using /tmp/mMEMMTTxSb.html
# Using /tmp/JAdkl0uNsR.html
# Using /tmp/GMY0ybpyEJ.html
# Using /tmp/EgE9UKZ0bw.html
# Using /tmp/SAI7voqqlM.html
# Using /tmp/ys1cCZ3m32.html
# Using /tmp/M2dYW30ZhH.html
# Using /tmp/7hPaEWnxtj.html
# Using /tmp/A_a8oXzUfo.html
# Using /tmp/8KTeynxo8U.html
# Using /tmp/PmwykCg3RD.html
# Using /tmp/hXONlv6kJS.html
# Using /tmp/xQasqbAAEn.html
# Using /tmp/r_5inbtqWh.html
t/html.t .............. ok
# Retrieved on February 2, 2011 from http://j12.org/spunk/library/writers/meltzer/sp001500.html
# Retrieved on February 2, 2011 from [[http://j12.org/spunk/library/writers/meltzer/sp001500.html][j12.org]]
# Retrieved on December 22, 2011 from http://libertarian-labyrinth.org/archive/The_Great_Debacle
# Retrieved on December 22, 2011 from [[http://libertarian-labyrinth.org/archive/The_Great_Debacle][libertarian-labyrinth.org]]
# <br>http://www.nancho.net/advisors/anaes.html<br>
# <br>[[http://www.nancho.net/advisors/anaes.html][www.nancho.net]]<br>
# http://www.nancho.net/advisors/anaes.html<br>http://www.nancho.net/advisors/anaes.html<br>
# [[http://www.nancho.net/advisors/anaes.html][www.nancho.net]]<br>[[http://www.nancho.net/advisors/anaes.html][www.nancho.net]]<br>
#  https://web.archive.org/web/20220504202253/https://amusewiki.org/special/index 
#  [[https://web.archive.org/web/20220504202253/https://amusewiki.org/special/index][web.archive.org]] 
#  [[https://web.archive.org/web/20220504202253/https://amusewiki.org/special/index][web.archive.org]] 
#  [[https://web.archive.org/web/20220504202253/https://amusewiki.org/special/index][web.archive.org]] 
# http://test.org/xx and http://test.org/xx
# [[http://test.org/xx][test.org]] and [[http://test.org/xx][test.org]]
# [[http://test.org/xx][test.org]] and [[http://test.org/xx][test.org]]
# [[http://test.org/xx][test.org]] and [[http://test.org/xx][test.org]]
# http://test.org/xx and [[http://test.org/xx][test.org]]
# [[http://test.org/xx][test.org]] and [[http://test.org/xx][test.org]]
# http://test.org/xx and http://test.org/xx][test.org]] 
# [[http://test.org/xx][test.org]] and http://test.org/xx][test.org]] 
# <http://test.org/xx> and >http://test.org/xx<
# <[[http://test.org/xx][test.org]]> and >[[http://test.org/xx][test.org]]<
# <http://test.org/xx> and https://test.org:80/>http://test.org/xx< and https://test.org/ and [[https://test.org/][test.org]]
# <[[http://test.org/xx][test.org]]> and [[https://test.org:80/][test.org]]>[[http://test.org/xx][test.org]]< and [[https://test.org/][test.org]] and [[https://test.org/][test.org]]
# https://example.com/@test and https://example.com/@test
# [[https://example.com/@test][example.com]] and [[https://example.com/@test][example.com]]
# (http://en.wikipedia.org/wiki/Pi_%28instrument%29)
# ([[http://en.wikipedia.org/wiki/Pi_%28instrument%29][en.wikipedia.org]])
# (http://en.wikipedia.org?test=1)
# ([[http://en.wikipedia.org?test=1][en.wikipedia.org]])
# (http://en.wikipedia.org?test=1&test=2) (http://en.wikipedia.org/test?test=1)
# ([[http://en.wikipedia.org?test=1&test=2][en.wikipedia.org]]) ([[http://en.wikipedia.org/test?test=1][en.wikipedia.org]])
t/links.t ............. ok
t/manifest.t .......... skipped: Author tests not required for installation
t/memory-cycles.t ..... skipped: Test::Memory::Cycle required for testing memory cycles
t/nbsp.t .............. ok
# Infile is /tmp/sr3YwqqiRO/input.txt
# Using /tmp/qHb5aVvrzC as temporary dir
t/object.t ............ ok
t/pod-coverage.t ...... skipped: Pod coverage not required for installation
t/pod.t ............... skipped: Pod test not required for installation
t/russian.t ........... ok
t/subs.t .............. ok
t/typography.t ........ ok
All tests successful.
Files=22, Tests=480,  2 wallclock secs ( 0.10 usr  0.02 sys +  1.90 cusr  0.28 csys =  2.30 CPU)
Result: PASS


PREREQUISITES:

Here is a list of prerequisites you specified and versions we
managed to load:

	  Module Name                        Have     Want
	  HTML::PullParser                   3.81        0
	  IO::HTML                          1.004        1
	  Pod::Simple::Wiki                  0.20     0.19
	  Test::More                     1.302195        0
	  Text::Amuse                        1.83     0.95
	  Text::Diff                         1.45        0

Perl module toolchain versions installed:
	Module Name                        Have
	CPANPLUS                         0.9914
	CPANPLUS::Dist::Build              0.90
	Cwd                                3.75
	ExtUtils::CBuilder             0.280236
	ExtUtils::Command                  7.70
	ExtUtils::Install                  2.22
	ExtUtils::MakeMaker                7.70
	ExtUtils::Manifest                 1.75
	ExtUtils::ParseXS                  3.44
	File::Spec                         3.75
	Module::Build                    0.4234
	Pod::Parser                        1.63
	Pod::Simple                        3.35
	Test2                          1.302195
	Test::Harness                      3.44
	Test::More                     1.302195
	version                          0.9929

******************************** NOTE ********************************
The comments above are created mechanically, possibly without manual
checking by the sender.  As there are many people performing automatic
tests on each upload to CPAN, it is likely that you will receive
identical messages about the same problem.

If you believe that the message is mistaken, please reply to the first
one with correction and/or additional informations, and do not take
it personally.  We appreciate your patience. :)
**********************************************************************

Additional comments:


This report was machine-generated by CPANPLUS::Dist::YACSmoke 1.08.
Powered by minismokebox version 0.68

CPANPLUS is prefering Build.PL

------------------------------
ENVIRONMENT AND OTHER CONTEXT
------------------------------

Environment variables:

    AUTOMATED_TESTING = 1
    LANG = en_GB.UTF-8
    LANGUAGE = en_GB:en
    NONINTERACTIVE_TESTING = 1
    PATH = /home/cpan/pit/thr-ld/conf/perl-5.28.3/.cpanplus/5.28.3/build/UnLnCQIGBR/Text-Amuse-Preprocessor-0.67/blib/script:/usr/local/sbin:/usr/local/bin:/usr/sbin:/usr/bin:/sbin:/bin:/usr/games:/usr/local/games:/snap/bin
    PERL5LIB = /home/cpan/pit/jail/wvfNwHJRTY/lib/perl5:/home/cpan/pit/thr-ld/conf/perl-5.28.3/.cpanplus/5.28.3/build/UnLnCQIGBR/Text-Amuse-Preprocessor-0.67/blib/lib:/home/cpan/pit/thr-ld/conf/perl-5.28.3/.cpanplus/5.28.3/build/UnLnCQIGBR/Text-Amuse-Preprocessor-0.67/blib/arch
    PERL5_CPANPLUS_IS_RUNNING = 3397992
    PERL5_CPANPLUS_IS_VERSION = 0.9914
    PERL5_MINISMOKEBOX = 0.68
    PERL5_YACSMOKE_BASE = /home/cpan/pit/thr-ld/conf/perl-5.28.3
    PERL_EXTUTILS_AUTOINSTALL = --defaultdeps
    PERL_LOCAL_LIB_ROOT = /home/cpan/pit/jail/wvfNwHJRTY
    PERL_MB_OPT = --install_base "/home/cpan/pit/jail/wvfNwHJRTY"
    PERL_MM_OPT = INSTALL_BASE=/home/cpan/pit/jail/wvfNwHJRTY
    PERL_MM_USE_DEFAULT = 1
    SHELL = /bin/bash
    TERM = screen.xterm-256color

Perl special variables (and OS-specific diagnostics, for MSWin32):

    Perl: $^X = /home/cpan/pit/thr-ld/perl-5.28.3/bin/perl
    UID:  $<  = 1001
    EUID: $>  = 1001
    GID:  $(  = 1001 1001
    EGID: $)  = 1001 1001


-------------------------------


--

Summary of my perl5 (revision 5 version 28 subversion 3) configuration:
   
  Platform:
    osname=linux
    osvers=5.4.0-26-generic
    archname=x86_64-linux-thread-multi-ld
    uname='linux uchder 5.4.0-26-generic #30-ubuntu smp mon apr 20 16:58:30 utc 2020 x86_64 x86_64 x86_64 gnulinux '
    config_args='-des -Dprefix=/home/cpan/pit/thr-ld/perl-5.28.3 -Dusethreads -Duselongdouble'
    hint=recommended
    useposix=true
    d_sigaction=define
    useithreads=define
    usemultiplicity=define
    use64bitint=define
    use64bitall=define
    uselongdouble=define
    usemymalloc=n
    default_inc_excludes_dot=define
    bincompat5005=undef
  Compiler:
    cc='cc'
    ccflags ='-D_REENTRANT -D_GNU_SOURCE -fwrapv -fno-strict-aliasing -pipe -fstack-protector-strong -I/usr/local/include -D_LARGEFILE_SOURCE -D_FILE_OFFSET_BITS=64'
    optimize='-O2'
    cppflags='-D_REENTRANT -D_GNU_SOURCE -fwrapv -fno-strict-aliasing -pipe -fstack-protector-strong -I/usr/local/include'
    ccversion=''
    gccversion='9.3.0'
    gccosandvers=''
    intsize=4
    longsize=8
    ptrsize=8
    doublesize=8
    byteorder=12345678
    doublekind=3
    d_longlong=define
    longlongsize=8
    d_longdbl=define
    longdblsize=16
    longdblkind=3
    ivtype='long'
    ivsize=8
    nvtype='long double'
    nvsize=16
    Off_t='off_t'
    lseeksize=8
    alignbytes=16
    prototype=define
  Linker and Libraries:
    ld='cc'
    ldflags =' -fstack-protector-strong -L/usr/local/lib'
    libpth=/usr/local/lib /usr/include/x86_64-linux-gnu /usr/lib /lib/x86_64-linux-gnu /lib/../lib /usr/lib/x86_64-linux-gnu /usr/lib/../lib /lib
    libs=-lpthread -lnsl -lgdbm -ldl -lm -lcrypt -lutil -lc
    perllibs=-lpthread -lnsl -ldl -lm -lcrypt -lutil -lc
    libc=libc-2.31.so
    so=so
    useshrplib=false
    libperl=libperl.a
    gnulibc_version='2.31'
  Dynamic Linking:
    dlsrc=dl_dlopen.xs
    dlext=so
    d_dlsymun=undef
    ccdlflags='-Wl,-E'
    cccdlflags='-fPIC'
    lddlflags='-shared -O2 -L/usr/local/lib -fstack-protector-strong'


Characteristics of this binary (from libperl): 
  Compile-time options:
    HAS_TIMES
    MULTIPLICITY
    PERLIO_LAYERS
    PERL_COPY_ON_WRITE
    PERL_DONT_CREATE_GVSV
    PERL_IMPLICIT_CONTEXT
    PERL_MALLOC_WRAP
    PERL_OP_PARENT
    PERL_PRESERVE_IVUV
    USE_64_BIT_ALL
    USE_64_BIT_INT
    USE_ITHREADS
    USE_LARGE_FILES
    USE_LOCALE
    USE_LOCALE_COLLATE
    USE_LOCALE_CTYPE
    USE_LOCALE_NUMERIC
    USE_LOCALE_TIME
    USE_LONG_DOUBLE
    USE_PERLIO
    USE_PERL_ATOF
    USE_REENTRANT_API
  Locally applied patches:
    Devel::PatchPerl 1.98
  Built under linux
  Compiled at Jun  1 2020 23:56:25
  %ENV:
    PERL5LIB="/home/cpan/pit/jail/wvfNwHJRTY/lib/perl5:/home/cpan/pit/thr-ld/conf/perl-5.28.3/.cpanplus/5.28.3/build/UnLnCQIGBR/Text-Amuse-Preprocessor-0.67/blib/lib:/home/cpan/pit/thr-ld/conf/perl-5.28.3/.cpanplus/5.28.3/build/UnLnCQIGBR/Text-Amuse-Preprocessor-0.67/blib/arch"
    PERL5_CPANPLUS_IS_RUNNING="3397992"
    PERL5_CPANPLUS_IS_VERSION="0.9914"
    PERL5_MINISMOKEBOX="0.68"
    PERL5_YACSMOKE_BASE="/home/cpan/pit/thr-ld/conf/perl-5.28.3"
    PERL_EXTUTILS_AUTOINSTALL="--defaultdeps"
    PERL_LOCAL_LIB_ROOT="/home/cpan/pit/jail/wvfNwHJRTY"
    PERL_MB_OPT="--install_base "/home/cpan/pit/jail/wvfNwHJRTY""
    PERL_MM_OPT="INSTALL_BASE=/home/cpan/pit/jail/wvfNwHJRTY"
    PERL_MM_USE_DEFAULT="1"
  @INC:
    /home/cpan/pit/jail/wvfNwHJRTY/lib/perl5/5.28.3/x86_64-linux-thread-multi-ld
    /home/cpan/pit/jail/wvfNwHJRTY/lib/perl5/5.28.3
    /home/cpan/pit/jail/wvfNwHJRTY/lib/perl5/x86_64-linux-thread-multi-ld
    /home/cpan/pit/jail/wvfNwHJRTY/lib/perl5
    /home/cpan/pit/thr-ld/conf/perl-5.28.3/.cpanplus/5.28.3/build/UnLnCQIGBR/Text-Amuse-Preprocessor-0.67/blib/lib
    /home/cpan/pit/thr-ld/conf/perl-5.28.3/.cpanplus/5.28.3/build/UnLnCQIGBR/Text-Amuse-Preprocessor-0.67/blib/arch
    /home/cpan/pit/thr-ld/perl-5.28.3/lib/site_perl/5.28.3/x86_64-linux-thread-multi-ld
    /home/cpan/pit/thr-ld/perl-5.28.3/lib/site_perl/5.28.3
    /home/cpan/pit/thr-ld/perl-5.28.3/lib/5.28.3/x86_64-linux-thread-multi-ld
    /home/cpan/pit/thr-ld/perl-5.28.3/lib/5.28.3