Report for POE-Component-SSLify-1.008

Back
From: metabase:user:30f4dfbe-2aae-11df-837a-5e0a49663a4f
Subject: PASS POE-Component-SSLify-1.008 v5.18.2 Mac OS X
Date: 2014-01-23T20:27:59Z

This distribution has been tested as part of the CPAN Testers
project, supporting the Perl programming language.  See
http://wiki.cpantesters.org/ for more information or email
questions to cpan-testers-discuss@perl.org


--
Dear Apocalypse,

This is a computer-generated report for POE-Component-SSLify-1.008
on perl 5.18.2, created by CPAN-Reporter-1.2010.

Thank you for uploading your work to CPAN.  Congratulations!
All tests were successful.

Sections of this report:

    * Tester comments
    * Program output
    * Prerequisites
    * Environment and other context

------------------------------
TESTER COMMENTS
------------------------------

Additional comments from tester:

this report is from an automated smoke testing program
and was not reviewed by a human for accuracy

------------------------------
PROGRAM OUTPUT
------------------------------

Output from './Build test':

t/00-compile.t ................ ok
# 
# 
# Generated by Dist::Zilla::Plugin::ReportVersions::Tiny v1.03
# perl: v5.18.2 (wanted 5.006) on darwin from /Users/hornenj/perl5/perlbrew/perls/perl-5.18.2/bin/perl
# 
# Exporter                                      => 5.68       (want any version)
# File::Find                                    => 1.23       (want any version)
# File::Temp                                    => 0.2304     (want any version)
# IO::Handle                                    => 1.34       (want 1.28)   
# Module::Build                                 => 0.4203     (want 0.3601) 
# Net::SSLeay                                   => 1.55       (want 1.36)   
# POE                                           => 1.358      (want 1.267)  
# POE::Component::Client::TCP                   => 1.358      (want any version)
# POE::Component::Server::TCP                   => 1.358      (want any version)
# Scalar::Util                                  => 1.35       (want any version)
# Socket                                        => 2.013      (want any version)
# Symbol                                        => 1.07       (want any version)
# Task::Weaken                                  => 1.04       (want 1.03)   
# Test::More                                    => 1.001002   (want 0.88)   
# parent                                        => 0.228      (want any version)
# 
# Thanks for using my code.  I hope it works for you.
# If not, please try and include this output in the bug report.
# That will help me reproduce the issue and solve your problem.
# 
t/000-report-versions-tiny.t .. ok
t/1_simple.t .................. ok
t/2_renegotiate_client.t ...... ok
t/3_upgrade.t ................. ok
t/4_connect_hook.t ............ ok
t/5_connfail_client.t ......... ok
t/6_connfail_server.t ......... ok
t/7_connect_hook_nodata.t ..... ok
t/8_renegotiate_server.t ...... ok
t/98_renegotiate.t ............ skipped: AUTHOR TEST
t/99_mire_test.t .............. skipped: AUTHOR TEST
t/apocalypse.t ................ skipped: Test::Apocalypse required for validating the distribution
All tests successful.
Files=13, Tests=131,  1 wallclock secs ( 0.05 usr  0.03 sys +  1.24 cusr  0.17 csys =  1.49 CPU)
Result: PASS

------------------------------
PREREQUISITES
------------------------------

Prerequisite modules loaded:

requires:

    Module                      Need   Have    
    --------------------------- ------ --------
    Exporter                    0      5.68    
    IO::Handle                  1.28   1.34    
    Net::SSLeay                 1.36   1.55    
    parent                      0      0.228   
    perl                        5.006  5.018002
    POE                         0      1.358   
    Scalar::Util                0      1.35    
    Symbol                      0      1.07    
    Task::Weaken                1.03   1.04    

build_requires:

    Module                      Need   Have    
    --------------------------- ------ --------
    File::Find                  0      1.23    
    File::Temp                  0      0.2304  
    Module::Build               0.3601 0.4203  
    POE                         1.267  1.358   
    POE::Component::Client::TCP 0      1.358   
    POE::Component::Server::TCP 0      1.358   
    Socket                      0      2.013   
    Test::More                  0.88   1.001002

configure_requires:

    Module                      Need   Have    
    --------------------------- ------ --------
    Module::Build               0.3601 0.4203  


------------------------------
ENVIRONMENT AND OTHER CONTEXT
------------------------------

Environment variables:

    AUTOMATED_TESTING = 1
    LC_ALL = POSIX
    LD_LIBRARY_PATH = :/net/traces01.be-md.ncbi.nlm.nih.gov/trace_software/vdb/mac/release/x86_64/lib
    PATH = /Users/hornenj/perl5/perlbrew/bin:/Users/hornenj/perl5/perlbrew/perls/perl-5.18.2/bin:/Users/hornenj/perl5/perlbrew/bin:/Users/hornenj/perl5/perlbrew/perls/perl-5.18.2/bin:/sw/lib/perl5/ExtUtils:/sw/bin:/sw/sbin:/am/ncbiapdata/bin:/usr/bin:/bin:/usr/X11R6/bin:/Users/hornenj/bin:/netopt/ncbi_tools/bin:/usr/local/ncbi/blast/bin:/net/traces01.be-md.ncbi.nlm.nih.gov/trace_software/vdb/mac/release/x86_64/bin
    PERL5LIB = /Users/hornenj/.cpan/build/POE-Component-Resolver-0.921-vAYCwe/blib/arch:/Users/hornenj/.cpan/build/POE-Component-Resolver-0.921-vAYCwe/blib/lib
    PERL5OPT = 
    PERL5_CPANPLUS_IS_RUNNING = 9875
    PERL5_CPAN_IS_RUNNING = 9875
    PERL5_MINISMOKEBOX = 0.58
    PERLBREW_BASHRC_VERSION = 0.66
    PERLBREW_HOME = /Users/hornenj/.perlbrew
    PERLBREW_MANPATH = /Users/hornenj/perl5/perlbrew/perls/perl-5.18.2/man
    PERLBREW_PATH = /Users/hornenj/perl5/perlbrew/bin:/Users/hornenj/perl5/perlbrew/perls/perl-5.18.2/bin
    PERLBREW_PERL = perl-5.18.2
    PERLBREW_ROOT = /Users/hornenj/perl5/perlbrew
    PERLBREW_VERSION = 0.66
    PERL_EXTUTILS_AUTOINSTALL = --defaultdeps
    PERL_MM_USE_DEFAULT = 1
    SHELL = /bin/bash
    TERM = xterm
    TMPDIR = /var/folders/pz/pd7y1qjs6s3cbk170cw50fjc000c61/T/
    VERSIONER_PERL_PREFER_32_BIT = no
    VERSIONER_PERL_VERSION = 5.12
    ac_cv_path_INTLTOOL_PERL = /usr/bin/perl

Perl special variables (and OS-specific diagnostics, for MSWin32):

    $^X = /Users/hornenj/perl5/perlbrew/perls/perl-5.18.2/bin/perl
    $UID/$EUID = 12481 / 12481
    $GID = 14 14 5344 527 241 223 206 402 12 62 204
    $EGID = 14 14 5344 527 241 223 206 402 12 62 204

Perl module toolchain versions installed:

    Module              Have    
    ------------------- --------
    CPAN                2.00    
    CPAN::Meta          2.133380
    Cwd                 3.40    
    ExtUtils::CBuilder  0.280212
    ExtUtils::Command   1.18    
    ExtUtils::Install   1.59    
    ExtUtils::MakeMaker 6.86    
    ExtUtils::Manifest  1.63    
    ExtUtils::ParseXS   3.22    
    File::Spec          3.40    
    JSON                2.61    
    JSON::PP            2.27203 
    Module::Build       0.4203  
    Module::Signature   n/a     
    Parse::CPAN::Meta   1.4409  
    Test::Harness       3.30    
    Test::More          1.001002
    YAML                0.88    
    YAML::Syck          1.27    
    version             0.9906  


--

Summary of my perl5 (revision 5 version 18 subversion 2) configuration:
   
  Platform:
    osname=darwin, osvers=12.5.0, archname=darwin-thread-multi-2level
    uname='darwin ncbimac2008.ncbi.nlm.nih.gov 12.5.0 darwin kernel version 12.5.0: mon jul 29 16:33:49 pdt 2013; root:xnu-2050.48.11~1release_x86_64 x86_64 '
    config_args='-Duseithreads -Dusemultiplicity -Dinstallprefix=/Users/hornenj/perl5/perlbrew/perls/perl-5.18.2 -Dprefix=/Users/hornenj/perl5/perlbrew/perls/perl-5.18.2 -de -Accflags=-O2 -W -Wformat=2 -Wswitch -Wshadow -Wwrite-strings -Wuninitialized -Wall -pipe -mtune=native -march=native -fomit-frame-pointer -msse2 -msse -mmmx -pedantic -D_FORTIFY_SOURCE=2 -Wpointer-arith -Wstrict-prototypes -fstack-protector -Wstack-protector -Wextra -Wbad-function-cast -Wcast-align -Wcast-qual -Wdisabled-optimization -Wendif-labels -Wfloat-equal -Wformat-nonliteral -Winline -Wmissing-declarations -Wmissing-prototypes -Wnested-externs -Wpointer-arith -Wundef -Wformat-security -fassociative-math -Acc=clang'
    hint=recommended, useposix=true, d_sigaction=define
    useithreads=define, usemultiplicity=define
    useperlio=define, d_sfio=undef, uselargefiles=define, usesocks=undef
    use64bitint=define, use64bitall=define, uselongdouble=undef
    usemymalloc=n, bincompat5005=undef
  Compiler:
    cc=' clang', ccflags ='-fno-common -DPERL_DARWIN -O2 -W -Wformat=2 -Wswitch -Wshadow -Wwrite-strings -Wuninitialized -Wall -pipe -mtune=native -march=native -fomit-frame-pointer -msse2 -msse -mmmx -pedantic -D_FORTIFY_SOURCE=2 -Wpointer-arith -Wstrict-prototypes -fstack-protector -Wstack-protector -Wextra -Wbad-function-cast -Wcast-align -Wcast-qual -Wdisabled-optimization -Wendif-labels -Wfloat-equal -Wformat-nonliteral -Winline -Wmissing-declarations -Wmissing-prototypes -Wnested-externs -Wpointer-arith -Wundef -Wformat-security -fassociative-math -fno-strict-aliasing -I/usr/local/include',
    optimize='-O3',
    cppflags='-fno-common -DPERL_DARWIN -O2 -W -Wformat=2 -Wswitch -Wshadow -Wwrite-strings -Wuninitialized -Wall -pipe -mtune=native -march=native -fomit-frame-pointer -msse2 -msse -mmmx -pedantic -D_FORTIFY_SOURCE=2 -Wpointer-arith -Wstrict-prototypes -fstack-protector -Wstack-protector -Wextra -Wbad-function-cast -Wcast-align -Wcast-qual -Wdisabled-optimization -Wendif-labels -Wfloat-equal -Wformat-nonliteral -Winline -Wmissing-declarations -Wmissing-prototypes -Wnested-externs -Wpointer-arith -Wundef -Wformat-security -fassociative-math -fno-strict-aliasing -I/usr/local/include'
    ccversion='', gccversion='4.2.1 Compatible Apple LLVM 4.2 (clang-425.0.24)', gccosandvers=''
    intsize=4, longsize=8, ptrsize=8, doublesize=8, byteorder=12345678
    d_longlong=define, longlongsize=8, d_longdbl=define, longdblsize=16
    ivtype='long', ivsize=8, nvtype='double', nvsize=8, Off_t='off_t', lseeksize=8
    alignbytes=8, prototype=define
  Linker and Libraries:
    ld='env MACOSX_DEPLOYMENT_TARGET=10.3 cc', ldflags =' -fstack-protector -L/usr/local/lib'
    libpth=/usr/local/lib /usr/lib
    libs=-ldbm -ldl -lm -lutil -lc
    perllibs=-ldl -lm -lutil -lc
    libc=, so=dylib, useshrplib=false, libperl=libperl.a
    gnulibc_version=''
  Dynamic Linking:
    dlsrc=dl_dlopen.xs, dlext=bundle, d_dlsymun=undef, ccdlflags=' '
    cccdlflags=' ', lddlflags=' -bundle -undefined dynamic_lookup -L/usr/local/lib -fstack-protector'


Characteristics of this binary (from libperl): 
  Compile-time options: HAS_TIMES MULTIPLICITY PERLIO_LAYERS
                        PERL_DONT_CREATE_GVSV
                        PERL_HASH_FUNC_ONE_AT_A_TIME_HARD
                        PERL_IMPLICIT_CONTEXT PERL_MALLOC_WRAP
                        PERL_PRESERVE_IVUV PERL_SAWAMPERSAND USE_64_BIT_ALL
                        USE_64_BIT_INT USE_ITHREADS USE_LARGE_FILES
                        USE_LOCALE USE_LOCALE_COLLATE USE_LOCALE_CTYPE
                        USE_LOCALE_NUMERIC USE_PERLIO USE_PERL_ATOF
                        USE_REENTRANT_API
  Built under darwin
  Compiled at Jan  7 2014 09:17:10
  %ENV:
    PERL5LIB="/Users/hornenj/.cpan/build/POE-Component-Resolver-0.921-vAYCwe/blib/arch:/Users/hornenj/.cpan/build/POE-Component-Resolver-0.921-vAYCwe/blib/lib"
    PERL5OPT=""
    PERL5_CPANPLUS_IS_RUNNING="9875"
    PERL5_CPAN_IS_RUNNING="9875"
    PERL5_MINISMOKEBOX="0.58"
    PERLBREW_BASHRC_VERSION="0.66"
    PERLBREW_HOME="/Users/hornenj/.perlbrew"
    PERLBREW_MANPATH="/Users/hornenj/perl5/perlbrew/perls/perl-5.18.2/man"
    PERLBREW_PATH="/Users/hornenj/perl5/perlbrew/bin:/Users/hornenj/perl5/perlbrew/perls/perl-5.18.2/bin"
    PERLBREW_PERL="perl-5.18.2"
    PERLBREW_ROOT="/Users/hornenj/perl5/perlbrew"
    PERLBREW_VERSION="0.66"
    PERL_EXTUTILS_AUTOINSTALL="--defaultdeps"
    PERL_MM_USE_DEFAULT="1"
  @INC:
    /Users/hornenj/.cpan/build/POE-Component-Resolver-0.921-vAYCwe/blib/arch
    /Users/hornenj/.cpan/build/POE-Component-Resolver-0.921-vAYCwe/blib/lib
    /Users/hornenj/perl5/perlbrew/perls/perl-5.18.2/lib/site_perl/5.18.2/darwin-thread-multi-2level
    /Users/hornenj/perl5/perlbrew/perls/perl-5.18.2/lib/site_perl/5.18.2
    /Users/hornenj/perl5/perlbrew/perls/perl-5.18.2/lib/5.18.2/darwin-thread-multi-2level
    /Users/hornenj/perl5/perlbrew/perls/perl-5.18.2/lib/5.18.2
    .