Mojolicious-Plugin-OpenAPI-Modern v0.014 Perl 5 v5.41.10 x86_64-linux-thread-multi

Status
Pass
From
Andreas J. König (ANDK)
Dist
Mojolicious-Plugin-OpenAPI-Modern v0.014
Platform
Perl 5 v5.41.10 x86_64-linux-thread-multi
Date
2025-04-18 13:05:49
ID
d9c5dba8-1c55-11f0-bc05-c89882503718
This distribution has been tested as part of the CPAN Testers
project, supporting the Perl programming language.  See
http://wiki.cpantesters.org/ for more information or email
questions to cpan-testers-discuss@perl.org


--
Dear Karen Etheridge,

This is a computer-generated report for Mojolicious-Plugin-OpenAPI-Modern-0.014
on perl 5.41.10, created by CPAN-Reporter-1.2020.

Thank you for uploading your work to CPAN.  Congratulations!
All tests were successful.

Sections of this report:

    * Tester comments
    * Program output
    * Prerequisites
    * Environment and other context

------------------------------
TESTER COMMENTS
------------------------------

Additional comments from tester:

this report is from an automated smoke testing program
and was not reviewed by a human for accuracy

------------------------------
PROGRAM OUTPUT
------------------------------

Output from './Build test':

# 
# Versions for all modules listed in MYMETA.json (including optional ones):
# 
# === Configure Requires ===
# 
#     Module               Want     Have
#     ------------------- ----- --------
#     Module::Build::Tiny 0.034    0.051
#     perl                5.020 5.041010
# 
# === Test Requires ===
# 
#     Module                           Want     Have
#     ------------------------------- ----- --------
#     File::Spec                        any     3.93
#     JSON::Schema::Modern::Utilities   any    0.608
#     Module::Metadata                  any 1.000038
#     Test::Deep                        any    1.204
#     Test::Memory::Cycle               any     1.06
#     Test::Mojo                        any    undef
#     Test::More                       0.88 1.302209
#     Test::Warnings                  0.033    0.038
#     constant                          any     1.33
#     experimental                      any    0.034
#     lib                               any     0.65
#     open                              any     1.13
#     perl                            5.020 5.041010
#     stable                          0.031    0.034
#     strict                            any     1.13
#     warnings                          any     1.74
# 
# === Test Recommends ===
# 
#     Module         Want     Have
#     ---------- -------- --------
#     CPAN::Meta 2.120900 2.150010
# 
# === Runtime Requires ===
# 
#     Module                                   Want     Have
#     --------------------------------------- ----- --------
#     Feature::Compat::Try                      any     0.05
#     JSON::Schema::Modern                    0.549    0.608
#     JSON::Schema::Modern::Document::OpenAPI 0.024    0.084
#     Mojo::Base                                any    undef
#     Mojo::JSON                                any    undef
#     OpenAPI::Modern                         0.074    0.084
#     Path::Tiny                                any    0.148
#     Safe::Isa                                 any 1.000010
#     YAML::PP                                  any  v0.39.0
#     if                                        any   0.0610
#     namespace::clean                          any     0.27
#     perl                                    5.020 5.041010
#     strictures                                  2 2.000006
# 
# === Other Modules ===
# 
#     Module                    Have
#     ----------------------- ------
#     Cpanel::JSON::XS          4.39
#     Encode                    3.21
#     File::ShareDir           1.118
#     File::ShareDir::Install   0.14
#     File::Temp              0.2311
#     JSON::PP                  4.16
#     JSON::XS                  4.03
#     Module::Runtime          0.016
#     Mojolicious               9.39
#     Pod::Coverage             0.23
#     Sub::Name                 0.28
#     YAML                      1.31
#     autodie                   2.37
# 
t/00-report-prereqs.t .......... ok
t/initialization.t ............. ok
t/validate_request_response.t .. ok
All tests successful.
Files=3, Tests=6,  6 wallclock secs ( 0.04 usr  0.01 sys +  5.15 cusr  0.21 csys =  5.41 CPU)
Result: PASS

------------------------------
PREREQUISITES
------------------------------

Prerequisite modules loaded:

requires:

    Module                                  Need  Have    
    --------------------------------------- ----- --------
    Feature::Compat::Try                    0     0.05    
    if                                      0     0.0610  
    JSON::Schema::Modern                    0.549 0.608   
    JSON::Schema::Modern::Document::OpenAPI 0.024 0.084   
    Mojo::Base                              0     0       
    Mojo::JSON                              0     0       
    namespace::clean                        0     0.27    
    OpenAPI::Modern                         0.074 0.084   
    Path::Tiny                              0     0.148   
    perl                                    5.020 5.041010
    Safe::Isa                               0     1.000010
    strictures                              2     2.000006
    YAML::PP                                0     v0.39.0 

build_requires:

    Module                                  Need  Have    
    --------------------------------------- ----- --------
    constant                                0     1.33    
    experimental                            0     0.034   
    File::Spec                              0     3.93    
    JSON::Schema::Modern::Utilities         0     0.608   
    lib                                     0     0.65    
    Module::Metadata                        0     1.000038
    open                                    0     1.13    
    perl                                    5.020 5.041010
    stable                                  0.031 0.034   
    strict                                  0     1.13    
    Test::Deep                              0     1.204   
    Test::Memory::Cycle                     0     1.06    
    Test::Mojo                              0     0       
    Test::More                              0.88  1.302209
    Test::Warnings                          0.033 0.038   
    warnings                                0     1.74    

configure_requires:

    Module                                  Need  Have    
    --------------------------------------- ----- --------
    Module::Build::Tiny                     0.034 0.051   
    perl                                    5.020 5.041010


------------------------------
ENVIRONMENT AND OTHER CONTEXT
------------------------------

Environment variables:

    AUTOMATED_TESTING = 1
    LANG = en_US.UTF-8
    PATH = /home/sand/bin:/usr/local/bin:/usr/local/sbin:/usr/sbin:/usr/bin:/sbin:/bin:/usr/games:/usr/local/games:/snap/bin:/usr/local/perl/bin:/usr/X11/bin
    PERL = /tmp/basesmoker-reloperl-Cyl8/bin/perl
    PERL5LIB = /tmp/loop_over_bdir-2864982-bUcvM6/LCFG-Build-Skeleton-0.5.0-0/blib/arch:/tmp/loop_over_bdir-2864982-bUcvM6/LCFG-Build-Skeleton-0.5.0-0/blib/lib:/tmp/loop_over_bdir-2864982-bUcvM6/Simulation-Automate-1.0.1-0/blib/arch:/tmp/loop_over_bdir-2864982-bUcvM6/Simulation-Automate-1.0.1-0/blib/lib:/tmp/loop_over_bdir-2864982-bUcvM6/LCFG-Build-Tools-0.9.30-0/blib/arch:/tmp/loop_over_bdir-2864982-bUcvM6/LCFG-Build-Tools-0.9.30-0/blib/lib:/tmp/loop_over_bdir-2864982-bUcvM6/Net-ISP-Balance-1.31-0/blib/arch:/tmp/loop_over_bdir-2864982-bUcvM6/Net-ISP-Balance-1.31-0/blib/lib:/tmp/loop_over_bdir-2864982-bUcvM6/Devel-Required-0.17-0/blib/arch:/tmp/loop_over_bdir-2864982-bUcvM6/Devel-Required-0.17-0/blib/lib:/tmp/loop_over_bdir-2864982-bUcvM6/Lingua-BioYaTeA-0.11-0/blib/arch:/tmp/loop_over_bdir-2864982-bUcvM6/Lingua-BioYaTeA-0.11-0/blib/lib:/tmp/loop_over_bdir-2864982-bUcvM6/Lingua-YaTeA-0.626-0/blib/arch:/tmp/loop_over_bdir-2864982-bUcvM6/Lingua-YaTeA-0.626-0/blib/lib:/tmp/loop_over_bdir-2864982-bUcvM6/DBIx-Migration-Directories-0.12-0/blib/arch:/tmp/loop_over_bdir-2864982-bUcvM6/DBIx-Migration-Directories-0.12-0/blib/lib
    PERL5OPT = 
    PERL5_CPANPLUS_IS_RUNNING = 2864990
    PERL5_CPAN_IS_RUNNING = 2864990
    PERL_CANARY_STABILITY_NOPROMPT = 1
    PERL_MM_USE_DEFAULT = 1
    PERL_USE_UNSAFE_INC = 1
    SHELL = /usr/bin/zsh
    TERM = screen

Perl special variables (and OS-specific diagnostics, for MSWin32):

    $^X = /tmp/basesmoker-reloperl-Cyl8/bin/perl
    $UID/$EUID = 1005 / 1005
    $GID = 1005 1005
    $EGID = 1005 1005

Perl module toolchain versions installed:

    Module              Have    
    ------------------- --------
    CPAN                2.38    
    CPAN::Meta          2.150010
    Cwd                 3.92    
    ExtUtils::CBuilder  0.280240
    ExtUtils::Command   7.72    
    ExtUtils::Install   2.22    
    ExtUtils::MakeMaker 7.72    
    ExtUtils::Manifest  1.75    
    ExtUtils::ParseXS   3.57    
    File::Spec          3.93    
    JSON                4.10    
    JSON::PP            4.16    
    Module::Build       0.4234  
    Module::Signature   0.89    
    Parse::CPAN::Meta   2.150010
    Test2               1.302209
    Test::Harness       3.50    
    Test::More          1.302209
    YAML                1.31    
    YAML::Syck          1.34    
    version             0.9933  


--

Summary of my perl5 (revision 5 version 41 subversion 10) configuration:
  Commit id: 6a1cf63fc3f0e8d25b8f3837f9ca46b3bbc65885
  Platform:
    osname=linux
    osvers=5.4.0-208-generic
    archname=x86_64-linux-thread-multi
    uname='linux k93focal 5.4.0-208-generic #228-ubuntu smp fri feb 7 19:41:33 utc 2025 x86_64 x86_64 x86_64 gnulinux '
    config_args='-Dprefix=/home/sand/src/perl/repoperls/installed-perls/host/k93focal/v5.41.10/d119 -Dmyhostname=k93focal -Dinstallusrbinperl=n -Uversiononly -Dusedevel -des -Ui_db -Dlibswanted=cl pthread socket inet nsl gdbm dbm malloc dl ld sun m crypt sec util c cposix posix ucb BSD gdbm_compat -Duseithreads -Uuselongdouble -DEBUGGING=both'
    hint=recommended
    useposix=true
    d_sigaction=define
    useithreads=define
    usemultiplicity=define
    use64bitint=define
    use64bitall=define
    uselongdouble=undef
    usemymalloc=n
    default_inc_excludes_dot=define
  Compiler:
    cc='cc'
    ccflags ='-D_REENTRANT -D_GNU_SOURCE -fwrapv -DDEBUGGING -fno-strict-aliasing -pipe -fstack-protector-strong -I/usr/local/include -D_LARGEFILE_SOURCE -D_FILE_OFFSET_BITS=64'
    optimize='-O2 -g'
    cppflags='-D_REENTRANT -D_GNU_SOURCE -fwrapv -DDEBUGGING -fno-strict-aliasing -pipe -fstack-protector-strong -I/usr/local/include'
    ccversion=''
    gccversion='9.4.0'
    gccosandvers=''
    intsize=4
    longsize=8
    ptrsize=8
    doublesize=8
    byteorder=12345678
    doublekind=3
    d_longlong=define
    longlongsize=8
    d_longdbl=define
    longdblsize=16
    longdblkind=3
    ivtype='long'
    ivsize=8
    nvtype='double'
    nvsize=8
    Off_t='off_t'
    lseeksize=8
    alignbytes=8
    prototype=define
  Linker and Libraries:
    ld='cc'
    ldflags =' -fstack-protector-strong -L/usr/local/lib'
    libpth=/usr/local/lib /usr/lib/x86_64-linux-gnu /usr/lib /usr/lib64
    libs=-lpthread -lnsl -ldl -lm -lcrypt -lutil -lc
    perllibs=-lpthread -lnsl -ldl -lm -lcrypt -lutil -lc
    libc=libc-2.31.so
    so=so
    useshrplib=false
    libperl=libperl.a
    gnulibc_version='2.31'
  Dynamic Linking:
    dlsrc=dl_dlopen.xs
    dlext=so
    d_dlsymun=undef
    ccdlflags='-Wl,-E'
    cccdlflags='-fPIC'
    lddlflags='-shared -O2 -g -L/usr/local/lib -fstack-protector-strong'


Characteristics of this binary (from libperl): 
  Compile-time options:
    DEBUGGING
    HAS_LONG_DOUBLE
    HAS_STRTOLD
    HAS_TIMES
    MULTIPLICITY
    PERLIO_LAYERS
    PERL_COPY_ON_WRITE
    PERL_DONT_CREATE_GVSV
    PERL_HASH_FUNC_SIPHASH13
    PERL_HASH_USE_SBOX32
    PERL_MALLOC_WRAP
    PERL_OP_PARENT
    PERL_PRESERVE_IVUV
    PERL_TRACK_MEMPOOL
    PERL_USE_DEVEL
    PERL_USE_SAFE_PUTENV
    USE_64_BIT_ALL
    USE_64_BIT_INT
    USE_ITHREADS
    USE_LARGE_FILES
    USE_LOCALE
    USE_LOCALE_COLLATE
    USE_LOCALE_CTYPE
    USE_LOCALE_NUMERIC
    USE_LOCALE_TIME
    USE_PERLIO
    USE_PERL_ATOF
    USE_REENTRANT_API
    USE_THREAD_SAFE_LOCALE
  Built under linux
  Compiled at Mar 25 2025 16:21:46
  %ENV:
    PERL="/tmp/basesmoker-reloperl-Cyl8/bin/perl"
    PERL5LIB="/tmp/loop_over_bdir-2864982-bUcvM6/LCFG-Build-Skeleton-0.5.0-0/blib/arch:/tmp/loop_over_bdir-2864982-bUcvM6/LCFG-Build-Skeleton-0.5.0-0/blib/lib:/tmp/loop_over_bdir-2864982-bUcvM6/Simulation-Automate-1.0.1-0/blib/arch:/tmp/loop_over_bdir-2864982-bUcvM6/Simulation-Automate-1.0.1-0/blib/lib:/tmp/loop_over_bdir-2864982-bUcvM6/LCFG-Build-Tools-0.9.30-0/blib/arch:/tmp/loop_over_bdir-2864982-bUcvM6/LCFG-Build-Tools-0.9.30-0/blib/lib:/tmp/loop_over_bdir-2864982-bUcvM6/Net-ISP-Balance-1.31-0/blib/arch:/tmp/loop_over_bdir-2864982-bUcvM6/Net-ISP-Balance-1.31-0/blib/lib:/tmp/loop_over_bdir-2864982-bUcvM6/Devel-Required-0.17-0/blib/arch:/tmp/loop_over_bdir-2864982-bUcvM6/Devel-Required-0.17-0/blib/lib:/tmp/loop_over_bdir-2864982-bUcvM6/Lingua-BioYaTeA-0.11-0/blib/arch:/tmp/loop_over_bdir-2864982-bUcvM6/Lingua-BioYaTeA-0.11-0/blib/lib:/tmp/loop_over_bdir-2864982-bUcvM6/Lingua-YaTeA-0.626-0/blib/arch:/tmp/loop_over_bdir-2864982-bUcvM6/Lingua-YaTeA-0.626-0/blib/lib:/tmp/loop_over_bdir-2864982-bUcvM6/DBIx-Migration-Directories-0.12-0/blib/arch:/tmp/loop_over_bdir-2864982-bUcvM6/DBIx-Migration-Directories-0.12-0/blib/lib"
    PERL5OPT=""
    PERL5_CPANPLUS_IS_RUNNING="2864990"
    PERL5_CPAN_IS_RUNNING="2864990"
    PERL_CANARY_STABILITY_NOPROMPT="1"
    PERL_MM_USE_DEFAULT="1"
    PERL_USE_UNSAFE_INC="1"
  @INC:
    /tmp/loop_over_bdir-2864982-bUcvM6/LCFG-Build-Skeleton-0.5.0-0/blib/arch
    /tmp/loop_over_bdir-2864982-bUcvM6/LCFG-Build-Skeleton-0.5.0-0/blib/lib
    /tmp/loop_over_bdir-2864982-bUcvM6/Simulation-Automate-1.0.1-0/blib/arch
    /tmp/loop_over_bdir-2864982-bUcvM6/Simulation-Automate-1.0.1-0/blib/lib
    /tmp/loop_over_bdir-2864982-bUcvM6/LCFG-Build-Tools-0.9.30-0/blib/arch
    /tmp/loop_over_bdir-2864982-bUcvM6/LCFG-Build-Tools-0.9.30-0/blib/lib
    /tmp/loop_over_bdir-2864982-bUcvM6/Net-ISP-Balance-1.31-0/blib/arch
    /tmp/loop_over_bdir-2864982-bUcvM6/Net-ISP-Balance-1.31-0/blib/lib
    /tmp/loop_over_bdir-2864982-bUcvM6/Devel-Required-0.17-0/blib/arch
    /tmp/loop_over_bdir-2864982-bUcvM6/Devel-Required-0.17-0/blib/lib
    /tmp/loop_over_bdir-2864982-bUcvM6/Lingua-BioYaTeA-0.11-0/blib/arch
    /tmp/loop_over_bdir-2864982-bUcvM6/Lingua-BioYaTeA-0.11-0/blib/lib
    /tmp/loop_over_bdir-2864982-bUcvM6/Lingua-YaTeA-0.626-0/blib/arch
    /tmp/loop_over_bdir-2864982-bUcvM6/Lingua-YaTeA-0.626-0/blib/lib
    /tmp/loop_over_bdir-2864982-bUcvM6/DBIx-Migration-Directories-0.12-0/blib/arch
    /tmp/loop_over_bdir-2864982-bUcvM6/DBIx-Migration-Directories-0.12-0/blib/lib
    /home/sand/src/perl/repoperls/installed-perls/host/k93focal/v5.41.10/d119/lib/site_perl/5.41.10/x86_64-linux-thread-multi
    /home/sand/src/perl/repoperls/installed-perls/host/k93focal/v5.41.10/d119/lib/site_perl/5.41.10
    /home/sand/src/perl/repoperls/installed-perls/host/k93focal/v5.41.10/d119/lib/5.41.10/x86_64-linux-thread-multi
    /home/sand/src/perl/repoperls/installed-perls/host/k93focal/v5.41.10/d119/lib/5.41.10
    .