Text-Amuse-Preprocessor v0.67 Perl 5 v5.36.1 i386-freebsd-thread-multi-64int

Status
Pass
From
Chris Williams (BINGOS)
Dist
Text-Amuse-Preprocessor v0.67
Platform
Perl 5 v5.36.1 i386-freebsd-thread-multi-64int
Date
2023-07-15 01:56:44
ID
d9af39c8-22b2-11ee-98b0-b3c3213a625c
This distribution has been tested as part of the CPAN Testers
project, supporting the Perl programming language.  See
http://wiki.cpantesters.org/ for more information or email
questions to cpan-testers-discuss@perl.org


--

Dear MELMOTHX,

This is a computer-generated error report created automatically by
CPANPLUS, version 0.9914. Testers personal comments may appear
at the end of this report.


Thank you for uploading your work to CPAN.  Congratulations!
All tests were successful.

TEST RESULTS:

Below is the error stack from stage 'make test':

PERL_DL_NONLAZY=1 "/usr/home/cpan/pit/rel/perl-5.36.1/bin/perl" "-MExtUtils::Command::MM" "-MTest::Harness" "-e" "undef *Test::Harness::Switches; test_harness(0, 'blib/lib', 'blib/arch')" t/*.t
# Testing Text::Amuse::Preprocessor 0.67, Perl 5.036001, /usr/home/cpan/pit/rel/perl-5.36.1/bin/perl
t/00-load.t ........... ok
t/changes.t ........... skipped: Changes testing not required (or Test::CPAN::Changes not found)
t/chars.t ............. ok
t/chinese.t ........... ok
# Using /tmp/PbOf02E71f for ligatures
# Using /tmp/mnJmmSes1O for missing_nl
# Using /tmp/sPC3MSkAsL for garbage
# Using /tmp/m_rPuNFcou for ellipsis_no_fix
# Using /tmp/rh6NtMQ2ka for ellipsis
# Using /tmp/V_TKl72AB4 for links
# Using /tmp/E5ggq9U05O for en
# Using /tmp/EGeeTNG_DJ for fi
# Using /tmp/7FvkStsPoY for es
# Using /tmp/kSm_YHi2PO for sr
# Using /tmp/inWlKVvD51 for hr
# Using /tmp/NBZlt9DL4J for ru
# Using /tmp/x2bN2j3J_O for it
# Using /tmp/wTNzEyTv4L for mk
# Using /tmp/ETavUC73yn for sv
# Using /tmp/8PtAQHQ8DK for de
# Using /tmp/SBfuw2PZMr for pl
# Using /tmp/uNNcTazK_Q for bg
# Using /tmp/Sfc7ZeKFdD for eo
# Using /tmp/sownTzs4Nn for fr
# Using /tmp/wDl60v_Mlg for pt
# Using /tmp/Vi4UTnLuGu for sq
# Using /tmp/O94B_t7HJG for da
# Using /tmp/pl8KxRxlP8 for nl
# Using /tmp/8RfWZn8T8M for id
# Using /tmp/rYHLTmtbf_ for Full example
# Using /tmp/1yRj0o5c24 for Quote
# Using /tmp/Ch9edNG16j for Quote
# Using /tmp/A86Uv6OJRo for Nl quotation
t/common.t ............ ok
t/crash-on-verb.t ..... ok
# $VAR1 = "#title Test
# #lang en
# 
# 0
# 
# \x{201c}0\x{201d}
# 
# 0
# ";
# $VAR1 = "#title Test
# #lang en
# 
# 0
# 
# \x{201c}0\x{201d}
# 
# 0
# ";
t/crash_on_loop.t ..... ok
# /tmp/AxJiVnTPLp/verbatim-in.muse
# /tmp/AxJiVnTPLp
t/exclude-verbatim.t .. ok
tagpile mismatch: meta, head
tagpile mismatch: head, html
tagpile mismatch: link, head
tagpile mismatch: hr, div
tagpile mismatch: br, body
tagpile mismatch: div, html
# 
# 
# <right>
# سلام من هیچکسی نیستم.[1]
# </right>
# 
# <br>
# 
# [1] https://amusewiki.org
# 
tagpile mismatch: link, head
tagpile mismatch: hr, div
tagpile mismatch: br, body
tagpile mismatch: div, html
# 
# 
# سلام من هیچکسی نیستم.[1]
# 
# <br>
# 
# [1] https://amusewiki.org
# 
t/farsi.t ............. ok
# Testing t/footnotes/good.in => t/footnotes/good.out
# Testing t/footnotes/good2.in => t/footnotes/good2.out
# Testing t/footnotes/good3.in => t/footnotes/good3.out
# Testing t/footnotes/mixed.in => t/footnotes/mixed.out
# Testing t/footnotes/indentation.in => t/footnotes/indentation.out
# Testing t/footnotes/sec-good.in => t/footnotes/sec-good.out
# Testing t/footnotes/sec-good2.in => t/footnotes/sec-good2.out
# Testing t/footnotes/sec-good3.in => t/footnotes/sec-good3.out
# Testing t/footnotes/sec-bad.in => t/footnotes/sec-bad.out
# @@ -1 +1,2 @@
# -{4}
# +{3}
# +{3}
# Testing t/footnotes/sec-bad2.in => t/footnotes/sec-bad2.out
# @@ -1,3 +1,2 @@
# -{4}
# +{3}
# -{5}
# +{3}
# -{6}
# Testing t/footnotes/bad.in => t/footnotes/bad.out
# @@ -1,2 +1,3 @@
#  [1]
# -[1]
# +[2]
# +[4]
# Testing t/footnotes/bad2.in => t/footnotes/bad2.out
# @@ -1,4 +1,3 @@
#  [1]
# -[1]
# +[2]
#  [4]
# -[5]
t/footnotes.t ......... ok
tagpile mismatch: root, p
t/html-2.t ............ ok
# Using /tmp/IlpCYwmBNh.html
# Using /tmp/izKdiuZNdN.html
# Using /tmp/7Z2K8saaL4.html
# Using /tmp/JwEBD1t7_b.html
# Using /tmp/30kYlc3579.html
# Using /tmp/wco7yief_d.html
# Using /tmp/2BySU0stHJ.html
# Using /tmp/_7VJ_bWMRN.html
# Using /tmp/WqHfhDWjlf.html
# Using /tmp/OSpVpSeixy.html
# Using /tmp/McqnZRh61e.html
# Using /tmp/uNA1sZGGk8.html
# Using /tmp/26ZQZMy2HZ.html
# Using /tmp/0Ra_0g7XvB.html
# Using /tmp/eZYgSl2GY3.html
# Using /tmp/DvO7PjxRAB.html
# Using /tmp/tcOaQSeXYU.html
t/html.t .............. ok
# Retrieved on February 2, 2011 from http://j12.org/spunk/library/writers/meltzer/sp001500.html
# Retrieved on February 2, 2011 from [[http://j12.org/spunk/library/writers/meltzer/sp001500.html][j12.org]]
# Retrieved on December 22, 2011 from http://libertarian-labyrinth.org/archive/The_Great_Debacle
# Retrieved on December 22, 2011 from [[http://libertarian-labyrinth.org/archive/The_Great_Debacle][libertarian-labyrinth.org]]
# <br>http://www.nancho.net/advisors/anaes.html<br>
# <br>[[http://www.nancho.net/advisors/anaes.html][www.nancho.net]]<br>
# http://www.nancho.net/advisors/anaes.html<br>http://www.nancho.net/advisors/anaes.html<br>
# [[http://www.nancho.net/advisors/anaes.html][www.nancho.net]]<br>[[http://www.nancho.net/advisors/anaes.html][www.nancho.net]]<br>
#  https://web.archive.org/web/20220504202253/https://amusewiki.org/special/index 
#  [[https://web.archive.org/web/20220504202253/https://amusewiki.org/special/index][web.archive.org]] 
#  [[https://web.archive.org/web/20220504202253/https://amusewiki.org/special/index][web.archive.org]] 
#  [[https://web.archive.org/web/20220504202253/https://amusewiki.org/special/index][web.archive.org]] 
# http://test.org/xx and http://test.org/xx
# [[http://test.org/xx][test.org]] and [[http://test.org/xx][test.org]]
# [[http://test.org/xx][test.org]] and [[http://test.org/xx][test.org]]
# [[http://test.org/xx][test.org]] and [[http://test.org/xx][test.org]]
# http://test.org/xx and [[http://test.org/xx][test.org]]
# [[http://test.org/xx][test.org]] and [[http://test.org/xx][test.org]]
# http://test.org/xx and http://test.org/xx][test.org]] 
# [[http://test.org/xx][test.org]] and http://test.org/xx][test.org]] 
# <http://test.org/xx> and >http://test.org/xx<
# <[[http://test.org/xx][test.org]]> and >[[http://test.org/xx][test.org]]<
# <http://test.org/xx> and https://test.org:80/>http://test.org/xx< and https://test.org/ and [[https://test.org/][test.org]]
# <[[http://test.org/xx][test.org]]> and [[https://test.org:80/][test.org]]>[[http://test.org/xx][test.org]]< and [[https://test.org/][test.org]] and [[https://test.org/][test.org]]
# https://example.com/@test and https://example.com/@test
# [[https://example.com/@test][example.com]] and [[https://example.com/@test][example.com]]
# (http://en.wikipedia.org/wiki/Pi_%28instrument%29)
# ([[http://en.wikipedia.org/wiki/Pi_%28instrument%29][en.wikipedia.org]])
# (http://en.wikipedia.org?test=1)
# ([[http://en.wikipedia.org?test=1][en.wikipedia.org]])
# (http://en.wikipedia.org?test=1&test=2) (http://en.wikipedia.org/test?test=1)
# ([[http://en.wikipedia.org?test=1&test=2][en.wikipedia.org]]) ([[http://en.wikipedia.org/test?test=1][en.wikipedia.org]])
t/links.t ............. ok
t/manifest.t .......... skipped: Author tests not required for installation
t/memory-cycles.t ..... skipped: Test::Memory::Cycle required for testing memory cycles
t/nbsp.t .............. ok
# Infile is /tmp/4dNlH5Xdyx/input.txt
# Using /tmp/MK4V6KW8NS as temporary dir
t/object.t ............ ok
t/pod-coverage.t ...... skipped: Pod coverage not required for installation
t/pod.t ............... skipped: Pod test not required for installation
t/russian.t ........... ok
t/subs.t .............. ok
t/typography.t ........ ok
All tests successful.
Files=22, Tests=480, 16 wallclock secs ( 0.48 usr  0.20 sys + 11.59 cusr  3.41 csys = 15.67 CPU)
Result: PASS


PREREQUISITES:

Here is a list of prerequisites you specified and versions we
managed to load:

	  Module Name                        Have     Want
	  HTML::PullParser                   3.81        0
	  IO::HTML                          1.004        1
	  Pod::Simple::Wiki                  0.20     0.19
	  Test::More                     1.302195        0
	  Text::Amuse                        1.83     0.95
	  Text::Diff                         1.45        0

Perl module toolchain versions installed:
	Module Name                        Have
	CPANPLUS                         0.9914
	CPANPLUS::Dist::Build              0.90
	Cwd                                3.84
	ExtUtils::CBuilder             0.280236
	ExtUtils::Command                  7.70
	ExtUtils::Install                  2.22
	ExtUtils::MakeMaker                7.70
	ExtUtils::Manifest                 1.75
	ExtUtils::ParseXS                  3.45
	File::Spec                         3.84
	Module::Build                    0.4234
	Pod::Parser                           0
	Pod::Simple                        3.43
	Test2                          1.302195
	Test::Harness                      3.44
	Test::More                     1.302195
	version                          0.9929

******************************** NOTE ********************************
The comments above are created mechanically, possibly without manual
checking by the sender.  As there are many people performing automatic
tests on each upload to CPAN, it is likely that you will receive
identical messages about the same problem.

If you believe that the message is mistaken, please reply to the first
one with correction and/or additional informations, and do not take
it personally.  We appreciate your patience. :)
**********************************************************************

Additional comments:


This report was machine-generated by CPANPLUS::Dist::YACSmoke 1.08.
Powered by minismokebox version 0.68

CPANPLUS is prefering Build.PL

------------------------------
ENVIRONMENT AND OTHER CONTEXT
------------------------------

Environment variables:

    AUTOMATED_TESTING = 1
    LANG = C.UTF-8
    NONINTERACTIVE_TESTING = 1
    PATH = /usr/home/cpan/pit/rel/conf/perl-5.36.1/.cpanplus/5.36.1/build/nVAm9qjIvc/Text-Amuse-Preprocessor-0.67/blib/script:/sbin:/bin:/usr/sbin:/usr/bin:/usr/local/sbin:/usr/local/bin:/home/cpan/bin
    PERL5LIB = /usr/home/cpan/pit/jail/u_fLF3Zmfq/lib/perl5:/usr/home/cpan/pit/rel/conf/perl-5.36.1/.cpanplus/5.36.1/build/nVAm9qjIvc/Text-Amuse-Preprocessor-0.67/blib/lib:/usr/home/cpan/pit/rel/conf/perl-5.36.1/.cpanplus/5.36.1/build/nVAm9qjIvc/Text-Amuse-Preprocessor-0.67/blib/arch
    PERL5_CPANPLUS_IS_RUNNING = 49171
    PERL5_CPANPLUS_IS_VERSION = 0.9914
    PERL5_MINISMOKEBOX = 0.68
    PERL5_YACSMOKE_BASE = /usr/home/cpan/pit/rel/conf/perl-5.36.1
    PERL_EXTUTILS_AUTOINSTALL = --defaultdeps
    PERL_LOCAL_LIB_ROOT = /usr/home/cpan/pit/jail/u_fLF3Zmfq
    PERL_MB_OPT = --install_base "/usr/home/cpan/pit/jail/u_fLF3Zmfq"
    PERL_MM_OPT = INSTALL_BASE=/usr/home/cpan/pit/jail/u_fLF3Zmfq
    PERL_MM_USE_DEFAULT = 1
    SHELL = /usr/local/bin/bash
    TERM = screen

Perl special variables (and OS-specific diagnostics, for MSWin32):

    Perl: $^X = /usr/home/cpan/pit/rel/perl-5.36.1/bin/perl
    UID:  $<  = 1002
    EUID: $>  = 1002
    GID:  $(  = 1002 1002
    EGID: $)  = 1002 1002


-------------------------------


--

Summary of my perl5 (revision 5 version 36 subversion 1) configuration:
   
  Platform:
    osname=freebsd
    osvers=13.2-release
    archname=i386-freebsd-thread-multi-64int
    uname='freebsd fiat 13.2-release freebsd 13.2-release releng13.2-n254617-525ecfdad597 generic i386 '
    config_args='-des -Dprefix=/usr/home/cpan/pit/rel/perl-5.36.1 -Dusethreads -Duse64bitint'
    hint=recommended
    useposix=true
    d_sigaction=define
    useithreads=define
    usemultiplicity=define
    use64bitint=define
    use64bitall=undef
    uselongdouble=undef
    usemymalloc=n
    default_inc_excludes_dot=define
  Compiler:
    cc='cc'
    ccflags ='-DHAS_FPSETMASK -DHAS_FLOATINGPOINT_H -fno-strict-aliasing -pipe -fstack-protector-strong -I/usr/local/include'
    optimize='-O2'
    cppflags='-DHAS_FPSETMASK -DHAS_FLOATINGPOINT_H -fno-strict-aliasing -pipe -fstack-protector-strong -I/usr/local/include'
    ccversion=''
    gccversion='FreeBSD Clang 14.0.5 (https://github.com/llvm/llvm-project.git llvmorg-14.0.5-0-gc12386ae247c)'
    gccosandvers=''
    intsize=4
    longsize=4
    ptrsize=4
    doublesize=8
    byteorder=12345678
    doublekind=3
    d_longlong=define
    longlongsize=8
    d_longdbl=define
    longdblsize=12
    longdblkind=3
    ivtype='long long'
    ivsize=8
    nvtype='double'
    nvsize=8
    Off_t='off_t'
    lseeksize=8
    alignbytes=4
    prototype=define
  Linker and Libraries:
    ld='cc'
    ldflags ='-pthread -Wl,-E  -fstack-protector-strong -L/usr/local/lib'
    libpth=/usr/lib /usr/local/lib /usr/lib/clang/14.0.5/lib
    libs=-lpthread -lgdbm -ldl -lm -lcrypt -lutil
    perllibs=-lpthread -ldl -lm -lcrypt -lutil
    libc=
    so=so
    useshrplib=false
    libperl=libperl.a
    gnulibc_version=''
  Dynamic Linking:
    dlsrc=dl_dlopen.xs
    dlext=so
    d_dlsymun=undef
    ccdlflags=' '
    cccdlflags='-DPIC -fPIC'
    lddlflags='-shared  -L/usr/local/lib -fstack-protector-strong'


Characteristics of this binary (from libperl): 
  Compile-time options:
    HAS_TIMES
    MULTIPLICITY
    PERLIO_LAYERS
    PERL_COPY_ON_WRITE
    PERL_DONT_CREATE_GVSV
    PERL_MALLOC_WRAP
    PERL_OP_PARENT
    PERL_PRESERVE_IVUV
    USE_64_BIT_INT
    USE_ITHREADS
    USE_LARGE_FILES
    USE_LOCALE
    USE_LOCALE_COLLATE
    USE_LOCALE_CTYPE
    USE_LOCALE_NUMERIC
    USE_LOCALE_TIME
    USE_PERLIO
    USE_PERL_ATOF
    USE_REENTRANT_API
    USE_THREAD_SAFE_LOCALE
  Built under freebsd
  Compiled at May  7 2023 03:54:11
  %ENV:
    PERL5LIB="/usr/home/cpan/pit/jail/u_fLF3Zmfq/lib/perl5:/usr/home/cpan/pit/rel/conf/perl-5.36.1/.cpanplus/5.36.1/build/nVAm9qjIvc/Text-Amuse-Preprocessor-0.67/blib/lib:/usr/home/cpan/pit/rel/conf/perl-5.36.1/.cpanplus/5.36.1/build/nVAm9qjIvc/Text-Amuse-Preprocessor-0.67/blib/arch"
    PERL5_CPANPLUS_IS_RUNNING="49171"
    PERL5_CPANPLUS_IS_VERSION="0.9914"
    PERL5_MINISMOKEBOX="0.68"
    PERL5_YACSMOKE_BASE="/usr/home/cpan/pit/rel/conf/perl-5.36.1"
    PERL_EXTUTILS_AUTOINSTALL="--defaultdeps"
    PERL_LOCAL_LIB_ROOT="/usr/home/cpan/pit/jail/u_fLF3Zmfq"
    PERL_MB_OPT="--install_base "/usr/home/cpan/pit/jail/u_fLF3Zmfq""
    PERL_MM_OPT="INSTALL_BASE=/usr/home/cpan/pit/jail/u_fLF3Zmfq"
    PERL_MM_USE_DEFAULT="1"
  @INC:
    /usr/home/cpan/pit/jail/u_fLF3Zmfq/lib/perl5/5.36.1/i386-freebsd-thread-multi-64int
    /usr/home/cpan/pit/jail/u_fLF3Zmfq/lib/perl5/5.36.1
    /usr/home/cpan/pit/jail/u_fLF3Zmfq/lib/perl5/i386-freebsd-thread-multi-64int
    /usr/home/cpan/pit/jail/u_fLF3Zmfq/lib/perl5
    /usr/home/cpan/pit/rel/conf/perl-5.36.1/.cpanplus/5.36.1/build/nVAm9qjIvc/Text-Amuse-Preprocessor-0.67/blib/lib
    /usr/home/cpan/pit/rel/conf/perl-5.36.1/.cpanplus/5.36.1/build/nVAm9qjIvc/Text-Amuse-Preprocessor-0.67/blib/arch
    /usr/home/cpan/pit/rel/perl-5.36.1/lib/site_perl/5.36.1/i386-freebsd-thread-multi-64int
    /usr/home/cpan/pit/rel/perl-5.36.1/lib/site_perl/5.36.1
    /usr/home/cpan/pit/rel/perl-5.36.1/lib/5.36.1/i386-freebsd-thread-multi-64int
    /usr/home/cpan/pit/rel/perl-5.36.1/lib/5.36.1