Report for HTML-Parser-3.72

Back
From: metabase:user:0d96120c-29e2-11e5-b049-ede3035d37de
Subject: PASS HTML-Parser-3.72 v5.24.0 RC1 Windows (Cygwin)
Date: 2016-04-22T23:06:54Z

This distribution has been tested as part of the CPAN Testers
project, supporting the Perl programming language.  See
http://wiki.cpantesters.org/ for more information or email
questions to cpan-testers-discuss@perl.org


--
Dear Gisle Aas,

This is a computer-generated report for HTML-Parser-3.72
on perl 5.24.0, created by CPAN-Reporter-1.2017.

Thank you for uploading your work to CPAN.  Congratulations!
All tests were successful.

Sections of this report:

    * Tester comments
    * Program output
    * Prerequisites
    * Environment and other context

------------------------------
TESTER COMMENTS
------------------------------

Additional comments from tester:

none provided

------------------------------
PROGRAM OUTPUT
------------------------------

Output from '/usr/bin/make test':

Running Mkbootstrap for HTML::Parser ()
chmod 644 "Parser.bs"
PERL_DL_NONLAZY=1 "/home/jmasl/perl5/perlbrew/perls/perl-5.24.0-RC1/bin/perl.exe" "-MExtUtils::Command::MM" "-MTest::Harness" "-e" "undef *Test::Harness::Switches; test_harness(0, 'blib/lib', 'blib/arch')" t/*.t
t/api_version.t ...... ok
t/argspec-bad.t ...... ok
t/argspec.t .......... ok
t/argspec2.t ......... ok
t/attr-encoded.t ..... ok
t/callback.t ......... ok
t/case-sensitive.t ... ok
t/cases.t ............ ok
t/comment.t .......... ok
t/crashme.t .......... ok
t/declaration.t ...... ok
t/default.t .......... ok
t/document.t ......... ok
t/dtext.t ............ ok
t/entities.t ......... ok
t/entities2.t ........ ok
t/filter-methods.t ... ok
t/filter.t ........... ok
t/handler-eof.t ...... ok
t/handler.t .......... ok
t/headparser-http.t .. ok
t/headparser.t ....... ok
t/ignore.t ........... ok
t/largetags.t ........ ok
t/linkextor-base.t ... ok
t/linkextor-rel.t .... ok
t/magic.t ............ ok
t/marked-sect.t ...... ok
t/msie-compat.t ...... ok
t/offset.t ........... ok
t/options.t .......... ok
t/parsefile.t ........ ok
t/parser.t ........... ok
t/plaintext.t ........ ok
t/pod.t .............. skipped: Test::Pod 1.00 required for testing POD
t/process.t .......... ok
t/pullparser.t ....... ok
t/script.t ........... ok
t/skipped-text.t ..... ok
t/stack-realloc.t .... ok
t/textarea.t ......... ok
t/threads.t .......... ok
t/tokeparser.t ....... ok
t/uentities.t ........ ok
t/unbroken-text.t .... ok
t/unicode-bom.t ...... ok
t/unicode.t .......... ok
t/xml-mode.t ......... ok
All tests successful.
Files=48, Tests=451,  3 wallclock secs ( 0.14 usr  0.01 sys +  1.18 cusr  1.21 csys =  2.55 CPU)
Result: PASS

------------------------------
PREREQUISITES
------------------------------

Prerequisite modules loaded:

requires:

    Module              Need  Have    
    ------------------- ----- --------
    HTML::Tagset        3     3.20    
    perl                5.008 5.024000
    XSLoader            0     0.21    

build_requires:

    Module              Need  Have    
    ------------------- ----- --------
    ExtUtils::MakeMaker 0     7.10_01 

configure_requires:

    Module              Need  Have    
    ------------------- ----- --------
    ExtUtils::MakeMaker 0     7.10_01 

opt_requires:

    Module              Need  Have    
    ------------------- ----- --------
    HTTP::Headers       0     6.11    


------------------------------
ENVIRONMENT AND OTHER CONTEXT
------------------------------

Environment variables:

    COMSPEC = C:\Windows\system32\cmd.exe
    LANG = en_US.UTF-8
    NONINTERACTIVE_TESTING = 1
    NUMBER_OF_PROCESSORS = 12
    PATH = /home/jmasl/perl5/perlbrew/bin:/home/jmasl/perl5/perlbrew/perls/perl-5.24.0-RC1/bin:/usr/local/bin:/usr/bin:/cygdrive/c/Windows/system32:/cygdrive/c/Windows:/cygdrive/c/Windows/System32/Wbem:/cygdrive/c/Windows/System32/WindowsPowerShell/v1.0:/cygdrive/c/Program Files (x86)/NVIDIA Corporation/PhysX/Common:/cygdrive/c/Strawberry/c/bin:/cygdrive/c/Strawberry/perl/site/bin:/cygdrive/c/Strawberry/perl/bin:/usr/sbin
    PERL5LIB = 
    PERL5OPT = 
    PERL5_CPANPLUS_IS_RUNNING = 7228
    PERL5_CPAN_IS_RUNNING = 7228
    PERLBREW_BASHRC_VERSION = 0.75
    PERLBREW_HOME = /home/jmasl/.perlbrew
    PERLBREW_MANPATH = /home/jmasl/perl5/perlbrew/perls/perl-5.24.0-RC1/man
    PERLBREW_PATH = /home/jmasl/perl5/perlbrew/bin:/home/jmasl/perl5/perlbrew/perls/perl-5.24.0-RC1/bin
    PERLBREW_PERL = perl-5.24.0-RC1
    PERLBREW_ROOT = /home/jmasl/perl5/perlbrew
    PERLBREW_VERSION = 0.75
    PERL_MM_USE_DEFAULT = 1
    PROCESSOR_IDENTIFIER = Intel64 Family 6 Model 63 Stepping 2, GenuineIntel
    SHELL = /bin/bash
    TEMP = /tmp
    TERM = xterm-256color

Perl special variables (and OS-specific diagnostics, for MSWin32):

    $^X = /home/jmasl/perl5/perlbrew/perls/perl-5.24.0-RC1/bin/perl
    $UID/$EUID = 197609 / 197609
    $GID = 197609 401408 545 4 66049 11 15 68506 113 66048 262180
    $EGID = 197609 401408 545 4 66049 11 15 68506 113 66048 262180

Perl module toolchain versions installed:

    Module              Have    
    ------------------- --------
    CPAN                2.11    
    CPAN::Meta          2.150005
    Cwd                 3.63    
    ExtUtils::CBuilder  0.280225
    ExtUtils::Command   7.10    
    ExtUtils::Install   2.04    
    ExtUtils::MakeMaker 7.10_01 
    ExtUtils::Manifest  1.70    
    ExtUtils::ParseXS   3.31    
    File::Spec          3.63    
    JSON                2.90    
    JSON::PP            2.27300 
    Module::Build       0.4216  
    Module::Signature   n/a     
    Parse::CPAN::Meta   1.4417  
    Test::Harness       3.36    
    Test::More          1.001014
    YAML                n/a     
    YAML::Syck          n/a     
    version             0.9916  


--

Summary of my perl5 (revision 5 version 24 subversion 0) configuration:
   
  Platform:
    osname=cygwin, osvers=2.5.0(0.29753), archname=cygwin-thread-multi
    uname='cygwin_nt-10.0 joel-win10 2.5.0(0.29753) 2016-04-11 09:58 x86_64 cygwin '
    config_args='-de -Dprefix=/home/jmasl/perl5/perlbrew/perls/perl-5.24.0-RC1 -Aeval:scriptdir=/home/jmasl/perl5/perlbrew/perls/perl-5.24.0-RC1/bin'
    hint=recommended, useposix=true, d_sigaction=define
    useithreads=define, usemultiplicity=define
    use64bitint=define, use64bitall=define, uselongdouble=undef
    usemymalloc=n, bincompat5005=undef
  Compiler:
    cc='gcc', ccflags ='-DPERL_USE_SAFE_PUTENV -U__STRICT_ANSI__ -fwrapv -fno-strict-aliasing -pipe -fstack-protector-strong -D_FORTIFY_SOURCE=2',
    optimize='-O3',
    cppflags='-DPERL_USE_SAFE_PUTENV -U__STRICT_ANSI__ -fwrapv -fno-strict-aliasing -pipe -fstack-protector-strong'
    ccversion='', gccversion='5.3.0', gccosandvers=''
    intsize=4, longsize=8, ptrsize=8, doublesize=8, byteorder=12345678, doublekind=3
    d_longlong=define, longlongsize=8, d_longdbl=define, longdblsize=16, longdblkind=3
    ivtype='long', ivsize=8, nvtype='double', nvsize=8, Off_t='off_t', lseeksize=8
    alignbytes=8, prototype=define
  Linker and Libraries:
    ld='g++', ldflags =' -Wl,--enable-auto-import -Wl,--export-all-symbols -Wl,--enable-auto-image-base -fstack-protector-strong -L/usr/local/lib'
    libpth=/usr/lib /usr/lib/../lib/../include/w32api /usr/local/lib /lib
    libs=-lpthread -ldl -lcrypt
    perllibs=-lpthread -ldl -lcrypt
    libc=/usr/lib/libc.a, so=dll, useshrplib=true, libperl=cygperl5_24_0.dll
    gnulibc_version=''
  Dynamic Linking:
    dlsrc=dl_dlopen.xs, dlext=dll, d_dlsymun=undef, ccdlflags=' '
    cccdlflags=' ', lddlflags=' --shared  -Wl,--enable-auto-import -Wl,--export-all-symbols -Wl,--enable-auto-image-base -L/usr/local/lib -fstack-protector-strong'


Characteristics of this binary (from libperl): 
  Compile-time options: HAS_TIMES MULTIPLICITY PERLIO_LAYERS
                        PERL_COPY_ON_WRITE PERL_DONT_CREATE_GVSV
                        PERL_HASH_FUNC_ONE_AT_A_TIME_HARD
                        PERL_IMPLICIT_CONTEXT PERL_PRESERVE_IVUV
                        PERL_USE_SAFE_PUTENV USE_64_BIT_ALL USE_64_BIT_INT
                        USE_ITHREADS USE_LARGE_FILES USE_LOCALE
                        USE_LOCALE_COLLATE USE_LOCALE_CTYPE
                        USE_LOCALE_NUMERIC USE_LOCALE_TIME USE_PERLIO
                        USE_PERL_ATOF USE_REENTRANT_API
  Locally applied patches:
	RC1
	Devel::PatchPerl 1.38
  Built under cygwin
  Compiled at Apr 21 2016 21:59:54
  %ENV:
    PERL5LIB=""
    PERL5OPT=""
    PERL5_CPANPLUS_IS_RUNNING="7228"
    PERL5_CPAN_IS_RUNNING="7228"
    PERLBREW_BASHRC_VERSION="0.75"
    PERLBREW_HOME="/home/jmasl/.perlbrew"
    PERLBREW_MANPATH="/home/jmasl/perl5/perlbrew/perls/perl-5.24.0-RC1/man"
    PERLBREW_PATH="/home/jmasl/perl5/perlbrew/bin:/home/jmasl/perl5/perlbrew/perls/perl-5.24.0-RC1/bin"
    PERLBREW_PERL="perl-5.24.0-RC1"
    PERLBREW_ROOT="/home/jmasl/perl5/perlbrew"
    PERLBREW_VERSION="0.75"
    PERL_MM_USE_DEFAULT="1"
  @INC:
    /home/jmasl/perl5/perlbrew/perls/perl-5.24.0-RC1/lib/site_perl/5.24.0/cygwin-thread-multi
    /home/jmasl/perl5/perlbrew/perls/perl-5.24.0-RC1/lib/site_perl/5.24.0
    /home/jmasl/perl5/perlbrew/perls/perl-5.24.0-RC1/lib/5.24.0/cygwin-thread-multi
    /home/jmasl/perl5/perlbrew/perls/perl-5.24.0-RC1/lib/5.24.0
    .