Mojolicious-Plugin-Export v0.008 Perl 5 v5.37.5 x86_64-linux-ld

Status
Pass
From
Andreas J. König (ANDK)
Dist
Mojolicious-Plugin-Export v0.008
Platform
Perl 5 v5.37.5 x86_64-linux-ld
Date
2022-11-03 06:43:39
ID
d96a9ec2-5b42-11ed-a1c7-db0ada3107cd
This distribution has been tested as part of the CPAN Testers
project, supporting the Perl programming language.  See
http://wiki.cpantesters.org/ for more information or email
questions to cpan-testers-discuss@perl.org


--
Dear Doug Bell,

This is a computer-generated report for Mojolicious-Plugin-Export-0.008
on perl 5.37.5, created by CPAN-Reporter-1.2018.

Thank you for uploading your work to CPAN.  Congratulations!
All tests were successful.

Sections of this report:

    * Tester comments
    * Program output
    * Prerequisites
    * Environment and other context

------------------------------
TESTER COMMENTS
------------------------------

Additional comments from tester:

this report is from an automated smoke testing program
and was not reviewed by a human for accuracy

------------------------------
PROGRAM OUTPUT
------------------------------

Output from '/usr/bin/make test':

PERL_DL_NONLAZY=1 "/tmp/basesmoker-reloperl-yefZ/bin/perl" "-MExtUtils::Command::MM" "-MTest::Harness" "-e" "undef *Test::Harness::Switches; test_harness(0, 'blib/lib', 'blib/arch')" t/*.t
t/00-compile.t ......... ok
# 
# Versions for all modules listed in MYMETA.json (including optional ones):
# 
# === Configure Requires ===
# 
#     Module              Want Have
#     ------------------- ---- ----
#     ExtUtils::MakeMaker  any 7.64
# 
# === Build Requires ===
# 
#     Module              Want Have
#     ------------------- ---- ----
#     ExtUtils::MakeMaker  any 7.64
# 
# === Test Requires ===
# 
#     Module              Want     Have
#     ------------------- ---- --------
#     ExtUtils::MakeMaker  any     7.64
#     File::Spec           any     3.87
#     IO::Handle           any     1.51
#     IPC::Open3           any     1.22
#     Test::More           any 1.302191
# 
# === Test Recommends ===
# 
#     Module         Want     Have
#     ---------- -------- --------
#     CPAN::Meta 2.120900 2.150010
# 
# === Runtime Requires ===
# 
#     Module      Want Have
#     ----------- ---- ----
#     Mojolicious    8 9.28
# 
t/00-report-prereqs.t .. ok
[2022-11-03 06:42:52.95802] [2495531] [trace] [TEgMG2ZxBO_n] GET "/"
[2022-11-03 06:42:52.95939] [2495531] [trace] [TEgMG2ZxBO_n] Rendering template "index.html.ep" from DATA section
[2022-11-03 06:42:52.96026] [2495531] [trace] [TEgMG2ZxBO_n] 200 OK (0.002228s, 448.833/s)
[2022-11-03 06:42:52.96338] [2495531] [trace] [-iFyNmZsncQk] GET "/docs"
[2022-11-03 06:42:52.96412] [2495531] [trace] [-iFyNmZsncQk] Rendering template "docs.html.ep" from DATA section
[2022-11-03 06:42:52.96504] [2495531] [trace] [-iFyNmZsncQk] 200 OK (0.001649s, 606.428/s)
[2022-11-03 06:42:52.96767] [2495531] [trace] [GM3LCp5aNWnv] GET "/about"
[2022-11-03 06:42:52.96815] [2495531] [trace] [GM3LCp5aNWnv] Rendering template "about.html.ep" from DATA section
[2022-11-03 06:42:52.96874] [2495531] [trace] [GM3LCp5aNWnv] 200 OK (0.00105s, 952.381/s)
[2022-11-03 06:42:52.97124] [2495531] [trace] [4esAMuAAnbyg] GET "/NOT_FOUND"
[2022-11-03 06:42:52.97177] [2495531] [trace] [4esAMuAAnbyg] Template "not_found.development.html.ep" not found
[2022-11-03 06:42:52.97190] [2495531] [trace] [4esAMuAAnbyg] Template "not_found.html.ep" not found
[2022-11-03 06:42:52.97202] [2495531] [trace] [4esAMuAAnbyg] Rendering template "mojo/debug.html.ep"
[2022-11-03 06:42:52.98448] [2495531] [trace] Your secret passphrase needs to be changed
[2022-11-03 06:42:52.98737] [2495531] [trace] [4esAMuAAnbyg] 404 Not Found (0.0161s, 62.112/s)
[2022-11-03 06:42:52.99093] [2495531] [trace] [X7QsSdFkfJak] GET "/redirect"
[2022-11-03 06:42:52.99122] [2495531] [trace] [X7QsSdFkfJak] Routing to a callback
[2022-11-03 06:42:52.99144] [2495531] [trace] [X7QsSdFkfJak] 302 Found (0.000506s, 1976.285/s)
[2022-11-03 06:42:52.99530] [2495531] [trace] [8d996zw4bWlQ] GET "/docs/more"
[2022-11-03 06:42:52.99558] [2495531] [trace] [8d996zw4bWlQ] Routing to a callback
[2022-11-03 06:42:52.99573] [2495531] [trace] [8d996zw4bWlQ] Rendering inline template "2da2aed28011bbc3541e0de248c276ca"
[2022-11-03 06:42:52.99630] [2495531] [trace] [8d996zw4bWlQ] 200 OK (0.000988s, 1012.146/s)
[2022-11-03 06:42:53.00830] [2495531] [trace] [lRA12sigye__] GET "/"
[2022-11-03 06:42:53.00862] [2495531] [trace] [lRA12sigye__] Rendering cached template "index.html.ep" from DATA section
[2022-11-03 06:42:53.00884] [2495531] [trace] [lRA12sigye__] 200 OK (0.000535s, 1869.159/s)
[2022-11-03 06:42:53.01181] [2495531] [trace] [oU1jPaXuhPxx] GET "/docs"
[2022-11-03 06:42:53.01209] [2495531] [trace] [oU1jPaXuhPxx] Rendering cached template "docs.html.ep" from DATA section
[2022-11-03 06:42:53.01230] [2495531] [trace] [oU1jPaXuhPxx] 200 OK (0.000469s, 2132.196/s)
[2022-11-03 06:42:53.01466] [2495531] [trace] [tgHafkhJLXwX] GET "/about"
[2022-11-03 06:42:53.01496] [2495531] [trace] [tgHafkhJLXwX] Rendering cached template "about.html.ep" from DATA section
[2022-11-03 06:42:53.01514] [2495531] [trace] [tgHafkhJLXwX] 200 OK (0.000462s, 2164.502/s)
[2022-11-03 06:42:53.01749] [2495531] [trace] [rrbktB44p7_R] GET "/NOT_FOUND"
[2022-11-03 06:42:53.01793] [2495531] [trace] [rrbktB44p7_R] Template "not_found.development.html.ep" not found
[2022-11-03 06:42:53.01806] [2495531] [trace] [rrbktB44p7_R] Template "not_found.html.ep" not found
[2022-11-03 06:42:53.01814] [2495531] [trace] [rrbktB44p7_R] Rendering cached template "mojo/debug.html.ep"
[2022-11-03 06:42:53.02192] [2495531] [trace] [rrbktB44p7_R] 404 Not Found (0.004406s, 226.963/s)
[2022-11-03 06:42:53.02450] [2495531] [trace] [eCV4Mnl7FRn8] GET "/redirect"
[2022-11-03 06:42:53.02468] [2495531] [trace] [eCV4Mnl7FRn8] Routing to a callback
[2022-11-03 06:42:53.02486] [2495531] [trace] [eCV4Mnl7FRn8] 302 Found (0.000348s, 2873.563/s)
[2022-11-03 06:42:53.02878] [2495531] [trace] [7aW-f5h1cA7i] GET "/docs/more"
[2022-11-03 06:42:53.02899] [2495531] [trace] [7aW-f5h1cA7i] Routing to a callback
[2022-11-03 06:42:53.02913] [2495531] [trace] [7aW-f5h1cA7i] Rendering cached inline template "2da2aed28011bbc3541e0de248c276ca"
[2022-11-03 06:42:53.02930] [2495531] [trace] [7aW-f5h1cA7i] 200 OK (0.000504s, 1984.127/s)
[2022-11-03 06:42:53.04169] [2495531] [trace] [_h3HKGOWKt_K] GET "/"
[2022-11-03 06:42:53.04202] [2495531] [trace] [_h3HKGOWKt_K] Rendering cached template "index.html.ep" from DATA section
[2022-11-03 06:42:53.04222] [2495531] [trace] [_h3HKGOWKt_K] 200 OK (0.000533s, 1876.173/s)
[2022-11-03 06:42:53.04514] [2495531] [trace] [zjobf583kC7T] GET "/docs"
[2022-11-03 06:42:53.04543] [2495531] [trace] [zjobf583kC7T] Rendering cached template "docs.html.ep" from DATA section
[2022-11-03 06:42:53.04560] [2495531] [trace] [zjobf583kC7T] 200 OK (0.000453s, 2207.506/s)
[2022-11-03 06:42:53.04902] [2495531] [trace] [AP16JIiwqGXw] GET "/about"
[2022-11-03 06:42:53.04929] [2495531] [trace] [AP16JIiwqGXw] Rendering cached template "about.html.ep" from DATA section
[2022-11-03 06:42:53.04947] [2495531] [trace] [AP16JIiwqGXw] 200 OK (0.000442s, 2262.443/s)
[2022-11-03 06:42:53.05206] [2495531] [trace] [POqdHG-D8AT7] GET "/NOT_FOUND"
[2022-11-03 06:42:53.05251] [2495531] [trace] [POqdHG-D8AT7] Template "not_found.development.html.ep" not found
[2022-11-03 06:42:53.05265] [2495531] [trace] [POqdHG-D8AT7] Template "not_found.html.ep" not found
[2022-11-03 06:42:53.05275] [2495531] [trace] [POqdHG-D8AT7] Rendering cached template "mojo/debug.html.ep"
[2022-11-03 06:42:53.05644] [2495531] [trace] [POqdHG-D8AT7] 404 Not Found (0.004359s, 229.410/s)
[2022-11-03 06:42:53.05904] [2495531] [trace] [qYsrxuLJBbvJ] GET "/redirect"
[2022-11-03 06:42:53.05922] [2495531] [trace] [qYsrxuLJBbvJ] Routing to a callback
[2022-11-03 06:42:53.05940] [2495531] [trace] [qYsrxuLJBbvJ] 302 Found (0.000359s, 2785.515/s)
[2022-11-03 06:42:53.06334] [2495531] [trace] [oTMAB96Gplz_] GET "/docs/more"
[2022-11-03 06:42:53.06353] [2495531] [trace] [oTMAB96Gplz_] Routing to a callback
[2022-11-03 06:42:53.06367] [2495531] [trace] [oTMAB96Gplz_] Rendering cached inline template "2da2aed28011bbc3541e0de248c276ca"
[2022-11-03 06:42:53.06384] [2495531] [trace] [oTMAB96Gplz_] 200 OK (0.000491s, 2036.660/s)
[2022-11-03 06:42:53.07338] [2495531] [trace] [ZPSGaOg1W8RY] GET "/docs"
[2022-11-03 06:42:53.07366] [2495531] [trace] [ZPSGaOg1W8RY] Rendering cached template "docs.html.ep" from DATA section
[2022-11-03 06:42:53.07385] [2495531] [trace] [ZPSGaOg1W8RY] 200 OK (0.000467s, 2141.328/s)
[2022-11-03 06:42:53.07626] [2495531] [trace] [kWT1okzw7KtZ] GET "/docs/more"
[2022-11-03 06:42:53.07644] [2495531] [trace] [kWT1okzw7KtZ] Routing to a callback
[2022-11-03 06:42:53.07658] [2495531] [trace] [kWT1okzw7KtZ] Rendering cached inline template "2da2aed28011bbc3541e0de248c276ca"
[2022-11-03 06:42:53.07674] [2495531] [trace] [kWT1okzw7KtZ] 200 OK (0.000466s, 2145.923/s)
[2022-11-03 06:42:53.08507] [2495531] [trace] [RVU_vzrpR_O4] GET "/"
[2022-11-03 06:42:53.08538] [2495531] [trace] [RVU_vzrpR_O4] Rendering cached template "index.html.ep" from DATA section
[2022-11-03 06:42:53.08560] [2495531] [trace] [RVU_vzrpR_O4] 200 OK (0.000518s, 1930.502/s)
[2022-11-03 06:42:53.08882] [2495531] [trace] [9E9GqXBAyq73] GET "/docs"
[2022-11-03 06:42:53.08909] [2495531] [trace] [9E9GqXBAyq73] Rendering cached template "docs.html.ep" from DATA section
[2022-11-03 06:42:53.08927] [2495531] [trace] [9E9GqXBAyq73] 200 OK (0.00044s, 2272.727/s)
[2022-11-03 06:42:53.09190] [2495531] [trace] [rL8il-MMZFVP] GET "/about"
[2022-11-03 06:42:53.09219] [2495531] [trace] [rL8il-MMZFVP] Rendering cached template "about.html.ep" from DATA section
[2022-11-03 06:42:53.09237] [2495531] [trace] [rL8il-MMZFVP] 200 OK (0.000466s, 2145.923/s)
[2022-11-03 06:42:53.09481] [2495531] [trace] [DHlbL2whgrgu] GET "/NOT_FOUND"
[2022-11-03 06:42:53.09528] [2495531] [trace] [DHlbL2whgrgu] Template "not_found.development.html.ep" not found
[2022-11-03 06:42:53.09545] [2495531] [trace] [DHlbL2whgrgu] Template "not_found.html.ep" not found
[2022-11-03 06:42:53.09554] [2495531] [trace] [DHlbL2whgrgu] Rendering cached template "mojo/debug.html.ep"
[2022-11-03 06:42:53.09942] [2495531] [trace] [DHlbL2whgrgu] 404 Not Found (0.004566s, 219.010/s)
[2022-11-03 06:42:53.10280] [2495531] [trace] [BAJS9QrvRcdb] GET "/redirect"
[2022-11-03 06:42:53.10299] [2495531] [trace] [BAJS9QrvRcdb] Routing to a callback
[2022-11-03 06:42:53.10318] [2495531] [trace] [BAJS9QrvRcdb] 302 Found (0.000375s, 2666.667/s)
[2022-11-03 06:42:53.10709] [2495531] [trace] [C7hTWDDvGmGB] GET "/docs/more"
[2022-11-03 06:42:53.10729] [2495531] [trace] [C7hTWDDvGmGB] Routing to a callback
[2022-11-03 06:42:53.10743] [2495531] [trace] [C7hTWDDvGmGB] Rendering cached inline template "2da2aed28011bbc3541e0de248c276ca"
[2022-11-03 06:42:53.10759] [2495531] [trace] [C7hTWDDvGmGB] 200 OK (0.000493s, 2028.398/s)
[2022-11-03 06:42:53.11725] [2495531] [trace] [FzUzWju7SsJx] GET "/"
[2022-11-03 06:42:53.11846] [2495531] [trace] [FzUzWju7SsJx] Rendering cached template "index.html.ep" from DATA section
[2022-11-03 06:42:53.11868] [2495531] [trace] [FzUzWju7SsJx] 200 OK (0.001416s, 706.215/s)
[2022-11-03 06:42:53.12133] [2495531] [trace] [8OhqPOTAh0NO] GET "/docs"
[2022-11-03 06:42:53.12160] [2495531] [trace] [8OhqPOTAh0NO] Rendering cached template "docs.html.ep" from DATA section
[2022-11-03 06:42:53.12177] [2495531] [trace] [8OhqPOTAh0NO] 200 OK (0.000433s, 2309.469/s)
[2022-11-03 06:42:53.12393] [2495531] [trace] [V2CFXFsWIHNR] GET "/about"
[2022-11-03 06:42:53.12417] [2495531] [trace] [V2CFXFsWIHNR] Rendering cached template "about.html.ep" from DATA section
[2022-11-03 06:42:53.12435] [2495531] [trace] [V2CFXFsWIHNR] 200 OK (0.000403s, 2481.390/s)
[2022-11-03 06:42:53.12641] [2495531] [trace] [rYSuuPjkC8C_] GET "/NOT_FOUND"
[2022-11-03 06:42:53.12681] [2495531] [trace] [rYSuuPjkC8C_] Template "not_found.development.html.ep" not found
[2022-11-03 06:42:53.12694] [2495531] [trace] [rYSuuPjkC8C_] Template "not_found.html.ep" not found
[2022-11-03 06:42:53.12702] [2495531] [trace] [rYSuuPjkC8C_] Rendering cached template "mojo/debug.html.ep"
[2022-11-03 06:42:53.13064] [2495531] [trace] [rYSuuPjkC8C_] 404 Not Found (0.004209s, 237.586/s)
[2022-11-03 06:42:53.13377] [2495531] [trace] [ZbS5jvnSF4zD] GET "/redirect"
[2022-11-03 06:42:53.13395] [2495531] [trace] [ZbS5jvnSF4zD] Routing to a callback
[2022-11-03 06:42:53.13412] [2495531] [trace] [ZbS5jvnSF4zD] 302 Found (0.000335s, 2985.075/s)
[2022-11-03 06:42:53.13759] [2495531] [trace] [iq4CJ1U_CiiV] GET "/docs/more"
[2022-11-03 06:42:53.13777] [2495531] [trace] [iq4CJ1U_CiiV] Routing to a callback
[2022-11-03 06:42:53.13790] [2495531] [trace] [iq4CJ1U_CiiV] Rendering cached inline template "2da2aed28011bbc3541e0de248c276ca"
[2022-11-03 06:42:53.13805] [2495531] [trace] [iq4CJ1U_CiiV] 200 OK (0.000455s, 2197.802/s)
[2022-11-03 06:42:53.14797] [2495531] [trace] [T4YrqygNrGz3] GET "/docs"
[2022-11-03 06:42:53.14840] [2495531] [trace] [T4YrqygNrGz3] Rendering cached template "docs.html.ep" from DATA section
[2022-11-03 06:42:53.14860] [2495531] [trace] [T4YrqygNrGz3] 200 OK (0.000614s, 1628.664/s)
[2022-11-03 06:42:53.15123] [2495531] [trace] [eKW5nzHtnyF-] GET "/docs/more"
[2022-11-03 06:42:53.15152] [2495531] [trace] [eKW5nzHtnyF-] Routing to a callback
[2022-11-03 06:42:53.15169] [2495531] [trace] [eKW5nzHtnyF-] Rendering cached inline template "2da2aed28011bbc3541e0de248c276ca"
[2022-11-03 06:42:53.15186] [2495531] [trace] [eKW5nzHtnyF-] 200 OK (0.00062s, 1612.903/s)
t/command.t ............ ok
[2022-11-03 06:42:53.56796] [2495537] [trace] [yCkJVshORXo3] GET "/"
[2022-11-03 06:42:53.56943] [2495537] [trace] [yCkJVshORXo3] Rendering template "index.html.ep" from DATA section
[2022-11-03 06:42:53.57030] [2495537] [trace] [yCkJVshORXo3] 200 OK (0.002323s, 430.478/s)
t/plugin.t ............. ok
All tests successful.
Files=4, Tests=55,  2 wallclock secs ( 0.03 usr  0.02 sys +  1.43 cusr  0.27 csys =  1.75 CPU)
Result: PASS

------------------------------
PREREQUISITES
------------------------------

Prerequisite modules loaded:

requires:

    Module              Need  Have    
    ------------------- ----- --------
    Mojolicious         8     9.28    
    perl                5.014 5.037005

build_requires:

    Module              Need  Have    
    ------------------- ----- --------
    ExtUtils::MakeMaker 0     7.64    
    File::Spec          0     3.87    
    IO::Handle          0     1.51    
    IPC::Open3          0     1.22    
    Test::More          0     1.302191

configure_requires:

    Module              Need  Have    
    ------------------- ----- --------
    ExtUtils::MakeMaker 0     7.64    


------------------------------
ENVIRONMENT AND OTHER CONTEXT
------------------------------

Environment variables:

    AUTOMATED_TESTING = 1
    LANG = en_US.UTF-8
    LC_ADDRESS = de_DE.UTF-8
    LC_IDENTIFICATION = de_DE.UTF-8
    LC_MEASUREMENT = de_DE.UTF-8
    LC_MONETARY = de_DE.UTF-8
    LC_NAME = de_DE.UTF-8
    LC_NUMERIC = de_DE.UTF-8
    LC_PAPER = de_DE.UTF-8
    LC_TELEPHONE = de_DE.UTF-8
    LC_TIME = de_DE.UTF-8
    PATH = /home/sand/bin:/usr/local/bin:/usr/local/sbin:/usr/sbin:/usr/bin:/sbin:/bin:/usr/games:/usr/local/games:/snap/bin:/usr/local/perl/bin:/usr/X11/bin
    PERL = /tmp/basesmoker-reloperl-yefZ/bin/perl
    PERL5LIB = /tmp/loop_over_bdir-2056195-Zm5mnY/makepp-1.19-0/blib/arch:/tmp/loop_over_bdir-2056195-Zm5mnY/makepp-1.19-0/blib/lib:/tmp/loop_over_bdir-2056195-Zm5mnY/LiquidWeb-Storm-CLI-1.03-0/blib/arch:/tmp/loop_over_bdir-2056195-Zm5mnY/LiquidWeb-Storm-CLI-1.03-0/blib/lib:/tmp/loop_over_bdir-2056195-Zm5mnY/App-nrun-v1.1.2-0/blib/arch:/tmp/loop_over_bdir-2056195-Zm5mnY/App-nrun-v1.1.2-0/blib/lib:/tmp/loop_over_bdir-2056195-Zm5mnY/Business-Shipping-DataFiles-1.02-0/blib/arch:/tmp/loop_over_bdir-2056195-Zm5mnY/Business-Shipping-DataFiles-1.02-0/blib/lib:/tmp/loop_over_bdir-2056195-Zm5mnY/Simulation-Automate-1.0.1-0/blib/arch:/tmp/loop_over_bdir-2056195-Zm5mnY/Simulation-Automate-1.0.1-0/blib/lib:/tmp/loop_over_bdir-2056195-Zm5mnY/EJBCA-CrlPublish-0.60-0/blib/arch:/tmp/loop_over_bdir-2056195-Zm5mnY/EJBCA-CrlPublish-0.60-0/blib/lib:/tmp/loop_over_bdir-2056195-Zm5mnY/Captive-Portal-4.10-0/blib/arch:/tmp/loop_over_bdir-2056195-Zm5mnY/Captive-Portal-4.10-0/blib/lib:/tmp/loop_over_bdir-2056195-Zm5mnY/Device-Kiln-0.03-0/blib/arch:/tmp/loop_over_bdir-2056195-Zm5mnY/Device-Kiln-0.03-0/blib/lib:/tmp/loop_over_bdir-2056195-Zm5mnY/perl-Hardware-UPS-Perl-0.43-0/blib/arch:/tmp/loop_over_bdir-2056195-Zm5mnY/perl-Hardware-UPS-Perl-0.43-0/blib/lib:/tmp/loop_over_bdir-2056195-Zm5mnY/App-oo_modulino_zsh_completion_helper-0.04-0/blib/arch:/tmp/loop_over_bdir-2056195-Zm5mnY/App-oo_modulino_zsh_completion_helper-0.04-0/blib/lib:/tmp/loop_over_bdir-2056195-Zm5mnY/CORBA-Python-2.66-0/blib/arch:/tmp/loop_over_bdir-2056195-Zm5mnY/CORBA-Python-2.66-0/blib/lib:/tmp/loop_over_bdir-2056195-Zm5mnY/DBIx-Migration-Directories-0.12-0/blib/arch:/tmp/loop_over_bdir-2056195-Zm5mnY/DBIx-Migration-Directories-0.12-0/blib/lib:/tmp/loop_over_bdir-2056195-Zm5mnY/App-rmcd-0.280-0/blib/arch:/tmp/loop_over_bdir-2056195-Zm5mnY/App-rmcd-0.280-0/blib/lib:/tmp/loop_over_bdir-2056195-Zm5mnY/Dpkg-1.21.9-0/blib/arch:/tmp/loop_over_bdir-2056195-Zm5mnY/Dpkg-1.21.9-0/blib/lib:/tmp/loop_over_bdir-2056195-Zm5mnY/AllKnowingDNS-1.7-0/blib/arch:/tmp/loop_over_bdir-2056195-Zm5mnY/AllKnowingDNS-1.7-0/blib/lib:/tmp/loop_over_bdir-2056195-Zm5mnY/Lingua-YaTeA-0.626-0/blib/arch:/tmp/loop_over_bdir-2056195-Zm5mnY/Lingua-YaTeA-0.626-0/blib/lib:/tmp/loop_over_bdir-2056195-Zm5mnY/shishi-0.0.1-0/blib/arch:/tmp/loop_over_bdir-2056195-Zm5mnY/shishi-0.0.1-0/blib/lib:/tmp/loop_over_bdir-2056195-Zm5mnY/Devel-Required-0.16-0/blib/arch:/tmp/loop_over_bdir-2056195-Zm5mnY/Devel-Required-0.16-0/blib/lib
    PERL5OPT = 
    PERL5_CPANPLUS_IS_RUNNING = 2056203
    PERL5_CPAN_IS_RUNNING = 2056203
    PERL_CANARY_STABILITY_NOPROMPT = 1
    PERL_MM_USE_DEFAULT = 1
    PERL_USE_UNSAFE_INC = 1
    SHELL = /usr/bin/zsh
    TERM = screen

Perl special variables (and OS-specific diagnostics, for MSWin32):

    $^X = /tmp/basesmoker-reloperl-yefZ/bin/perl
    $UID/$EUID = 1005 / 1005
    $GID = 1005 1005
    $EGID = 1005 1005

Perl module toolchain versions installed:

    Module              Have    
    ------------------- --------
    CPAN                2.34    
    CPAN::Meta          2.150010
    Cwd                 3.86    
    ExtUtils::CBuilder  0.280237
    ExtUtils::Command   7.64    
    ExtUtils::Install   2.20    
    ExtUtils::MakeMaker 7.64    
    ExtUtils::Manifest  1.73    
    ExtUtils::ParseXS   3.46    
    File::Spec          3.87    
    JSON                4.10    
    JSON::PP            4.12    
    Module::Build       0.4231  
    Module::Signature   0.88    
    Parse::CPAN::Meta   2.150010
    Test::Harness       3.44    
    Test::More          1.302191
    YAML                1.30    
    YAML::Syck          1.34    
    version             0.9929  


--

Summary of my perl5 (revision 5 version 37 subversion 5) configuration:
  Commit id: 064941484781d9099db0bbe7d6ea22a826df1e15
  Platform:
    osname=linux
    osvers=5.15.0-50-generic
    archname=x86_64-linux-ld
    uname='linux k93jammy 5.15.0-50-generic #56-ubuntu smp tue sep 20 13:23:26 utc 2022 x86_64 x86_64 x86_64 gnulinux '
    config_args='-Dprefix=/home/sand/src/perl/repoperls/installed-perls/host/k93jammy/v5.37.4-160-g0649414847/5674 -Dmyhostname=k93jammy -Dinstallusrbinperl=n -Uversiononly -Dusedevel -des -Ui_db -Dlibswanted=cl pthread socket inet nsl gdbm dbm malloc dl ld sun m crypt sec util c cposix posix ucb BSD gdbm_compat -Uuseithreads -Duselongdouble -DEBUGGING=-g'
    hint=recommended
    useposix=true
    d_sigaction=define
    useithreads=undef
    usemultiplicity=undef
    use64bitint=define
    use64bitall=define
    uselongdouble=define
    usemymalloc=n
    default_inc_excludes_dot=define
  Compiler:
    cc='cc'
    ccflags ='-fwrapv -fno-strict-aliasing -pipe -fstack-protector-strong -I/usr/local/include -D_LARGEFILE_SOURCE -D_FILE_OFFSET_BITS=64'
    optimize='-O2 -g'
    cppflags='-fwrapv -fno-strict-aliasing -pipe -fstack-protector-strong -I/usr/local/include'
    ccversion=''
    gccversion='11.3.0'
    gccosandvers=''
    intsize=4
    longsize=8
    ptrsize=8
    doublesize=8
    byteorder=12345678
    doublekind=3
    d_longlong=define
    longlongsize=8
    d_longdbl=define
    longdblsize=16
    longdblkind=3
    ivtype='long'
    ivsize=8
    nvtype='long double'
    nvsize=16
    Off_t='off_t'
    lseeksize=8
    alignbytes=16
    prototype=define
  Linker and Libraries:
    ld='cc'
    ldflags =' -fstack-protector-strong -L/usr/local/lib'
    libpth=/usr/local/lib /usr/lib/x86_64-linux-gnu /usr/lib /usr/lib64
    libs=-lpthread -lnsl -ldl -lm -lcrypt -lutil -lc
    perllibs=-lpthread -lnsl -ldl -lm -lcrypt -lutil -lc
    libc=/lib/x86_64-linux-gnu/libc.so.6
    so=so
    useshrplib=false
    libperl=libperl.a
    gnulibc_version='2.35'
  Dynamic Linking:
    dlsrc=dl_dlopen.xs
    dlext=so
    d_dlsymun=undef
    ccdlflags='-Wl,-E'
    cccdlflags='-fPIC'
    lddlflags='-shared -O2 -g -L/usr/local/lib -fstack-protector-strong'


Characteristics of this binary (from libperl): 
  Compile-time options:
    HAS_TIMES
    PERLIO_LAYERS
    PERL_COPY_ON_WRITE
    PERL_DONT_CREATE_GVSV
    PERL_HASH_FUNC_SIPHASH13
    PERL_HASH_USE_SBOX32
    PERL_MALLOC_WRAP
    PERL_OP_PARENT
    PERL_PRESERVE_IVUV
    PERL_USE_DEVEL
    PERL_USE_SAFE_PUTENV
    USE_64_BIT_ALL
    USE_64_BIT_INT
    USE_LARGE_FILES
    USE_LOCALE
    USE_LOCALE_COLLATE
    USE_LOCALE_CTYPE
    USE_LOCALE_NUMERIC
    USE_LOCALE_TIME
    USE_LONG_DOUBLE
    USE_PERLIO
    USE_PERL_ATOF
  Built under linux
  Compiled at Oct 29 2022 19:33:37
  %ENV:
    PERL="/tmp/basesmoker-reloperl-yefZ/bin/perl"
    PERL5LIB="/tmp/loop_over_bdir-2056195-Zm5mnY/makepp-1.19-0/blib/arch:/tmp/loop_over_bdir-2056195-Zm5mnY/makepp-1.19-0/blib/lib:/tmp/loop_over_bdir-2056195-Zm5mnY/LiquidWeb-Storm-CLI-1.03-0/blib/arch:/tmp/loop_over_bdir-2056195-Zm5mnY/LiquidWeb-Storm-CLI-1.03-0/blib/lib:/tmp/loop_over_bdir-2056195-Zm5mnY/App-nrun-v1.1.2-0/blib/arch:/tmp/loop_over_bdir-2056195-Zm5mnY/App-nrun-v1.1.2-0/blib/lib:/tmp/loop_over_bdir-2056195-Zm5mnY/Business-Shipping-DataFiles-1.02-0/blib/arch:/tmp/loop_over_bdir-2056195-Zm5mnY/Business-Shipping-DataFiles-1.02-0/blib/lib:/tmp/loop_over_bdir-2056195-Zm5mnY/Simulation-Automate-1.0.1-0/blib/arch:/tmp/loop_over_bdir-2056195-Zm5mnY/Simulation-Automate-1.0.1-0/blib/lib:/tmp/loop_over_bdir-2056195-Zm5mnY/EJBCA-CrlPublish-0.60-0/blib/arch:/tmp/loop_over_bdir-2056195-Zm5mnY/EJBCA-CrlPublish-0.60-0/blib/lib:/tmp/loop_over_bdir-2056195-Zm5mnY/Captive-Portal-4.10-0/blib/arch:/tmp/loop_over_bdir-2056195-Zm5mnY/Captive-Portal-4.10-0/blib/lib:/tmp/loop_over_bdir-2056195-Zm5mnY/Device-Kiln-0.03-0/blib/arch:/tmp/loop_over_bdir-2056195-Zm5mnY/Device-Kiln-0.03-0/blib/lib:/tmp/loop_over_bdir-2056195-Zm5mnY/perl-Hardware-UPS-Perl-0.43-0/blib/arch:/tmp/loop_over_bdir-2056195-Zm5mnY/perl-Hardware-UPS-Perl-0.43-0/blib/lib:/tmp/loop_over_bdir-2056195-Zm5mnY/App-oo_modulino_zsh_completion_helper-0.04-0/blib/arch:/tmp/loop_over_bdir-2056195-Zm5mnY/App-oo_modulino_zsh_completion_helper-0.04-0/blib/lib:/tmp/loop_over_bdir-2056195-Zm5mnY/CORBA-Python-2.66-0/blib/arch:/tmp/loop_over_bdir-2056195-Zm5mnY/CORBA-Python-2.66-0/blib/lib:/tmp/loop_over_bdir-2056195-Zm5mnY/DBIx-Migration-Directories-0.12-0/blib/arch:/tmp/loop_over_bdir-2056195-Zm5mnY/DBIx-Migration-Directories-0.12-0/blib/lib:/tmp/loop_over_bdir-2056195-Zm5mnY/App-rmcd-0.280-0/blib/arch:/tmp/loop_over_bdir-2056195-Zm5mnY/App-rmcd-0.280-0/blib/lib:/tmp/loop_over_bdir-2056195-Zm5mnY/Dpkg-1.21.9-0/blib/arch:/tmp/loop_over_bdir-2056195-Zm5mnY/Dpkg-1.21.9-0/blib/lib:/tmp/loop_over_bdir-2056195-Zm5mnY/AllKnowingDNS-1.7-0/blib/arch:/tmp/loop_over_bdir-2056195-Zm5mnY/AllKnowingDNS-1.7-0/blib/lib:/tmp/loop_over_bdir-2056195-Zm5mnY/Lingua-YaTeA-0.626-0/blib/arch:/tmp/loop_over_bdir-2056195-Zm5mnY/Lingua-YaTeA-0.626-0/blib/lib:/tmp/loop_over_bdir-2056195-Zm5mnY/shishi-0.0.1-0/blib/arch:/tmp/loop_over_bdir-2056195-Zm5mnY/shishi-0.0.1-0/blib/lib:/tmp/loop_over_bdir-2056195-Zm5mnY/Devel-Required-0.16-0/blib/arch:/tmp/loop_over_bdir-2056195-Zm5mnY/Devel-Required-0.16-0/blib/lib"
    PERL5OPT=""
    PERL5_CPANPLUS_IS_RUNNING="2056203"
    PERL5_CPAN_IS_RUNNING="2056203"
    PERL_CANARY_STABILITY_NOPROMPT="1"
    PERL_MM_USE_DEFAULT="1"
    PERL_USE_UNSAFE_INC="1"
  @INC:
    /tmp/loop_over_bdir-2056195-Zm5mnY/makepp-1.19-0/blib/arch
    /tmp/loop_over_bdir-2056195-Zm5mnY/makepp-1.19-0/blib/lib
    /tmp/loop_over_bdir-2056195-Zm5mnY/LiquidWeb-Storm-CLI-1.03-0/blib/arch
    /tmp/loop_over_bdir-2056195-Zm5mnY/LiquidWeb-Storm-CLI-1.03-0/blib/lib
    /tmp/loop_over_bdir-2056195-Zm5mnY/App-nrun-v1.1.2-0/blib/arch
    /tmp/loop_over_bdir-2056195-Zm5mnY/App-nrun-v1.1.2-0/blib/lib
    /tmp/loop_over_bdir-2056195-Zm5mnY/Business-Shipping-DataFiles-1.02-0/blib/arch
    /tmp/loop_over_bdir-2056195-Zm5mnY/Business-Shipping-DataFiles-1.02-0/blib/lib
    /tmp/loop_over_bdir-2056195-Zm5mnY/Simulation-Automate-1.0.1-0/blib/arch
    /tmp/loop_over_bdir-2056195-Zm5mnY/Simulation-Automate-1.0.1-0/blib/lib
    /tmp/loop_over_bdir-2056195-Zm5mnY/EJBCA-CrlPublish-0.60-0/blib/arch
    /tmp/loop_over_bdir-2056195-Zm5mnY/EJBCA-CrlPublish-0.60-0/blib/lib
    /tmp/loop_over_bdir-2056195-Zm5mnY/Captive-Portal-4.10-0/blib/arch
    /tmp/loop_over_bdir-2056195-Zm5mnY/Captive-Portal-4.10-0/blib/lib
    /tmp/loop_over_bdir-2056195-Zm5mnY/Device-Kiln-0.03-0/blib/arch
    /tmp/loop_over_bdir-2056195-Zm5mnY/Device-Kiln-0.03-0/blib/lib
    /tmp/loop_over_bdir-2056195-Zm5mnY/perl-Hardware-UPS-Perl-0.43-0/blib/arch
    /tmp/loop_over_bdir-2056195-Zm5mnY/perl-Hardware-UPS-Perl-0.43-0/blib/lib
    /tmp/loop_over_bdir-2056195-Zm5mnY/App-oo_modulino_zsh_completion_helper-0.04-0/blib/arch
    /tmp/loop_over_bdir-2056195-Zm5mnY/App-oo_modulino_zsh_completion_helper-0.04-0/blib/lib
    /tmp/loop_over_bdir-2056195-Zm5mnY/CORBA-Python-2.66-0/blib/arch
    /tmp/loop_over_bdir-2056195-Zm5mnY/CORBA-Python-2.66-0/blib/lib
    /tmp/loop_over_bdir-2056195-Zm5mnY/DBIx-Migration-Directories-0.12-0/blib/arch
    /tmp/loop_over_bdir-2056195-Zm5mnY/DBIx-Migration-Directories-0.12-0/blib/lib
    /tmp/loop_over_bdir-2056195-Zm5mnY/App-rmcd-0.280-0/blib/arch
    /tmp/loop_over_bdir-2056195-Zm5mnY/App-rmcd-0.280-0/blib/lib
    /tmp/loop_over_bdir-2056195-Zm5mnY/Dpkg-1.21.9-0/blib/arch
    /tmp/loop_over_bdir-2056195-Zm5mnY/Dpkg-1.21.9-0/blib/lib
    /tmp/loop_over_bdir-2056195-Zm5mnY/AllKnowingDNS-1.7-0/blib/arch
    /tmp/loop_over_bdir-2056195-Zm5mnY/AllKnowingDNS-1.7-0/blib/lib
    /tmp/loop_over_bdir-2056195-Zm5mnY/Lingua-YaTeA-0.626-0/blib/arch
    /tmp/loop_over_bdir-2056195-Zm5mnY/Lingua-YaTeA-0.626-0/blib/lib
    /tmp/loop_over_bdir-2056195-Zm5mnY/shishi-0.0.1-0/blib/arch
    /tmp/loop_over_bdir-2056195-Zm5mnY/shishi-0.0.1-0/blib/lib
    /tmp/loop_over_bdir-2056195-Zm5mnY/Devel-Required-0.16-0/blib/arch
    /tmp/loop_over_bdir-2056195-Zm5mnY/Devel-Required-0.16-0/blib/lib
    /home/sand/src/perl/repoperls/installed-perls/host/k93jammy/v5.37.4-160-g0649414847/5674/lib/site_perl/5.37.5/x86_64-linux-ld
    /home/sand/src/perl/repoperls/installed-perls/host/k93jammy/v5.37.4-160-g0649414847/5674/lib/site_perl/5.37.5
    /home/sand/src/perl/repoperls/installed-perls/host/k93jammy/v5.37.4-160-g0649414847/5674/lib/5.37.5/x86_64-linux-ld
    /home/sand/src/perl/repoperls/installed-perls/host/k93jammy/v5.37.4-160-g0649414847/5674/lib/5.37.5
    .