Report for DBIx-TextIndex-0.28

Back
From: metabase:user:838e5b0a-2bb6-1016-a696-43a2537fa0c6
Subject: PASS DBIx-TextIndex-0.28 v5.12.1 
Date: 2010-10-13T21:36:15Z

This distribution has been tested as part of the CPAN Testers
project, supporting the Perl programming language.  See
http://wiki.cpantesters.org/ for more information or email
questions to cpan-testers-discuss@perl.org


--
Dear Daniel Koch,

This is a computer-generated report for DBIx-TextIndex-0.28
on perl 5.12.1, created by CPAN-Reporter-1.1802.

Thank you for uploading your work to CPAN.  Congratulations!
All tests were successful.

Sections of this report:

    * Tester comments
    * Program output
    * Prerequisites
    * Environment and other context

------------------------------
TESTER COMMENTS
------------------------------

Additional comments from tester:

this report is from an automated smoke testing program
and was not reviewed by a human for accuracy

------------------------------
PROGRAM OUTPUT
------------------------------

Output from 'C:\strawberry\c\bin\dmake.EXE test':

C:\strawberry\perl\bin\perl.exe "-MExtUtils::Command::MM" "-e" "test_harness(0, 'blib\lib', 'blib\arch')" t/*.t
t/00_load.t ............. ok
t/01_kwalitee.t ......... skipped: Test::Kwalitee not installed; skipping
t/01_pod.t .............. ok
t/01_pod_coverage.t ..... ok
t/02_version.t .......... ok
t/03_connect_db.t ....... skipped: $ENV{DBIX_TEXTINDEX_DSN} (and DBIX_TEXTINDEX_USER and DBIX_TEXTINDEX_PASS) must be set to a DBI DSN to run tests against a database.
t/04_load_docs.t ........ skipped: $ENV{DBIX_TEXTINDEX_DSN} must be defined to run tests.
t/05_index_db_table.t ... skipped: $ENV{DBIX_TEXTINDEX_DSN} must be defined to run tests.
t/06_search.t ........... skipped: $ENV{DBIX_TEXTINDEX_DSN} must be defined to run tests.
t/07_unscored_search.t .. skipped: $ENV{DBIX_TEXTINDEX_DSN} must be defined to run tests.
t/08_remove_docs.t ...... skipped: $ENV{DBIX_TEXTINDEX_DSN} must be defined to run tests.
t/09_delete_index.t ..... skipped: $ENV{DBIX_TEXTINDEX_DSN} must be defined to run tests.
t/10_read_write_mix.t ... skipped: $ENV{DBIX_TEXTINDEX_DSN} must be defined to run tests.
t/11_stoplist.t ......... skipped: $ENV{DBIX_TEXTINDEX_DSN} must be defined to run tests.
t/12_sqlite.t ........... ok
All tests successful.
Files=15, Tests=32, 10 wallclock secs ( 0.23 usr +  0.16 sys =  0.39 CPU)
Result: PASS

------------------------------
PREREQUISITES
------------------------------

Prerequisite modules loaded:

requires:

    Module           Need Have 
    ---------------- ---- -----
    Bit::Vector      6.3  7.1  
    DBI              1.43 1.615
    Exception::Class 1.12 1.32 
    HTML::Entities   1.22 3.68 
    Text::Balanced   1.83 2.02 


------------------------------
ENVIRONMENT AND OTHER CONTEXT
------------------------------

Environment variables:

    AUTOMATED_TESTING = 1
    COMSPEC = C:\Windows\system32\cmd.exe
    NUMBER_OF_PROCESSORS = 4
    PATH = C:\Program Files\MiKTeX\2.8\miktex\bin;C:\Windows\system32;C:\Windows;C:\Windows\System32\Wbem;C:\Windows\System32\WindowsPowerShell\v1.0\;C:\rv\BIN;C:\strawberry\c\bin;C:\strawberry\perl\site\bin;C:\strawberry\perl\bin;C:\Program Files\Microsoft SQL Server\100\Tools\Binn\VSShell\Common7\IDE\;C:\Program Files\Microsoft SQL Server\100\Tools\Binn\;C:\Program Files\Microsoft SQL Server\100\DTS\Binn\;C:\Program Files\Microsoft Visual Studio 9.0\Common7\IDE\PrivateAssemblies\;C:\Program Files\Common Files\Roxio Shared\9.0\DLLShared\
    PERL5LIB = C:\strawberry\cpan\build\Bit-Vector-7.1-OlP1i7/blib/arch;C:\strawberry\cpan\build\Bit-Vector-7.1-OlP1i7/blib/lib;C:\strawberry\cpan\build\Carp-Clan-6.04-tY_Vpk/blib/arch;C:\strawberry\cpan\build\Carp-Clan-6.04-tY_Vpk/blib/lib;C:\strawberry\cpan\build\Exception-Class-1.32-wTjDuA/blib/arch;C:\strawberry\cpan\build\Exception-Class-1.32-wTjDuA/blib/lib;C:\strawberry\cpan\build\Class-Data-Inheritable-0.08-BxGtV4/blib/arch;C:\strawberry\cpan\build\Class-Data-Inheritable-0.08-BxGtV4/blib/lib;C:\strawberry\cpan\build\Devel-StackTrace-1.25-CyAbDz/blib/arch;C:\strawberry\cpan\build\Devel-StackTrace-1.25-CyAbDz/blib/lib;C:\strawberry\cpan\build\File-Tempdir-0.02-Nvty9o/blib/arch;C:\strawberry\cpan\build\File-Tempdir-0.02-Nvty9o/blib/lib
    PERL5OPT = 
    PERL5_CPANPLUS_IS_RUNNING = 8048
    PERL5_CPAN_IS_RUNNING = 8048
    PERL5_CPAN_IS_RUNNING_IN_RECURSION = 3380,8048
    PERL_CR_SMOKER_CURRENT = Devel-Ladybug-0.412_01
    PERL_EXTUTILS_AUTOINSTALL = --defaultdeps
    PERL_MM_USE_DEFAULT = 1
    PROCESSOR_IDENTIFIER = x86 Family 6 Model 15 Stepping 6, GenuineIntel
    TEMP = C:\Users\DSOLIM~1\AppData\Local\Temp
    TERM = dumb

Perl special variables (and OS-specific diagnostics, for MSWin32):

    $^X = C:\strawberry\perl\bin\perl.exe
    $UID/$EUID = 0 / 0
    $GID = 0
    $EGID = 0
    Win32::GetOSName = Win7
    Win32::GetOSVersion = , 6, 1, 7600, 2, 0, 0, 256, 1
    Win32::FsType = NTFS
    Win32::IsAdminUser = 1

Perl module toolchain versions installed:

    Module              Have   
    ------------------- -------
    CPAN                1.94_58
    Cwd                 3.33   
    ExtUtils::CBuilder  0.2703 
    ExtUtils::Command   1.16   
    ExtUtils::Install   1.55   
    ExtUtils::MakeMaker 6.56   
    ExtUtils::Manifest  1.58   
    ExtUtils::ParseXS   2.2206 
    File::Spec          3.33   
    Module::Build       0.3607 
    Module::Signature   0.66   
    Test::Harness       3.22   
    Test::More          0.96   
    YAML                0.72   
    YAML::Syck          n/a    
    version             0.82   


--

Summary of my perl5 (revision 5 version 12 subversion 1) configuration:
   
  Platform:
    osname=MSWin32, osvers=5.1, archname=MSWin32-x86-multi-thread
    uname='Win32 strawberryperl 5.12.1.0 #1 Thu Jul 29 10:08:11 2010 i386'
    config_args='undef'
    hint=recommended, useposix=true, d_sigaction=undef
    useithreads=define, usemultiplicity=define
    useperlio=define, d_sfio=undef, uselargefiles=define, usesocks=undef
    use64bitint=undef, use64bitall=undef, uselongdouble=undef
    usemymalloc=n, bincompat5005=undef
  Compiler:
    cc='gcc', ccflags =' -s -O2 -DWIN32 -DHAVE_DES_FCRYPT  -DUSE_SITECUSTOMIZE -DPERL_IMPLICIT_CONTEXT -DPERL_IMPLICIT_SYS -fno-strict-aliasing -mms-bitfields -DPERL_MSVCRT_READFIX',
    optimize='-s -O2',
    cppflags='-DWIN32'
    ccversion='', gccversion='4.4.3', gccosandvers=''
    intsize=4, longsize=4, ptrsize=4, doublesize=8, byteorder=1234
    d_longlong=undef, longlongsize=8, d_longdbl=define, longdblsize=12
    ivtype='long', ivsize=4, nvtype='double', nvsize=8, Off_t='long long', lseeksize=8
    alignbytes=8, prototype=define
  Linker and Libraries:
    ld='g++', ldflags ='-s -L"C:\strawberry\perl\lib\CORE" -L"C:\strawberry\c\lib"'
    libpth=C:\strawberry\c\lib C:\strawberry\c\i686-w64-mingw32\lib
    libs=-lmoldname -lkernel32 -luser32 -lgdi32 -lwinspool -lcomdlg32 -ladvapi32 -lshell32 -lole32 -loleaut32 -lnetapi32 -luuid -lws2_32 -lmpr -lwinmm -lversion -lodbc32 -lodbccp32 -lcomctl32
    perllibs=-lmoldname -lkernel32 -luser32 -lgdi32 -lwinspool -lcomdlg32 -ladvapi32 -lshell32 -lole32 -loleaut32 -lnetapi32 -luuid -lws2_32 -lmpr -lwinmm -lversion -lodbc32 -lodbccp32 -lcomctl32
    libc=, so=dll, useshrplib=true, libperl=libperl512.a
    gnulibc_version=''
  Dynamic Linking:
    dlsrc=dl_win32.xs, dlext=dll, d_dlsymun=undef, ccdlflags=' '
    cccdlflags=' ', lddlflags='-mdll -s -L"C:\strawberry\perl\lib\CORE" -L"C:\strawberry\c\lib"'


Characteristics of this binary (from libperl): 
  Compile-time options: MULTIPLICITY PERL_DONT_CREATE_GVSV
                        PERL_IMPLICIT_CONTEXT PERL_IMPLICIT_SYS
                        PERL_MALLOC_WRAP PL_OP_SLAB_ALLOC USE_ITHREADS
                        USE_LARGE_FILES USE_PERLIO USE_PERL_ATOF
                        USE_SITECUSTOMIZE
  Built under MSWin32
  Compiled at Jul 29 2010 16:46:09
  %ENV:
    PERL5LIB="C:\strawberry\cpan\build\Bit-Vector-7.1-OlP1i7/blib/arch;C:\strawberry\cpan\build\Bit-Vector-7.1-OlP1i7/blib/lib;C:\strawberry\cpan\build\Carp-Clan-6.04-tY_Vpk/blib/arch;C:\strawberry\cpan\build\Carp-Clan-6.04-tY_Vpk/blib/lib;C:\strawberry\cpan\build\Exception-Class-1.32-wTjDuA/blib/arch;C:\strawberry\cpan\build\Exception-Class-1.32-wTjDuA/blib/lib;C:\strawberry\cpan\build\Class-Data-Inheritable-0.08-BxGtV4/blib/arch;C:\strawberry\cpan\build\Class-Data-Inheritable-0.08-BxGtV4/blib/lib;C:\strawberry\cpan\build\Devel-StackTrace-1.25-CyAbDz/blib/arch;C:\strawberry\cpan\build\Devel-StackTrace-1.25-CyAbDz/blib/lib;C:\strawberry\cpan\build\File-Tempdir-0.02-Nvty9o/blib/arch;C:\strawberry\cpan\build\File-Tempdir-0.02-Nvty9o/blib/lib"
    PERL5_CPANPLUS_IS_RUNNING="8048"
    PERL5_CPAN_IS_RUNNING="8048"
    PERL5_CPAN_IS_RUNNING_IN_RECURSION="3380,8048"
    PERL_CR_SMOKER_CURRENT="Devel-Ladybug-0.412_01"
    PERL_EXTUTILS_AUTOINSTALL="--defaultdeps"
    PERL_MM_USE_DEFAULT="1"
  @INC:
    C:\strawberry\cpan\build\Bit-Vector-7.1-OlP1i7/blib/arch
    C:\strawberry\cpan\build\Bit-Vector-7.1-OlP1i7/blib/lib
    C:\strawberry\cpan\build\Carp-Clan-6.04-tY_Vpk/blib/arch
    C:\strawberry\cpan\build\Carp-Clan-6.04-tY_Vpk/blib/lib
    C:\strawberry\cpan\build\Exception-Class-1.32-wTjDuA/blib/arch
    C:\strawberry\cpan\build\Exception-Class-1.32-wTjDuA/blib/lib
    C:\strawberry\cpan\build\Class-Data-Inheritable-0.08-BxGtV4/blib/arch
    C:\strawberry\cpan\build\Class-Data-Inheritable-0.08-BxGtV4/blib/lib
    C:\strawberry\cpan\build\Devel-StackTrace-1.25-CyAbDz/blib/arch
    C:\strawberry\cpan\build\Devel-StackTrace-1.25-CyAbDz/blib/lib
    C:\strawberry\cpan\build\File-Tempdir-0.02-Nvty9o/blib/arch
    C:\strawberry\cpan\build\File-Tempdir-0.02-Nvty9o/blib/lib
    C:/strawberry/perl/site/lib
    C:/strawberry/perl/vendor/lib
    C:/strawberry/perl/lib
    .