Dist-Zilla-Plugin-CheckChangesHasContent v0.011 Perl 5 v5.26.3 darwin-2level

Status
Pass
From
Dist
Dist-Zilla-Plugin-CheckChangesHasContent v0.011
Platform
Perl 5 v5.26.3 darwin-2level
Date
2018-12-05 17:11:47
ID
d93734e0-f8b0-11e8-b87e-2d9f12eddd1c
This distribution has been tested as part of the CPAN Testers
project, supporting the Perl programming language.  See
http://wiki.cpantesters.org/ for more information or email
questions to cpan-testers-discuss@perl.org


--
Dear DAGOLDEN,

This is a computer-generated report for Dist-Zilla-Plugin-CheckChangesHasContent-0.011
on perl 5.26.3, created by App::cpanminus::reporter 0.17 (1.7044).

Thank you for uploading your work to CPAN.  Congratulations!
All tests were successful.

Sections of this report:

    * Tester comments
    * Program output
    * Prerequisites
    * Environment and other context

------------------------------
TESTER COMMENTS
------------------------------

Additional comments from tester:

none provided

------------------------------
PROGRAM OUTPUT
------------------------------

Output from '':

Building and testing Dist-Zilla-Plugin-CheckChangesHasContent-0.011
Manifying 2 pod documents
PERL_DL_NONLAZY=1 "/Users/ether/perl5/perlbrew/perls/26.3/bin/perl" "-MExtUtils::Command::MM" "-MTest::Harness" "-e" "undef *Test::Harness::Switches; test_harness(0, 'blib/lib', 'blib/arch')" t/*.t
# 
# Versions for all modules listed in MYMETA.json (including optional ones):
# 
# === Configure Requires ===
# 
#     Module              Want Have
#     ------------------- ---- ----
#     ExtUtils::MakeMaker 6.17 7.24
# 
# === Build Requires ===
# 
#     Module              Want Have
#     ------------------- ---- ----
#     ExtUtils::MakeMaker  any 7.24
# 
# === Test Requires ===
# 
#     Module              Want     Have
#     ------------------- ---- --------
#     Capture::Tiny        any     0.48
#     Cwd                  any     3.67
#     Dist::Zilla::Tester  any    6.012
#     ExtUtils::MakeMaker  any     7.24
#     File::Spec           any     3.67
#     Path::Tiny           any    0.108
#     Test::Fatal          any    0.014
#     Test::Harness        any     3.38
#     Test::More          0.88 1.302140
# 
# === Test Recommends ===
# 
#     Module         Want     Have
#     ---------- -------- --------
#     CPAN::Meta 2.120900 2.150010
# 
# === Runtime Requires ===
# 
#     Module                               Want     Have
#     -------------------------------- -------- --------
#     Data::Section                    0.200002 0.200007
#     Dist::Zilla                             6    6.012
#     Dist::Zilla::File::InMemory           any    6.012
#     Dist::Zilla::Role::BeforeRelease      any    6.012
#     Dist::Zilla::Role::FileGatherer       any    6.012
#     Dist::Zilla::Role::FileMunger         any    6.012
#     Dist::Zilla::Role::TextTemplate       any    6.012
#     List::Util                            any  1.46_02
#     Moose                                   2   2.2011
#     Moose::Util::TypeConstraints          any   2.2011
#     Sub::Exporter::ForMethods             any 0.100052
#     autodie                              2.00     2.29
#     namespace::autoclean                 0.28     0.28
#     strict                                any     1.11
#     warnings                              any     1.37
# 
t/00-report-prereqs.t ....... ok
t/checkhascontent.t ......... ok
t/test_changeshascontent.t .. ok
All tests successful.
Files=3, Tests=40,  2 wallclock secs ( 0.02 usr  0.01 sys +  1.89 cusr  0.25 csys =  2.17 CPU)
Result: PASS

------------------------------
PREREQUISITES
------------------------------

Prerequisite modules loaded:

    No requirements found

------------------------------
ENVIRONMENT AND OTHER CONTEXT
------------------------------

Environment variables:

    HARNESS_OPTIONS = j1:c
    LANG = en_CA.UTF-8
    NO_NETWORK_TESTING = 1
    PATH = /Users/ether/.perlbrew/libs/26.3@std/bin:/Users/ether/perl5/perlbrew/bin:/Users/ether/perl5/perlbrew/perls/26.3/bin:/Users/ether/bin:/Users/ether/git/misc/install/aquavit/bin:/Users/ether/git/misc/install/generic/bin:/opt/local/bin:/opt/local/sbin:/Users/ether/git/git-hub/lib:/Users/ether/go/bin:/usr/local/bin:/usr/bin:/bin:/usr/sbin:/sbin:/opt/pkg/sbin:/opt/pkg/bin:/opt/local/Library/Frameworks/Python.framework/Versions/2.7/bin:/opt/local/lib/postgresql96/bin:/opt/local/share/git-core/contrib/workdir
    PERL5LIB = /Users/ether/.perlbrew/libs/26.3@std/lib/perl5
    PERLBREW_HOME = /Users/ether/.perlbrew
    PERLBREW_LIB = std
    PERLBREW_MANPATH = /Users/ether/.perlbrew/libs/26.3@std/man:/Users/ether/perl5/perlbrew/perls/26.3/man
    PERLBREW_PATH = /Users/ether/.perlbrew/libs/26.3@std/bin:/Users/ether/perl5/perlbrew/bin:/Users/ether/perl5/perlbrew/perls/26.3/bin
    PERLBREW_PERL = 26.3
    PERLBREW_ROOT = /Users/ether/perl5/perlbrew
    PERLBREW_SHELLRC_VERSION = 0.84
    PERLBREW_VERSION = 0.84
    PERLDOC = -oman
    PERLDOC_PAGER = less -sicMr
    PERL_AUTOINSTALL_PREFER_CPAN = 1
    PERL_INSTALL_QUIET = 1
    PERL_LOCAL_LIB_ROOT = /Users/ether/.perlbrew/libs/26.3@std
    PERL_MB_OPT = --install_base /Users/ether/.perlbrew/libs/26.3@std
    PERL_MM_OPT = INSTALL_BASE=/Users/ether/.perlbrew/libs/26.3@std
    SHELL = /bin/bash
    TERM = xterm-color
    TMPDIR = /var/folders/86/sx0991yd4tz09kr0lvyzjpp80000gn/T/

Perl special variables (and OS-specific diagnostics, for MSWin32):

    EGID = 20 20 12 61 79 80 81 98 702 33 100 204 250 395 398 399 701
    EUID = 501
    EXECUTABLE_NAME = /Users/ether/perl5/perlbrew/perls/26.3/bin/perl
    GID = 20 20 12 61 79 80 81 98 702 33 100 204 250 395 398 399 701
    UID = 501

Perl module toolchain versions installed:

    Module              Have      
    ------------------- ----------
    CPAN                2.18      
    CPAN::Meta          2.150010  
    Cwd                 3.67      
    ExtUtils::CBuilder  0.280225  
    ExtUtils::Command   7.24      
    ExtUtils::Install   2.04      
    ExtUtils::MakeMaker 7.24      
    ExtUtils::Manifest  1.70      
    ExtUtils::ParseXS   3.34      
    File::Spec          3.67      
    JSON                n/a       
    JSON::PP            2.27400_02
    Module::Build       0.4224    
    Module::Signature   n/a       
    Parse::CPAN::Meta   2.150010  
    Test::Harness       3.38      
    Test::More          1.302140  
    YAML                1.27      
    YAML::Syck          n/a       
    version             0.9917    


--

Summary of my perl5 (revision 5 version 26 subversion 3) configuration:
   
  Platform:
    osname=darwin
    osvers=17.7.0
    archname=darwin-2level
    uname='darwin aquavit 17.7.0 darwin kernel version 17.7.0: wed oct 10 23:06:14 pdt 2018; root:xnu-4570.71.13~1release_x86_64 x86_64 '
    config_args='-de -Dprefix=/Users/ether/perl5/perlbrew/perls/26.3 -Dman1dir=none -Dman3dir=none -Aeval:scriptdir=/Users/ether/perl5/perlbrew/perls/26.3/bin'
    hint=recommended
    useposix=true
    d_sigaction=define
    useithreads=undef
    usemultiplicity=undef
    use64bitint=define
    use64bitall=define
    uselongdouble=undef
    usemymalloc=n
    default_inc_excludes_dot=define
    bincompat5005=undef
  Compiler:
    cc='cc'
    ccflags ='-fno-common -DPERL_DARWIN -mmacosx-version-min=10.13 -fno-strict-aliasing -pipe -fstack-protector-strong -I/usr/local/include -I/opt/local/include -DPERL_USE_SAFE_PUTENV'
    optimize='-O3'
    cppflags='-fno-common -DPERL_DARWIN -mmacosx-version-min=10.13 -fno-strict-aliasing -pipe -fstack-protector-strong -I/usr/local/include -I/opt/local/include'
    ccversion=''
    gccversion='4.2.1 Compatible Apple LLVM 10.0.0 (clang-1000.11.45.5)'
    gccosandvers=''
    intsize=4
    longsize=8
    ptrsize=8
    doublesize=8
    byteorder=12345678
    doublekind=3
    d_longlong=define
    longlongsize=8
    d_longdbl=define
    longdblsize=16
    longdblkind=3
    ivtype='long'
    ivsize=8
    nvtype='double'
    nvsize=8
    Off_t='off_t'
    lseeksize=8
    alignbytes=8
    prototype=define
  Linker and Libraries:
    ld='cc'
    ldflags =' -mmacosx-version-min=10.13 -fstack-protector-strong -L/usr/local/lib -L/opt/local/lib'
    libpth=/usr/local/lib /Applications/Xcode.app/Contents/Developer/Toolchains/XcodeDefault.xctoolchain/usr/lib/clang/10.0.0/lib /Applications/Xcode.app/Contents/Developer/Toolchains/XcodeDefault.xctoolchain/usr/lib /usr/lib /opt/local/lib
    libs=-lpthread -lgdbm -ldbm -ldl -lm -lutil -lc
    perllibs=-lpthread -ldl -lm -lutil -lc
    libc=
    so=dylib
    useshrplib=false
    libperl=libperl.a
    gnulibc_version=''
  Dynamic Linking:
    dlsrc=dl_dlopen.xs
    dlext=bundle
    d_dlsymun=undef
    ccdlflags=' '
    cccdlflags=' '
    lddlflags=' -mmacosx-version-min=10.13 -bundle -undefined dynamic_lookup -L/usr/local/lib -L/opt/local/lib -fstack-protector-strong'


Characteristics of this binary (from libperl): 
  Compile-time options:
    HAS_TIMES
    PERLIO_LAYERS
    PERL_COPY_ON_WRITE
    PERL_DONT_CREATE_GVSV
    PERL_MALLOC_WRAP
    PERL_OP_PARENT
    PERL_PRESERVE_IVUV
    PERL_USE_SAFE_PUTENV
    USE_64_BIT_ALL
    USE_64_BIT_INT
    USE_LARGE_FILES
    USE_LOCALE
    USE_LOCALE_COLLATE
    USE_LOCALE_CTYPE
    USE_LOCALE_NUMERIC
    USE_LOCALE_TIME
    USE_PERLIO
    USE_PERL_ATOF
  Locally applied patches:
    Devel::PatchPerl 1.52
  Built under darwin
  Compiled at Nov 30 2018 08:59:28
  %ENV:
    PERL5LIB="/Users/ether/.perlbrew/libs/26.3@std/lib/perl5"
    PERLBREW_HOME="/Users/ether/.perlbrew"
    PERLBREW_LIB="std"
    PERLBREW_MANPATH="/Users/ether/.perlbrew/libs/26.3@std/man:/Users/ether/perl5/perlbrew/perls/26.3/man"
    PERLBREW_PATH="/Users/ether/.perlbrew/libs/26.3@std/bin:/Users/ether/perl5/perlbrew/bin:/Users/ether/perl5/perlbrew/perls/26.3/bin"
    PERLBREW_PERL="26.3"
    PERLBREW_ROOT="/Users/ether/perl5/perlbrew"
    PERLBREW_SHELLRC_VERSION="0.84"
    PERLBREW_VERSION="0.84"
    PERLDOC="-oman"
    PERLDOC_PAGER="less -sicMr"
    PERL_AUTOINSTALL_PREFER_CPAN="1"
    PERL_INSTALL_QUIET="1"
    PERL_LOCAL_LIB_ROOT="/Users/ether/.perlbrew/libs/26.3@std"
    PERL_MB_OPT="--install_base /Users/ether/.perlbrew/libs/26.3@std"
    PERL_MM_OPT="INSTALL_BASE=/Users/ether/.perlbrew/libs/26.3@std"
  @INC:
    /Users/ether/.perlbrew/libs/26.3@std/lib/perl5/darwin-2level
    /Users/ether/.perlbrew/libs/26.3@std/lib/perl5
    /Users/ether/perl5/perlbrew/perls/26.3/lib/site_perl/5.26.3/darwin-2level
    /Users/ether/perl5/perlbrew/perls/26.3/lib/site_perl/5.26.3
    /Users/ether/perl5/perlbrew/perls/26.3/lib/5.26.3/darwin-2level
    /Users/ether/perl5/perlbrew/perls/26.3/lib/5.26.3