Back
From: metabase:user:314402c4-2aae-11df-837a-5e0a49663a4f
Subject: PASS Inline-Ruby-0.03 v5.16.0 RC0 FreeBSD
Date: 2012-08-09T20:14:39Z
This distribution has been tested as part of the CPAN Testers
project, supporting the Perl programming language. See
http://wiki.cpantesters.org/ for more information or email
questions to cpan-testers-discuss@perl.org
--
Dear Shlomi Fish,
This is a computer-generated report for Inline-Ruby-0.03
on perl 5.16.0, created by CPAN-Reporter-1.2006.
Thank you for uploading your work to CPAN. Congratulations!
All tests were successful.
Sections of this report:
* Tester comments
* Program output
* Prerequisites
* Environment and other context
------------------------------
TESTER COMMENTS
------------------------------
Additional comments from tester:
none provided
------------------------------
PROGRAM OUTPUT
------------------------------
Output from '/usr/bin/make test':
PERL_DL_NONLAZY=1 /home2/cpansand/var/ctps/5160RC0/install/perl-5.16.0-RC0/bin/perl5.16.0 "-MExtUtils::Command::MM" "-e" "test_harness(0, 'blib/lib', 'blib/arch')" t/*.t
Subroutine inspect redefined at (eval 8) line 246.
Subroutine object_id redefined at (eval 8) line 250.
Subroutine tap redefined at (eval 8) line 254.
Subroutine clone redefined at (eval 8) line 258.
Subroutine public_methods redefined at (eval 8) line 262.
Subroutine __send__ redefined at (eval 8) line 266.
Subroutine some_iter redefined at (eval 8) line 270.
Subroutine freeze redefined at (eval 8) line 274.
Subroutine extend redefined at (eval 8) line 278.
Subroutine send redefined at (eval 8) line 282.
Subroutine methods redefined at (eval 8) line 286.
Subroutine to_enum redefined at (eval 8) line 290.
Subroutine hash redefined at (eval 8) line 298.
Subroutine dup redefined at (eval 8) line 302.
Subroutine inline_ruby_class_grokker redefined at (eval 8) line 306.
Subroutine instance_variables redefined at (eval 8) line 310.
Subroutine instance_eval redefined at (eval 8) line 314.
Subroutine id redefined at (eval 8) line 318.
Subroutine singleton_methods redefined at (eval 8) line 322.
Subroutine enum_for redefined at (eval 8) line 326.
Subroutine method redefined at (eval 8) line 330.
Subroutine taint redefined at (eval 8) line 334.
Subroutine instance_variable_get redefined at (eval 8) line 338.
Subroutine to_a redefined at (eval 8) line 342.
Subroutine type redefined at (eval 8) line 350.
Subroutine instance_exec redefined at (eval 8) line 354.
Subroutine protected_methods redefined at (eval 8) line 358.
Subroutine display redefined at (eval 8) line 362.
Subroutine some_function redefined at (eval 8) line 366.
Subroutine instance_variable_set redefined at (eval 8) line 370.
Subroutine to_s redefined at (eval 8) line 374.
Subroutine class redefined at (eval 8) line 382.
Subroutine __id__ redefined at (eval 8) line 386.
Subroutine private_methods redefined at (eval 8) line 390.
Subroutine untaint redefined at (eval 8) line 394.
t/01basic.t ..... ok
Subroutine inspect redefined at (eval 4) line 230.
Subroutine object_id redefined at (eval 4) line 234.
Subroutine tap redefined at (eval 4) line 242.
Subroutine clone redefined at (eval 4) line 246.
Subroutine public_methods redefined at (eval 4) line 250.
Subroutine __send__ redefined at (eval 4) line 254.
Subroutine freeze redefined at (eval 4) line 258.
Subroutine extend redefined at (eval 4) line 266.
Subroutine send redefined at (eval 4) line 270.
Subroutine methods redefined at (eval 4) line 274.
Subroutine to_enum redefined at (eval 4) line 278.
Subroutine hash redefined at (eval 4) line 282.
Subroutine dup redefined at (eval 4) line 286.
Subroutine inline_ruby_class_grokker redefined at (eval 4) line 290.
Subroutine instance_variables redefined at (eval 4) line 294.
Subroutine instance_eval redefined at (eval 4) line 298.
Subroutine id redefined at (eval 4) line 302.
Subroutine singleton_methods redefined at (eval 4) line 306.
Subroutine enum_for redefined at (eval 4) line 310.
Subroutine method redefined at (eval 4) line 314.
Subroutine taint redefined at (eval 4) line 318.
Subroutine instance_variable_get redefined at (eval 4) line 322.
Subroutine to_a redefined at (eval 4) line 326.
Subroutine type redefined at (eval 4) line 330.
Subroutine instance_exec redefined at (eval 4) line 334.
Subroutine protected_methods redefined at (eval 4) line 338.
Subroutine display redefined at (eval 4) line 342.
Subroutine instance_variable_set redefined at (eval 4) line 346.
Subroutine to_s redefined at (eval 4) line 350.
Subroutine class redefined at (eval 4) line 354.
Subroutine __id__ redefined at (eval 4) line 358.
Subroutine private_methods redefined at (eval 4) line 362.
Subroutine untaint redefined at (eval 4) line 366.
t/02iter.t ...... ok
t/03bindfunc.t .. ok
t/04iterator.t .. ok
t/05rb_exc.t .... ok
(in cleanup) Illegal division by zero at t/06pl_exc.t line 53.
(in cleanup) Missing right curly or square bracket at (eval 14) line 2, at end of line
syntax error at (eval 14) line 2, at EOF
(in cleanup) Illegal division by zero at t/06pl_exc.t line 73.
t/06pl_exc.t .... ok
t/07proc.t ...... ok
Subroutine inspect redefined at (eval 4) line 234.
Subroutine object_id redefined at (eval 4) line 238.
Subroutine tap redefined at (eval 4) line 242.
Subroutine clone redefined at (eval 4) line 246.
Subroutine public_methods redefined at (eval 4) line 250.
Subroutine __send__ redefined at (eval 4) line 254.
Subroutine freeze redefined at (eval 4) line 258.
Subroutine extend redefined at (eval 4) line 262.
Subroutine send redefined at (eval 4) line 266.
Subroutine methods redefined at (eval 4) line 270.
Subroutine to_enum redefined at (eval 4) line 274.
Subroutine hash redefined at (eval 4) line 278.
Subroutine dup redefined at (eval 4) line 282.
Subroutine inline_ruby_class_grokker redefined at (eval 4) line 286.
Subroutine instance_variables redefined at (eval 4) line 290.
Subroutine some_func redefined at (eval 4) line 294.
Subroutine instance_eval redefined at (eval 4) line 298.
Subroutine id redefined at (eval 4) line 302.
Subroutine singleton_methods redefined at (eval 4) line 306.
Subroutine enum_for redefined at (eval 4) line 310.
Subroutine method redefined at (eval 4) line 314.
Subroutine taint redefined at (eval 4) line 318.
Subroutine instance_variable_get redefined at (eval 4) line 322.
Subroutine to_a redefined at (eval 4) line 326.
Subroutine type redefined at (eval 4) line 330.
Subroutine instance_exec redefined at (eval 4) line 334.
Subroutine protected_methods redefined at (eval 4) line 338.
Subroutine display redefined at (eval 4) line 342.
Subroutine instance_variable_set redefined at (eval 4) line 346.
Subroutine to_s redefined at (eval 4) line 350.
Subroutine class redefined at (eval 4) line 358.
Subroutine __id__ redefined at (eval 4) line 362.
Subroutine private_methods redefined at (eval 4) line 366.
Subroutine untaint redefined at (eval 4) line 370.
t/08bind1.t ..... ok
t/08bind2.t ..... ok
t/09regex.t ..... ok
All tests successful.
Files=10, Tests=64, 2 wallclock secs ( 0.06 usr 0.02 sys + 0.93 cusr 0.37 csys = 1.38 CPU)
Result: PASS
------------------------------
PREREQUISITES
------------------------------
Prerequisite modules loaded:
requires:
Module Need Have
------------------- ---- -------
Inline 0.42 0.50
build_requires:
Module Need Have
------------------- ---- -------
ExtUtils::MakeMaker 0 6.63_02
configure_requires:
Module Need Have
------------------- ---- -------
ExtUtils::MakeMaker 0 6.63_02
------------------------------
ENVIRONMENT AND OTHER CONTEXT
------------------------------
Environment variables:
DBIC_NO_WARN_BAD_PERL = 1
PATH = /usr/local/bin:/usr/X11R6/bin:/usr/X11/bin:/usr/perl5.8.0/bin:/usr/bin:/bin:/usr/local/sbin:/usr/sbin:/sbin:/usr/local/pilot/bin:/home/cpansand/bin/freebsd8.0:/home/cpansand/bin/sh:/home/cpansand/bin:/usr/X386/bin:/usr/games:/home/cpansand/devel:/usr/home/e/eserte/work/srezic-misc/scripts
PERL5LIB = /usr/local/src/CPAN/build/Tie-Array-Lazy-0.02-Qgv8lJ/blib/arch:/usr/local/src/CPAN/build/Tie-Array-Lazy-0.02-Qgv8lJ/blib/lib:/usr/local/src/CPAN/build/ATIFK-f7HdMA/blib/arch:/usr/local/src/CPAN/build/ATIFK-f7HdMA/blib/lib
PERL5OPT =
PERL5_CPANPLUS_IS_RUNNING = 80921
PERL5_CPAN_IS_RUNNING = 80921
PERL5_CPAN_IS_RUNNING_IN_RECURSION = 80443,80921
PERL_BATCH = yes
PERL_CPAN_REPORTER_CONFIG = /var/tmp/cpansmoker-1023/IHVqDg_7t6_config.ini
PERL_CPAN_REPORTER_DIR = /home/cpansand/var/ctps/5160RC0/config/perl-5.16.0-RC0/cpanreporter
PERL_EXTUTILS_AUTOINSTALL = --defaultdeps
PERL_HTML_DISPLAY_CLASS = HTML::Display::Mozilla
SHELL = /usr/local/bin/zsh
TERM = screen
TMPDIR = /var/tmp/cpansmoker-1023
Perl special variables (and OS-specific diagnostics, for MSWin32):
$^X = /home2/cpansand/var/ctps/5160RC0/install/perl-5.16.0-RC0/bin/perl5.16.0
$UID/$EUID = 1023 / 1023
$GID = 1023 1023
$EGID = 1023 1023
Perl module toolchain versions installed:
Module Have
------------------- --------
CPAN 1.9800
CPAN::Meta 2.120921
Cwd 3.39_02
ExtUtils::CBuilder 0.280206
ExtUtils::Command 1.17
ExtUtils::Install 1.58
ExtUtils::MakeMaker 6.63_02
ExtUtils::Manifest 1.61
ExtUtils::ParseXS 3.16
File::Spec 3.39_02
JSON 2.53
JSON::PP 2.27200
Module::Build 0.4002
Module::Signature 0.68
Parse::CPAN::Meta 1.4404
Test::Harness 3.23
Test::More 0.98
YAML 0.82
YAML::Syck 1.20
version 0.99
--
Summary of my perl5 (revision 5 version 16 subversion 0) configuration:
Platform:
osname=freebsd, osvers=8.0-release-p4, archname=i386-freebsd
uname='freebsd biokovo.herceg.de 8.0-release-p4 freebsd 8.0-release-p4 #0: mon jul 12 20:22:27 utc 2010 root@i386-builder.daemonology.net:usrobjusrsrcsysgeneric i386 '
config_args='-ds -e -Uversiononly -Dinstallusrbinperl=n -Dusedevel -Dprefix=/home/cpansand/var/ctps/5160RC0/install/perl-5.16.0-RC0'
hint=recommended, useposix=true, d_sigaction=define
useithreads=undef, usemultiplicity=undef
useperlio=define, d_sfio=undef, uselargefiles=define, usesocks=undef
use64bitint=undef, use64bitall=undef, uselongdouble=undef
usemymalloc=n, bincompat5005=undef
Compiler:
cc='cc', ccflags ='-DHAS_FPSETMASK -DHAS_FLOATINGPOINT_H -fno-strict-aliasing -pipe -fstack-protector -I/usr/local/include',
optimize='-O',
cppflags='-DHAS_FPSETMASK -DHAS_FLOATINGPOINT_H -fno-strict-aliasing -pipe -fstack-protector -I/usr/local/include'
ccversion='', gccversion='4.2.1 20070719 [FreeBSD]', gccosandvers=''
intsize=4, longsize=4, ptrsize=4, doublesize=8, byteorder=1234
d_longlong=define, longlongsize=8, d_longdbl=define, longdblsize=12
ivtype='long', ivsize=4, nvtype='double', nvsize=8, Off_t='off_t', lseeksize=8
alignbytes=4, prototype=define
Linker and Libraries:
ld='cc', ldflags ='-Wl,-E -fstack-protector -L/usr/local/lib'
libpth=/usr/lib /usr/local/lib
libs=-lgdbm -lm -lcrypt -lutil -lc
perllibs=-lm -lcrypt -lutil -lc
libc=, so=so, useshrplib=false, libperl=libperl.a
gnulibc_version=''
Dynamic Linking:
dlsrc=dl_dlopen.xs, dlext=so, d_dlsymun=undef, ccdlflags=' '
cccdlflags='-DPIC -fPIC', lddlflags='-shared -L/usr/local/lib -fstack-protector'
Characteristics of this binary (from libperl):
Compile-time options: HAS_TIMES PERLIO_LAYERS PERL_DONT_CREATE_GVSV
PERL_MALLOC_WRAP PERL_PRESERVE_IVUV PERL_USE_DEVEL
USE_LARGE_FILES USE_LOCALE USE_LOCALE_COLLATE
USE_LOCALE_CTYPE USE_LOCALE_NUMERIC USE_PERLIO
USE_PERL_ATOF
Locally applied patches:
RC0
Built under freebsd
Compiled at May 11 2012 21:05:05
%ENV:
PERL5LIB="/usr/local/src/CPAN/build/Tie-Array-Lazy-0.02-Qgv8lJ/blib/arch:/usr/local/src/CPAN/build/Tie-Array-Lazy-0.02-Qgv8lJ/blib/lib:/usr/local/src/CPAN/build/ATIFK-f7HdMA/blib/arch:/usr/local/src/CPAN/build/ATIFK-f7HdMA/blib/lib"
PERL5OPT=""
PERL5_CPANPLUS_IS_RUNNING="80921"
PERL5_CPAN_IS_RUNNING="80921"
PERL5_CPAN_IS_RUNNING_IN_RECURSION="80443,80921"
PERL_BATCH="yes"
PERL_CPAN_REPORTER_CONFIG="/var/tmp/cpansmoker-1023/IHVqDg_7t6_config.ini"
PERL_CPAN_REPORTER_DIR="/home/cpansand/var/ctps/5160RC0/config/perl-5.16.0-RC0/cpanreporter"
PERL_EXTUTILS_AUTOINSTALL="--defaultdeps"
PERL_HTML_DISPLAY_CLASS="HTML::Display::Mozilla"
@INC:
/usr/local/src/CPAN/build/Tie-Array-Lazy-0.02-Qgv8lJ/blib/arch
/usr/local/src/CPAN/build/Tie-Array-Lazy-0.02-Qgv8lJ/blib/lib
/usr/local/src/CPAN/build/ATIFK-f7HdMA/blib/arch
/usr/local/src/CPAN/build/ATIFK-f7HdMA/blib/lib
/home/cpansand/var/ctps/5160RC0/install/perl-5.16.0-RC0/lib/site_perl/5.16.0/i386-freebsd
/home/cpansand/var/ctps/5160RC0/install/perl-5.16.0-RC0/lib/site_perl/5.16.0
/home/cpansand/var/ctps/5160RC0/install/perl-5.16.0-RC0/lib/5.16.0/i386-freebsd
/home/cpansand/var/ctps/5160RC0/install/perl-5.16.0-RC0/lib/5.16.0
.