Data-Tubes v0.740 Perl 5 v5.12.2 MSWin32-x86-multi-thread

Status
Pass
From
Alexandr Ciornii (CHORNY)
Dist
Data-Tubes v0.740
Platform
Perl 5 v5.12.2 MSWin32-x86-multi-thread
Date
2022-01-19 00:51:36
ID
d911e120-6bf9-1014-a56c-a8f1930ee4a7
This distribution has been tested as part of the CPAN Testers
project, supporting the Perl programming language.  See
http://wiki.cpantesters.org/ for more information or email
questions to cpan-testers-discuss@perl.org


--
Dear Flavio Poletti,

This is a computer-generated report for Data-Tubes-0.740
on perl 5.12.2, created by CPAN-Reporter-1.2018.

Thank you for uploading your work to CPAN.  Congratulations!
All tests were successful.

Sections of this report:

    * Tester comments
    * Program output
    * Prerequisites
    * Environment and other context

------------------------------
TESTER COMMENTS
------------------------------

Additional comments from tester:

this report is from an automated smoke testing program
and was not reviewed by a human for accuracy

------------------------------
PROGRAM OUTPUT
------------------------------

Output from 'C:\strawberry\perl\bin\perl.exe ./Build test':

# Testing Data::Tubes 0.740
t/00-load.t ........................................... ok
t/11.summon.t ......................................... ok
t/12.normalize_args.t ................................. ok
t/13.generalized_hashy.t .............................. ok
t/14.pipeline.t ....................................... ok
t/15.drain.t .......................................... ok
t/20.plugin.plumbing.t ................................ ok
t/20.plugin.plumbing/01.fallback.t .................... ok
t/20.plugin.plumbing/02.alternatives.t ................ ok
t/20.plugin.plumbing/03.alt-and-fallback.t ............ ok
t/20.plugin.plumbing/04.cache.t ....................... ok
t/20.plugin.plumbing/05.cache-file.t .................. ok
t/20.plugin.plumbing/06.dispatch.t .................... ok
t/21.plugin.reader.t .................................. ok
t/22.plugin.parser.t .................................. ok
t/22.plugin.parser/01.hashy.t ......................... ok
t/22.plugin.parser/02.single.t ........................ ok
t/22.plugin.parser/03.format.t ........................ ok
t/22.plugin.parser/04.regex.t ......................... ok
t/22.plugin.parser/05.ghashy.t ........................ ok
t/22.plugin.parser/06.format-specials.t ............... ok
t/22.plugin.parser/07.by_separators.t ................. ok
t/22.plugin.parser/08.by_value_separator.t ............ ok
t/23.plugin.renderer.t ................................ ok
t/23.plugin.renderer/01.template-in-record.t .......... ok
t/23.plugin.renderer/02.tp-in-record.t ................ ok
t/23.plugin.renderer/03.tmpl-and-tp-in-record.t ....... ok
t/24.plugin.writer.t .................................. ok
t/25.plugin.validator/01.thoroughly-plain.t ........... ok
t/25.plugin.validator/02.thoroughly-try.t ............. ok
t/25.plugin.validator/03.thoroughly-keep_positives.t .. ok
t/25.plugin.validator/04.thoroughly-keep_empty.t ...... ok
t/25.plugin.validator/05.admit.t ...................... ok
t/25.plugin.validator/06.refuse.t ..................... ok
t/25.plugin.validator/07.refusers.t ................... ok
t/26.plugin.util/01.read_file.t ....................... ok
t/26.plugin.util/02.tubify.t .......................... ok
t/30.output.t ......................................... ok
t/author-pod-coverage.t ............................... skipped: these tests are for testing by the author
t/author-pod-syntax.t ................................. skipped: these tests are for testing by the author
t/release-pod-version.t ............................... skipped: these tests are for release candidate testing
All tests successful.
Files=41, Tests=602,  8 wallclock secs ( 0.27 usr +  0.14 sys =  0.41 CPU)
Result: PASS

------------------------------
PREREQUISITES
------------------------------

Prerequisite modules loaded:

requires:

    Module              Need     Have    
    ------------------- -------- --------
    Log::Log4perl::Tiny v1.4.0   1.4.0   
    Mo                  0.39     0.40    
    perl                5.010000 5.012002
    Template::Perlish   1.56     1.56    

build_requires:

    Module              Need     Have    
    ------------------- -------- --------
    Path::Tiny          0.120    0.122   
    Test::Exception     0.43     0.43    
    Try::Catch          v1.1.0   1.1.0   

configure_requires:

    Module              Need     Have    
    ------------------- -------- --------
    Module::Build::Tiny 0.034    0.037   


------------------------------
ENVIRONMENT AND OTHER CONTEXT
------------------------------

Environment variables:

    AUTOMATED_TESTING = 1
    COMSPEC = C:\WINDOWS\system32\cmd.exe
    NUMBER_OF_PROCESSORS = 1
    PATH = c:\Windows\system32;c:\Windows\System32\Wbem;C:\Git\cmd;C:\strawberry\c\bin;C:\strawberry\perl\site\bin;C:\strawberry\perl\bin
    PERL5LIB = C:\strawberry\cpan\build\Try-Catch-1.1.0-0/blib/arch;C:\strawberry\cpan\build\Try-Catch-1.1.0-0/blib/lib;C:\strawberry\cpan\build\Test-Exception-0.43-0/blib/arch;C:\strawberry\cpan\build\Test-Exception-0.43-0/blib/lib;C:\strawberry\cpan\build\Template-Perlish-1.56-0/blib/arch;C:\strawberry\cpan\build\Template-Perlish-1.56-0/blib/lib;C:\strawberry\cpan\build\Path-Tiny-0.122-1/blib/arch;C:\strawberry\cpan\build\Path-Tiny-0.122-1/blib/lib;C:\strawberry\cpan\build\Mo-0.40-0/blib/arch;C:\strawberry\cpan\build\Mo-0.40-0/blib/lib;C:\strawberry\cpan\build\Log-Log4perl-Tiny-1.4.0-0/blib/arch;C:\strawberry\cpan\build\Log-Log4perl-Tiny-1.4.0-0/blib/lib
    PERL5OPT = 
    PERL5_CPANPLUS_IS_RUNNING = 1484
    PERL5_CPAN_IS_RUNNING = 1484
    PERL5_CPAN_IS_RUNNING_IN_RECURSION = 392,1484
    PERL_CR_SMOKER_CURRENT = Data-Tubes-0.740
    PERL_CR_SMOKER_RUNONCE = 1
    PERL_EXTUTILS_AUTOINSTALL = --defaultdeps
    PERL_MM_USE_DEFAULT = 1
    PROCESSOR_IDENTIFIER = x86 Family 18 Model 1 Stepping 0, AuthenticAMD
    TEMP = C:\DOCUME~1\c\LOCALS~1\Temp
    TERM = dumb

Perl special variables (and OS-specific diagnostics, for MSWin32):

    $^X = C:\strawberry\perl\bin\perl.exe
    $UID/$EUID = 0 / 0
    $GID = 0
    $EGID = 0
    Win32::GetOSName = WinXP/.Net
    Win32::GetOSVersion = Service Pack 3, 5, 1, 2600, 2, 3, 0, 256, 1
    Win32::FsType = NTFS
    Win32::IsAdminUser = 1

Perl module toolchain versions installed:

    Module              Have    
    ------------------- --------
    CPAN                2.16    
    CPAN::Meta          2.141520
    Cwd                 3.47    
    ExtUtils::CBuilder  0.280216
    ExtUtils::Command   1.16    
    ExtUtils::Install   1.55    
    ExtUtils::MakeMaker 6.98    
    ExtUtils::Manifest  1.60    
    ExtUtils::ParseXS   3.24    
    File::Spec          3.47    
    JSON                2.90    
    JSON::PP            2.27203 
    Module::Build       0.4206  
    Module::Signature   0.66    
    Parse::CPAN::Meta   1.4414  
    Test::Harness       3.32    
    Test::More          1.001003
    YAML                0.98    
    YAML::Syck          1.27    
    version             0.9908  


--

Summary of my perl5 (revision 5 version 12 subversion 2) configuration:
   
  Platform:
    osname=MSWin32, osvers=5.1, archname=MSWin32-x86-multi-thread
    uname='Win32 strawberryperl 5.12.2.0 #1 Fri Nov  5 05:17:27 2010 i386'
    config_args='undef'
    hint=recommended, useposix=true, d_sigaction=undef
    useithreads=define, usemultiplicity=define
    useperlio=define, d_sfio=undef, uselargefiles=define, usesocks=undef
    use64bitint=undef, use64bitall=undef, uselongdouble=undef
    usemymalloc=n, bincompat5005=undef
  Compiler:
    cc='gcc', ccflags =' -s -O2 -DWIN32 -DHAVE_DES_FCRYPT  -DUSE_SITECUSTOMIZE -DPERL_IMPLICIT_CONTEXT -DPERL_IMPLICIT_SYS -fno-strict-aliasing -mms-bitfields -DPERL_MSVCRT_READFIX',
    optimize='-s -O2',
    cppflags='-DWIN32'
    ccversion='', gccversion='4.4.3', gccosandvers=''
    intsize=4, longsize=4, ptrsize=4, doublesize=8, byteorder=1234
    d_longlong=undef, longlongsize=8, d_longdbl=define, longdblsize=12
    ivtype='long', ivsize=4, nvtype='double', nvsize=8, Off_t='long long', lseeksize=8
    alignbytes=8, prototype=define
  Linker and Libraries:
    ld='g++', ldflags ='-s -L"C:\strawberry\perl\lib\CORE" -L"C:\strawberry\c\lib"'
    libpth=C:\strawberry\c\lib C:\strawberry\c\i686-w64-mingw32\lib
    libs=-lmoldname -lkernel32 -luser32 -lgdi32 -lwinspool -lcomdlg32 -ladvapi32 -lshell32 -lole32 -loleaut32 -lnetapi32 -luuid -lws2_32 -lmpr -lwinmm -lversion -lodbc32 -lodbccp32 -lcomctl32
    perllibs=-lmoldname -lkernel32 -luser32 -lgdi32 -lwinspool -lcomdlg32 -ladvapi32 -lshell32 -lole32 -loleaut32 -lnetapi32 -luuid -lws2_32 -lmpr -lwinmm -lversion -lodbc32 -lodbccp32 -lcomctl32
    libc=, so=dll, useshrplib=true, libperl=libperl512.a
    gnulibc_version=''
  Dynamic Linking:
    dlsrc=dl_win32.xs, dlext=dll, d_dlsymun=undef, ccdlflags=' '
    cccdlflags=' ', lddlflags='-mdll -s -L"C:\strawberry\perl\lib\CORE" -L"C:\strawberry\c\lib"'


Characteristics of this binary (from libperl): 
  Compile-time options: MULTIPLICITY PERL_DONT_CREATE_GVSV
                        PERL_IMPLICIT_CONTEXT PERL_IMPLICIT_SYS
                        PERL_MALLOC_WRAP PL_OP_SLAB_ALLOC USE_ITHREADS
                        USE_LARGE_FILES USE_PERLIO USE_PERL_ATOF
                        USE_SITECUSTOMIZE
  Built under MSWin32
  Compiled at Nov  5 2010 08:39:08
  %ENV:
    PERL5LIB="C:\strawberry\cpan\build\Try-Catch-1.1.0-0/blib/arch;C:\strawberry\cpan\build\Try-Catch-1.1.0-0/blib/lib;C:\strawberry\cpan\build\Test-Exception-0.43-0/blib/arch;C:\strawberry\cpan\build\Test-Exception-0.43-0/blib/lib;C:\strawberry\cpan\build\Template-Perlish-1.56-0/blib/arch;C:\strawberry\cpan\build\Template-Perlish-1.56-0/blib/lib;C:\strawberry\cpan\build\Path-Tiny-0.122-1/blib/arch;C:\strawberry\cpan\build\Path-Tiny-0.122-1/blib/lib;C:\strawberry\cpan\build\Mo-0.40-0/blib/arch;C:\strawberry\cpan\build\Mo-0.40-0/blib/lib;C:\strawberry\cpan\build\Log-Log4perl-Tiny-1.4.0-0/blib/arch;C:\strawberry\cpan\build\Log-Log4perl-Tiny-1.4.0-0/blib/lib"
    PERL5_CPANPLUS_IS_RUNNING="1484"
    PERL5_CPAN_IS_RUNNING="1484"
    PERL5_CPAN_IS_RUNNING_IN_RECURSION="392,1484"
    PERL_CR_SMOKER_CURRENT="Data-Tubes-0.740"
    PERL_CR_SMOKER_RUNONCE="1"
    PERL_EXTUTILS_AUTOINSTALL="--defaultdeps"
    PERL_MM_USE_DEFAULT="1"
  @INC:
    C:\strawberry\cpan\build\Try-Catch-1.1.0-0/blib/arch
    C:\strawberry\cpan\build\Try-Catch-1.1.0-0/blib/lib
    C:\strawberry\cpan\build\Test-Exception-0.43-0/blib/arch
    C:\strawberry\cpan\build\Test-Exception-0.43-0/blib/lib
    C:\strawberry\cpan\build\Template-Perlish-1.56-0/blib/arch
    C:\strawberry\cpan\build\Template-Perlish-1.56-0/blib/lib
    C:\strawberry\cpan\build\Path-Tiny-0.122-1/blib/arch
    C:\strawberry\cpan\build\Path-Tiny-0.122-1/blib/lib
    C:\strawberry\cpan\build\Mo-0.40-0/blib/arch
    C:\strawberry\cpan\build\Mo-0.40-0/blib/lib
    C:\strawberry\cpan\build\Log-Log4perl-Tiny-1.4.0-0/blib/arch
    C:\strawberry\cpan\build\Log-Log4perl-Tiny-1.4.0-0/blib/lib
    C:/strawberry/perl/site/lib
    C:/strawberry/perl/vendor/lib
    C:/strawberry/perl/lib
    .