Report for Attribute-Context-0.042

Back
From: metabase:user:30977d10-2aae-11df-837a-5e0a49663a4f
Subject: FAIL Attribute-Context-0.042 v5.10.1 GNU/Linux
Date: 2011-07-26T15:20:51Z

This distribution has been tested as part of the CPAN Testers
project, supporting the Perl programming language.  See
http://wiki.cpantesters.org/ for more information or email
questions to cpan-testers-discuss@perl.org


--
Dear Curtis 'Ovid' Poe,

This is a computer-generated report for Attribute-Context-0.042
on perl 5.10.1, created by CPAN-Reporter-1.19_04.

Thank you for uploading your work to CPAN.  However, there was a problem
testing your distribution.

If you think this report is invalid, please consult the CPAN Testers Wiki
for suggestions on how to avoid getting FAIL reports for missing library
or binary dependencies, unsupported operating systems, and so on:

http://wiki.cpantesters.org/wiki/CPANAuthorNotes

Sections of this report:

    * Tester comments
    * Program output
    * Prerequisites
    * Environment and other context

------------------------------
TESTER COMMENTS
------------------------------

Additional comments from tester:

this report is from an automated smoke testing program
and was not reviewed by a human for accuracy

------------------------------
PROGRAM OUTPUT
------------------------------

Output from './Build test':

t/10arrayref......Arrayref arguments to main::bar must be a single argument or an even sized list at ../lib/Attribute/Context.pm line 20.
CHECK failed--call queue aborted.
# Looks like you planned 8 tests but ran 1.
# Looks like your test exited with 255 just after 1.
dubious
	Test returned status 255 (wstat 65280, 0xff00)
DIED. FAILED tests 2-8
	Failed 7/8 tests, 12.50% okay
t/20last..........Last arguments to main::bar must be a single argument or an even sized list at ../lib/Attribute/Context.pm line 20.
CHECK failed--call queue aborted.
# Looks like you planned 7 tests but ran 1.
# Looks like your test exited with 255 just after 1.
dubious
	Test returned status 255 (wstat 65280, 0xff00)
DIED. FAILED tests 2-7
	Failed 6/7 tests, 14.29% okay
t/30first.........First arguments to main::bar must be a single argument or an even sized list at ../lib/Attribute/Context.pm line 20.
CHECK failed--call queue aborted.
# Looks like you planned 7 tests but ran 1.
# Looks like your test exited with 255 just after 1.
dubious
	Test returned status 255 (wstat 65280, 0xff00)
DIED. FAILED tests 2-7
	Failed 6/7 tests, 14.29% okay
t/40count.........Count arguments to main::bar must be a single argument or an even sized list at ../lib/Attribute/Context.pm line 20.
CHECK failed--call queue aborted.
# Looks like you planned 7 tests but ran 1.
# Looks like your test exited with 255 just after 1.
dubious
	Test returned status 255 (wstat 65280, 0xff00)
DIED. FAILED tests 2-7
	Failed 6/7 tests, 14.29% okay
t/50custom........Custom arguments to main::bar must be a single argument or an even sized list at ../lib/Attribute/Context.pm line 20.
CHECK failed--call queue aborted.
# Looks like you planned 14 tests but ran 1.
# Looks like your test exited with 255 just after 1.
dubious
	Test returned status 255 (wstat 65280, 0xff00)
DIED. FAILED tests 2-14
	Failed 13/14 tests, 7.14% okay
t/pod-coverage....ok
t/pod.............ok
Failed Test    Stat Wstat Total Fail  List of Failed
-------------------------------------------------------------------------------
t/10arrayref.t  255 65280     8   14  2-8
t/20last.t      255 65280     7   12  2-7
t/30first.t     255 65280     7   12  2-7
t/40count.t     255 65280     7   12  2-7
t/50custom.t    255 65280    14   26  2-14
Failed 5/7 test scripts. 38/45 subtests failed.
Files=7, Tests=45,  1 wallclock secs ( 0.23 cusr +  0.05 csys =  0.28 CPU)
Failed 5/7 test programs. 38/45 subtests failed.

------------------------------
PREREQUISITES
------------------------------

Prerequisite modules loaded:

requires:

    Module              Need Have
    ------------------- ---- ----
    Attribute::Handlers 0.78 0.85
    Sub::Uplevel        0.09 0.22

build_requires:

    Module              Need Have
    ------------------- ---- ----
    Test::Exception     0.21 0.31
    Test::More          0.6  0.98


------------------------------
ENVIRONMENT AND OTHER CONTEXT
------------------------------

Environment variables:

    AUTOMATED_TESTING = 1
    LANG = en_US.UTF-8
    LANGUAGE = en
    LC_COLLATE = C
    LC_MONETARY = C
    LC_NUMERIC = C
    LC_TIME = C
    PATH = /usr/local/sbin:/usr/local/bin:/usr/sbin:/usr/bin:/sbin:/bin
    PERL5LIB = 
    PERL5OPT = 
    PERL5_CPANPLUS_IS_RUNNING = 4457
    PERL5_CPAN_IS_RUNNING = 4457
    PERL5_CPAN_IS_RUNNING_IN_RECURSION = 6249,4457
    PERL_CR_SMOKER_CURRENT = Attribute-Context-0.042
    PERL_EXTUTILS_AUTOINSTALL = --defaultdeps
    PERL_MM_USE_DEFAULT = 1
    SHELL = /bin/bash
    TERM = xterm

Perl special variables (and OS-specific diagnostics, for MSWin32):

    $^X = /home/trushel/perl/perl5101th/bin/perl
    $UID/$EUID = 138375 / 138375
    $GID = 5762 4 20 21 24 25 26 30 44 46 104 105 119 122 431 5762
    $EGID = 5762 4 20 21 24 25 26 30 44 46 104 105 119 122 431 5762

Perl module toolchain versions installed:

    Module              Have       
    ------------------- -----------
    CPAN                1.97_51    
    CPAN::Meta          2.110930001
    Cwd                 3.33       
    ExtUtils::CBuilder  0.280202   
    ExtUtils::Command   1.16       
    ExtUtils::Install   1.54       
    ExtUtils::MakeMaker 6.58       
    ExtUtils::Manifest  1.58       
    ExtUtils::ParseXS   2.2206     
    File::Spec          3.33       
    JSON                2.53       
    JSON::PP            2.27200    
    Module::Build       0.3800     
    Module::Signature   n/a        
    Parse::CPAN::Meta   1.4401     
    Test::Harness       2.64       
    Test::More          0.98       
    YAML                0.73       
    YAML::Syck          1.17       
    version             0.91       


--

Summary of my perl5 (revision 5 version 10 subversion 1) configuration:
   
  Platform:
    osname=linux, osvers=2.6.32-33-generic, archname=x86_64-linux-thread-multi
    uname='linux trushel-glaptop 2.6.32-33-generic #70-ubuntu smp thu jul 7 21:13:52 utc 2011 x86_64 gnulinux '
    config_args=''
    hint=recommended, useposix=true, d_sigaction=define
    useithreads=define, usemultiplicity=define
    useperlio=define, d_sfio=undef, uselargefiles=define, usesocks=undef
    use64bitint=define, use64bitall=define, uselongdouble=undef
    usemymalloc=n, bincompat5005=undef
  Compiler:
    cc='cc', ccflags ='-D_REENTRANT -D_GNU_SOURCE -fno-strict-aliasing -pipe -fstack-protector -I/usr/local/include -D_LARGEFILE_SOURCE -D_FILE_OFFSET_BITS=64',
    optimize='-O2',
    cppflags='-D_REENTRANT -D_GNU_SOURCE -fno-strict-aliasing -pipe -fstack-protector -I/usr/local/include'
    ccversion='', gccversion='4.4.3', gccosandvers=''
    intsize=4, longsize=8, ptrsize=8, doublesize=8, byteorder=12345678
    d_longlong=define, longlongsize=8, d_longdbl=define, longdblsize=16
    ivtype='long', ivsize=8, nvtype='double', nvsize=8, Off_t='off_t', lseeksize=8
    alignbytes=8, prototype=define
  Linker and Libraries:
    ld='cc', ldflags =' -fstack-protector -L/usr/local/lib'
    libpth=/usr/local/lib /lib /usr/lib /lib64 /usr/lib64
    libs=-lnsl -ldb -ldl -lm -lcrypt -lutil -lpthread -lc
    perllibs=-lnsl -ldl -lm -lcrypt -lutil -lpthread -lc
    libc=/lib/libc-2.11.1.so, so=so, useshrplib=false, libperl=libperl.a
    gnulibc_version='2.11.1'
  Dynamic Linking:
    dlsrc=dl_dlopen.xs, dlext=so, d_dlsymun=undef, ccdlflags='-Wl,-E'
    cccdlflags='-fPIC', lddlflags='-shared -O2 -L/usr/local/lib -fstack-protector'


Characteristics of this binary (from libperl): 
  Compile-time options: MULTIPLICITY PERL_DONT_CREATE_GVSV
                        PERL_IMPLICIT_CONTEXT PERL_MALLOC_WRAP USE_64_BIT_ALL
                        USE_64_BIT_INT USE_ITHREADS USE_LARGE_FILES
                        USE_PERLIO USE_REENTRANT_API
  Built under linux
  Compiled at Jul 22 2011 04:11:41
  %ENV:
    PERL5LIB=""
    PERL5OPT=""
    PERL5_CPANPLUS_IS_RUNNING="4457"
    PERL5_CPAN_IS_RUNNING="4457"
    PERL5_CPAN_IS_RUNNING_IN_RECURSION="6249,4457"
    PERL_CR_SMOKER_CURRENT="Attribute-Context-0.042"
    PERL_EXTUTILS_AUTOINSTALL="--defaultdeps"
    PERL_MM_USE_DEFAULT="1"
  @INC:
    /home/trushel/perl/perl5101th/lib/5.10.1/x86_64-linux-thread-multi
    /home/trushel/perl/perl5101th/lib/5.10.1
    /home/trushel/perl/perl5101th/lib/site_perl/5.10.1/x86_64-linux-thread-multi
    /home/trushel/perl/perl5101th/lib/site_perl/5.10.1
    .