Report for IO-Iron-0.11

Back
From: metabase:user:314402c4-2aae-11df-837a-5e0a49663a4f
Subject: PASS IO-Iron-0.11 v5.22.3 RC2 GNU/Linux
Date: 2016-08-07T10:29:39Z

This distribution has been tested as part of the CPAN Testers
project, supporting the Perl programming language.  See
http://wiki.cpantesters.org/ for more information or email
questions to cpan-testers-discuss@perl.org


--
Dear Mikko Koivunalho,

This is a computer-generated report for IO-Iron-0.11
on perl 5.22.3, created by CPAN-Reporter-1.2018.

Thank you for uploading your work to CPAN.  Congratulations!
All tests were successful.

Sections of this report:

    * Tester comments
    * Program output
    * Prerequisites
    * Environment and other context

------------------------------
TESTER COMMENTS
------------------------------

Additional comments from tester:

none provided

------------------------------
PROGRAM OUTPUT
------------------------------

Output from '/usr/bin/make test':

PERL_DL_NONLAZY=1 "/bbbike/perl-5.22.3-RC2/bin/perl" "-MExtUtils::Command::MM" "-MTest::Harness" "-e" "undef *Test::Harness::Switches; test_harness(0, 'blib/lib', 'blib/arch')" t/Iron/*.t t/IronCache/*.t t/IronMQ/*.t t/IronWorker/*.t
# Testing IO::Iron::IronMQ 0.11, Perl 5.022003, /bbbike/perl-5.22.3-RC2/bin/perl
# test ReadIronMQConfig
# Current dir config filename: ./iron.json
# Extra config filename: t/.IronMQTestConfig.json
t/Iron/client_readconfig.t ... ok
# Testing IO::Iron 0.11, Perl 5.022003, /bbbike/perl-5.22.3-RC2/bin/perl
t/Iron/load.t ................ ok
# Testing IO::Iron::IronCache::Client with policies, Perl 5.022003, /bbbike/perl-5.22.3-RC2/bin/perl
Redundant argument in sprintf at /opt/perl-5.22.3-RC2/lib/site_perl/5.22.3/Log/Any/Proxy.pm line 21.
t/IronCache/cache_policy.t ... ok
# Testing IO::Iron::IronCache::Client with policies, Perl 5.022003, /bbbike/perl-5.22.3-RC2/bin/perl
Redundant argument in sprintf at /opt/perl-5.22.3-RC2/lib/site_perl/5.22.3/Log/Any/Proxy.pm line 21.
Redundant argument in sprintf at /opt/perl-5.22.3-RC2/lib/site_perl/5.22.3/Log/Any/Proxy.pm line 21.
Redundant argument in sprintf at /opt/perl-5.22.3-RC2/lib/site_perl/5.22.3/Log/Any/Proxy.pm line 21.
Redundant argument in sprintf at /opt/perl-5.22.3-RC2/lib/site_perl/5.22.3/Log/Any/Proxy.pm line 21.
Redundant argument in sprintf at /opt/perl-5.22.3-RC2/lib/site_perl/5.22.3/Log/Any/Proxy.pm line 21.
Redundant argument in sprintf at /opt/perl-5.22.3-RC2/lib/site_perl/5.22.3/Log/Any/Proxy.pm line 21.
Redundant argument in sprintf at /opt/perl-5.22.3-RC2/lib/site_perl/5.22.3/Log/Any/Proxy.pm line 21.
Redundant argument in sprintf at /opt/perl-5.22.3-RC2/lib/site_perl/5.22.3/Log/Any/Proxy.pm line 21.
Redundant argument in sprintf at /opt/perl-5.22.3-RC2/lib/site_perl/5.22.3/Log/Any/Proxy.pm line 21.
Redundant argument in sprintf at /opt/perl-5.22.3-RC2/lib/site_perl/5.22.3/Log/Any/Proxy.pm line 21.
Redundant argument in sprintf at /opt/perl-5.22.3-RC2/lib/site_perl/5.22.3/Log/Any/Proxy.pm line 21.
Redundant argument in sprintf at /opt/perl-5.22.3-RC2/lib/site_perl/5.22.3/Log/Any/Proxy.pm line 21.
Redundant argument in sprintf at /opt/perl-5.22.3-RC2/lib/site_perl/5.22.3/Log/Any/Proxy.pm line 21.
Redundant argument in sprintf at /opt/perl-5.22.3-RC2/lib/site_perl/5.22.3/Log/Any/Proxy.pm line 21.
Redundant argument in sprintf at /opt/perl-5.22.3-RC2/lib/site_perl/5.22.3/Log/Any/Proxy.pm line 21.
Redundant argument in sprintf at /opt/perl-5.22.3-RC2/lib/site_perl/5.22.3/Log/Any/Proxy.pm line 21.
Redundant argument in sprintf at /opt/perl-5.22.3-RC2/lib/site_perl/5.22.3/Log/Any/Proxy.pm line 21.
Redundant argument in sprintf at /opt/perl-5.22.3-RC2/lib/site_perl/5.22.3/Log/Any/Proxy.pm line 21.
Redundant argument in sprintf at /opt/perl-5.22.3-RC2/lib/site_perl/5.22.3/Log/Any/Proxy.pm line 21.
Redundant argument in sprintf at /opt/perl-5.22.3-RC2/lib/site_perl/5.22.3/Log/Any/Proxy.pm line 21.
Redundant argument in sprintf at /opt/perl-5.22.3-RC2/lib/site_perl/5.22.3/Log/Any/Proxy.pm line 21.
Redundant argument in sprintf at /opt/perl-5.22.3-RC2/lib/site_perl/5.22.3/Log/Any/Proxy.pm line 21.
Redundant argument in sprintf at /opt/perl-5.22.3-RC2/lib/site_perl/5.22.3/Log/Any/Proxy.pm line 21.
Redundant argument in sprintf at /opt/perl-5.22.3-RC2/lib/site_perl/5.22.3/Log/Any/Proxy.pm line 21.
Redundant argument in sprintf at /opt/perl-5.22.3-RC2/lib/site_perl/5.22.3/Log/Any/Proxy.pm line 21.
Redundant argument in sprintf at /opt/perl-5.22.3-RC2/lib/site_perl/5.22.3/Log/Any/Proxy.pm line 21.
Redundant argument in sprintf at /opt/perl-5.22.3-RC2/lib/site_perl/5.22.3/Log/Any/Proxy.pm line 21.
Redundant argument in sprintf at /opt/perl-5.22.3-RC2/lib/site_perl/5.22.3/Log/Any/Proxy.pm line 21.
Redundant argument in sprintf at /opt/perl-5.22.3-RC2/lib/site_perl/5.22.3/Log/Any/Proxy.pm line 21.
Redundant argument in sprintf at /opt/perl-5.22.3-RC2/lib/site_perl/5.22.3/Log/Any/Proxy.pm line 21.
Redundant argument in sprintf at /opt/perl-5.22.3-RC2/lib/site_perl/5.22.3/Log/Any/Proxy.pm line 21.
Redundant argument in sprintf at /opt/perl-5.22.3-RC2/lib/site_perl/5.22.3/Log/Any/Proxy.pm line 21.
Redundant argument in sprintf at /opt/perl-5.22.3-RC2/lib/site_perl/5.22.3/Log/Any/Proxy.pm line 21.
Redundant argument in sprintf at /opt/perl-5.22.3-RC2/lib/site_perl/5.22.3/Log/Any/Proxy.pm line 21.
Redundant argument in sprintf at /opt/perl-5.22.3-RC2/lib/site_perl/5.22.3/Log/Any/Proxy.pm line 21.
Redundant argument in sprintf at /opt/perl-5.22.3-RC2/lib/site_perl/5.22.3/Log/Any/Proxy.pm line 21.
Redundant argument in sprintf at /opt/perl-5.22.3-RC2/lib/site_perl/5.22.3/Log/Any/Proxy.pm line 21.
Redundant argument in sprintf at /opt/perl-5.22.3-RC2/lib/site_perl/5.22.3/Log/Any/Proxy.pm line 21.
Redundant argument in sprintf at /opt/perl-5.22.3-RC2/lib/site_perl/5.22.3/Log/Any/Proxy.pm line 21.
Redundant argument in sprintf at /opt/perl-5.22.3-RC2/lib/site_perl/5.22.3/Log/Any/Proxy.pm line 21.
Redundant argument in sprintf at /opt/perl-5.22.3-RC2/lib/site_perl/5.22.3/Log/Any/Proxy.pm line 21.
Redundant argument in sprintf at /opt/perl-5.22.3-RC2/lib/site_perl/5.22.3/Log/Any/Proxy.pm line 21.
Redundant argument in sprintf at /opt/perl-5.22.3-RC2/lib/site_perl/5.22.3/Log/Any/Proxy.pm line 21.
Redundant argument in sprintf at /opt/perl-5.22.3-RC2/lib/site_perl/5.22.3/Log/Any/Proxy.pm line 21.
Redundant argument in sprintf at /opt/perl-5.22.3-RC2/lib/site_perl/5.22.3/Log/Any/Proxy.pm line 21.
Redundant argument in sprintf at /opt/perl-5.22.3-RC2/lib/site_perl/5.22.3/Log/Any/Proxy.pm line 21.
Redundant argument in sprintf at /opt/perl-5.22.3-RC2/lib/site_perl/5.22.3/Log/Any/Proxy.pm line 21.
Redundant argument in sprintf at /opt/perl-5.22.3-RC2/lib/site_perl/5.22.3/Log/Any/Proxy.pm line 21.
Redundant argument in sprintf at /opt/perl-5.22.3-RC2/lib/site_perl/5.22.3/Log/Any/Proxy.pm line 21.
Redundant argument in sprintf at /opt/perl-5.22.3-RC2/lib/site_perl/5.22.3/Log/Any/Proxy.pm line 21.
Redundant argument in sprintf at /opt/perl-5.22.3-RC2/lib/site_perl/5.22.3/Log/Any/Proxy.pm line 21.
Redundant argument in sprintf at /opt/perl-5.22.3-RC2/lib/site_perl/5.22.3/Log/Any/Proxy.pm line 21.
Redundant argument in sprintf at /opt/perl-5.22.3-RC2/lib/site_perl/5.22.3/Log/Any/Proxy.pm line 21.
Redundant argument in sprintf at /opt/perl-5.22.3-RC2/lib/site_perl/5.22.3/Log/Any/Proxy.pm line 21.
Redundant argument in sprintf at /opt/perl-5.22.3-RC2/lib/site_perl/5.22.3/Log/Any/Proxy.pm line 21.
Redundant argument in sprintf at /opt/perl-5.22.3-RC2/lib/site_perl/5.22.3/Log/Any/Proxy.pm line 21.
Redundant argument in sprintf at /opt/perl-5.22.3-RC2/lib/site_perl/5.22.3/Log/Any/Proxy.pm line 21.
Redundant argument in sprintf at /opt/perl-5.22.3-RC2/lib/site_perl/5.22.3/Log/Any/Proxy.pm line 21.
Redundant argument in sprintf at /opt/perl-5.22.3-RC2/lib/site_perl/5.22.3/Log/Any/Proxy.pm line 21.
Redundant argument in sprintf at /opt/perl-5.22.3-RC2/lib/site_perl/5.22.3/Log/Any/Proxy.pm line 21.
Redundant argument in sprintf at /opt/perl-5.22.3-RC2/lib/site_perl/5.22.3/Log/Any/Proxy.pm line 21.
Redundant argument in sprintf at /opt/perl-5.22.3-RC2/lib/site_perl/5.22.3/Log/Any/Proxy.pm line 21.
Redundant argument in sprintf at /opt/perl-5.22.3-RC2/lib/site_perl/5.22.3/Log/Any/Proxy.pm line 21.
Redundant argument in sprintf at /opt/perl-5.22.3-RC2/lib/site_perl/5.22.3/Log/Any/Proxy.pm line 21.
Redundant argument in sprintf at /opt/perl-5.22.3-RC2/lib/site_perl/5.22.3/Log/Any/Proxy.pm line 21.
Redundant argument in sprintf at /opt/perl-5.22.3-RC2/lib/site_perl/5.22.3/Log/Any/Proxy.pm line 21.
Redundant argument in sprintf at /opt/perl-5.22.3-RC2/lib/site_perl/5.22.3/Log/Any/Proxy.pm line 21.
Redundant argument in sprintf at /opt/perl-5.22.3-RC2/lib/site_perl/5.22.3/Log/Any/Proxy.pm line 21.
Redundant argument in sprintf at /opt/perl-5.22.3-RC2/lib/site_perl/5.22.3/Log/Any/Proxy.pm line 21.
Redundant argument in sprintf at /opt/perl-5.22.3-RC2/lib/site_perl/5.22.3/Log/Any/Proxy.pm line 21.
Redundant argument in sprintf at /opt/perl-5.22.3-RC2/lib/site_perl/5.22.3/Log/Any/Proxy.pm line 21.
Redundant argument in sprintf at /opt/perl-5.22.3-RC2/lib/site_perl/5.22.3/Log/Any/Proxy.pm line 21.
Redundant argument in sprintf at /opt/perl-5.22.3-RC2/lib/site_perl/5.22.3/Log/Any/Proxy.pm line 21.
Redundant argument in sprintf at /opt/perl-5.22.3-RC2/lib/site_perl/5.22.3/Log/Any/Proxy.pm line 21.
Redundant argument in sprintf at /opt/perl-5.22.3-RC2/lib/site_perl/5.22.3/Log/Any/Proxy.pm line 21.
Redundant argument in sprintf at /opt/perl-5.22.3-RC2/lib/site_perl/5.22.3/Log/Any/Proxy.pm line 21.
Redundant argument in sprintf at /opt/perl-5.22.3-RC2/lib/site_perl/5.22.3/Log/Any/Proxy.pm line 21.
Redundant argument in sprintf at /opt/perl-5.22.3-RC2/lib/site_perl/5.22.3/Log/Any/Proxy.pm line 21.
Redundant argument in sprintf at /opt/perl-5.22.3-RC2/lib/site_perl/5.22.3/Log/Any/Proxy.pm line 21.
Redundant argument in sprintf at /opt/perl-5.22.3-RC2/lib/site_perl/5.22.3/Log/Any/Proxy.pm line 21.
Redundant argument in sprintf at /opt/perl-5.22.3-RC2/lib/site_perl/5.22.3/Log/Any/Proxy.pm line 21.
Redundant argument in sprintf at /opt/perl-5.22.3-RC2/lib/site_perl/5.22.3/Log/Any/Proxy.pm line 21.
Redundant argument in sprintf at /opt/perl-5.22.3-RC2/lib/site_perl/5.22.3/Log/Any/Proxy.pm line 21.
Redundant argument in sprintf at /opt/perl-5.22.3-RC2/lib/site_perl/5.22.3/Log/Any/Proxy.pm line 21.
Redundant argument in sprintf at /opt/perl-5.22.3-RC2/lib/site_perl/5.22.3/Log/Any/Proxy.pm line 21.
Redundant argument in sprintf at /opt/perl-5.22.3-RC2/lib/site_perl/5.22.3/Log/Any/Proxy.pm line 21.
Redundant argument in sprintf at /opt/perl-5.22.3-RC2/lib/site_perl/5.22.3/Log/Any/Proxy.pm line 21.
Redundant argument in sprintf at /opt/perl-5.22.3-RC2/lib/site_perl/5.22.3/Log/Any/Proxy.pm line 21.
Redundant argument in sprintf at /opt/perl-5.22.3-RC2/lib/site_perl/5.22.3/Log/Any/Proxy.pm line 21.
Redundant argument in sprintf at /opt/perl-5.22.3-RC2/lib/site_perl/5.22.3/Log/Any/Proxy.pm line 21.
Redundant argument in sprintf at /opt/perl-5.22.3-RC2/lib/site_perl/5.22.3/Log/Any/Proxy.pm line 21.
Redundant argument in sprintf at /opt/perl-5.22.3-RC2/lib/site_perl/5.22.3/Log/Any/Proxy.pm line 21.
Redundant argument in sprintf at /opt/perl-5.22.3-RC2/lib/site_perl/5.22.3/Log/Any/Proxy.pm line 21.
Redundant argument in sprintf at /opt/perl-5.22.3-RC2/lib/site_perl/5.22.3/Log/Any/Proxy.pm line 21.
Redundant argument in sprintf at /opt/perl-5.22.3-RC2/lib/site_perl/5.22.3/Log/Any/Proxy.pm line 21.
Redundant argument in sprintf at /opt/perl-5.22.3-RC2/lib/site_perl/5.22.3/Log/Any/Proxy.pm line 21.
Redundant argument in sprintf at /opt/perl-5.22.3-RC2/lib/site_perl/5.22.3/Log/Any/Proxy.pm line 21.
Redundant argument in sprintf at /opt/perl-5.22.3-RC2/lib/site_perl/5.22.3/Log/Any/Proxy.pm line 21.
Redundant argument in sprintf at /opt/perl-5.22.3-RC2/lib/site_perl/5.22.3/Log/Any/Proxy.pm line 21.
Redundant argument in sprintf at /opt/perl-5.22.3-RC2/lib/site_perl/5.22.3/Log/Any/Proxy.pm line 21.
Redundant argument in sprintf at /opt/perl-5.22.3-RC2/lib/site_perl/5.22.3/Log/Any/Proxy.pm line 21.
Redundant argument in sprintf at /opt/perl-5.22.3-RC2/lib/site_perl/5.22.3/Log/Any/Proxy.pm line 21.
Redundant argument in sprintf at /opt/perl-5.22.3-RC2/lib/site_perl/5.22.3/Log/Any/Proxy.pm line 21.
Redundant argument in sprintf at /opt/perl-5.22.3-RC2/lib/site_perl/5.22.3/Log/Any/Proxy.pm line 21.
Redundant argument in sprintf at /opt/perl-5.22.3-RC2/lib/site_perl/5.22.3/Log/Any/Proxy.pm line 21.
Redundant argument in sprintf at /opt/perl-5.22.3-RC2/lib/site_perl/5.22.3/Log/Any/Proxy.pm line 21.
Redundant argument in sprintf at /opt/perl-5.22.3-RC2/lib/site_perl/5.22.3/Log/Any/Proxy.pm line 21.
Redundant argument in sprintf at /opt/perl-5.22.3-RC2/lib/site_perl/5.22.3/Log/Any/Proxy.pm line 21.
Redundant argument in sprintf at /opt/perl-5.22.3-RC2/lib/site_perl/5.22.3/Log/Any/Proxy.pm line 21.
Redundant argument in sprintf at /opt/perl-5.22.3-RC2/lib/site_perl/5.22.3/Log/Any/Proxy.pm line 21.
Redundant argument in sprintf at /opt/perl-5.22.3-RC2/lib/site_perl/5.22.3/Log/Any/Proxy.pm line 21.
Redundant argument in sprintf at /opt/perl-5.22.3-RC2/lib/site_perl/5.22.3/Log/Any/Proxy.pm line 21.
Redundant argument in sprintf at /opt/perl-5.22.3-RC2/lib/site_perl/5.22.3/Log/Any/Proxy.pm line 21.
Redundant argument in sprintf at /opt/perl-5.22.3-RC2/lib/site_perl/5.22.3/Log/Any/Proxy.pm line 21.
Redundant argument in sprintf at /opt/perl-5.22.3-RC2/lib/site_perl/5.22.3/Log/Any/Proxy.pm line 21.
Redundant argument in sprintf at /opt/perl-5.22.3-RC2/lib/site_perl/5.22.3/Log/Any/Proxy.pm line 21.
Redundant argument in sprintf at /opt/perl-5.22.3-RC2/lib/site_perl/5.22.3/Log/Any/Proxy.pm line 21.
Redundant argument in sprintf at /opt/perl-5.22.3-RC2/lib/site_perl/5.22.3/Log/Any/Proxy.pm line 21.
Redundant argument in sprintf at /opt/perl-5.22.3-RC2/lib/site_perl/5.22.3/Log/Any/Proxy.pm line 21.
Redundant argument in sprintf at /opt/perl-5.22.3-RC2/lib/site_perl/5.22.3/Log/Any/Proxy.pm line 21.
Redundant argument in sprintf at /opt/perl-5.22.3-RC2/lib/site_perl/5.22.3/Log/Any/Proxy.pm line 21.
Redundant argument in sprintf at /opt/perl-5.22.3-RC2/lib/site_perl/5.22.3/Log/Any/Proxy.pm line 21.
Redundant argument in sprintf at /opt/perl-5.22.3-RC2/lib/site_perl/5.22.3/Log/Any/Proxy.pm line 21.
Redundant argument in sprintf at /opt/perl-5.22.3-RC2/lib/site_perl/5.22.3/Log/Any/Proxy.pm line 21.
Redundant argument in sprintf at /opt/perl-5.22.3-RC2/lib/site_perl/5.22.3/Log/Any/Proxy.pm line 21.
Redundant argument in sprintf at /opt/perl-5.22.3-RC2/lib/site_perl/5.22.3/Log/Any/Proxy.pm line 21.
Redundant argument in sprintf at /opt/perl-5.22.3-RC2/lib/site_perl/5.22.3/Log/Any/Proxy.pm line 21.
Redundant argument in sprintf at /opt/perl-5.22.3-RC2/lib/site_perl/5.22.3/Log/Any/Proxy.pm line 21.
Redundant argument in sprintf at /opt/perl-5.22.3-RC2/lib/site_perl/5.22.3/Log/Any/Proxy.pm line 21.
Redundant argument in sprintf at /opt/perl-5.22.3-RC2/lib/site_perl/5.22.3/Log/Any/Proxy.pm line 21.
Redundant argument in sprintf at /opt/perl-5.22.3-RC2/lib/site_perl/5.22.3/Log/Any/Proxy.pm line 21.
Redundant argument in sprintf at /opt/perl-5.22.3-RC2/lib/site_perl/5.22.3/Log/Any/Proxy.pm line 21.
Redundant argument in sprintf at /opt/perl-5.22.3-RC2/lib/site_perl/5.22.3/Log/Any/Proxy.pm line 21.
Redundant argument in sprintf at /opt/perl-5.22.3-RC2/lib/site_perl/5.22.3/Log/Any/Proxy.pm line 21.
Redundant argument in sprintf at /opt/perl-5.22.3-RC2/lib/site_perl/5.22.3/Log/Any/Proxy.pm line 21.
Redundant argument in sprintf at /opt/perl-5.22.3-RC2/lib/site_perl/5.22.3/Log/Any/Proxy.pm line 21.
Redundant argument in sprintf at /opt/perl-5.22.3-RC2/lib/site_perl/5.22.3/Log/Any/Proxy.pm line 21.
Redundant argument in sprintf at /opt/perl-5.22.3-RC2/lib/site_perl/5.22.3/Log/Any/Proxy.pm line 21.
Redundant argument in sprintf at /opt/perl-5.22.3-RC2/lib/site_perl/5.22.3/Log/Any/Proxy.pm line 21.
Redundant argument in sprintf at /opt/perl-5.22.3-RC2/lib/site_perl/5.22.3/Log/Any/Proxy.pm line 21.
Redundant argument in sprintf at /opt/perl-5.22.3-RC2/lib/site_perl/5.22.3/Log/Any/Proxy.pm line 21.
Redundant argument in sprintf at /opt/perl-5.22.3-RC2/lib/site_perl/5.22.3/Log/Any/Proxy.pm line 21.
Redundant argument in sprintf at /opt/perl-5.22.3-RC2/lib/site_perl/5.22.3/Log/Any/Proxy.pm line 21.
Redundant argument in sprintf at /opt/perl-5.22.3-RC2/lib/site_perl/5.22.3/Log/Any/Proxy.pm line 21.
Redundant argument in sprintf at /opt/perl-5.22.3-RC2/lib/site_perl/5.22.3/Log/Any/Proxy.pm line 21.
Redundant argument in sprintf at /opt/perl-5.22.3-RC2/lib/site_perl/5.22.3/Log/Any/Proxy.pm line 21.
Redundant argument in sprintf at /opt/perl-5.22.3-RC2/lib/site_perl/5.22.3/Log/Any/Proxy.pm line 21.
Redundant argument in sprintf at /opt/perl-5.22.3-RC2/lib/site_perl/5.22.3/Log/Any/Proxy.pm line 21.
Redundant argument in sprintf at /opt/perl-5.22.3-RC2/lib/site_perl/5.22.3/Log/Any/Proxy.pm line 21.
Redundant argument in sprintf at /opt/perl-5.22.3-RC2/lib/site_perl/5.22.3/Log/Any/Proxy.pm line 21.
Redundant argument in sprintf at /opt/perl-5.22.3-RC2/lib/site_perl/5.22.3/Log/Any/Proxy.pm line 21.
Redundant argument in sprintf at /opt/perl-5.22.3-RC2/lib/site_perl/5.22.3/Log/Any/Proxy.pm line 21.
Redundant argument in sprintf at /opt/perl-5.22.3-RC2/lib/site_perl/5.22.3/Log/Any/Proxy.pm line 21.
Redundant argument in sprintf at /opt/perl-5.22.3-RC2/lib/site_perl/5.22.3/Log/Any/Proxy.pm line 21.
Redundant argument in sprintf at /opt/perl-5.22.3-RC2/lib/site_perl/5.22.3/Log/Any/Proxy.pm line 21.
Redundant argument in sprintf at /opt/perl-5.22.3-RC2/lib/site_perl/5.22.3/Log/Any/Proxy.pm line 21.
Redundant argument in sprintf at /opt/perl-5.22.3-RC2/lib/site_perl/5.22.3/Log/Any/Proxy.pm line 21.
Redundant argument in sprintf at /opt/perl-5.22.3-RC2/lib/site_perl/5.22.3/Log/Any/Proxy.pm line 21.
Redundant argument in sprintf at /opt/perl-5.22.3-RC2/lib/site_perl/5.22.3/Log/Any/Proxy.pm line 21.
Redundant argument in sprintf at /opt/perl-5.22.3-RC2/lib/site_perl/5.22.3/Log/Any/Proxy.pm line 21.
Redundant argument in sprintf at /opt/perl-5.22.3-RC2/lib/site_perl/5.22.3/Log/Any/Proxy.pm line 21.
Redundant argument in sprintf at /opt/perl-5.22.3-RC2/lib/site_perl/5.22.3/Log/Any/Proxy.pm line 21.
Redundant argument in sprintf at /opt/perl-5.22.3-RC2/lib/site_perl/5.22.3/Log/Any/Proxy.pm line 21.
Redundant argument in sprintf at /opt/perl-5.22.3-RC2/lib/site_perl/5.22.3/Log/Any/Proxy.pm line 21.
Redundant argument in sprintf at /opt/perl-5.22.3-RC2/lib/site_perl/5.22.3/Log/Any/Proxy.pm line 21.
Redundant argument in sprintf at /opt/perl-5.22.3-RC2/lib/site_perl/5.22.3/Log/Any/Proxy.pm line 21.
Redundant argument in sprintf at /opt/perl-5.22.3-RC2/lib/site_perl/5.22.3/Log/Any/Proxy.pm line 21.
Redundant argument in sprintf at /opt/perl-5.22.3-RC2/lib/site_perl/5.22.3/Log/Any/Proxy.pm line 21.
Redundant argument in sprintf at /opt/perl-5.22.3-RC2/lib/site_perl/5.22.3/Log/Any/Proxy.pm line 21.
Redundant argument in sprintf at /opt/perl-5.22.3-RC2/lib/site_perl/5.22.3/Log/Any/Proxy.pm line 21.
Redundant argument in sprintf at /opt/perl-5.22.3-RC2/lib/site_perl/5.22.3/Log/Any/Proxy.pm line 21.
Redundant argument in sprintf at /opt/perl-5.22.3-RC2/lib/site_perl/5.22.3/Log/Any/Proxy.pm line 21.
Redundant argument in sprintf at /opt/perl-5.22.3-RC2/lib/site_perl/5.22.3/Log/Any/Proxy.pm line 21.
Redundant argument in sprintf at /opt/perl-5.22.3-RC2/lib/site_perl/5.22.3/Log/Any/Proxy.pm line 21.
Redundant argument in sprintf at /opt/perl-5.22.3-RC2/lib/site_perl/5.22.3/Log/Any/Proxy.pm line 21.
Redundant argument in sprintf at /opt/perl-5.22.3-RC2/lib/site_perl/5.22.3/Log/Any/Proxy.pm line 21.
Redundant argument in sprintf at /opt/perl-5.22.3-RC2/lib/site_perl/5.22.3/Log/Any/Proxy.pm line 21.
Redundant argument in sprintf at /opt/perl-5.22.3-RC2/lib/site_perl/5.22.3/Log/Any/Proxy.pm line 21.
Redundant argument in sprintf at /opt/perl-5.22.3-RC2/lib/site_perl/5.22.3/Log/Any/Proxy.pm line 21.
Redundant argument in sprintf at /opt/perl-5.22.3-RC2/lib/site_perl/5.22.3/Log/Any/Proxy.pm line 21.
Redundant argument in sprintf at /opt/perl-5.22.3-RC2/lib/site_perl/5.22.3/Log/Any/Proxy.pm line 21.
Redundant argument in sprintf at /opt/perl-5.22.3-RC2/lib/site_perl/5.22.3/Log/Any/Proxy.pm line 21.
Redundant argument in sprintf at /opt/perl-5.22.3-RC2/lib/site_perl/5.22.3/Log/Any/Proxy.pm line 21.
Redundant argument in sprintf at /opt/perl-5.22.3-RC2/lib/site_perl/5.22.3/Log/Any/Proxy.pm line 21.
Redundant argument in sprintf at /opt/perl-5.22.3-RC2/lib/site_perl/5.22.3/Log/Any/Proxy.pm line 21.
Redundant argument in sprintf at /opt/perl-5.22.3-RC2/lib/site_perl/5.22.3/Log/Any/Proxy.pm line 21.
Redundant argument in sprintf at /opt/perl-5.22.3-RC2/lib/site_perl/5.22.3/Log/Any/Proxy.pm line 21.
Redundant argument in sprintf at /opt/perl-5.22.3-RC2/lib/site_perl/5.22.3/Log/Any/Proxy.pm line 21.
Redundant argument in sprintf at /opt/perl-5.22.3-RC2/lib/site_perl/5.22.3/Log/Any/Proxy.pm line 21.
Redundant argument in sprintf at /opt/perl-5.22.3-RC2/lib/site_perl/5.22.3/Log/Any/Proxy.pm line 21.
Redundant argument in sprintf at /opt/perl-5.22.3-RC2/lib/site_perl/5.22.3/Log/Any/Proxy.pm line 21.
Redundant argument in sprintf at /opt/perl-5.22.3-RC2/lib/site_perl/5.22.3/Log/Any/Proxy.pm line 21.
Redundant argument in sprintf at /opt/perl-5.22.3-RC2/lib/site_perl/5.22.3/Log/Any/Proxy.pm line 21.
Redundant argument in sprintf at /opt/perl-5.22.3-RC2/lib/site_perl/5.22.3/Log/Any/Proxy.pm line 21.
Redundant argument in sprintf at /opt/perl-5.22.3-RC2/lib/site_perl/5.22.3/Log/Any/Proxy.pm line 21.
Redundant argument in sprintf at /opt/perl-5.22.3-RC2/lib/site_perl/5.22.3/Log/Any/Proxy.pm line 21.
Redundant argument in sprintf at /opt/perl-5.22.3-RC2/lib/site_perl/5.22.3/Log/Any/Proxy.pm line 21.
Redundant argument in sprintf at /opt/perl-5.22.3-RC2/lib/site_perl/5.22.3/Log/Any/Proxy.pm line 21.
Redundant argument in sprintf at /opt/perl-5.22.3-RC2/lib/site_perl/5.22.3/Log/Any/Proxy.pm line 21.
Redundant argument in sprintf at /opt/perl-5.22.3-RC2/lib/site_perl/5.22.3/Log/Any/Proxy.pm line 21.
Redundant argument in sprintf at /opt/perl-5.22.3-RC2/lib/site_perl/5.22.3/Log/Any/Proxy.pm line 21.
Redundant argument in sprintf at /opt/perl-5.22.3-RC2/lib/site_perl/5.22.3/Log/Any/Proxy.pm line 21.
Redundant argument in sprintf at /opt/perl-5.22.3-RC2/lib/site_perl/5.22.3/Log/Any/Proxy.pm line 21.
Redundant argument in sprintf at /opt/perl-5.22.3-RC2/lib/site_perl/5.22.3/Log/Any/Proxy.pm line 21.
Redundant argument in sprintf at /opt/perl-5.22.3-RC2/lib/site_perl/5.22.3/Log/Any/Proxy.pm line 21.
Redundant argument in sprintf at /opt/perl-5.22.3-RC2/lib/site_perl/5.22.3/Log/Any/Proxy.pm line 21.
Redundant argument in sprintf at /opt/perl-5.22.3-RC2/lib/site_perl/5.22.3/Log/Any/Proxy.pm line 21.
Redundant argument in sprintf at /opt/perl-5.22.3-RC2/lib/site_perl/5.22.3/Log/Any/Proxy.pm line 21.
Redundant argument in sprintf at /opt/perl-5.22.3-RC2/lib/site_perl/5.22.3/Log/Any/Proxy.pm line 21.
Redundant argument in sprintf at /opt/perl-5.22.3-RC2/lib/site_perl/5.22.3/Log/Any/Proxy.pm line 21.
Redundant argument in sprintf at /opt/perl-5.22.3-RC2/lib/site_perl/5.22.3/Log/Any/Proxy.pm line 21.
Redundant argument in sprintf at /opt/perl-5.22.3-RC2/lib/site_perl/5.22.3/Log/Any/Proxy.pm line 21.
Redundant argument in sprintf at /opt/perl-5.22.3-RC2/lib/site_perl/5.22.3/Log/Any/Proxy.pm line 21.
Redundant argument in sprintf at /opt/perl-5.22.3-RC2/lib/site_perl/5.22.3/Log/Any/Proxy.pm line 21.
Redundant argument in sprintf at /opt/perl-5.22.3-RC2/lib/site_perl/5.22.3/Log/Any/Proxy.pm line 21.
Redundant argument in sprintf at /opt/perl-5.22.3-RC2/lib/site_perl/5.22.3/Log/Any/Proxy.pm line 21.
Redundant argument in sprintf at /opt/perl-5.22.3-RC2/lib/site_perl/5.22.3/Log/Any/Proxy.pm line 21.
Redundant argument in sprintf at /opt/perl-5.22.3-RC2/lib/site_perl/5.22.3/Log/Any/Proxy.pm line 21.
Redundant argument in sprintf at /opt/perl-5.22.3-RC2/lib/site_perl/5.22.3/Log/Any/Proxy.pm line 21.
Redundant argument in sprintf at /opt/perl-5.22.3-RC2/lib/site_perl/5.22.3/Log/Any/Proxy.pm line 21.
Redundant argument in sprintf at /opt/perl-5.22.3-RC2/lib/site_perl/5.22.3/Log/Any/Proxy.pm line 21.
Redundant argument in sprintf at /opt/perl-5.22.3-RC2/lib/site_perl/5.22.3/Log/Any/Proxy.pm line 21.
Redundant argument in sprintf at /opt/perl-5.22.3-RC2/lib/site_perl/5.22.3/Log/Any/Proxy.pm line 21.
Redundant argument in sprintf at /opt/perl-5.22.3-RC2/lib/site_perl/5.22.3/Log/Any/Proxy.pm line 21.
Redundant argument in sprintf at /opt/perl-5.22.3-RC2/lib/site_perl/5.22.3/Log/Any/Proxy.pm line 21.
Redundant argument in sprintf at /opt/perl-5.22.3-RC2/lib/site_perl/5.22.3/Log/Any/Proxy.pm line 21.
Redundant argument in sprintf at /opt/perl-5.22.3-RC2/lib/site_perl/5.22.3/Log/Any/Proxy.pm line 21.
Redundant argument in sprintf at /opt/perl-5.22.3-RC2/lib/site_perl/5.22.3/Log/Any/Proxy.pm line 21.
Redundant argument in sprintf at /opt/perl-5.22.3-RC2/lib/site_perl/5.22.3/Log/Any/Proxy.pm line 21.
Redundant argument in sprintf at /opt/perl-5.22.3-RC2/lib/site_perl/5.22.3/Log/Any/Proxy.pm line 21.
Redundant argument in sprintf at /opt/perl-5.22.3-RC2/lib/site_perl/5.22.3/Log/Any/Proxy.pm line 21.
Redundant argument in sprintf at /opt/perl-5.22.3-RC2/lib/site_perl/5.22.3/Log/Any/Proxy.pm line 21.
Redundant argument in sprintf at /opt/perl-5.22.3-RC2/lib/site_perl/5.22.3/Log/Any/Proxy.pm line 21.
Redundant argument in sprintf at /opt/perl-5.22.3-RC2/lib/site_perl/5.22.3/Log/Any/Proxy.pm line 21.
Redundant argument in sprintf at /opt/perl-5.22.3-RC2/lib/site_perl/5.22.3/Log/Any/Proxy.pm line 21.
Redundant argument in sprintf at /opt/perl-5.22.3-RC2/lib/site_perl/5.22.3/Log/Any/Proxy.pm line 21.
Redundant argument in sprintf at /opt/perl-5.22.3-RC2/lib/site_perl/5.22.3/Log/Any/Proxy.pm line 21.
Redundant argument in sprintf at /opt/perl-5.22.3-RC2/lib/site_perl/5.22.3/Log/Any/Proxy.pm line 21.
Redundant argument in sprintf at /opt/perl-5.22.3-RC2/lib/site_perl/5.22.3/Log/Any/Proxy.pm line 21.
Redundant argument in sprintf at /opt/perl-5.22.3-RC2/lib/site_perl/5.22.3/Log/Any/Proxy.pm line 21.
Redundant argument in sprintf at /opt/perl-5.22.3-RC2/lib/site_perl/5.22.3/Log/Any/Proxy.pm line 21.
Redundant argument in sprintf at /opt/perl-5.22.3-RC2/lib/site_perl/5.22.3/Log/Any/Proxy.pm line 21.
Redundant argument in sprintf at /opt/perl-5.22.3-RC2/lib/site_perl/5.22.3/Log/Any/Proxy.pm line 21.
Redundant argument in sprintf at /opt/perl-5.22.3-RC2/lib/site_perl/5.22.3/Log/Any/Proxy.pm line 21.
Redundant argument in sprintf at /opt/perl-5.22.3-RC2/lib/site_perl/5.22.3/Log/Any/Proxy.pm line 21.
Redundant argument in sprintf at /opt/perl-5.22.3-RC2/lib/site_perl/5.22.3/Log/Any/Proxy.pm line 21.
Redundant argument in sprintf at /opt/perl-5.22.3-RC2/lib/site_perl/5.22.3/Log/Any/Proxy.pm line 21.
Redundant argument in sprintf at /opt/perl-5.22.3-RC2/lib/site_perl/5.22.3/Log/Any/Proxy.pm line 21.
Redundant argument in sprintf at /opt/perl-5.22.3-RC2/lib/site_perl/5.22.3/Log/Any/Proxy.pm line 21.
Redundant argument in sprintf at /opt/perl-5.22.3-RC2/lib/site_perl/5.22.3/Log/Any/Proxy.pm line 21.
Redundant argument in sprintf at /opt/perl-5.22.3-RC2/lib/site_perl/5.22.3/Log/Any/Proxy.pm line 21.
Redundant argument in sprintf at /opt/perl-5.22.3-RC2/lib/site_perl/5.22.3/Log/Any/Proxy.pm line 21.
Redundant argument in sprintf at /opt/perl-5.22.3-RC2/lib/site_perl/5.22.3/Log/Any/Proxy.pm line 21.
Redundant argument in sprintf at /opt/perl-5.22.3-RC2/lib/site_perl/5.22.3/Log/Any/Proxy.pm line 21.
Redundant argument in sprintf at /opt/perl-5.22.3-RC2/lib/site_perl/5.22.3/Log/Any/Proxy.pm line 21.
Redundant argument in sprintf at /opt/perl-5.22.3-RC2/lib/site_perl/5.22.3/Log/Any/Proxy.pm line 21.
Redundant argument in sprintf at /opt/perl-5.22.3-RC2/lib/site_perl/5.22.3/Log/Any/Proxy.pm line 21.
Redundant argument in sprintf at /opt/perl-5.22.3-RC2/lib/site_perl/5.22.3/Log/Any/Proxy.pm line 21.
Redundant argument in sprintf at /opt/perl-5.22.3-RC2/lib/site_perl/5.22.3/Log/Any/Proxy.pm line 21.
Redundant argument in sprintf at /opt/perl-5.22.3-RC2/lib/site_perl/5.22.3/Log/Any/Proxy.pm line 21.
Redundant argument in sprintf at /opt/perl-5.22.3-RC2/lib/site_perl/5.22.3/Log/Any/Proxy.pm line 21.
Redundant argument in sprintf at /opt/perl-5.22.3-RC2/lib/site_perl/5.22.3/Log/Any/Proxy.pm line 21.
Redundant argument in sprintf at /opt/perl-5.22.3-RC2/lib/site_perl/5.22.3/Log/Any/Proxy.pm line 21.
Redundant argument in sprintf at /opt/perl-5.22.3-RC2/lib/site_perl/5.22.3/Log/Any/Proxy.pm line 21.
Redundant argument in sprintf at /opt/perl-5.22.3-RC2/lib/site_perl/5.22.3/Log/Any/Proxy.pm line 21.
Redundant argument in sprintf at /opt/perl-5.22.3-RC2/lib/site_perl/5.22.3/Log/Any/Proxy.pm line 21.
Redundant argument in sprintf at /opt/perl-5.22.3-RC2/lib/site_perl/5.22.3/Log/Any/Proxy.pm line 21.
Redundant argument in sprintf at /opt/perl-5.22.3-RC2/lib/site_perl/5.22.3/Log/Any/Proxy.pm line 21.
Redundant argument in sprintf at /opt/perl-5.22.3-RC2/lib/site_perl/5.22.3/Log/Any/Proxy.pm line 21.
Redundant argument in sprintf at /opt/perl-5.22.3-RC2/lib/site_perl/5.22.3/Log/Any/Proxy.pm line 21.
Redundant argument in sprintf at /opt/perl-5.22.3-RC2/lib/site_perl/5.22.3/Log/Any/Proxy.pm line 21.
Redundant argument in sprintf at /opt/perl-5.22.3-RC2/lib/site_perl/5.22.3/Log/Any/Proxy.pm line 21.
Redundant argument in sprintf at /opt/perl-5.22.3-RC2/lib/site_perl/5.22.3/Log/Any/Proxy.pm line 21.
Redundant argument in sprintf at /opt/perl-5.22.3-RC2/lib/site_perl/5.22.3/Log/Any/Proxy.pm line 21.
Redundant argument in sprintf at /opt/perl-5.22.3-RC2/lib/site_perl/5.22.3/Log/Any/Proxy.pm line 21.
Redundant argument in sprintf at /opt/perl-5.22.3-RC2/lib/site_perl/5.22.3/Log/Any/Proxy.pm line 21.
Redundant argument in sprintf at /opt/perl-5.22.3-RC2/lib/site_perl/5.22.3/Log/Any/Proxy.pm line 21.
Redundant argument in sprintf at /opt/perl-5.22.3-RC2/lib/site_perl/5.22.3/Log/Any/Proxy.pm line 21.
Redundant argument in sprintf at /opt/perl-5.22.3-RC2/lib/site_perl/5.22.3/Log/Any/Proxy.pm line 21.
Redundant argument in sprintf at /opt/perl-5.22.3-RC2/lib/site_perl/5.22.3/Log/Any/Proxy.pm line 21.
Redundant argument in sprintf at /opt/perl-5.22.3-RC2/lib/site_perl/5.22.3/Log/Any/Proxy.pm line 21.
Redundant argument in sprintf at /opt/perl-5.22.3-RC2/lib/site_perl/5.22.3/Log/Any/Proxy.pm line 21.
Redundant argument in sprintf at /opt/perl-5.22.3-RC2/lib/site_perl/5.22.3/Log/Any/Proxy.pm line 21.
Redundant argument in sprintf at /opt/perl-5.22.3-RC2/lib/site_perl/5.22.3/Log/Any/Proxy.pm line 21.
Redundant argument in sprintf at /opt/perl-5.22.3-RC2/lib/site_perl/5.22.3/Log/Any/Proxy.pm line 21.
Redundant argument in sprintf at /opt/perl-5.22.3-RC2/lib/site_perl/5.22.3/Log/Any/Proxy.pm line 21.
Redundant argument in sprintf at /opt/perl-5.22.3-RC2/lib/site_perl/5.22.3/Log/Any/Proxy.pm line 21.
Redundant argument in sprintf at /opt/perl-5.22.3-RC2/lib/site_perl/5.22.3/Log/Any/Proxy.pm line 21.
Redundant argument in sprintf at /opt/perl-5.22.3-RC2/lib/site_perl/5.22.3/Log/Any/Proxy.pm line 21.
Redundant argument in sprintf at /opt/perl-5.22.3-RC2/lib/site_perl/5.22.3/Log/Any/Proxy.pm line 21.
Redundant argument in sprintf at /opt/perl-5.22.3-RC2/lib/site_perl/5.22.3/Log/Any/Proxy.pm line 21.
Redundant argument in sprintf at /opt/perl-5.22.3-RC2/lib/site_perl/5.22.3/Log/Any/Proxy.pm line 21.
Redundant argument in sprintf at /opt/perl-5.22.3-RC2/lib/site_perl/5.22.3/Log/Any/Proxy.pm line 21.
Redundant argument in sprintf at /opt/perl-5.22.3-RC2/lib/site_perl/5.22.3/Log/Any/Proxy.pm line 21.
Redundant argument in sprintf at /opt/perl-5.22.3-RC2/lib/site_perl/5.22.3/Log/Any/Proxy.pm line 21.
Redundant argument in sprintf at /opt/perl-5.22.3-RC2/lib/site_perl/5.22.3/Log/Any/Proxy.pm line 21.
Redundant argument in sprintf at /opt/perl-5.22.3-RC2/lib/site_perl/5.22.3/Log/Any/Proxy.pm line 21.
Redundant argument in sprintf at /opt/perl-5.22.3-RC2/lib/site_perl/5.22.3/Log/Any/Proxy.pm line 21.
Redundant argument in sprintf at /opt/perl-5.22.3-RC2/lib/site_perl/5.22.3/Log/Any/Proxy.pm line 21.
Redundant argument in sprintf at /opt/perl-5.22.3-RC2/lib/site_perl/5.22.3/Log/Any/Proxy.pm line 21.
Redundant argument in sprintf at /opt/perl-5.22.3-RC2/lib/site_perl/5.22.3/Log/Any/Proxy.pm line 21.
Redundant argument in sprintf at /opt/perl-5.22.3-RC2/lib/site_perl/5.22.3/Log/Any/Proxy.pm line 21.
Redundant argument in sprintf at /opt/perl-5.22.3-RC2/lib/site_perl/5.22.3/Log/Any/Proxy.pm line 21.
Redundant argument in sprintf at /opt/perl-5.22.3-RC2/lib/site_perl/5.22.3/Log/Any/Proxy.pm line 21.
Redundant argument in sprintf at /opt/perl-5.22.3-RC2/lib/site_perl/5.22.3/Log/Any/Proxy.pm line 21.
Redundant argument in sprintf at /opt/perl-5.22.3-RC2/lib/site_perl/5.22.3/Log/Any/Proxy.pm line 21.
Redundant argument in sprintf at /opt/perl-5.22.3-RC2/lib/site_perl/5.22.3/Log/Any/Proxy.pm line 21.
Redundant argument in sprintf at /opt/perl-5.22.3-RC2/lib/site_perl/5.22.3/Log/Any/Proxy.pm line 21.
Redundant argument in sprintf at /opt/perl-5.22.3-RC2/lib/site_perl/5.22.3/Log/Any/Proxy.pm line 21.
Redundant argument in sprintf at /opt/perl-5.22.3-RC2/lib/site_perl/5.22.3/Log/Any/Proxy.pm line 21.
Redundant argument in sprintf at /opt/perl-5.22.3-RC2/lib/site_perl/5.22.3/Log/Any/Proxy.pm line 21.
Redundant argument in sprintf at /opt/perl-5.22.3-RC2/lib/site_perl/5.22.3/Log/Any/Proxy.pm line 21.
Redundant argument in sprintf at /opt/perl-5.22.3-RC2/lib/site_perl/5.22.3/Log/Any/Proxy.pm line 21.
Redundant argument in sprintf at /opt/perl-5.22.3-RC2/lib/site_perl/5.22.3/Log/Any/Proxy.pm line 21.
Redundant argument in sprintf at /opt/perl-5.22.3-RC2/lib/site_perl/5.22.3/Log/Any/Proxy.pm line 21.
Redundant argument in sprintf at /opt/perl-5.22.3-RC2/lib/site_perl/5.22.3/Log/Any/Proxy.pm line 21.
Redundant argument in sprintf at /opt/perl-5.22.3-RC2/lib/site_perl/5.22.3/Log/Any/Proxy.pm line 21.
Redundant argument in sprintf at /opt/perl-5.22.3-RC2/lib/site_perl/5.22.3/Log/Any/Proxy.pm line 21.
Redundant argument in sprintf at /opt/perl-5.22.3-RC2/lib/site_perl/5.22.3/Log/Any/Proxy.pm line 21.
Redundant argument in sprintf at /opt/perl-5.22.3-RC2/lib/site_perl/5.22.3/Log/Any/Proxy.pm line 21.
Redundant argument in sprintf at /opt/perl-5.22.3-RC2/lib/site_perl/5.22.3/Log/Any/Proxy.pm line 21.
Redundant argument in sprintf at /opt/perl-5.22.3-RC2/lib/site_perl/5.22.3/Log/Any/Proxy.pm line 21.
Redundant argument in sprintf at /opt/perl-5.22.3-RC2/lib/site_perl/5.22.3/Log/Any/Proxy.pm line 21.
Redundant argument in sprintf at /opt/perl-5.22.3-RC2/lib/site_perl/5.22.3/Log/Any/Proxy.pm line 21.
Redundant argument in sprintf at /opt/perl-5.22.3-RC2/lib/site_perl/5.22.3/Log/Any/Proxy.pm line 21.
Redundant argument in sprintf at /opt/perl-5.22.3-RC2/lib/site_perl/5.22.3/Log/Any/Proxy.pm line 21.
Redundant argument in sprintf at /opt/perl-5.22.3-RC2/lib/site_perl/5.22.3/Log/Any/Proxy.pm line 21.
Redundant argument in sprintf at /opt/perl-5.22.3-RC2/lib/site_perl/5.22.3/Log/Any/Proxy.pm line 21.
Redundant argument in sprintf at /opt/perl-5.22.3-RC2/lib/site_perl/5.22.3/Log/Any/Proxy.pm line 21.
Redundant argument in sprintf at /opt/perl-5.22.3-RC2/lib/site_perl/5.22.3/Log/Any/Proxy.pm line 21.
Redundant argument in sprintf at /opt/perl-5.22.3-RC2/lib/site_perl/5.22.3/Log/Any/Proxy.pm line 21.
Redundant argument in sprintf at /opt/perl-5.22.3-RC2/lib/site_perl/5.22.3/Log/Any/Proxy.pm line 21.
Redundant argument in sprintf at /opt/perl-5.22.3-RC2/lib/site_perl/5.22.3/Log/Any/Proxy.pm line 21.
Redundant argument in sprintf at /opt/perl-5.22.3-RC2/lib/site_perl/5.22.3/Log/Any/Proxy.pm line 21.
Redundant argument in sprintf at /opt/perl-5.22.3-RC2/lib/site_perl/5.22.3/Log/Any/Proxy.pm line 21.
Redundant argument in sprintf at /opt/perl-5.22.3-RC2/lib/site_perl/5.22.3/Log/Any/Proxy.pm line 21.
Redundant argument in sprintf at /opt/perl-5.22.3-RC2/lib/site_perl/5.22.3/Log/Any/Proxy.pm line 21.
Redundant argument in sprintf at /opt/perl-5.22.3-RC2/lib/site_perl/5.22.3/Log/Any/Proxy.pm line 21.
Redundant argument in sprintf at /opt/perl-5.22.3-RC2/lib/site_perl/5.22.3/Log/Any/Proxy.pm line 21.
Redundant argument in sprintf at /opt/perl-5.22.3-RC2/lib/site_perl/5.22.3/Log/Any/Proxy.pm line 21.
Redundant argument in sprintf at /opt/perl-5.22.3-RC2/lib/site_perl/5.22.3/Log/Any/Proxy.pm line 21.
Redundant argument in sprintf at /opt/perl-5.22.3-RC2/lib/site_perl/5.22.3/Log/Any/Proxy.pm line 21.
Redundant argument in sprintf at /opt/perl-5.22.3-RC2/lib/site_perl/5.22.3/Log/Any/Proxy.pm line 21.
Redundant argument in sprintf at /opt/perl-5.22.3-RC2/lib/site_perl/5.22.3/Log/Any/Proxy.pm line 21.
Redundant argument in sprintf at /opt/perl-5.22.3-RC2/lib/site_perl/5.22.3/Log/Any/Proxy.pm line 21.
Redundant argument in sprintf at /opt/perl-5.22.3-RC2/lib/site_perl/5.22.3/Log/Any/Proxy.pm line 21.
Redundant argument in sprintf at /opt/perl-5.22.3-RC2/lib/site_perl/5.22.3/Log/Any/Proxy.pm line 21.
Redundant argument in sprintf at /opt/perl-5.22.3-RC2/lib/site_perl/5.22.3/Log/Any/Proxy.pm line 21.
Redundant argument in sprintf at /opt/perl-5.22.3-RC2/lib/site_perl/5.22.3/Log/Any/Proxy.pm line 21.
Redundant argument in sprintf at /opt/perl-5.22.3-RC2/lib/site_perl/5.22.3/Log/Any/Proxy.pm line 21.
Redundant argument in sprintf at /opt/perl-5.22.3-RC2/lib/site_perl/5.22.3/Log/Any/Proxy.pm line 21.
Redundant argument in sprintf at /opt/perl-5.22.3-RC2/lib/site_perl/5.22.3/Log/Any/Proxy.pm line 21.
Redundant argument in sprintf at /opt/perl-5.22.3-RC2/lib/site_perl/5.22.3/Log/Any/Proxy.pm line 21.
Redundant argument in sprintf at /opt/perl-5.22.3-RC2/lib/site_perl/5.22.3/Log/Any/Proxy.pm line 21.
Redundant argument in sprintf at /opt/perl-5.22.3-RC2/lib/site_perl/5.22.3/Log/Any/Proxy.pm line 21.
Redundant argument in sprintf at /opt/perl-5.22.3-RC2/lib/site_perl/5.22.3/Log/Any/Proxy.pm line 21.
Redundant argument in sprintf at /opt/perl-5.22.3-RC2/lib/site_perl/5.22.3/Log/Any/Proxy.pm line 21.
Redundant argument in sprintf at /opt/perl-5.22.3-RC2/lib/site_perl/5.22.3/Log/Any/Proxy.pm line 21.
Redundant argument in sprintf at /opt/perl-5.22.3-RC2/lib/site_perl/5.22.3/Log/Any/Proxy.pm line 21.
Redundant argument in sprintf at /opt/perl-5.22.3-RC2/lib/site_perl/5.22.3/Log/Any/Proxy.pm line 21.
Redundant argument in sprintf at /opt/perl-5.22.3-RC2/lib/site_perl/5.22.3/Log/Any/Proxy.pm line 21.
Redundant argument in sprintf at /opt/perl-5.22.3-RC2/lib/site_perl/5.22.3/Log/Any/Proxy.pm line 21.
Redundant argument in sprintf at /opt/perl-5.22.3-RC2/lib/site_perl/5.22.3/Log/Any/Proxy.pm line 21.
Redundant argument in sprintf at /opt/perl-5.22.3-RC2/lib/site_perl/5.22.3/Log/Any/Proxy.pm line 21.
Redundant argument in sprintf at /opt/perl-5.22.3-RC2/lib/site_perl/5.22.3/Log/Any/Proxy.pm line 21.
Redundant argument in sprintf at /opt/perl-5.22.3-RC2/lib/site_perl/5.22.3/Log/Any/Proxy.pm line 21.
Redundant argument in sprintf at /opt/perl-5.22.3-RC2/lib/site_perl/5.22.3/Log/Any/Proxy.pm line 21.
Redundant argument in sprintf at /opt/perl-5.22.3-RC2/lib/site_perl/5.22.3/Log/Any/Proxy.pm line 21.
Redundant argument in sprintf at /opt/perl-5.22.3-RC2/lib/site_perl/5.22.3/Log/Any/Proxy.pm line 21.
Redundant argument in sprintf at /opt/perl-5.22.3-RC2/lib/site_perl/5.22.3/Log/Any/Proxy.pm line 21.
Redundant argument in sprintf at /opt/perl-5.22.3-RC2/lib/site_perl/5.22.3/Log/Any/Proxy.pm line 21.
Redundant argument in sprintf at /opt/perl-5.22.3-RC2/lib/site_perl/5.22.3/Log/Any/Proxy.pm line 21.
Redundant argument in sprintf at /opt/perl-5.22.3-RC2/lib/site_perl/5.22.3/Log/Any/Proxy.pm line 21.
Redundant argument in sprintf at /opt/perl-5.22.3-RC2/lib/site_perl/5.22.3/Log/Any/Proxy.pm line 21.
Redundant argument in sprintf at /opt/perl-5.22.3-RC2/lib/site_perl/5.22.3/Log/Any/Proxy.pm line 21.
Redundant argument in sprintf at /opt/perl-5.22.3-RC2/lib/site_perl/5.22.3/Log/Any/Proxy.pm line 21.
Redundant argument in sprintf at /opt/perl-5.22.3-RC2/lib/site_perl/5.22.3/Log/Any/Proxy.pm line 21.
Redundant argument in sprintf at /opt/perl-5.22.3-RC2/lib/site_perl/5.22.3/Log/Any/Proxy.pm line 21.
Redundant argument in sprintf at /opt/perl-5.22.3-RC2/lib/site_perl/5.22.3/Log/Any/Proxy.pm line 21.
Redundant argument in sprintf at /opt/perl-5.22.3-RC2/lib/site_perl/5.22.3/Log/Any/Proxy.pm line 21.
Redundant argument in sprintf at /opt/perl-5.22.3-RC2/lib/site_perl/5.22.3/Log/Any/Proxy.pm line 21.
Redundant argument in sprintf at /opt/perl-5.22.3-RC2/lib/site_perl/5.22.3/Log/Any/Proxy.pm line 21.
Redundant argument in sprintf at /opt/perl-5.22.3-RC2/lib/site_perl/5.22.3/Log/Any/Proxy.pm line 21.
Redundant argument in sprintf at /opt/perl-5.22.3-RC2/lib/site_perl/5.22.3/Log/Any/Proxy.pm line 21.
Redundant argument in sprintf at /opt/perl-5.22.3-RC2/lib/site_perl/5.22.3/Log/Any/Proxy.pm line 21.
Redundant argument in sprintf at /opt/perl-5.22.3-RC2/lib/site_perl/5.22.3/Log/Any/Proxy.pm line 21.
Redundant argument in sprintf at /opt/perl-5.22.3-RC2/lib/site_perl/5.22.3/Log/Any/Proxy.pm line 21.
Redundant argument in sprintf at /opt/perl-5.22.3-RC2/lib/site_perl/5.22.3/Log/Any/Proxy.pm line 21.
Redundant argument in sprintf at /opt/perl-5.22.3-RC2/lib/site_perl/5.22.3/Log/Any/Proxy.pm line 21.
Redundant argument in sprintf at /opt/perl-5.22.3-RC2/lib/site_perl/5.22.3/Log/Any/Proxy.pm line 21.
Redundant argument in sprintf at /opt/perl-5.22.3-RC2/lib/site_perl/5.22.3/Log/Any/Proxy.pm line 21.
Redundant argument in sprintf at /opt/perl-5.22.3-RC2/lib/site_perl/5.22.3/Log/Any/Proxy.pm line 21.
Redundant argument in sprintf at /opt/perl-5.22.3-RC2/lib/site_perl/5.22.3/Log/Any/Proxy.pm line 21.
Redundant argument in sprintf at /opt/perl-5.22.3-RC2/lib/site_perl/5.22.3/Log/Any/Proxy.pm line 21.
Redundant argument in sprintf at /opt/perl-5.22.3-RC2/lib/site_perl/5.22.3/Log/Any/Proxy.pm line 21.
Redundant argument in sprintf at /opt/perl-5.22.3-RC2/lib/site_perl/5.22.3/Log/Any/Proxy.pm line 21.
Redundant argument in sprintf at /opt/perl-5.22.3-RC2/lib/site_perl/5.22.3/Log/Any/Proxy.pm line 21.
Redundant argument in sprintf at /opt/perl-5.22.3-RC2/lib/site_perl/5.22.3/Log/Any/Proxy.pm line 21.
Redundant argument in sprintf at /opt/perl-5.22.3-RC2/lib/site_perl/5.22.3/Log/Any/Proxy.pm line 21.
Redundant argument in sprintf at /opt/perl-5.22.3-RC2/lib/site_perl/5.22.3/Log/Any/Proxy.pm line 21.
Redundant argument in sprintf at /opt/perl-5.22.3-RC2/lib/site_perl/5.22.3/Log/Any/Proxy.pm line 21.
Redundant argument in sprintf at /opt/perl-5.22.3-RC2/lib/site_perl/5.22.3/Log/Any/Proxy.pm line 21.
Redundant argument in sprintf at /opt/perl-5.22.3-RC2/lib/site_perl/5.22.3/Log/Any/Proxy.pm line 21.
Redundant argument in sprintf at /opt/perl-5.22.3-RC2/lib/site_perl/5.22.3/Log/Any/Proxy.pm line 21.
Redundant argument in sprintf at /opt/perl-5.22.3-RC2/lib/site_perl/5.22.3/Log/Any/Proxy.pm line 21.
Redundant argument in sprintf at /opt/perl-5.22.3-RC2/lib/site_perl/5.22.3/Log/Any/Proxy.pm line 21.
Redundant argument in sprintf at /opt/perl-5.22.3-RC2/lib/site_perl/5.22.3/Log/Any/Proxy.pm line 21.
Redundant argument in sprintf at /opt/perl-5.22.3-RC2/lib/site_perl/5.22.3/Log/Any/Proxy.pm line 21.
Redundant argument in sprintf at /opt/perl-5.22.3-RC2/lib/site_perl/5.22.3/Log/Any/Proxy.pm line 21.
Redundant argument in sprintf at /opt/perl-5.22.3-RC2/lib/site_perl/5.22.3/Log/Any/Proxy.pm line 21.
Redundant argument in sprintf at /opt/perl-5.22.3-RC2/lib/site_perl/5.22.3/Log/Any/Proxy.pm line 21.
Redundant argument in sprintf at /opt/perl-5.22.3-RC2/lib/site_perl/5.22.3/Log/Any/Proxy.pm line 21.
Redundant argument in sprintf at /opt/perl-5.22.3-RC2/lib/site_perl/5.22.3/Log/Any/Proxy.pm line 21.
Redundant argument in sprintf at /opt/perl-5.22.3-RC2/lib/site_perl/5.22.3/Log/Any/Proxy.pm line 21.
Redundant argument in sprintf at /opt/perl-5.22.3-RC2/lib/site_perl/5.22.3/Log/Any/Proxy.pm line 21.
Redundant argument in sprintf at /opt/perl-5.22.3-RC2/lib/site_perl/5.22.3/Log/Any/Proxy.pm line 21.
Redundant argument in sprintf at /opt/perl-5.22.3-RC2/lib/site_perl/5.22.3/Log/Any/Proxy.pm line 21.
Redundant argument in sprintf at /opt/perl-5.22.3-RC2/lib/site_perl/5.22.3/Log/Any/Proxy.pm line 21.
Redundant argument in sprintf at /opt/perl-5.22.3-RC2/lib/site_perl/5.22.3/Log/Any/Proxy.pm line 21.
Redundant argument in sprintf at /opt/perl-5.22.3-RC2/lib/site_perl/5.22.3/Log/Any/Proxy.pm line 21.
Redundant argument in sprintf at /opt/perl-5.22.3-RC2/lib/site_perl/5.22.3/Log/Any/Proxy.pm line 21.
Redundant argument in sprintf at /opt/perl-5.22.3-RC2/lib/site_perl/5.22.3/Log/Any/Proxy.pm line 21.
Redundant argument in sprintf at /opt/perl-5.22.3-RC2/lib/site_perl/5.22.3/Log/Any/Proxy.pm line 21.
Redundant argument in sprintf at /opt/perl-5.22.3-RC2/lib/site_perl/5.22.3/Log/Any/Proxy.pm line 21.
Redundant argument in sprintf at /opt/perl-5.22.3-RC2/lib/site_perl/5.22.3/Log/Any/Proxy.pm line 21.
Redundant argument in sprintf at /opt/perl-5.22.3-RC2/lib/site_perl/5.22.3/Log/Any/Proxy.pm line 21.
Redundant argument in sprintf at /opt/perl-5.22.3-RC2/lib/site_perl/5.22.3/Log/Any/Proxy.pm line 21.
Redundant argument in sprintf at /opt/perl-5.22.3-RC2/lib/site_perl/5.22.3/Log/Any/Proxy.pm line 21.
Redundant argument in sprintf at /opt/perl-5.22.3-RC2/lib/site_perl/5.22.3/Log/Any/Proxy.pm line 21.
Redundant argument in sprintf at /opt/perl-5.22.3-RC2/lib/site_perl/5.22.3/Log/Any/Proxy.pm line 21.
Redundant argument in sprintf at /opt/perl-5.22.3-RC2/lib/site_perl/5.22.3/Log/Any/Proxy.pm line 21.
Redundant argument in sprintf at /opt/perl-5.22.3-RC2/lib/site_perl/5.22.3/Log/Any/Proxy.pm line 21.
Redundant argument in sprintf at /opt/perl-5.22.3-RC2/lib/site_perl/5.22.3/Log/Any/Proxy.pm line 21.
Redundant argument in sprintf at /opt/perl-5.22.3-RC2/lib/site_perl/5.22.3/Log/Any/Proxy.pm line 21.
Redundant argument in sprintf at /opt/perl-5.22.3-RC2/lib/site_perl/5.22.3/Log/Any/Proxy.pm line 21.
Redundant argument in sprintf at /opt/perl-5.22.3-RC2/lib/site_perl/5.22.3/Log/Any/Proxy.pm line 21.
Redundant argument in sprintf at /opt/perl-5.22.3-RC2/lib/site_perl/5.22.3/Log/Any/Proxy.pm line 21.
Redundant argument in sprintf at /opt/perl-5.22.3-RC2/lib/site_perl/5.22.3/Log/Any/Proxy.pm line 21.
Redundant argument in sprintf at /opt/perl-5.22.3-RC2/lib/site_perl/5.22.3/Log/Any/Proxy.pm line 21.
Redundant argument in sprintf at /opt/perl-5.22.3-RC2/lib/site_perl/5.22.3/Log/Any/Proxy.pm line 21.
Redundant argument in sprintf at /opt/perl-5.22.3-RC2/lib/site_perl/5.22.3/Log/Any/Proxy.pm line 21.
Redundant argument in sprintf at /opt/perl-5.22.3-RC2/lib/site_perl/5.22.3/Log/Any/Proxy.pm line 21.
Redundant argument in sprintf at /opt/perl-5.22.3-RC2/lib/site_perl/5.22.3/Log/Any/Proxy.pm line 21.
Redundant argument in sprintf at /opt/perl-5.22.3-RC2/lib/site_perl/5.22.3/Log/Any/Proxy.pm line 21.
Redundant argument in sprintf at /opt/perl-5.22.3-RC2/lib/site_perl/5.22.3/Log/Any/Proxy.pm line 21.
Redundant argument in sprintf at /opt/perl-5.22.3-RC2/lib/site_perl/5.22.3/Log/Any/Proxy.pm line 21.
Redundant argument in sprintf at /opt/perl-5.22.3-RC2/lib/site_perl/5.22.3/Log/Any/Proxy.pm line 21.
Redundant argument in sprintf at /opt/perl-5.22.3-RC2/lib/site_perl/5.22.3/Log/Any/Proxy.pm line 21.
Redundant argument in sprintf at /opt/perl-5.22.3-RC2/lib/site_perl/5.22.3/Log/Any/Proxy.pm line 21.
Redundant argument in sprintf at /opt/perl-5.22.3-RC2/lib/site_perl/5.22.3/Log/Any/Proxy.pm line 21.
Redundant argument in sprintf at /opt/perl-5.22.3-RC2/lib/site_perl/5.22.3/Log/Any/Proxy.pm line 21.
Redundant argument in sprintf at /opt/perl-5.22.3-RC2/lib/site_perl/5.22.3/Log/Any/Proxy.pm line 21.
Redundant argument in sprintf at /opt/perl-5.22.3-RC2/lib/site_perl/5.22.3/Log/Any/Proxy.pm line 21.
Redundant argument in sprintf at /opt/perl-5.22.3-RC2/lib/site_perl/5.22.3/Log/Any/Proxy.pm line 21.
Redundant argument in sprintf at /opt/perl-5.22.3-RC2/lib/site_perl/5.22.3/Log/Any/Proxy.pm line 21.
Redundant argument in sprintf at /opt/perl-5.22.3-RC2/lib/site_perl/5.22.3/Log/Any/Proxy.pm line 21.
Redundant argument in sprintf at /opt/perl-5.22.3-RC2/lib/site_perl/5.22.3/Log/Any/Proxy.pm line 21.
Redundant argument in sprintf at /opt/perl-5.22.3-RC2/lib/site_perl/5.22.3/Log/Any/Proxy.pm line 21.
Redundant argument in sprintf at /opt/perl-5.22.3-RC2/lib/site_perl/5.22.3/Log/Any/Proxy.pm line 21.
Redundant argument in sprintf at /opt/perl-5.22.3-RC2/lib/site_perl/5.22.3/Log/Any/Proxy.pm line 21.
Redundant argument in sprintf at /opt/perl-5.22.3-RC2/lib/site_perl/5.22.3/Log/Any/Proxy.pm line 21.
Redundant argument in sprintf at /opt/perl-5.22.3-RC2/lib/site_perl/5.22.3/Log/Any/Proxy.pm line 21.
Redundant argument in sprintf at /opt/perl-5.22.3-RC2/lib/site_perl/5.22.3/Log/Any/Proxy.pm line 21.
Redundant argument in sprintf at /opt/perl-5.22.3-RC2/lib/site_perl/5.22.3/Log/Any/Proxy.pm line 21.
Redundant argument in sprintf at /opt/perl-5.22.3-RC2/lib/site_perl/5.22.3/Log/Any/Proxy.pm line 21.
Redundant argument in sprintf at /opt/perl-5.22.3-RC2/lib/site_perl/5.22.3/Log/Any/Proxy.pm line 21.
Redundant argument in sprintf at /opt/perl-5.22.3-RC2/lib/site_perl/5.22.3/Log/Any/Proxy.pm line 21.
Redundant argument in sprintf at /opt/perl-5.22.3-RC2/lib/site_perl/5.22.3/Log/Any/Proxy.pm line 21.
Redundant argument in sprintf at /opt/perl-5.22.3-RC2/lib/site_perl/5.22.3/Log/Any/Proxy.pm line 21.
Redundant argument in sprintf at /opt/perl-5.22.3-RC2/lib/site_perl/5.22.3/Log/Any/Proxy.pm line 21.
Redundant argument in sprintf at /opt/perl-5.22.3-RC2/lib/site_perl/5.22.3/Log/Any/Proxy.pm line 21.
Redundant argument in sprintf at /opt/perl-5.22.3-RC2/lib/site_perl/5.22.3/Log/Any/Proxy.pm line 21.
Redundant argument in sprintf at /opt/perl-5.22.3-RC2/lib/site_perl/5.22.3/Log/Any/Proxy.pm line 21.
Redundant argument in sprintf at /opt/perl-5.22.3-RC2/lib/site_perl/5.22.3/Log/Any/Proxy.pm line 21.
Redundant argument in sprintf at /opt/perl-5.22.3-RC2/lib/site_perl/5.22.3/Log/Any/Proxy.pm line 21.
Redundant argument in sprintf at /opt/perl-5.22.3-RC2/lib/site_perl/5.22.3/Log/Any/Proxy.pm line 21.
Redundant argument in sprintf at /opt/perl-5.22.3-RC2/lib/site_perl/5.22.3/Log/Any/Proxy.pm line 21.
Redundant argument in sprintf at /opt/perl-5.22.3-RC2/lib/site_perl/5.22.3/Log/Any/Proxy.pm line 21.
Redundant argument in sprintf at /opt/perl-5.22.3-RC2/lib/site_perl/5.22.3/Log/Any/Proxy.pm line 21.
Redundant argument in sprintf at /opt/perl-5.22.3-RC2/lib/site_perl/5.22.3/Log/Any/Proxy.pm line 21.
Redundant argument in sprintf at /opt/perl-5.22.3-RC2/lib/site_perl/5.22.3/Log/Any/Proxy.pm line 21.
Redundant argument in sprintf at /opt/perl-5.22.3-RC2/lib/site_perl/5.22.3/Log/Any/Proxy.pm line 21.
Redundant argument in sprintf at /opt/perl-5.22.3-RC2/lib/site_perl/5.22.3/Log/Any/Proxy.pm line 21.
Redundant argument in sprintf at /opt/perl-5.22.3-RC2/lib/site_perl/5.22.3/Log/Any/Proxy.pm line 21.
Redundant argument in sprintf at /opt/perl-5.22.3-RC2/lib/site_perl/5.22.3/Log/Any/Proxy.pm line 21.
Redundant argument in sprintf at /opt/perl-5.22.3-RC2/lib/site_perl/5.22.3/Log/Any/Proxy.pm line 21.
Redundant argument in sprintf at /opt/perl-5.22.3-RC2/lib/site_perl/5.22.3/Log/Any/Proxy.pm line 21.
Redundant argument in sprintf at /opt/perl-5.22.3-RC2/lib/site_perl/5.22.3/Log/Any/Proxy.pm line 21.
Redundant argument in sprintf at /opt/perl-5.22.3-RC2/lib/site_perl/5.22.3/Log/Any/Proxy.pm line 21.
Redundant argument in sprintf at /opt/perl-5.22.3-RC2/lib/site_perl/5.22.3/Log/Any/Proxy.pm line 21.
Redundant argument in sprintf at /opt/perl-5.22.3-RC2/lib/site_perl/5.22.3/Log/Any/Proxy.pm line 21.
Redundant argument in sprintf at /opt/perl-5.22.3-RC2/lib/site_perl/5.22.3/Log/Any/Proxy.pm line 21.
Redundant argument in sprintf at /opt/perl-5.22.3-RC2/lib/site_perl/5.22.3/Log/Any/Proxy.pm line 21.
Redundant argument in sprintf at /opt/perl-5.22.3-RC2/lib/site_perl/5.22.3/Log/Any/Proxy.pm line 21.
Redundant argument in sprintf at /opt/perl-5.22.3-RC2/lib/site_perl/5.22.3/Log/Any/Proxy.pm line 21.
Redundant argument in sprintf at /opt/perl-5.22.3-RC2/lib/site_perl/5.22.3/Log/Any/Proxy.pm line 21.
Redundant argument in sprintf at /opt/perl-5.22.3-RC2/lib/site_perl/5.22.3/Log/Any/Proxy.pm line 21.
Redundant argument in sprintf at /opt/perl-5.22.3-RC2/lib/site_perl/5.22.3/Log/Any/Proxy.pm line 21.
Redundant argument in sprintf at /opt/perl-5.22.3-RC2/lib/site_perl/5.22.3/Log/Any/Proxy.pm line 21.
Redundant argument in sprintf at /opt/perl-5.22.3-RC2/lib/site_perl/5.22.3/Log/Any/Proxy.pm line 21.
Redundant argument in sprintf at /opt/perl-5.22.3-RC2/lib/site_perl/5.22.3/Log/Any/Proxy.pm line 21.
Redundant argument in sprintf at /opt/perl-5.22.3-RC2/lib/site_perl/5.22.3/Log/Any/Proxy.pm line 21.
Redundant argument in sprintf at /opt/perl-5.22.3-RC2/lib/site_perl/5.22.3/Log/Any/Proxy.pm line 21.
Redundant argument in sprintf at /opt/perl-5.22.3-RC2/lib/site_perl/5.22.3/Log/Any/Proxy.pm line 21.
Redundant argument in sprintf at /opt/perl-5.22.3-RC2/lib/site_perl/5.22.3/Log/Any/Proxy.pm line 21.
Redundant argument in sprintf at /opt/perl-5.22.3-RC2/lib/site_perl/5.22.3/Log/Any/Proxy.pm line 21.
Redundant argument in sprintf at /opt/perl-5.22.3-RC2/lib/site_perl/5.22.3/Log/Any/Proxy.pm line 21.
Redundant argument in sprintf at /opt/perl-5.22.3-RC2/lib/site_perl/5.22.3/Log/Any/Proxy.pm line 21.
Redundant argument in sprintf at /opt/perl-5.22.3-RC2/lib/site_perl/5.22.3/Log/Any/Proxy.pm line 21.
Redundant argument in sprintf at /opt/perl-5.22.3-RC2/lib/site_perl/5.22.3/Log/Any/Proxy.pm line 21.
Redundant argument in sprintf at /opt/perl-5.22.3-RC2/lib/site_perl/5.22.3/Log/Any/Proxy.pm line 21.
Redundant argument in sprintf at /opt/perl-5.22.3-RC2/lib/site_perl/5.22.3/Log/Any/Proxy.pm line 21.
Redundant argument in sprintf at /opt/perl-5.22.3-RC2/lib/site_perl/5.22.3/Log/Any/Proxy.pm line 21.
Redundant argument in sprintf at /opt/perl-5.22.3-RC2/lib/site_perl/5.22.3/Log/Any/Proxy.pm line 21.
Redundant argument in sprintf at /opt/perl-5.22.3-RC2/lib/site_perl/5.22.3/Log/Any/Proxy.pm line 21.
Redundant argument in sprintf at /opt/perl-5.22.3-RC2/lib/site_perl/5.22.3/Log/Any/Proxy.pm line 21.
Redundant argument in sprintf at /opt/perl-5.22.3-RC2/lib/site_perl/5.22.3/Log/Any/Proxy.pm line 21.
Redundant argument in sprintf at /opt/perl-5.22.3-RC2/lib/site_perl/5.22.3/Log/Any/Proxy.pm line 21.
Redundant argument in sprintf at /opt/perl-5.22.3-RC2/lib/site_perl/5.22.3/Log/Any/Proxy.pm line 21.
Redundant argument in sprintf at /opt/perl-5.22.3-RC2/lib/site_perl/5.22.3/Log/Any/Proxy.pm line 21.
Redundant argument in sprintf at /opt/perl-5.22.3-RC2/lib/site_perl/5.22.3/Log/Any/Proxy.pm line 21.
Redundant argument in sprintf at /opt/perl-5.22.3-RC2/lib/site_perl/5.22.3/Log/Any/Proxy.pm line 21.
Redundant argument in sprintf at /opt/perl-5.22.3-RC2/lib/site_perl/5.22.3/Log/Any/Proxy.pm line 21.
Redundant argument in sprintf at /opt/perl-5.22.3-RC2/lib/site_perl/5.22.3/Log/Any/Proxy.pm line 21.
Redundant argument in sprintf at /opt/perl-5.22.3-RC2/lib/site_perl/5.22.3/Log/Any/Proxy.pm line 21.
Redundant argument in sprintf at /opt/perl-5.22.3-RC2/lib/site_perl/5.22.3/Log/Any/Proxy.pm line 21.
Redundant argument in sprintf at /opt/perl-5.22.3-RC2/lib/site_perl/5.22.3/Log/Any/Proxy.pm line 21.
Redundant argument in sprintf at /opt/perl-5.22.3-RC2/lib/site_perl/5.22.3/Log/Any/Proxy.pm line 21.
Redundant argument in sprintf at /opt/perl-5.22.3-RC2/lib/site_perl/5.22.3/Log/Any/Proxy.pm line 21.
Redundant argument in sprintf at /opt/perl-5.22.3-RC2/lib/site_perl/5.22.3/Log/Any/Proxy.pm line 21.
Redundant argument in sprintf at /opt/perl-5.22.3-RC2/lib/site_perl/5.22.3/Log/Any/Proxy.pm line 21.
Redundant argument in sprintf at /opt/perl-5.22.3-RC2/lib/site_perl/5.22.3/Log/Any/Proxy.pm line 21.
Redundant argument in sprintf at /opt/perl-5.22.3-RC2/lib/site_perl/5.22.3/Log/Any/Proxy.pm line 21.
Redundant argument in sprintf at /opt/perl-5.22.3-RC2/lib/site_perl/5.22.3/Log/Any/Proxy.pm line 21.
Redundant argument in sprintf at /opt/perl-5.22.3-RC2/lib/site_perl/5.22.3/Log/Any/Proxy.pm line 21.
Redundant argument in sprintf at /opt/perl-5.22.3-RC2/lib/site_perl/5.22.3/Log/Any/Proxy.pm line 21.
Redundant argument in sprintf at /opt/perl-5.22.3-RC2/lib/site_perl/5.22.3/Log/Any/Proxy.pm line 21.
Redundant argument in sprintf at /opt/perl-5.22.3-RC2/lib/site_perl/5.22.3/Log/Any/Proxy.pm line 21.
Redundant argument in sprintf at /opt/perl-5.22.3-RC2/lib/site_perl/5.22.3/Log/Any/Proxy.pm line 21.
Redundant argument in sprintf at /opt/perl-5.22.3-RC2/lib/site_perl/5.22.3/Log/Any/Proxy.pm line 21.
Redundant argument in sprintf at /opt/perl-5.22.3-RC2/lib/site_perl/5.22.3/Log/Any/Proxy.pm line 21.
Redundant argument in sprintf at /opt/perl-5.22.3-RC2/lib/site_perl/5.22.3/Log/Any/Proxy.pm line 21.
Redundant argument in sprintf at /opt/perl-5.22.3-RC2/lib/site_perl/5.22.3/Log/Any/Proxy.pm line 21.
Redundant argument in sprintf at /opt/perl-5.22.3-RC2/lib/site_perl/5.22.3/Log/Any/Proxy.pm line 21.
Redundant argument in sprintf at /opt/perl-5.22.3-RC2/lib/site_perl/5.22.3/Log/Any/Proxy.pm line 21.
Redundant argument in sprintf at /opt/perl-5.22.3-RC2/lib/site_perl/5.22.3/Log/Any/Proxy.pm line 21.
Redundant argument in sprintf at /opt/perl-5.22.3-RC2/lib/site_perl/5.22.3/Log/Any/Proxy.pm line 21.
Redundant argument in sprintf at /opt/perl-5.22.3-RC2/lib/site_perl/5.22.3/Log/Any/Proxy.pm line 21.
Redundant argument in sprintf at /opt/perl-5.22.3-RC2/lib/site_perl/5.22.3/Log/Any/Proxy.pm line 21.
Redundant argument in sprintf at /opt/perl-5.22.3-RC2/lib/site_perl/5.22.3/Log/Any/Proxy.pm line 21.
Redundant argument in sprintf at /opt/perl-5.22.3-RC2/lib/site_perl/5.22.3/Log/Any/Proxy.pm line 21.
Redundant argument in sprintf at /opt/perl-5.22.3-RC2/lib/site_perl/5.22.3/Log/Any/Proxy.pm line 21.
Redundant argument in sprintf at /opt/perl-5.22.3-RC2/lib/site_perl/5.22.3/Log/Any/Proxy.pm line 21.
Redundant argument in sprintf at /opt/perl-5.22.3-RC2/lib/site_perl/5.22.3/Log/Any/Proxy.pm line 21.
Redundant argument in sprintf at /opt/perl-5.22.3-RC2/lib/site_perl/5.22.3/Log/Any/Proxy.pm line 21.
Redundant argument in sprintf at /opt/perl-5.22.3-RC2/lib/site_perl/5.22.3/Log/Any/Proxy.pm line 21.
Redundant argument in sprintf at /opt/perl-5.22.3-RC2/lib/site_perl/5.22.3/Log/Any/Proxy.pm line 21.
Redundant argument in sprintf at /opt/perl-5.22.3-RC2/lib/site_perl/5.22.3/Log/Any/Proxy.pm line 21.
Redundant argument in sprintf at /opt/perl-5.22.3-RC2/lib/site_perl/5.22.3/Log/Any/Proxy.pm line 21.
Redundant argument in sprintf at /opt/perl-5.22.3-RC2/lib/site_perl/5.22.3/Log/Any/Proxy.pm line 21.
Redundant argument in sprintf at /opt/perl-5.22.3-RC2/lib/site_perl/5.22.3/Log/Any/Proxy.pm line 21.
Redundant argument in sprintf at /opt/perl-5.22.3-RC2/lib/site_perl/5.22.3/Log/Any/Proxy.pm line 21.
Redundant argument in sprintf at /opt/perl-5.22.3-RC2/lib/site_perl/5.22.3/Log/Any/Proxy.pm line 21.
Redundant argument in sprintf at /opt/perl-5.22.3-RC2/lib/site_perl/5.22.3/Log/Any/Proxy.pm line 21.
Redundant argument in sprintf at /opt/perl-5.22.3-RC2/lib/site_perl/5.22.3/Log/Any/Proxy.pm line 21.
Redundant argument in sprintf at /opt/perl-5.22.3-RC2/lib/site_perl/5.22.3/Log/Any/Proxy.pm line 21.
Redundant argument in sprintf at /opt/perl-5.22.3-RC2/lib/site_perl/5.22.3/Log/Any/Proxy.pm line 21.
Redundant argument in sprintf at /opt/perl-5.22.3-RC2/lib/site_perl/5.22.3/Log/Any/Proxy.pm line 21.
Redundant argument in sprintf at /opt/perl-5.22.3-RC2/lib/site_perl/5.22.3/Log/Any/Proxy.pm line 21.
Redundant argument in sprintf at /opt/perl-5.22.3-RC2/lib/site_perl/5.22.3/Log/Any/Proxy.pm line 21.
Redundant argument in sprintf at /opt/perl-5.22.3-RC2/lib/site_perl/5.22.3/Log/Any/Proxy.pm line 21.
Redundant argument in sprintf at /opt/perl-5.22.3-RC2/lib/site_perl/5.22.3/Log/Any/Proxy.pm line 21.
Redundant argument in sprintf at /opt/perl-5.22.3-RC2/lib/site_perl/5.22.3/Log/Any/Proxy.pm line 21.
Redundant argument in sprintf at /opt/perl-5.22.3-RC2/lib/site_perl/5.22.3/Log/Any/Proxy.pm line 21.
Redundant argument in sprintf at /opt/perl-5.22.3-RC2/lib/site_perl/5.22.3/Log/Any/Proxy.pm line 21.
Redundant argument in sprintf at /opt/perl-5.22.3-RC2/lib/site_perl/5.22.3/Log/Any/Proxy.pm line 21.
Redundant argument in sprintf at /opt/perl-5.22.3-RC2/lib/site_perl/5.22.3/Log/Any/Proxy.pm line 21.
Redundant argument in sprintf at /opt/perl-5.22.3-RC2/lib/site_perl/5.22.3/Log/Any/Proxy.pm line 21.
Redundant argument in sprintf at /opt/perl-5.22.3-RC2/lib/site_perl/5.22.3/Log/Any/Proxy.pm line 21.
Redundant argument in sprintf at /opt/perl-5.22.3-RC2/lib/site_perl/5.22.3/Log/Any/Proxy.pm line 21.
Redundant argument in sprintf at /opt/perl-5.22.3-RC2/lib/site_perl/5.22.3/Log/Any/Proxy.pm line 21.
Redundant argument in sprintf at /opt/perl-5.22.3-RC2/lib/site_perl/5.22.3/Log/Any/Proxy.pm line 21.
Redundant argument in sprintf at /opt/perl-5.22.3-RC2/lib/site_perl/5.22.3/Log/Any/Proxy.pm line 21.
Redundant argument in sprintf at /opt/perl-5.22.3-RC2/lib/site_perl/5.22.3/Log/Any/Proxy.pm line 21.
Redundant argument in sprintf at /opt/perl-5.22.3-RC2/lib/site_perl/5.22.3/Log/Any/Proxy.pm line 21.
Redundant argument in sprintf at /opt/perl-5.22.3-RC2/lib/site_perl/5.22.3/Log/Any/Proxy.pm line 21.
Redundant argument in sprintf at /opt/perl-5.22.3-RC2/lib/site_perl/5.22.3/Log/Any/Proxy.pm line 21.
Redundant argument in sprintf at /opt/perl-5.22.3-RC2/lib/site_perl/5.22.3/Log/Any/Proxy.pm line 21.
Redundant argument in sprintf at /opt/perl-5.22.3-RC2/lib/site_perl/5.22.3/Log/Any/Proxy.pm line 21.
Redundant argument in sprintf at /opt/perl-5.22.3-RC2/lib/site_perl/5.22.3/Log/Any/Proxy.pm line 21.
Redundant argument in sprintf at /opt/perl-5.22.3-RC2/lib/site_perl/5.22.3/Log/Any/Proxy.pm line 21.
Redundant argument in sprintf at /opt/perl-5.22.3-RC2/lib/site_perl/5.22.3/Log/Any/Proxy.pm line 21.
Redundant argument in sprintf at /opt/perl-5.22.3-RC2/lib/site_perl/5.22.3/Log/Any/Proxy.pm line 21.
Redundant argument in sprintf at /opt/perl-5.22.3-RC2/lib/site_perl/5.22.3/Log/Any/Proxy.pm line 21.
Redundant argument in sprintf at /opt/perl-5.22.3-RC2/lib/site_perl/5.22.3/Log/Any/Proxy.pm line 21.
Redundant argument in sprintf at /opt/perl-5.22.3-RC2/lib/site_perl/5.22.3/Log/Any/Proxy.pm line 21.
Redundant argument in sprintf at /opt/perl-5.22.3-RC2/lib/site_perl/5.22.3/Log/Any/Proxy.pm line 21.
Redundant argument in sprintf at /opt/perl-5.22.3-RC2/lib/site_perl/5.22.3/Log/Any/Proxy.pm line 21.
Redundant argument in sprintf at /opt/perl-5.22.3-RC2/lib/site_perl/5.22.3/Log/Any/Proxy.pm line 21.
Redundant argument in sprintf at /opt/perl-5.22.3-RC2/lib/site_perl/5.22.3/Log/Any/Proxy.pm line 21.
Redundant argument in sprintf at /opt/perl-5.22.3-RC2/lib/site_perl/5.22.3/Log/Any/Proxy.pm line 21.
Redundant argument in sprintf at /opt/perl-5.22.3-RC2/lib/site_perl/5.22.3/Log/Any/Proxy.pm line 21.
Redundant argument in sprintf at /opt/perl-5.22.3-RC2/lib/site_perl/5.22.3/Log/Any/Proxy.pm line 21.
Redundant argument in sprintf at /opt/perl-5.22.3-RC2/lib/site_perl/5.22.3/Log/Any/Proxy.pm line 21.
Redundant argument in sprintf at /opt/perl-5.22.3-RC2/lib/site_perl/5.22.3/Log/Any/Proxy.pm line 21.
Redundant argument in sprintf at /opt/perl-5.22.3-RC2/lib/site_perl/5.22.3/Log/Any/Proxy.pm line 21.
Redundant argument in sprintf at /opt/perl-5.22.3-RC2/lib/site_perl/5.22.3/Log/Any/Proxy.pm line 21.
Redundant argument in sprintf at /opt/perl-5.22.3-RC2/lib/site_perl/5.22.3/Log/Any/Proxy.pm line 21.
Redundant argument in sprintf at /opt/perl-5.22.3-RC2/lib/site_perl/5.22.3/Log/Any/Proxy.pm line 21.
Redundant argument in sprintf at /opt/perl-5.22.3-RC2/lib/site_perl/5.22.3/Log/Any/Proxy.pm line 21.
Redundant argument in sprintf at /opt/perl-5.22.3-RC2/lib/site_perl/5.22.3/Log/Any/Proxy.pm line 21.
Redundant argument in sprintf at /opt/perl-5.22.3-RC2/lib/site_perl/5.22.3/Log/Any/Proxy.pm line 21.
Redundant argument in sprintf at /opt/perl-5.22.3-RC2/lib/site_perl/5.22.3/Log/Any/Proxy.pm line 21.
Redundant argument in sprintf at /opt/perl-5.22.3-RC2/lib/site_perl/5.22.3/Log/Any/Proxy.pm line 21.
Redundant argument in sprintf at /opt/perl-5.22.3-RC2/lib/site_perl/5.22.3/Log/Any/Proxy.pm line 21.
Redundant argument in sprintf at /opt/perl-5.22.3-RC2/lib/site_perl/5.22.3/Log/Any/Proxy.pm line 21.
Redundant argument in sprintf at /opt/perl-5.22.3-RC2/lib/site_perl/5.22.3/Log/Any/Proxy.pm line 21.
Redundant argument in sprintf at /opt/perl-5.22.3-RC2/lib/site_perl/5.22.3/Log/Any/Proxy.pm line 21.
t/IronCache/cache_policy2.t .. ok
# Testing IO::Iron::IronCache, Perl 5.022003, /bbbike/perl-5.22.3-RC2/bin/perl
t/IronCache/load.t ........... ok
# Testing IO::Iron::IronMQ 0.11, Perl 5.022003, /bbbike/perl-5.22.3-RC2/bin/perl
t/IronMQ/load.t .............. ok
# Testing IO::Iron::IronWorker 0.11, Perl 5.022003, /bbbike/perl-5.22.3-RC2/bin/perl
t/IronWorker/load.t .......... ok
All tests successful.
Files=7, Tests=92,  1 wallclock secs ( 0.02 usr  0.04 sys +  0.55 cusr  0.09 csys =  0.70 CPU)
Result: PASS

------------------------------
PREREQUISITES
------------------------------

Prerequisite modules loaded:

requires:

    Module             Need Have    
    ------------------ ---- --------
    Carp               0    1.38    
    Carp::Assert       0    0.21    
    Carp::Assert::More 0    1.14    
    constant           0    1.33    
    Data::Dumper       0    2.161   
    Data::UUID         0    1.221   
    English            0    1.09    
    Exception::Class   0    1.40    
    Exporter           0    5.72    
    File::HomeDir      0    1.00    
    File::Slurp        0    9999.19 
    File::Spec         0    3.62    
    Hash::Util         0.06 0.18    
    JSON::MaybeXS      0    1.003005
    Log::Any           0    1.040   
    Params::Validate   0    1.24    
    parent             0    0.234   
    REST::Client       0    273     
    Scalar::Util       0    1.45    
    strict             0    1.09    
    Try::Tiny          0    0.24    
    URI::Escape        0    3.31    
    warnings           0    1.34    

build_requires:

    Module             Need Have    
    ------------------ ---- --------
    File::Copy         0    2.30    
    File::Remove       0    1.57    
    lib                0    0.63    
    Log::Any::Test     0    1.040   
    Test::Exception    0    0.43    
    Test::More         0    1.302049


------------------------------
ENVIRONMENT AND OTHER CONTEXT
------------------------------

Environment variables:

    LANG = C
    LC_ALL = de_DE.UTF-8
    PATH = /usr/local/bin:/usr/bin:/bin:/usr/local/sbin:/usr/sbin:/sbin:/home/cpansand/bin/linux-gnu:/home/cpansand/bin/sh:/home/cpansand/bin:/usr/games:/home/cpansand/devel:/home/eserte/src/srezic-misc/scripts
    PERL5LIB = 
    PERL5OPT = 
    PERL5_CPANPLUS_IS_RUNNING = 24461
    PERL5_CPAN_IS_RUNNING = 24461
    PERL5_CPAN_IS_RUNNING_IN_RECURSION = 13890,24461
    PERLDOC = -MPod::Perldoc::ToTextOverstrike
    PERL_BATCH = yes
    PERL_CANARY_STABILITY_NOPROMPT = 1
    PERL_CPAN_REPORTER_CONFIG = /run/user/1023/cpansmoker/2016080703/cpanreporter_001_config.ini
    PERL_EXTUTILS_AUTOINSTALL = --defaultdeps
    PERL_PARALLEL_SMOKER = yes
    PERL_USE_UNSAFE_INC = 1
    SHELL = /bin/zsh
    TERM = screen
    TMPDIR = /run/user/1023/cpansmoker/2016080703

Perl special variables (and OS-specific diagnostics, for MSWin32):

    $^X = /bbbike/perl-5.22.3-RC2/bin/perl
    $UID/$EUID = 1023 / 1023
    $GID = 1023 1023
    $EGID = 1023 1023

Perl module toolchain versions installed:

    Module              Have    
    ------------------- --------
    CPAN                2.14    
    CPAN::Meta          2.150005
    Cwd                 3.62    
    ExtUtils::CBuilder  0.280224
    ExtUtils::Command   7.18    
    ExtUtils::Install   2.04    
    ExtUtils::MakeMaker 7.18    
    ExtUtils::Manifest  1.70    
    ExtUtils::ParseXS   3.30    
    File::Spec          3.62    
    JSON                2.90    
    JSON::PP            2.27400 
    Module::Build       0.4218  
    Module::Signature   0.80    
    Parse::CPAN::Meta   1.4422  
    Test::Harness       3.36    
    Test::More          1.302049
    YAML                1.18    
    YAML::Syck          1.29    
    version             0.9917  


--

Summary of my perl5 (revision 5 version 22 subversion 3) configuration:
   
  Platform:
    osname=linux, osvers=3.16.0-4-amd64, archname=x86_64-linux
    uname='linux eserte 3.16.0-4-amd64 #1 smp debian 3.16.7-ckt25-2 (2016-04-08) x86_64 gnulinux '
    config_args='-ds -e -Dprefix=/opt/perl-5.22.3-RC2 -Dcf_email=srezic@cpan.org'
    hint=recommended, useposix=true, d_sigaction=define
    useithreads=undef, usemultiplicity=undef
    use64bitint=define, use64bitall=define, uselongdouble=undef
    usemymalloc=n, bincompat5005=undef
  Compiler:
    cc='cc', ccflags ='-fwrapv -fno-strict-aliasing -pipe -fstack-protector-strong -I/usr/local/include -D_LARGEFILE_SOURCE -D_FILE_OFFSET_BITS=64 -D_FORTIFY_SOURCE=2',
    optimize='-O2',
    cppflags='-fwrapv -fno-strict-aliasing -pipe -fstack-protector-strong -I/usr/local/include'
    ccversion='', gccversion='4.9.2', gccosandvers=''
    intsize=4, longsize=8, ptrsize=8, doublesize=8, byteorder=12345678, doublekind=3
    d_longlong=define, longlongsize=8, d_longdbl=define, longdblsize=16, longdblkind=3
    ivtype='long', ivsize=8, nvtype='double', nvsize=8, Off_t='off_t', lseeksize=8
    alignbytes=8, prototype=define
  Linker and Libraries:
    ld='cc', ldflags =' -fstack-protector-strong -L/usr/local/lib'
    libpth=/usr/local/lib /usr/lib/gcc/x86_64-linux-gnu/4.9/include-fixed /usr/include/x86_64-linux-gnu /usr/lib /lib/x86_64-linux-gnu /lib/../lib /usr/lib/x86_64-linux-gnu /usr/lib/../lib /lib
    libs=-lpthread -lnsl -lgdbm -ldb -ldl -lm -lcrypt -lutil -lc -lgdbm_compat
    perllibs=-lpthread -lnsl -ldl -lm -lcrypt -lutil -lc
    libc=libc-2.19.so, so=so, useshrplib=false, libperl=libperl.a
    gnulibc_version='2.19'
  Dynamic Linking:
    dlsrc=dl_dlopen.xs, dlext=so, d_dlsymun=undef, ccdlflags='-Wl,-E'
    cccdlflags='-fPIC', lddlflags='-shared -O2 -L/usr/local/lib -fstack-protector-strong'


Characteristics of this binary (from libperl): 
  Compile-time options: HAS_TIMES PERLIO_LAYERS PERL_DONT_CREATE_GVSV
                        PERL_HASH_FUNC_ONE_AT_A_TIME_HARD PERL_MALLOC_WRAP
                        PERL_NEW_COPY_ON_WRITE PERL_PRESERVE_IVUV
                        USE_64_BIT_ALL USE_64_BIT_INT USE_LARGE_FILES
                        USE_LOCALE USE_LOCALE_COLLATE USE_LOCALE_CTYPE
                        USE_LOCALE_NUMERIC USE_LOCALE_TIME USE_PERLIO
                        USE_PERL_ATOF
  Locally applied patches:
	RC2
  Built under linux
  Compiled at Jul 25 2016 18:26:00
  %ENV:
    PERL5LIB=""
    PERL5OPT=""
    PERL5_CPANPLUS_IS_RUNNING="24461"
    PERL5_CPAN_IS_RUNNING="24461"
    PERL5_CPAN_IS_RUNNING_IN_RECURSION="13890,24461"
    PERLDOC="-MPod::Perldoc::ToTextOverstrike"
    PERL_BATCH="yes"
    PERL_CANARY_STABILITY_NOPROMPT="1"
    PERL_CPAN_REPORTER_CONFIG="/run/user/1023/cpansmoker/2016080703/cpanreporter_001_config.ini"
    PERL_EXTUTILS_AUTOINSTALL="--defaultdeps"
    PERL_PARALLEL_SMOKER="yes"
    PERL_USE_UNSAFE_INC="1"
  @INC:
    /opt/perl-5.22.3-RC2/lib/site_perl/5.22.3/x86_64-linux
    /opt/perl-5.22.3-RC2/lib/site_perl/5.22.3
    /opt/perl-5.22.3-RC2/lib/5.22.3/x86_64-linux
    /opt/perl-5.22.3-RC2/lib/5.22.3
    .