Report for Forward-Routes-0.56

Back
From: metabase:user:cd035d39-6d5b-1014-ab3a-39c0c09612a1
Subject: PASS Forward-Routes-0.56 v5.22.1 
Date: 2015-12-28T04:44:32Z

This distribution has been tested as part of the CPAN Testers
project, supporting the Perl programming language.  See
http://wiki.cpantesters.org/ for more information or email
questions to cpan-testers-discuss@perl.org


--
Dear A.Vieth,

This is a computer-generated report for Forward-Routes-0.56
on perl 5.22.1, created by CPAN-Reporter-1.2015.

Thank you for uploading your work to CPAN.  Congratulations!
All tests were successful.

Sections of this report:

    * Tester comments
    * Program output
    * Prerequisites
    * Environment and other context

------------------------------
TESTER COMMENTS
------------------------------

Additional comments from tester:

this report is from an automated smoke testing program
and was not reviewed by a human for accuracy

------------------------------
PROGRAM OUTPUT
------------------------------

Output from 'C:\strawberry\c\bin\dmake.EXE test':

"C:\Strawberry\perl\bin\perl.exe" "-MExtUtils::Command::MM" "-MTest::Harness" "-e" "undef *Test::Harness::Switches; test_harness(0, 'blib\lib', 'blib\arch')" t/*.t t/*/*.t
t/bridges.t ..................................................... ok
t/bridges_with_namespace_inheritance.t .......................... ok
t/constraints.t ................................................. ok
t/defaults.t .................................................... ok
t/empty.t ....................................................... ok
t/exceptions_unbalanced_parentheses.t ........................... ok
t/format_constraints.t .......................................... ok
t/match/method_captures.t ....................................... ok
t/match/method_is_bridge.t ...................................... ok
t/match/method_name.t ........................................... ok
t/match/method_namespace.t ...................................... ok
t/match/method_params.t ......................................... ok
t/match_with_missing_params.t ................................... ok
t/method_defaults.t ............................................. ok
t/method_namespace_to_name.t .................................... ok
t/method_singularize.t .......................................... ok
t/method_to.t ................................................... ok
t/nested_routes_block_style.t ................................... ok
t/nested_routes_default_precedence.t ............................ ok
t/nested_routes_naming.t ........................................ ok
t/nested_routes_with_app_namespace_and_namespace_inheritance.t .. ok
t/nested_routes_with_format_inheritance.t ....................... ok
t/nested_routes_with_method_inheritance.t ....................... ok
t/nested_routes_with_namespace_inheritance.t .................... ok
t/placeholders.t ................................................ ok
t/placeholders_optional.t ....................................... ok
t/placeholders_optional_and_defaults.t .......................... ok
t/request_method_constraints.t .................................. ok
t/resources.t ................................................... ok
t/resources_add_collection_route.t .............................. ok
t/resources_add_member_route.t .................................. ok
t/resources_nested.t ............................................ ok
t/resources_nesting_and_namespaces.t ............................ ok
t/resources_with_app_namespace_and_namespace_inheritance.t ...... ok
t/resources_with_custom_id_constraint.t ......................... ok
t/resources_with_custom_id_name.t ............................... ok
t/resources_with_custom_path_naming.t ........................... ok
t/resources_with_format_constraint.t ............................ ok
t/resources_with_multiple_customizations.t ...................... ok
t/resources_with_namespace_prefix.t ............................. ok
t/resources_with_only_option.t .................................. ok
t/routes.t ...................................................... ok
t/routes_embedded_options.t ..................................... ok
t/singular_resources.t .......................................... ok
t/singular_resources_add_member_route.t ......................... ok
t/singular_resources_nested.t ................................... ok
t/singular_resources_nesting_and_namespaces.t ................... ok
t/singular_resources_with_custom_path_naming.t .................. ok
t/singular_resources_with_format_constraint.t ................... ok
t/singular_resources_with_namespace_prefix.t .................... ok
t/singular_resources_with_only_option.t ......................... ok
All tests successful.
Files=51, Tests=1439, 19 wallclock secs ( 0.47 usr +  0.13 sys =  0.59 CPU)
Result: PASS

------------------------------
PREREQUISITES
------------------------------

Prerequisite modules loaded:

requires:

    Module              Need     Have    
    ------------------- -------- --------
    Carp                0        1.38    
    parent              0        0.234   
    perl                5.010001 5.022001

build_requires:

    Module              Need     Have    
    ------------------- -------- --------
    ExtUtils::MakeMaker 0        7.10    


------------------------------
ENVIRONMENT AND OTHER CONTEXT
------------------------------

Environment variables:

    AUTOMATED_TESTING = 1
    COMSPEC = C:\WINDOWS.0\system32\cmd.exe
    NONINTERACTIVE_TESTING = 1
    NUMBER_OF_PROCESSORS = 1
    PATH = C:\WINDOWS.0\system32;C:\strawberry\c\bin;C:\strawberry\perl\site\bin;C:\strawberry\perl\bin
    PERL5LIB = 
    PERL5OPT = 
    PERL5_CPANPLUS_IS_RUNNING = 3964
    PERL5_CPAN_IS_RUNNING = 3964
    PERL5_CPAN_IS_RUNNING_IN_RECURSION = 984,3964
    PERL_CR_SMOKER_CURRENT = Forward-Routes-0.56
    PERL_EXTUTILS_AUTOINSTALL = --defaultdeps
    PERL_MM_USE_DEFAULT = 1
    PROCESSOR_IDENTIFIER = x86 Family 6 Model 14 Stepping 8, GenuineIntel
    TEMP = C:\DOKUME~1\smoker\LOKALE~1\Temp
    TERM = dumb

Perl special variables (and OS-specific diagnostics, for MSWin32):

    $^X = C:\Strawberry\perl\bin\perl.exe
    $UID/$EUID = 0 / 0
    $GID = 0
    $EGID = 0
    Win32::GetOSName = WinXP/.Net
    Win32::GetOSVersion = Service Pack 3, 5, 1, 2600, 2, 3, 0, 256, 1
    Win32::FsType = NTFS
    Win32::IsAdminUser = 1

Perl module toolchain versions installed:

    Module              Have    
    ------------------- --------
    CPAN                2.11    
    CPAN::Meta          2.150005
    Cwd                 3.60    
    ExtUtils::CBuilder  0.280224
    ExtUtils::Command   7.10    
    ExtUtils::Install   2.04    
    ExtUtils::MakeMaker 7.10    
    ExtUtils::Manifest  1.70    
    ExtUtils::ParseXS   3.30    
    File::Spec          3.60    
    JSON                2.90    
    JSON::PP            2.27300 
    Module::Build       0.4214  
    Module::Signature   0.79    
    Parse::CPAN::Meta   1.4417  
    Test::Harness       3.35    
    Test::More          1.001014
    YAML                1.15    
    YAML::Syck          n/a     
    version             0.9912  


--

Summary of my perl5 (revision 5 version 22 subversion 1) configuration:
   
  Platform:
    osname=MSWin32, osvers=6.3, archname=MSWin32-x86-multi-thread-64int
    uname='Win32 strawberry-perl 5.22.1.1 #1 Mon Dec 14 09:28:33 2015 i386'
    config_args='undef'
    hint=recommended, useposix=true, d_sigaction=undef
    useithreads=define, usemultiplicity=define
    use64bitint=define, use64bitall=undef, uselongdouble=undef
    usemymalloc=n, bincompat5005=undef
  Compiler:
    cc='gcc', ccflags =' -s -O2 -DWIN32  -DPERL_TEXTMODE_SCRIPTS -DPERL_IMPLICIT_CONTEXT -DPERL_IMPLICIT_SYS -fwrapv -fno-strict-aliasing -mms-bitfields',
    optimize='-s -O2',
    cppflags='-DWIN32'
    ccversion='', gccversion='4.9.2', gccosandvers=''
    intsize=4, longsize=4, ptrsize=4, doublesize=8, byteorder=12345678, doublekind=3
    d_longlong=define, longlongsize=8, d_longdbl=define, longdblsize=12, longdblkind=3
    ivtype='long long', ivsize=8, nvtype='double', nvsize=8, Off_t='long long', lseeksize=8
    alignbytes=8, prototype=define
  Linker and Libraries:
    ld='g++', ldflags ='-s -L"C:\STRAWB~1\perl\lib\CORE" -L"C:\STRAWB~1\c\lib"'
    libpth=C:\STRAWB~1\c\lib C:\STRAWB~1\c\i686-w64-mingw32\lib C:\STRAWB~1\c\lib\gcc\i686-w64-mingw32\4.9.2
    libs=-lmoldname -lkernel32 -luser32 -lgdi32 -lwinspool -lcomdlg32 -ladvapi32 -lshell32 -lole32 -loleaut32 -lnetapi32 -luuid -lws2_32 -lmpr -lwinmm -lversion -lodbc32 -lodbccp32 -lcomctl32
    perllibs=-lmoldname -lkernel32 -luser32 -lgdi32 -lwinspool -lcomdlg32 -ladvapi32 -lshell32 -lole32 -loleaut32 -lnetapi32 -luuid -lws2_32 -lmpr -lwinmm -lversion -lodbc32 -lodbccp32 -lcomctl32
    libc=, so=dll, useshrplib=true, libperl=libperl522.a
    gnulibc_version=''
  Dynamic Linking:
    dlsrc=dl_win32.xs, dlext=xs.dll, d_dlsymun=undef, ccdlflags=' '
    cccdlflags=' ', lddlflags='-mdll -s -L"C:\STRAWB~1\perl\lib\CORE" -L"C:\STRAWB~1\c\lib"'


Characteristics of this binary (from libperl): 
  Compile-time options: HAS_TIMES HAVE_INTERP_INTERN MULTIPLICITY
                        PERLIO_LAYERS PERL_DONT_CREATE_GVSV
                        PERL_HASH_FUNC_ONE_AT_A_TIME_HARD
                        PERL_IMPLICIT_CONTEXT PERL_IMPLICIT_SYS
                        PERL_MALLOC_WRAP PERL_NEW_COPY_ON_WRITE
                        PERL_PRESERVE_IVUV USE_64_BIT_INT USE_ITHREADS
                        USE_LARGE_FILES USE_LOCALE USE_LOCALE_COLLATE
                        USE_LOCALE_CTYPE USE_LOCALE_NUMERIC USE_LOCALE_TIME
                        USE_PERLIO USE_PERL_ATOF
  Built under MSWin32
  Compiled at Dec 14 2015 09:33:54
  %ENV:
    PERL5_CPANPLUS_IS_RUNNING="3964"
    PERL5_CPAN_IS_RUNNING="3964"
    PERL5_CPAN_IS_RUNNING_IN_RECURSION="984,3964"
    PERL_CR_SMOKER_CURRENT="Forward-Routes-0.56"
    PERL_EXTUTILS_AUTOINSTALL="--defaultdeps"
    PERL_MM_USE_DEFAULT="1"
  @INC:
    C:/Strawberry/perl/site/lib
    C:/Strawberry/perl/vendor/lib
    C:/Strawberry/perl/lib
    .