SQL-Translator v1.66 Perl 5 v5.26.3 MSWin32-x64-multi-thread

Status
Pass
From
LNATION
Dist
SQL-Translator v1.66
Platform
Perl 5 v5.26.3 MSWin32-x64-multi-thread
Date
2025-05-18 21:28:32
ID
d8b4295d-6d83-1014-8e16-d4392a4b81e7
This distribution has been tested as part of the CPAN Testers
project, supporting the Perl programming language.  See
http://wiki.cpantesters.org/ for more information or email
questions to cpan-testers-discuss@perl.org


--
Dear Avishai Goldman,

This is a computer-generated report for SQL-Translator-1.66
on perl 5.26.3, created by CPAN-Reporter-1.2020.

Thank you for uploading your work to CPAN.  Congratulations!
All tests were successful.

Sections of this report:

    * Tester comments
    * Program output
    * Prerequisites
    * Environment and other context

------------------------------
TESTER COMMENTS
------------------------------

Additional comments from tester:

this report is from an automated smoke testing program
and was not reviewed by a human for accuracy

------------------------------
PROGRAM OUTPUT
------------------------------

Output from 'C:\STRAWB~1\c\bin\gmake.exe test':

Skip blib\lib\auto\share\dist\SQL-Translator\DiaUml\uml-class-start.tt2 (unchanged)
Skip blib\lib\auto\share\dist\SQL-Translator\DiaUml\uml-class.tt2 (unchanged)
Skip blib\lib\auto\share\dist\SQL-Translator\DiaUml\diagram.tt2 (unchanged)
Skip blib\lib\auto\share\dist\SQL-Translator\DiaUml\uml-attribute.tt2 (unchanged)
Skip blib\lib\auto\share\dist\SQL-Translator\DiaUml\uml-class-end.tt2 (unchanged)
Skip blib\lib\auto\share\dist\SQL-Translator\DiaUml\schema.tt2 (unchanged)
Skip blib\lib\auto\share\dist\SQL-Translator\DiaUml\layer.tt2 (unchanged)
Skip blib\lib\auto\share\dist\SQL-Translator\DiaUml\uml-class-all.tt2 (unchanged)
Skip blib\lib\auto\share\dist\SQL-Translator\PrecompiledParsers\Parse\RecDescent\DDL\SQLT\README (unchanged)
"C:\Strawberry\perl\bin\perl.exe" "-MExtUtils::Command::MM" "-MTest::Harness" "-e" "undef *Test::Harness::Switches; test_harness(0, 'blib\lib', 'blib\arch')" t/*.t
t/02mysql-parser.t ...................... ok
t/03mysql-to-oracle.t ................... ok
t/04file,fh,string.t .................... ok
t/05bgep-re.t ........................... ok
t/06xsv.t ............................... skipped: Missing dependency: Text::RecordParser
t/07p_args.t ............................ ok
t/08postgres-to-mysql.t ................. ok
t/09sqlt-diagram.t ...................... ok
t/10excel.t ............................. ok
t/11normalize.t ......................... ok
t/12header_comment.t .................... ok
t/13schema.t ............................ ok
t/14postgres-parser.t ................... ok
t/15oracle-parser.t ..................... ok
t/16xml-parser.t ........................ ok
t/17sqlfxml-producer.t .................. ok
t/18ttschema-producer.t ................. ok
t/19sybase-parser.t ..................... ok
t/20format_X_name.t ..................... ok
t/23json.t .............................. ok
t/24yaml.t .............................. ok
t/25storable.t .......................... ok
t/26sybase.t ............................ ok
t/27sqlite-parser.t ..................... ok
t/29html.t .............................. ok
t/30sqlt-new-diff-mysql.t ............... ok
t/30sqlt-new-diff-pgsql.t ............... ok
t/30sqlt-new-diff-sqlite.t .............. ok
t/30sqlt-new-diff.t ..................... ok
t/31dumper.t ............................ ok
t/32schema-lookups.t .................... ok
t/33tt-table-producer.t ................. ok
t/34tt-base.t ........................... ok
t/35-access-parser.t .................... ok
t/36-filters.t .......................... ok
t/38-filter-names.t ..................... ok
t/38-mysql-producer.t ................... ok
t/39-filter-globals.t ................... ok
t/40oracle-parser-dbi.t ................. ok
t/43xml-to-db2.t ........................ ok
t/44-xml-to-db2-array.t ................. ok
t/45db2-producer.t ...................... ok
t/46xml-to-pg.t ......................... ok
t/47postgres-producer.t ................. ok
t/48xml-to-sqlite.t ..................... ok
t/49xml-to-pg-samefield.t ............... ok
t/50-sqlserver-parser.t ................. ok
t/51-xml-to-oracle.t .................... ok
t/51-xml-to-oracle_quoted.t ............. ok
t/52-oracle-options.t ................... ok
t/53-oracle-delay-constraints.t ......... ok
t/53-oracle-delay-constraints_quoted.t .. ok
t/54-oracle-alter-constraint.t .......... ok
t/54-oracle-alter-field.t ............... ok
t/54-oracle-sql-diff.t .................. ok
t/55-oracle-add-drop-field.t ............ ok
t/55-oracle-producer.t .................. ok
t/56-sqlite-producer.t .................. ok
t/57-class-dbi.t ........................ ok
t/60roundtrip.t ......................... ok
t/61translator_agnostic.t ............... ok
t/62roundtrip_datacheck.t ............... ok
t/63-spacial-pgsql.t .................... ok
t/64xml-to-mysql.t ...................... ok
t/66-postgres-dbi-parser.t .............. skipped: Set $ENV{DBICTEST_PG_DSN}, _USER and _PASS to run this test, or install Test::PostgreSQL
t/70sqlt-diff_script.t .................. ok
t/70sqlt-diff_script_old.t .............. ok
t/71-generator-sql_server.t ............. ok
t/72-sqlite-add-drop-fields.t ........... ok
t/73-sqlite-respects-quote.t ............ ok
t/74-filename-arrayref.t ................ ok
t/75-sqlserver-producer.t ............... ok
t/mysql-sqlite-translate.t .............. ok
t/postgresql-rename-table-and-field.t ... skipped: Missing dependency: Test::PostgreSQL
t/sqlite-rename-field.t ................. ok
All tests successful.

Test Summary Report
-------------------
t/60roundtrip.t                       (Wstat: 0 Tests: 100 Failed: 0)
  TODO passed:   92, 94, 98, 100
Files=75, Tests=2025, 60 wallclock secs ( 0.50 usr +  0.20 sys =  0.70 CPU)
Result: PASS

------------------------------
PREREQUISITES
------------------------------

Prerequisite modules loaded:

requires:

    Module                  Need     Have    
    ----------------------- -------- --------
    Carp::Clan              0        6.06    
    DBI                     1.54     1.647   
    Digest::SHA             0        6.02    
    File::ShareDir          1.0      1.116   
    List::Util              1.33     1.69    
    Moo                     1.000003 2.005005
    Package::Variant        1.001001 1.003002
    Parse::RecDescent       1.967009 1.967015
    perl                    5.008001 5.026003
    Scalar::Util            0        1.69    
    Sub::Quote              0        2.006008
    Try::Tiny               0.04     0.30    

build_requires:

    Module                  Need     Have    
    ----------------------- -------- --------
    ExtUtils::MakeMaker     0        7.74    
    JSON::MaybeXS           1.003003 1.004000
    Test::Differences       0        0.64    
    Test::Exception         0.42     0.43    
    Test::More              0.88     1.302213
    Text::ParseWords        0        3.30    
    XML::Writer             0.500    0.900   
    YAML                    0.66     1.27    

configure_requires:

    Module                  Need     Have    
    ----------------------- -------- --------
    ExtUtils::MakeMaker     6.54     7.74    
    File::ShareDir::Install 0        0.13    

opt_requires:

    Module                  Need     Have    
    ----------------------- -------- --------
    GD                      0        2.83    
    Graph::Directed         0        0       
  ! GraphViz                0        n/a     
    Spreadsheet::ParseExcel 0.41     0.65    
    Template                2.20     2.28    
  ! Text::RecordParser      0.02     n/a     
    XML::LibXML             1.69     2.0210  


------------------------------
ENVIRONMENT AND OTHER CONTEXT
------------------------------

Environment variables:

    AUTOMATED_TESTING = 1
    COMSPEC = C:\Windows\system32\cmd.exe
    NUMBER_OF_PROCESSORS = 2
    PATH = C:\Windows\system32;C:\Windows;C:\Windows\System32\Wbem;C:\Windows\System32\WindowsPowerShell\v1.0\;C:\Windows\System32\OpenSSH\;C:\Program Files\Amazon\cfn-bootstrap\;C:\Strawberry\c\bin;C:\Strawberry\perl\site\bin;C:\Strawberry\perl\bin;C:\Users\Administrator\AppData\Local\Microsoft\WindowsApps;C:\Users\Administrator\AppData\Local\Microsoft\WinGet\Links;
    PERL5LIB = 
    PERL5OPT = 
    PERL5_CPANPLUS_IS_RUNNING = 6888
    PERL5_CPAN_IS_RUNNING = 6888
    PERL5_CPAN_IS_RUNNING_IN_RECURSION = 400,6888
    PERL_CR_SMOKER_CURRENT = DBIx-Class-Sims-0.500012
    PERL_EXTUTILS_AUTOINSTALL = --defaultdeps
    PERL_MM_USE_DEFAULT = 1
    PERL_USE_UNSAFE_INC = 1
    PROCESSOR_IDENTIFIER = Intel64 Family 6 Model 85 Stepping 7, GenuineIntel
    TEMP = C:\Users\ADMINI~1\AppData\Local\Temp\2

Perl special variables (and OS-specific diagnostics, for MSWin32):

    $^X = C:\Strawberry\perl\bin\perl.exe
    $UID/$EUID = 0 / 0
    $GID = 0
    $EGID = 0
    Win32::GetOSName = Win10
    Win32::GetOSVersion = , 10, 0, 26100, 2, 0, 0, 400, 3
    Win32::FsType = NTFS
    Win32::IsAdminUser = 1

Perl module toolchain versions installed:

    Module              Have    
    ------------------- --------
    CPAN                2.18    
    CPAN::Meta          2.150010
    Cwd                 3.75    
    ExtUtils::CBuilder  0.280236
    ExtUtils::Command   7.74    
    ExtUtils::Install   2.14    
    ExtUtils::MakeMaker 7.74    
    ExtUtils::Manifest  1.75    
    ExtUtils::ParseXS   3.57    
    File::Spec          3.75    
    JSON                2.97001 
    JSON::PP            4.16    
    Module::Build       0.4234  
    Module::Signature   n/a     
    Parse::CPAN::Meta   2.150010
    Test2               1.302213
    Test::Harness       3.52    
    Test::More          1.302213
    YAML                1.27    
    YAML::Syck          1.34    
    version             0.9924  


--

Summary of my perl5 (revision 5 version 26 subversion 3) configuration:
   
  Platform:
    osname=MSWin32
    osvers=10.0.17134.407
    archname=MSWin32-x64-multi-thread
    uname='Win32 strawberry-perl 5.26.3.1 #1 Sun Dec  2 22:57:44 2018 x64'
    config_args='undef'
    hint=recommended
    useposix=true
    d_sigaction=undef
    useithreads=define
    usemultiplicity=define
    use64bitint=define
    use64bitall=undef
    uselongdouble=undef
    usemymalloc=n
    default_inc_excludes_dot=define
    bincompat5005=undef
  Compiler:
    cc='gcc'
    ccflags =' -s -O2 -DWIN32 -DWIN64 -DCONSERVATIVE -D__USE_MINGW_ANSI_STDIO -DPERL_TEXTMODE_SCRIPTS -DPERL_IMPLICIT_CONTEXT -DPERL_IMPLICIT_SYS -DUSE_PERLIO -fwrapv -fno-strict-aliasing -mms-bitfields'
    optimize='-s -O2'
    cppflags='-DWIN32'
    ccversion=''
    gccversion='7.1.0'
    gccosandvers=''
    intsize=4
    longsize=4
    ptrsize=8
    doublesize=8
    byteorder=12345678
    doublekind=3
    d_longlong=define
    longlongsize=8
    d_longdbl=define
    longdblsize=16
    longdblkind=3
    ivtype='long long'
    ivsize=8
    nvtype='double'
    nvsize=8
    Off_t='long long'
    lseeksize=8
    alignbytes=8
    prototype=define
  Linker and Libraries:
    ld='g++'
    ldflags ='-s -L"C:\STRAWB~1\perl\lib\CORE" -L"C:\STRAWB~1\c\lib"'
    libpth=C:\STRAWB~1\c\lib C:\STRAWB~1\c\x86_64-w64-mingw32\lib C:\STRAWB~1\c\lib\gcc\x86_64-w64-mingw32\7.1.0
    libs= -lmoldname -lkernel32 -luser32 -lgdi32 -lwinspool -lcomdlg32 -ladvapi32 -lshell32 -lole32 -loleaut32 -lnetapi32 -luuid -lws2_32 -lmpr -lwinmm -lversion -lodbc32 -lodbccp32 -lcomctl32
    perllibs= -lmoldname -lkernel32 -luser32 -lgdi32 -lwinspool -lcomdlg32 -ladvapi32 -lshell32 -lole32 -loleaut32 -lnetapi32 -luuid -lws2_32 -lmpr -lwinmm -lversion -lodbc32 -lodbccp32 -lcomctl32
    libc=
    so=dll
    useshrplib=true
    libperl=libperl526.a
    gnulibc_version=''
  Dynamic Linking:
    dlsrc=dl_win32.xs
    dlext=xs.dll
    d_dlsymun=undef
    ccdlflags=' '
    cccdlflags=' '
    lddlflags='-mdll -s -L"C:\STRAWB~1\perl\lib\CORE" -L"C:\STRAWB~1\c\lib"'


Characteristics of this binary (from libperl): 
  Compile-time options:
    HAS_TIMES
    HAVE_INTERP_INTERN
    MULTIPLICITY
    PERLIO_LAYERS
    PERL_COPY_ON_WRITE
    PERL_DONT_CREATE_GVSV
    PERL_IMPLICIT_CONTEXT
    PERL_IMPLICIT_SYS
    PERL_MALLOC_WRAP
    PERL_OP_PARENT
    PERL_PRESERVE_IVUV
    USE_64_BIT_INT
    USE_ITHREADS
    USE_LARGE_FILES
    USE_LOCALE
    USE_LOCALE_COLLATE
    USE_LOCALE_CTYPE
    USE_LOCALE_NUMERIC
    USE_LOCALE_TIME
    USE_PERLIO
    USE_PERL_ATOF
  Built under MSWin32
  Compiled at Dec  2 2018 23:03:33
  %ENV:
    PERL5_CPANPLUS_IS_RUNNING="6888"
    PERL5_CPAN_IS_RUNNING="6888"
    PERL5_CPAN_IS_RUNNING_IN_RECURSION="400,6888"
    PERL_CR_SMOKER_CURRENT="DBIx-Class-Sims-0.500012"
    PERL_EXTUTILS_AUTOINSTALL="--defaultdeps"
    PERL_MM_USE_DEFAULT="1"
    PERL_USE_UNSAFE_INC="1"
  @INC:
    C:/Strawberry/perl/site/lib
    C:/Strawberry/perl/vendor/lib
    C:/Strawberry/perl/lib
    .