Back
From: metabase:user:30f4dfbe-2aae-11df-837a-5e0a49663a4f
Subject: PASS Test-Distribution-2.00 v5.15.0 NetBSD
Date: 2011-07-10T23:25:06Z
This distribution has been tested as part of the CPAN Testers
project, supporting the Perl programming language. See
http://wiki.cpantesters.org/ for more information or email
questions to cpan-testers-discuss@perl.org
--
Dear Sagar R. Shah,
This is a computer-generated report for Test-Distribution-2.00
on perl 5.15.0, created by CPAN-Reporter-1.1902.
Thank you for uploading your work to CPAN. Congratulations!
All tests were successful.
Sections of this report:
* Tester comments
* Program output
* Prerequisites
* Environment and other context
------------------------------
TESTER COMMENTS
------------------------------
Additional comments from tester:
none provided
------------------------------
PROGRAM OUTPUT
------------------------------
Output from './Build test':
t/01distribution.t ............. ok
t/02extra.t .................... ok
t/03only_versions.t ............ ok
t/04only_pod_extra.t ........... ok
t/05only_pod_use_extra.t ....... ok
t/06only_pod_versions_extra.t .. ok
t/07prereq.t ................... ok
t/08only_podcover.t ............ ok
All tests successful.
Files=8, Tests=42, 3 wallclock secs ( 0.11 usr -0.01 sys + 2.56 cusr 0.15 csys = 2.81 CPU)
Result: PASS
------------------------------
PREREQUISITES
------------------------------
Prerequisite modules loaded:
requires:
Module Need Have
------------------- ---- ----
ExtUtils::Manifest 1.43 1.58
File::Find::Rule 0.03 0.32
Module::CoreList 1.93 2.52
Pod::Coverage 0.17 0.21
Test::More 0.45 0.98
Test::Pod 0.95 1.45
Test::Pod::Coverage 0 1.08
------------------------------
ENVIRONMENT AND OTHER CONTEXT
------------------------------
Environment variables:
LANG =
PATH = /home/njh/perl5/perlbrew/bin:/usr/bin:/bin:/usr/pkg/bin:/usr/local/bin:/home/njh/bin::/opt/intel/cc/9.1.038/bin:/opt/IBMJava2-13/bin:/usr/X11R6/bin:/home/njh/linux/bin:/usr/pkg/lib/perl5/site_perl/bin
PATH_WITHOUT_PERLBREW = /usr/bin:/bin:/usr/pkg/bin:/usr/local/bin:/home/njh/bin::/opt/intel/cc/9.1.038/bin:/opt/IBMJava2-13/bin:/usr/X11R6/bin:/home/njh/linux/bin:/usr/pkg/lib/perl5/site_perl/bin
PERL5LIB =
PERL5OPT =
PERL5_CPANPLUS_IS_RUNNING = 5534
PERL5_CPAN_IS_RUNNING = 5534
PERLBREW_HOME = /home/njh/.perlbrew
PERLBREW_PATH = /home/njh/perl5/perlbrew/bin
PERLBREW_ROOT = /home/njh/perl5/perlbrew
PERLBREW_VERSION = 0.25
SHELL = /bin/ksh
TERM = vt100
Perl special variables (and OS-specific diagnostics, for MSWin32):
$^X = /usr/local/bin/perl5.15.0
$UID/$EUID = 0 / 0
$GID = 0 0 2 3 4 5 20 31
$EGID = 0 0 2 3 4 5 20 31
Perl module toolchain versions installed:
Module Have
------------------- --------
CPAN 1.9600
Cwd 3.37
ExtUtils::CBuilder 0.280204
ExtUtils::Command 1.17
ExtUtils::Install 1.56
ExtUtils::MakeMaker 6.58
ExtUtils::Manifest 1.58
ExtUtils::ParseXS 2.2210
File::Spec 3.33
Module::Build 0.3800
Module::Signature n/a
Test::Harness 3.23
Test::More 0.98
YAML 0.73
YAML::Syck n/a
version 0.92
--
Summary of my perl5 (revision 5 version 15 subversion 0) configuration:
Snapshot of: 001de1221d5719ff84596edb61dbfaf861df18bf
Platform:
osname=netbsd, osvers=4.0, archname=i386-netbsd-thread-multi
uname='netbsd philips.bandsman.co.uk 4.0 netbsd 4.0 (generic) #0: sun dec 16 00:20:10 pst 2007 builds@wb34:homebuildsabnetbsd-4-0-releasei386200712160005z-objhomebuildsabnetbsd-4-0-releasesrcsysarchi386compilegeneric i386 '
config_args='-des -Dusedevel -Accflags=-O2 -W -Wformat=2 -Wswitch -Wshadow -Wwrite-strings -Wuninitialized -Wall -pipe -mtune=pentium-m -march=pentium-m -fomit-frame-pointer -msse2 -msse -mmmx -mfpmath=sse -D_FORTIFY_SOURCE=2 -Wpointer-arith -Wstrict-prototypes -fstack-protector -Wstack-protector -Wextra -Wbad-function-cast -Wcast-align -Wcast-qual -Wdisabled-optimization -Wendif-labels -Wfloat-equal -Wformat-nonliteral -Winline -Wmissing-declarations -Wmissing-prototypes -Wnested-externs -Wpointer-arith -Wundef -I/usr/pkg/include -Duseithreads'
hint=recommended, useposix=true, d_sigaction=define
useithreads=define, usemultiplicity=define
useperlio=define, d_sfio=undef, uselargefiles=define, usesocks=undef
use64bitint=undef, use64bitall=undef, uselongdouble=undef
usemymalloc=n, bincompat5005=undef
Compiler:
cc='cc', ccflags ='-DDEBUGGING -O2 -W -Wformat=2 -Wswitch -Wshadow -Wwrite-strings -Wuninitialized -Wall -pipe -mtune=pentium-m -march=pentium-m -fomit-frame-pointer -msse2 -msse -mmmx -mfpmath=sse -D_FORTIFY_SOURCE=2 -Wpointer-arith -Wstrict-prototypes -fstack-protector -Wstack-protector -Wextra -Wbad-function-cast -Wcast-align -Wcast-qual -Wdisabled-optimization -Wendif-labels -Wfloat-equal -Wformat-nonliteral -Winline -Wmissing-declarations -Wmissing-prototypes -Wnested-externs -Wpointer-arith -Wundef -I/usr/pkg/include -fno-strict-aliasing -I/usr/pkg/include -I/usr/local/include',
optimize='-O',
cppflags='-DDEBUGGING -O2 -W -Wformat=2 -Wswitch -Wshadow -Wwrite-strings -Wuninitialized -Wall -pipe -mtune=pentium-m -march=pentium-m -fomit-frame-pointer -msse2 -msse -mmmx -mfpmath=sse -D_FORTIFY_SOURCE=2 -Wpointer-arith -Wstrict-prototypes -fstack-protector -Wstack-protector -Wextra -Wbad-function-cast -Wcast-align -Wcast-qual -Wdisabled-optimization -Wendif-labels -Wfloat-equal -Wformat-nonliteral -Winline -Wmissing-declarations -Wmissing-prototypes -Wnested-externs -Wpointer-arith -Wundef -I/usr/pkg/include -fno-strict-aliasing -I/usr/pkg/include -I/usr/local/include'
ccversion='', gccversion='4.1.2 20061021 prerelease (NetBSD nb3 20061125)', gccosandvers=''
intsize=4, longsize=4, ptrsize=4, doublesize=8, byteorder=1234
d_longlong=define, longlongsize=8, d_longdbl=define, longdblsize=12
ivtype='long', ivsize=4, nvtype='double', nvsize=8, Off_t='off_t', lseeksize=8
alignbytes=4, prototype=define
Linker and Libraries:
ld='cc', ldflags =' -Wl,-rpath,/usr/pkg/lib -Wl,-rpath,/usr/local/lib -fstack-protector -L/usr/pkg/lib -L/usr/local/lib'
libpth=/usr/pkg/lib /usr/local/lib /lib /usr/lib
libs=-lgdbm -lm -lcrypt -lutil -lc -lposix -lpthread
perllibs=-lm -lcrypt -lutil -lc -lposix -lpthread
libc=/lib/libc.so, so=so, useshrplib=false, libperl=libperl.a
gnulibc_version=''
Dynamic Linking:
dlsrc=dl_dlopen.xs, dlext=so, d_dlsymun=undef, ccdlflags='-Wl,-E '
cccdlflags='-DPIC -fPIC ', lddlflags='--whole-archive -shared -L/usr/pkg/lib -L/usr/local/lib -fstack-protector'
Characteristics of this binary (from libperl):
Compile-time options: DEBUGGING MULTIPLICITY PERL_DONT_CREATE_GVSV
PERL_IMPLICIT_CONTEXT PERL_MALLOC_WRAP
PERL_PRESERVE_IVUV PERL_TRACK_MEMPOOL PERL_USE_DEVEL
USE_ITHREADS USE_LARGE_FILES USE_LOCALE
USE_LOCALE_COLLATE USE_LOCALE_CTYPE
USE_LOCALE_NUMERIC USE_PERLIO USE_PERL_ATOF
USE_REENTRANT_API
Locally applied patches:
SMOKE001de1221d5719ff84596edb61dbfaf861df18bf
Built under netbsd
Compiled at Jul 9 2011 12:50:42
%ENV:
PERL5LIB=""
PERL5OPT=""
PERL5_CPANPLUS_IS_RUNNING="5534"
PERL5_CPAN_IS_RUNNING="5534"
PERLBREW_HOME="/home/njh/.perlbrew"
PERLBREW_PATH="/home/njh/perl5/perlbrew/bin"
PERLBREW_ROOT="/home/njh/perl5/perlbrew"
PERLBREW_VERSION="0.25"
@INC:
/usr/local/lib/perl5/site_perl/5.15.0/i386-netbsd-thread-multi
/usr/local/lib/perl5/site_perl/5.15.0
/usr/local/lib/perl5/5.15.0/i386-netbsd-thread-multi
/usr/local/lib/perl5/5.15.0
/usr/local/lib/perl5/site_perl
.