JSON-Schema-Tiny v0.028 Perl 5 v5.30.2 x86_64-linux-thread-multi-quadmath

Status
Pass
From
Chris Williams (BINGOS)
Dist
JSON-Schema-Tiny v0.028
Platform
Perl 5 v5.30.2 x86_64-linux-thread-multi-quadmath
Date
2024-11-22 15:45:49
ID
d888871c-a8e8-11ef-98b0-b3c3213a625c
This distribution has been tested as part of the CPAN Testers
project, supporting the Perl programming language.  See
http://wiki.cpantesters.org/ for more information or email
questions to cpan-testers-discuss@perl.org


--

Dear ETHER,

This is a computer-generated error report created automatically by
CPANPLUS, version 0.9914. Testers personal comments may appear
at the end of this report.


Thank you for uploading your work to CPAN.  Congratulations!
All tests were successful.

TEST RESULTS:

Below is the error stack from stage 'make test':

# 
# Versions for all modules listed in MYMETA.json (including optional ones):
# 
# === Configure Requires ===
# 
#     Module               Want     Have
#     ------------------- ----- --------
#     ExtUtils::MakeMaker   any     7.70
#     Module::Build::Tiny 0.034    0.051
#     perl                5.020 5.030002
# 
# === Test Requires ===
# 
#     Module                          Want     Have
#     ------------------------------ ----- --------
#     Data::Dumper                     any    2.174
#     File::Spec                       any     3.78
#     List::Util                      1.50     1.50
#     Math::BigInt                     any 1.999816
#     Module::Metadata                 any 1.000036
#     Path::Tiny                       any    0.146
#     Test::Deep                       any    1.204
#     Test::Fatal                      any    0.017
#     Test::JSON::Schema::Acceptance 1.026    1.026
#     Test::More                      0.96 1.302204
#     Test::Warnings                   any    0.033
#     lib                              any     0.65
#     open                             any     1.11
#     perl                           5.020 5.030002
#     strict                           any     1.11
#     utf8                             any     1.22
# 
# === Test Recommends ===
# 
#     Module         Want     Have
#     ---------- -------- --------
#     CPAN::Meta 2.120900 2.150010
# 
# === Runtime Requires ===
# 
#     Module                   Want     Have
#     -------------------- -------- --------
#     B                         any     1.76
#     Carp                      any     1.50
#     Exporter                 5.57     5.73
#     Feature::Compat::Try      any     0.05
#     JSON::PP                  any     4.02
#     List::Util               1.50     1.50
#     Math::BigFloat            any 1.999816
#     Mojo::JSON                any    undef
#     Mojo::JSON::Pointer       any    undef
#     Mojo::URL                 any    undef
#     Mojolicious              7.23     9.38
#     Ref::Util               0.100    0.204
#     Scalar::Util              any     1.50
#     Storable                  any     3.25
#     autovivification          any     0.18
#     builtin::compat      0.003003 0.003003
#     constant                  any     1.33
#     experimental            0.026    0.032
#     if                        any   0.0608
#     namespace::clean          any     0.27
#     perl                    5.020 5.030002
#     stable                  0.031    0.032
#     strictures                  2 2.000006
#     warnings                  any     1.44
# 
# === Runtime Suggests ===
# 
#     Module           Want  Have
#     ---------------- ---- -----
#     Cpanel::JSON::XS  any  4.38
#     Ref::Util::XS     any 0.117
# 
# === Other Modules ===
# 
#     Module              Have
#     ---------------- -------
#     Cpanel::JSON::XS    4.38
#     Encode              3.01
#     File::Temp        0.2311
#     JSON::PP            4.02
#     JSON::XS         missing
#     Module::Runtime    0.016
#     Mojolicious         9.38
#     Pod::Coverage    missing
#     Sub::Name        missing
#     YAML             missing
#     autodie             2.29
#     builtin          missing
# 
t/00-report-prereqs.t .............. ok
# 
# 
# generated with:              Test::JSON::Schema::Acceptance 1.026
# specification version:       draft2019-09
# using custom test directory: t/additional-tests-draft2019-09
# optional tests included:     no
# 
# filename                                  pass  todo-fail  fail
# ---------------------------------------------------------------
# anchor.json                                  2          0     0
# badRef.json                                  1          0     0
# faux-buggy-schemas.json                      2          0     0
# id.json                                      6          0     0
# integers.json                               29          0     0
# invalid-input.json                           2          0     0
# keyword-independence.json                  750         62     0
# loose-types-const-enum.json                  8          0     0
# ref-and-id.json                              1          0     0
# ref.json                                     4          0     0
# short-circuit.json                          16          0     0
# unknownKeyword.json                          4          0     0
# vocabulary.json                              1          0     0
# ---------------------------------------------------------------
# TOTAL                                      826         62     0
# 
# WARNING: some non-optional tests are failing! This implementation is not fully compliant with the specification!
# 
t/additional-tests-draft2019-09.t .. ok
# 
# 
# generated with:              Test::JSON::Schema::Acceptance 1.026
# specification version:       draft2020-12
# using custom test directory: t/additional-tests-draft2020-12
# optional tests included:     no
# 
# filename                                  pass  todo-fail  fail
# ---------------------------------------------------------------
# anchor.json                                  2          0     0
# badRef.json                                  1          0     0
# faux-buggy-schemas.json                      2          0     0
# id.json                                      6          0     0
# integers.json                               29          0     0
# invalid-input.json                           2          0     0
# keyword-independence.json                  756          0     0
# loose-types-const-enum.json                  8          0     0
# ref.json                                     4          0     0
# short-circuit.json                          16          0     0
# unknownKeyword.json                          4          0     0
# vocabulary.json                              1          0     0
# ---------------------------------------------------------------
# TOTAL                                      831          0     0
# 
# Congratulations, all non-optional tests are passing!
# 
t/additional-tests-draft2020-12.t .. ok
# 
# 
# generated with:              Test::JSON::Schema::Acceptance 1.026
# specification version:       draft7
# using custom test directory: t/additional-tests-draft7
# optional tests included:     no
# 
# filename                                  pass  todo-fail  fail
# ---------------------------------------------------------------
# anchor.json                                  2          0     0
# badRef.json                                  1          0     0
# faux-buggy-schemas.json                      2          0     0
# id.json                                      4          0     0
# integers.json                               29          0     0
# invalid-input.json                           2          0     0
# keyword-independence.json                  636          0     0
# loose-types-const-enum.json                  8          0     0
# ref-and-id.json                              1          0     0
# ref.json                                     4          0     0
# short-circuit.json                          16          0     0
# unknownKeyword.json                          4          0     0
# vocabulary.json                              1          0     0
# ---------------------------------------------------------------
# TOTAL                                      710          0     0
# 
# Congratulations, all non-optional tests are passing!
# 
t/additional-tests-draft7.t ........ ok
t/boolean-data.t ................... ok
t/boolean-schemas.t ................ ok
t/equality.t ....................... ok
t/errors.t ......................... ok
t/max_traversal_depth.t ............ ok
t/pattern.t ........................ ok
t/ref.t ............................ ok
t/specification_version.t .......... ok
t/stringy-numbers.t ................ ok
t/type.t ........................... ok
t/unsupported-keywords.t ........... ok
# 
# 
# generated with:              Test::JSON::Schema::Acceptance 1.026
# with commit:                 9fc880bfb6d8ccd093bc82431f17d13681ffae8e (23.2.0-117-g9fc880b)
# from repository:             git://github.com/json-schema-org/JSON-Schema-Test-Suite.git
# specification version:       draft2019-09
# optional tests included:     yes
# skipping directory:          optional/format
# 
# filename                                  pass  todo-fail  fail
# ---------------------------------------------------------------
# additionalItems.json                        20          0     0
# additionalProperties.json                   21          0     0
# allOf.json                                  30          0     0
# anchor.json                                  4          4     0
# anyOf.json                                  18          0     0
# boolean_schema.json                         18          0     0
# const.json                                  50          0     0
# contains.json                               21          0     0
# content.json                                18          0     0
# default.json                                 7          0     0
# defs.json                                    1          1     0
# dependentRequired.json                      20          0     0
# dependentSchemas.json                       20          0     0
# enum.json                                   45          0     0
# exclusiveMaximum.json                        4          0     0
# exclusiveMinimum.json                        4          0     0
# format.json                                114          0     0
# if-then-else.json                           26          0     0
# infinite-loop-detection.json                 2          0     0
# items.json                                  28          0     0
# maxContains.json                            12          0     0
# maxItems.json                                6          0     0
# maxLength.json                               7          0     0
# maxProperties.json                          10          0     0
# maximum.json                                 8          0     0
# minContains.json                            28          0     0
# minItems.json                                6          0     0
# minLength.json                               7          0     0
# minProperties.json                           8          0     0
# minimum.json                                11          0     0
# multipleOf.json                             10          0     0
# not.json                                    39          1     0
# oneOf.json                                  27          0     0
# pattern.json                                 9          0     0
# patternProperties.json                      23          0     0
# properties.json                             28          0     0
# propertyNames.json                          13          0     0
# recursiveRef.json                           20         14     0
# ref.json                                    65         14     0
# refRemote.json                              15         16     0
# required.json                               16          0     0
# type.json                                   80          0     0
# unevaluatedItems.json                       20         35     0
# unevaluatedProperties.json                  60         62     0
# uniqueItems.json                            69          0     0
# vocabulary.json                              2          3     0
# optional/anchor.json                         2          2     0
# optional/bignum.json                         9          0     0
# optional/cross-draft.json                    1          2     0
# optional/dependencies-compatibility.json    22         14     0
# optional/ecmascript-regex.json              60         14     0
# optional/float-overflow.json                 1          0     0
# optional/id.json                             1          2     0
# optional/no-schema.json                      3          0     0
# optional/non-bmp-regex.json                 12          0     0
# optional/refOfUnknownKeyword.json            6          0     0
# optional/unknownKeyword.json                 2          1     0
# ---------------------------------------------------------------
# TOTAL                                     1189        185     0
# 
# WARNING: some non-optional tests are failing! This implementation is not fully compliant with the specification!
# 
t/zzz-acceptance-draft2019-09.t .... ok
# 
# 
# generated with:              Test::JSON::Schema::Acceptance 1.026
# with commit:                 9fc880bfb6d8ccd093bc82431f17d13681ffae8e (23.2.0-117-g9fc880b)
# from repository:             git://github.com/json-schema-org/JSON-Schema-Test-Suite.git
# specification version:       draft2020-12
# optional tests included:     yes
# skipping directory:          optional/format
# 
# filename                                  pass  todo-fail  fail
# ---------------------------------------------------------------
# additionalProperties.json                   21          0     0
# allOf.json                                  30          0     0
# anchor.json                                  4          4     0
# anyOf.json                                  18          0     0
# boolean_schema.json                         18          0     0
# const.json                                  50          0     0
# contains.json                               21          0     0
# content.json                                18          0     0
# default.json                                 7          0     0
# defs.json                                    1          1     0
# dependentRequired.json                      20          0     0
# dependentSchemas.json                       20          0     0
# dynamicRef.json                             22         20     0
# enum.json                                   45          0     0
# exclusiveMaximum.json                        4          0     0
# exclusiveMinimum.json                        4          0     0
# format.json                                133          0     0
# if-then-else.json                           26          0     0
# infinite-loop-detection.json                 2          0     0
# items.json                                  29          0     0
# maxContains.json                            12          0     0
# maxItems.json                                6          0     0
# maxLength.json                               7          0     0
# maxProperties.json                          10          0     0
# maximum.json                                 8          0     0
# minContains.json                            28          0     0
# minItems.json                                6          0     0
# minLength.json                               7          0     0
# minProperties.json                           8          0     0
# minimum.json                                11          0     0
# multipleOf.json                             10          0     0
# not.json                                    39          1     0
# oneOf.json                                  27          0     0
# pattern.json                                 9          0     0
# patternProperties.json                      23          0     0
# prefixItems.json                            11          0     0
# properties.json                             28          0     0
# propertyNames.json                          10          0     0
# ref.json                                    64         13     0
# refRemote.json                              15         16     0
# required.json                               16          0     0
# type.json                                   80          0     0
# unevaluatedItems.json                       26         40     0
# unevaluatedProperties.json                  60         62     0
# uniqueItems.json                            69          0     0
# vocabulary.json                              2          3     0
# optional/anchor.json                         2          2     0
# optional/bignum.json                         9          0     0
# optional/cross-draft.json                    0          1     0
# optional/dependencies-compatibility.json    22         14     0
# optional/dynamicRef.json                     1          1     0
# optional/ecmascript-regex.json              60         15     0
# optional/float-overflow.json                 1          0     0
# optional/format-assertion.json               2          2     0
# optional/id.json                             1          2     0
# optional/no-schema.json                      3          0     0
# optional/non-bmp-regex.json                 12          0     0
# optional/refOfUnknownKeyword.json            6          0     0
# optional/unknownKeyword.json                 2          1     0
# ---------------------------------------------------------------
# TOTAL                                     1206        198     0
# 
# WARNING: some non-optional tests are failing! This implementation is not fully compliant with the specification!
# 
t/zzz-acceptance-draft2020-12.t .... ok
# 
# 
# generated with:              Test::JSON::Schema::Acceptance 1.026
# with commit:                 9fc880bfb6d8ccd093bc82431f17d13681ffae8e (23.2.0-117-g9fc880b)
# from repository:             git://github.com/json-schema-org/JSON-Schema-Test-Suite.git
# specification version:       draft7
# optional tests included:     yes
# skipping directory:          optional/format
# 
# filename                                  pass  todo-fail  fail
# ---------------------------------------------------------------
# additionalItems.json                        20          0     0
# additionalProperties.json                   16          0     0
# allOf.json                                  30          0     0
# anyOf.json                                  18          0     0
# boolean_schema.json                         18          0     0
# const.json                                  50          0     0
# contains.json                               21          0     0
# default.json                                 7          0     0
# definitions.json                             1          1     0
# dependencies.json                           36          0     0
# enum.json                                   45          0     0
# exclusiveMaximum.json                        4          0     0
# exclusiveMinimum.json                        4          0     0
# format.json                                102          0     0
# if-then-else.json                           26          0     0
# infinite-loop-detection.json                 2          0     0
# items.json                                  28          0     0
# maxItems.json                                6          0     0
# maxLength.json                               7          0     0
# maxProperties.json                          10          0     0
# maximum.json                                 8          0     0
# minItems.json                                6          0     0
# minLength.json                               7          0     0
# minProperties.json                           8          0     0
# minimum.json                                11          0     0
# multipleOf.json                             10          0     0
# not.json                                    38          0     0
# oneOf.json                                  27          0     0
# pattern.json                                 9          0     0
# patternProperties.json                      23          0     0
# properties.json                             28          0     0
# propertyNames.json                          13          0     0
# ref.json                                    64         14     0
# refRemote.json                              11         12     0
# required.json                               16          0     0
# type.json                                   80          0     0
# uniqueItems.json                            69          0     0
# optional/bignum.json                         9          0     0
# optional/content.json                        6          4     0
# optional/cross-draft.json                    1          1     0
# optional/ecmascript-regex.json              60         14     0
# optional/float-overflow.json                 1          0     0
# optional/id.json                             5          2     0
# optional/non-bmp-regex.json                 12          0     0
# optional/unknownKeyword.json                 2          1     0
# ---------------------------------------------------------------
# TOTAL                                      975         49     0
# 
# WARNING: some non-optional tests are failing! This implementation is not fully compliant with the specification!
# 
t/zzz-acceptance-draft7.t .......... ok
All tests successful.

Test Summary Report
-------------------
t/additional-tests-draft2019-09.t (Wstat: 0 Tests: 889 Failed: 0)
  TODO passed:   123-142, 199-202, 239-242, 279-282, 319-362
                399-402, 451-462, 511-514, 551-554, 591-594
                631-634, 671-674, 843-854
t/zzz-acceptance-draft2019-09.t  (Wstat: 0 Tests: 1374 Failed: 0)
  TODO passed:   72-79, 212-213, 628-629, 730-763, 783-784
                791-792, 799-810, 823-834, 841-873, 970-1146
                1216-1224, 1234-1272, 1281-1290, 1296, 1307
                1318-1319, 1326, 1335-1336, 1343, 1348-1350
                1372
t/zzz-acceptance-draft2020-12.t  (Wstat: 0 Tests: 1404 Failed: 0)
  TODO passed:   52-59, 192-193, 234-275, 670-671, 799-800
                807-808, 815-826, 839-850, 857-887, 984-1171
                1241-1249, 1259-1297, 1306-1315, 1321, 1332
                1343-1344, 1351-1352, 1361-1362, 1369, 1374-1380
                1402
t/zzz-acceptance-draft7.t        (Wstat: 0 Tests: 1024 Failed: 0)
  TODO passed:   181-182, 660-663, 670-671, 674-679, 683-690
                703-712, 719-741, 916-927, 936-945, 951
                962, 973-974, 981, 990-991, 998, 1003-1009
                1022
Files=18, Tests=6385, 17 wallclock secs ( 2.41 usr  0.13 sys + 13.34 cusr  0.87 csys = 16.75 CPU)
Result: PASS


PREREQUISITES:

Here is a list of prerequisites you specified and versions we
managed to load:

	  Module Name                        Have     Want
	  B                                  1.76        0
	  Carp                               1.50        0
	  Data::Dumper                      2.174        0
	  Exporter                           5.73     5.57
	  Feature::Compat::Try               0.05        0
	  File::Spec                         3.78        0
	  JSON::PP                           4.02        0
	  List::Util                         1.50     1.50
	  Math::BigFloat                 1.999816        0
	  Math::BigInt                   1.999816        0
	  Module::Metadata               1.000036        0
	  Mojo::JSON                            0        0
	  Mojo::JSON::Pointer                   0        0
	  Mojo::URL                             0        0
	  Mojolicious                        9.38     7.23
	  Path::Tiny                        0.146        0
	  Ref::Util                         0.204    0.100
	  Scalar::Util                       1.50        0
	  Storable                           3.25        0
	  Test::Deep                        1.204        0
	  Test::Fatal                       0.017        0
	  Test::JSON::Schema::Acceptance    1.026    1.026
	  Test::More                     1.302204     0.96
	  Test::Warnings                    0.033        0
	  autovivification                   0.18        0
	  builtin::compat                0.003003 0.003003
	  constant                           1.33        0
	  experimental                      0.032    0.026
	  if                               0.0608        0
	  lib                                0.65        0
	  namespace::clean                   0.27        0
	  open                               1.11        0
	  stable                            0.032    0.031
	  strict                             1.11        0
	  strictures                     2.000006        2
	  utf8                               1.22        0
	  warnings                           1.44        0

Perl module toolchain versions installed:
	Module Name                        Have
	CPANPLUS                         0.9914
	CPANPLUS::Dist::Build              0.90
	Cwd                                3.78
	ExtUtils::CBuilder             0.280236
	ExtUtils::Command                  7.70
	ExtUtils::Install                  2.22
	ExtUtils::MakeMaker                7.70
	ExtUtils::Manifest                 1.75
	ExtUtils::ParseXS                  3.51
	File::Spec                         3.78
	Module::Build                    0.4234
	Pod::Parser                        1.63
	Pod::Simple                        3.35
	Test2                          1.302204
	Test::Harness                      3.48
	Test::More                     1.302204
	version                          0.9932

******************************** NOTE ********************************
The comments above are created mechanically, possibly without manual
checking by the sender.  As there are many people performing automatic
tests on each upload to CPAN, it is likely that you will receive
identical messages about the same problem.

If you believe that the message is mistaken, please reply to the first
one with correction and/or additional informations, and do not take
it personally.  We appreciate your patience. :)
**********************************************************************

Additional comments:


This report was machine-generated by CPANPLUS::Dist::YACSmoke 1.08.
Powered by minismokebox version 0.68

CPANPLUS is prefering Build.PL

------------------------------
ENVIRONMENT AND OTHER CONTEXT
------------------------------

Environment variables:

    AUTOMATED_TESTING = 1
    LANG = en_GB.UTF-8
    LANGUAGE = en_GB:en
    NONINTERACTIVE_TESTING = 1
    PATH = /usr/local/sbin:/usr/local/bin:/usr/sbin:/usr/bin:/sbin:/bin:/usr/games:/usr/local/games:/snap/bin
    PERL5LIB = /home/cpan/pit/jail/ic1KnXRo66/lib/perl5:/home/cpan/pit/thr-qm/conf/perl-5.30.2/.cpanplus/5.30.2/build/rLqAvHopgt/JSON-Schema-Tiny-0.028/blib/lib:/home/cpan/pit/thr-qm/conf/perl-5.30.2/.cpanplus/5.30.2/build/rLqAvHopgt/JSON-Schema-Tiny-0.028/blib/arch
    PERL5_CPANPLUS_IS_RUNNING = 2590493
    PERL5_CPANPLUS_IS_VERSION = 0.9914
    PERL5_MINISMOKEBOX = 0.68
    PERL5_YACSMOKE_BASE = /home/cpan/pit/thr-qm/conf/perl-5.30.2
    PERL_EXTUTILS_AUTOINSTALL = --defaultdeps
    PERL_LOCAL_LIB_ROOT = /home/cpan/pit/jail/ic1KnXRo66
    PERL_MB_OPT = --install_base "/home/cpan/pit/jail/ic1KnXRo66"
    PERL_MM_OPT = INSTALL_BASE=/home/cpan/pit/jail/ic1KnXRo66
    PERL_MM_USE_DEFAULT = 1
    SHELL = /bin/bash
    TERM = screen.xterm-256color

Perl special variables (and OS-specific diagnostics, for MSWin32):

    Perl: $^X = /home/cpan/pit/thr-qm/perl-5.30.2/bin/perl
    UID:  $<  = 1001
    EUID: $>  = 1001
    GID:  $(  = 1001 1001
    EGID: $)  = 1001 1001


-------------------------------


--

Summary of my perl5 (revision 5 version 30 subversion 2) configuration:
   
  Platform:
    osname=linux
    osvers=5.4.0-26-generic
    archname=x86_64-linux-thread-multi-quadmath
    uname='linux uchder 5.4.0-26-generic #30-ubuntu smp mon apr 20 16:58:30 utc 2020 x86_64 x86_64 x86_64 gnulinux '
    config_args='-des -Dprefix=/home/cpan/pit/thr-qm/perl-5.30.2 -Dusethreads -Dusequadmath'
    hint=recommended
    useposix=true
    d_sigaction=define
    useithreads=define
    usemultiplicity=define
    use64bitint=define
    use64bitall=define
    uselongdouble=undef
    usemymalloc=n
    default_inc_excludes_dot=define
    bincompat5005=undef
  Compiler:
    cc='cc'
    ccflags ='-D_REENTRANT -D_GNU_SOURCE -fwrapv -fno-strict-aliasing -pipe -fstack-protector-strong -I/usr/local/include -D_LARGEFILE_SOURCE -D_FILE_OFFSET_BITS=64'
    optimize='-O2'
    cppflags='-D_REENTRANT -D_GNU_SOURCE -fwrapv -fno-strict-aliasing -pipe -fstack-protector-strong -I/usr/local/include'
    ccversion=''
    gccversion='9.3.0'
    gccosandvers=''
    intsize=4
    longsize=8
    ptrsize=8
    doublesize=8
    byteorder=12345678
    doublekind=3
    d_longlong=define
    longlongsize=8
    d_longdbl=define
    longdblsize=16
    longdblkind=3
    ivtype='long'
    ivsize=8
    nvtype='__float128'
    nvsize=16
    Off_t='off_t'
    lseeksize=8
    alignbytes=16
    prototype=define
  Linker and Libraries:
    ld='cc'
    ldflags =' -fstack-protector-strong -L/usr/local/lib'
    libpth=/usr/local/lib /usr/include/x86_64-linux-gnu /usr/lib /lib/x86_64-linux-gnu /lib/../lib /usr/lib/x86_64-linux-gnu /usr/lib/../lib /lib
    libs=-lpthread -lnsl -lgdbm -ldl -lm -lcrypt -lutil -lc -lquadmath
    perllibs=-lpthread -lnsl -ldl -lm -lcrypt -lutil -lc -lquadmath
    libc=libc-2.31.so
    so=so
    useshrplib=false
    libperl=libperl.a
    gnulibc_version='2.31'
  Dynamic Linking:
    dlsrc=dl_dlopen.xs
    dlext=so
    d_dlsymun=undef
    ccdlflags='-Wl,-E'
    cccdlflags='-fPIC'
    lddlflags='-shared -O2 -L/usr/local/lib -fstack-protector-strong'


Characteristics of this binary (from libperl): 
  Compile-time options:
    HAS_TIMES
    MULTIPLICITY
    PERLIO_LAYERS
    PERL_COPY_ON_WRITE
    PERL_DONT_CREATE_GVSV
    PERL_IMPLICIT_CONTEXT
    PERL_MALLOC_WRAP
    PERL_OP_PARENT
    PERL_PRESERVE_IVUV
    USE_64_BIT_ALL
    USE_64_BIT_INT
    USE_ITHREADS
    USE_LARGE_FILES
    USE_LOCALE
    USE_LOCALE_COLLATE
    USE_LOCALE_CTYPE
    USE_LOCALE_NUMERIC
    USE_LOCALE_TIME
    USE_PERLIO
    USE_PERL_ATOF
    USE_QUADMATH
    USE_REENTRANT_API
    USE_THREAD_SAFE_LOCALE
  Locally applied patches:
    Devel::PatchPerl 1.90
  Built under linux
  Compiled at Apr 27 2020 01:51:22
  %ENV:
    PERL5LIB="/home/cpan/pit/jail/ic1KnXRo66/lib/perl5:/home/cpan/pit/thr-qm/conf/perl-5.30.2/.cpanplus/5.30.2/build/rLqAvHopgt/JSON-Schema-Tiny-0.028/blib/lib:/home/cpan/pit/thr-qm/conf/perl-5.30.2/.cpanplus/5.30.2/build/rLqAvHopgt/JSON-Schema-Tiny-0.028/blib/arch"
    PERL5_CPANPLUS_IS_RUNNING="2590493"
    PERL5_CPANPLUS_IS_VERSION="0.9914"
    PERL5_MINISMOKEBOX="0.68"
    PERL5_YACSMOKE_BASE="/home/cpan/pit/thr-qm/conf/perl-5.30.2"
    PERL_EXTUTILS_AUTOINSTALL="--defaultdeps"
    PERL_LOCAL_LIB_ROOT="/home/cpan/pit/jail/ic1KnXRo66"
    PERL_MB_OPT="--install_base "/home/cpan/pit/jail/ic1KnXRo66""
    PERL_MM_OPT="INSTALL_BASE=/home/cpan/pit/jail/ic1KnXRo66"
    PERL_MM_USE_DEFAULT="1"
  @INC:
    /home/cpan/pit/jail/ic1KnXRo66/lib/perl5/5.30.2/x86_64-linux-thread-multi-quadmath
    /home/cpan/pit/jail/ic1KnXRo66/lib/perl5/5.30.2
    /home/cpan/pit/jail/ic1KnXRo66/lib/perl5/x86_64-linux-thread-multi-quadmath
    /home/cpan/pit/jail/ic1KnXRo66/lib/perl5
    /home/cpan/pit/thr-qm/conf/perl-5.30.2/.cpanplus/5.30.2/build/rLqAvHopgt/JSON-Schema-Tiny-0.028/blib/lib
    /home/cpan/pit/thr-qm/conf/perl-5.30.2/.cpanplus/5.30.2/build/rLqAvHopgt/JSON-Schema-Tiny-0.028/blib/arch
    /home/cpan/pit/thr-qm/perl-5.30.2/lib/site_perl/5.30.2/x86_64-linux-thread-multi-quadmath
    /home/cpan/pit/thr-qm/perl-5.30.2/lib/site_perl/5.30.2
    /home/cpan/pit/thr-qm/perl-5.30.2/lib/5.30.2/x86_64-linux-thread-multi-quadmath
    /home/cpan/pit/thr-qm/perl-5.30.2/lib/5.30.2