Test-CleanNamespaces v0.24 Perl 5 v5.16.0 x86_64-linux

Status
Pass
From
Chris Williams (BINGOS)
Dist
Test-CleanNamespaces v0.24
Platform
Perl 5 v5.16.0 x86_64-linux
Date
2019-06-29 00:57:19
ID
d85d4f06-9a08-11e9-a3a0-ba4fdb342e45
This distribution has been tested as part of the CPAN Testers
project, supporting the Perl programming language.  See
http://wiki.cpantesters.org/ for more information or email
questions to cpan-testers-discuss@perl.org


--

Dear Karen Etheridge,

This is a computer-generated error report created automatically by
CPANPLUS, version 0.9172. Testers personal comments may appear
at the end of this report.


Thank you for uploading your work to CPAN.  Congratulations!
All tests were successful.

TEST RESULTS:

Below is the error stack from stage 'make test':

PERL_DL_NONLAZY=1 "/opt/perl-5.16.0/bin/perl" "-MExtUtils::Command::MM" "-MTest::Harness" "-e" "undef *Test::Harness::Switches; test_harness(0, 'blib/lib', 'blib/arch')" t/*.t
# 
# Versions for all modules listed in MYMETA.json (including optional ones):
# 
# === Configure Requires ===
# 
#     Module                       Want     Have
#     ------------------------ -------- --------
#     CPAN::Meta::Requirements 2.120620    2.140
#     ExtUtils::MakeMaker           any     7.36
#     Module::Metadata              any 1.000036
# 
# === Build Requires ===
# 
#     Module              Want Have
#     ------------------- ---- ----
#     ExtUtils::MakeMaker  any 7.36
# 
# === Test Requires ===
# 
#     Module                 Want     Have
#     --------------------- ----- --------
#     ExtUtils::MakeMaker     any     7.36
#     File::Spec              any     3.75
#     File::Spec::Functions   any     3.75
#     File::pushd             any    1.016
#     Scalar::Util            any     1.50
#     Sub::Exporter           any    0.987
#     Test::Deep              any    1.128
#     Test::More             0.96 1.302164
#     Test::Needs             any 0.002005
#     Test::Tester            any 1.302164
#     Test::Warnings        0.009    0.026
#     constant                any     1.33
#     if                      any   0.0608
#     lib                     any     0.63
#     namespace::clean        any     0.27
#     overload                any     1.18
#     parent                  any    0.236
# 
# === Test Recommends ===
# 
#     Module         Want     Have
#     ---------- -------- --------
#     CPAN::Meta 2.120900 2.150010
# 
# === Test Suggests ===
# 
#     Module                          Want     Have
#     --------------------------- -------- --------
#     Class::MOP::Class                any   2.2011
#     Moo                              any 2.003002
#     Moo::Role                        any 2.003002
#     Moose                            any   2.2011
#     Moose::Exporter                  any   2.2011
#     Moose::Role                      any   2.2011
#     MooseX::Role::Parameterized      any  missing
#     Mouse                            any  missing
#     Mouse::Role                      any  missing
#     Role::Tiny                  1.003000 2.000006
#     metaclass                        any   2.2011
# 
# === Runtime Requires ===
# 
#     Module              Want     Have
#     --------------- -------- --------
#     Exporter            5.57     5.73
#     File::Find           any     1.20
#     File::Spec           any     3.75
#     Module::Runtime      any    0.016
#     Package::Stash      0.14     0.38
#     Role::Tiny      1.003000 2.000006
#     Sub::Identify        any     0.14
#     Test::Builder        any 1.302164
#     strict               any     1.07
#     warnings             any     1.13
# 
# === Runtime Recommends ===
# 
#     Module             Want Have
#     ------------------ ---- ----
#     Package::Stash::XS  any 0.29
# 
# === Runtime Suggests ===
# 
#     Module     Want     Have
#     ---------- ---- --------
#     Role::Tiny  any 2.000006
# 
# === Other Modules ===
# 
#     Module            Have
#     --------------- ------
#     Encode            3.01
#     File::Temp      0.2309
#     JSON::PP          4.03
#     Module::Runtime  0.016
#     Pod::Coverage     0.23
#     Sub::Name         0.21
#     YAML              1.24
#     autodie           2.29
# 
t/00-report-prereqs.t ......... ok
t/basic.t ..................... ok
t/class_mop.t ................. ok
t/clean-namespaces.t .......... ok
t/find_modules.t .............. ok
t/moo.t ....................... ok
t/moose-parameterized-role.t .. skipped: Need MooseX::Role::Parameterized
t/moose.t ..................... ok
t/mouse.t ..................... skipped: Need Mouse
t/overload.t .................. ok
t/role_tiny.t ................. ok
t/self.t ...................... ok
t/zzz-check-breaks.t .......... ok
All tests successful.
Files=13, Tests=174,  2 wallclock secs ( 0.06 usr  0.02 sys +  1.76 cusr  0.20 csys =  2.04 CPU)
Result: PASS


PREREQUISITES:

Here is a list of prerequisites you specified and versions we
managed to load:

	  Module Name                        Have     Want
	  Exporter                           5.73     5.57
	  ExtUtils::MakeMaker                7.36        0
	  File::Find                         1.20        0
	  File::Spec                         3.75        0
	  File::Spec::Functions              3.75        0
	  File::pushd                       1.016        0
	  Module::Runtime                   0.016        0
	  Package::Stash                     0.38     0.14
	  Role::Tiny                     2.000006 1.003000
	  Scalar::Util                       1.50        0
	  Sub::Exporter                     0.987        0
	  Sub::Identify                      0.14        0
	  Test::Builder                  1.302164        0
	  Test::Deep                        1.128        0
	  Test::More                     1.302164     0.96
	  Test::Needs                    0.002005        0
	  Test::Tester                   1.302164        0
	  Test::Warnings                    0.026    0.009
	  constant                           1.33        0
	  if                               0.0608        0
	  lib                                0.63        0
	  namespace::clean                   0.27        0
	  overload                           1.18        0
	  parent                            0.236        0
	  strict                             1.07        0
	  warnings                           1.13        0

Perl module toolchain versions installed:
	Module Name                        Have
	CPANPLUS                         0.9176
	CPANPLUS::Dist::Build              0.90
	Cwd                                3.75
	ExtUtils::CBuilder             0.280231
	ExtUtils::Command                  7.36
	ExtUtils::Install                  2.14
	ExtUtils::MakeMaker                7.36
	ExtUtils::Manifest                 1.72
	ExtUtils::ParseXS                  3.35
	File::Spec                         3.75
	Module::Build                    0.4229
	Pod::Parser                        1.63
	Pod::Simple                        3.38
	Test2                          1.302164
	Test::Harness                      3.42
	Test::More                     1.302164
	version                          0.9924

******************************** NOTE ********************************
The comments above are created mechanically, possibly without manual
checking by the sender.  As there are many people performing automatic
tests on each upload to CPAN, it is likely that you will receive
identical messages about the same problem.

If you believe that the message is mistaken, please reply to the first
one with correction and/or additional informations, and do not take
it personally.  We appreciate your patience. :)
**********************************************************************

Additional comments:


This report was machine-generated by CPANPLUS::Dist::YACSmoke 1.02.

------------------------------
ENVIRONMENT AND OTHER CONTEXT
------------------------------

Environment variables:

    AUTOMATED_TESTING = 1
    LANG = en_US.UTF-8
    PATH = /usr/local/sbin:/usr/local/bin:/usr/sbin:/usr/bin:/sbin:/bin:/usr/games:/usr/local/games
    PERL5LIB = :/opt/perl-5.16.0/.cpanplus/5.16.0/build/xPjDHPUaiz/Test-CleanNamespaces-0.24/blib/lib:/opt/perl-5.16.0/.cpanplus/5.16.0/build/xPjDHPUaiz/Test-CleanNamespaces-0.24/blib/arch
    PERL5_CPANIDX_URL = http://cpanidx.org/cpanidx/
    PERL5_CPANPLUS_HOME = /opt/perl-5.16.0
    PERL5_CPANPLUS_IS_RUNNING = 2560
    PERL5_CPANPLUS_IS_VERSION = 0.9172
    PERL_EXTUTILS_AUTOINSTALL = --defaultdeps
    PERL_INSTALL_QUIET = 1
    PERL_MM_USE_DEFAULT = 1
    SHELL = /bin/bash
    TERM = screen

Perl special variables (and OS-specific diagnostics, for MSWin32):

    Perl: $^X = /opt/perl-5.16.0/bin/perl
    UID:  $<  = 0
    EUID: $>  = 0
    GID:  $(  = 0 0
    EGID: $)  = 0 0


-------------------------------


--

Summary of my perl5 (revision 5 version 16 subversion 0) configuration:
   
  Platform:
    osname=linux, osvers=3.0.18-x86_64-linode24, archname=x86_64-linux
    uname='linux cabbage 3.0.18-x86_64-linode24 #1 smp mon jan 30 14:25:46 est 2012 x86_64 x86_64 x86_64 gnulinux '
    config_args='-des -Dprefix=/opt/perl-5.16.0'
    hint=recommended, useposix=true, d_sigaction=define
    useithreads=undef, usemultiplicity=undef
    useperlio=define, d_sfio=undef, uselargefiles=define, usesocks=undef
    use64bitint=define, use64bitall=define, uselongdouble=undef
    usemymalloc=n, bincompat5005=undef
  Compiler:
    cc='cc', ccflags ='-fno-strict-aliasing -pipe -fstack-protector -I/usr/local/include -D_LARGEFILE_SOURCE -D_FILE_OFFSET_BITS=64',
    optimize='-O2',
    cppflags='-fno-strict-aliasing -pipe -fstack-protector -I/usr/local/include'
    ccversion='', gccversion='4.6.3', gccosandvers=''
    intsize=4, longsize=8, ptrsize=8, doublesize=8, byteorder=12345678
    d_longlong=define, longlongsize=8, d_longdbl=define, longdblsize=16
    ivtype='long', ivsize=8, nvtype='double', nvsize=8, Off_t='off_t', lseeksize=8
    alignbytes=8, prototype=define
  Linker and Libraries:
    ld='cc', ldflags =' -fstack-protector -L/usr/local/lib'
    libpth=/usr/local/lib /lib/x86_64-linux-gnu /lib/../lib /usr/lib/x86_64-linux-gnu /usr/lib/../lib /lib /usr/lib
    libs=-lnsl -lgdbm -ldb -ldl -lm -lcrypt -lutil -lc -lgdbm_compat
    perllibs=-lnsl -ldl -lm -lcrypt -lutil -lc
    libc=, so=so, useshrplib=false, libperl=libperl.a
    gnulibc_version='2.15'
  Dynamic Linking:
    dlsrc=dl_dlopen.xs, dlext=so, d_dlsymun=undef, ccdlflags='-Wl,-E'
    cccdlflags='-fPIC', lddlflags='-shared -O2 -L/usr/local/lib -fstack-protector'


Characteristics of this binary (from libperl): 
  Compile-time options: HAS_TIMES PERLIO_LAYERS PERL_DONT_CREATE_GVSV
                        PERL_MALLOC_WRAP PERL_PRESERVE_IVUV USE_64_BIT_ALL
                        USE_64_BIT_INT USE_LARGE_FILES USE_LOCALE
                        USE_LOCALE_COLLATE USE_LOCALE_CTYPE
                        USE_LOCALE_NUMERIC USE_PERLIO USE_PERL_ATOF
  Built under linux
  Compiled at Jun  4 2012 23:08:15
  %ENV:
    PERL5LIB=":/opt/perl-5.16.0/.cpanplus/5.16.0/build/xPjDHPUaiz/Test-CleanNamespaces-0.24/blib/lib:/opt/perl-5.16.0/.cpanplus/5.16.0/build/xPjDHPUaiz/Test-CleanNamespaces-0.24/blib/arch"
    PERL5_CPANIDX_URL="http://cpanidx.org/cpanidx/"
    PERL5_CPANPLUS_HOME="/opt/perl-5.16.0"
    PERL5_CPANPLUS_IS_RUNNING="2560"
    PERL5_CPANPLUS_IS_VERSION="0.9172"
    PERL_EXTUTILS_AUTOINSTALL="--defaultdeps"
    PERL_INSTALL_QUIET="1"
    PERL_MM_USE_DEFAULT="1"
  @INC:
    /opt/perl-5.16.0/.cpanplus/5.16.0/build/xPjDHPUaiz/Test-CleanNamespaces-0.24/blib/lib
    /opt/perl-5.16.0/.cpanplus/5.16.0/build/xPjDHPUaiz/Test-CleanNamespaces-0.24/blib/arch
    /opt/perl-5.16.0/lib/site_perl/5.16.0/x86_64-linux
    /opt/perl-5.16.0/lib/site_perl/5.16.0
    /opt/perl-5.16.0/lib/5.16.0/x86_64-linux
    /opt/perl-5.16.0/lib/5.16.0
    .