Alt-Crypt-RSA-BigInt v0.06 Perl 5 v5.32.1 i386-openbsd

Status
Pass
From
Alceu Rodrigues de Freitas Junior
Dist
Alt-Crypt-RSA-BigInt v0.06
Platform
Perl 5 v5.32.1 i386-openbsd
Date
2022-06-16 05:19:06
ID
d8419b9a-ed33-11ec-b737-db65ffa5fe2c
This distribution has been tested as part of the CPAN Testers
project, supporting the Perl programming language.  See
http://wiki.cpantesters.org/ for more information or email
questions to cpan-testers-discuss@perl.org


--
Dear Dana Jacobsen,

This is a computer-generated report for Alt-Crypt-RSA-BigInt-0.06
on perl 5.32.1, created by CPAN-Reporter-1.2018.

Thank you for uploading your work to CPAN.  Congratulations!
All tests were successful.

Sections of this report:

    * Tester comments
    * Program output
    * Prerequisites
    * Environment and other context

------------------------------
TESTER COMMENTS
------------------------------

Additional comments from tester:

this report is from an automated smoke testing program
and was not reviewed by a human for accuracy

------------------------------
PROGRAM OUTPUT
------------------------------

Output from '/usr/bin/make test':

PERL_DL_NONLAZY=1 "/usr/bin/perl" "-MExtUtils::Command::MM" "-MTest::Harness" "-e" "undef *Test::Harness::Switches; test_harness(0, 'blib/lib', 'blib/arch')" t/*.t
t/00-errorhandler.t ........ ok
t/01-i2osp.t ............... ok
t/02-os2ip.t ............... ok
t/02a-h2osp.t .............. ok
t/03-random_octet.t ........ ok
t/04-octet_xor.t ........... ok
t/05-primitives.t .......... ok
# BigInt library: Pari
# GMP is much faster for this application
t/06-oaep.t ................ ok
t/07-pss.t ................. ok
WARNING: The key derivation method "opensslv1" is deprecated. Using -pbkdf=>'pbkdf2' would be better.
Pass -nodeprecate=>1 to inhibit this message.
 at /home/goku/perl5/lib/perl5/Tie/EncryptedHash.pm line 125.
WARNING: The key derivation method "opensslv1" is deprecated. Using -pbkdf=>'pbkdf2' would be better.
Pass -nodeprecate=>1 to inhibit this message.
 at /home/goku/perl5/lib/perl5/Tie/EncryptedHash.pm line 125.
WARNING: The key derivation method "opensslv1" is deprecated. Using -pbkdf=>'pbkdf2' would be better.
Pass -nodeprecate=>1 to inhibit this message.
 at /home/goku/perl5/lib/perl5/Tie/EncryptedHash.pm line 125.
WARNING: The key derivation method "opensslv1" is deprecated. Using -pbkdf=>'pbkdf2' would be better.
Pass -nodeprecate=>1 to inhibit this message.
 at /home/goku/perl5/lib/perl5/Tie/EncryptedHash.pm line 125.
t/08-secretkey.t ........... ok
t/09-publickey.t ........... ok
t/10-keygen.t .............. ok
t/11-wrapper.t ............. ok
t/12-versioning.t .......... ok
t/13-es-pkcs1v15.t ......... ok
t/14-ss-pkcs1v15.t ......... ok
t/15-benchmark.t ........... ok
t/16-serialize.t ........... ok
t/17-public-ssh.t .......... ok
WARNING: The key derivation method "opensslv1" is deprecated. Using -pbkdf=>'pbkdf2' would be better.
Pass -nodeprecate=>1 to inhibit this message.
 at /mnt/cpan_build_dir/goku/Alt-Crypt-RSA-BigInt-0.06-1/blib/lib/Crypt/RSA/Key/Private/SSH.pm line 236.
t/18-private-ssh.t ......... ok
t/91-release-pod-syntax.t .. skipped: these tests are for release candidate testing
All tests successful.
Files=21, Tests=117, 22 wallclock secs ( 0.06 usr  0.10 sys + 19.78 cusr  1.68 csys = 21.62 CPU)
Result: PASS

------------------------------
PREREQUISITES
------------------------------

Prerequisite modules loaded:

requires:

    Module                 Need  Have    
    ---------------------- ----- --------
    Carp                   0     1.50    
    Class::Loader          0     2.03    
    Convert::ASCII::Armour 0     1.4     
    Crypt::Blowfish        0     2.14    
    Crypt::CBC             2.17  3.04    
    Data::Buffer           0     0.04    
    Data::Dumper           0     2.183   
    Digest::MD2            0     2.04    
    Digest::MD5            0     2.58    
    Digest::SHA            0     6.02    
    Exporter               0     5.74    
    Math::BigInt           1.78  1.999835
  ! Math::BigInt::GMP      0     n/a     
    Math::Prime::Util      0.64  0.73    
  ! Math::Prime::Util::GMP 0     n/a     
    perl                   5.008 5.032001
    Sort::Versions         0     1.62    
    Tie::EncryptedHash     0     1.8     

build_requires:

    Module                 Need  Have    
    ---------------------- ----- --------
    Benchmark              0     1.23    
    MIME::Base64           0     3.16    
    Test::More             0.45  1.302190

configure_requires:

    Module                 Need  Have    
    ---------------------- ----- --------
    ExtUtils::MakeMaker    0     7.65_01 


------------------------------
ENVIRONMENT AND OTHER CONTEXT
------------------------------

Environment variables:

    AUTOMATED_TESTING = 1
    PATH = /home/goku/perl5/bin:/usr/bin:/bin:/usr/sbin:/sbin:/usr/X11R6/bin:/usr/local/bin:/usr/local/sbin
    PERL5LIB = /home/goku/perl5/lib/perl5
    PERL5OPT = 
    PERL5_CPANPLUS_IS_RUNNING = 8948
    PERL5_CPAN_IS_RUNNING = 8948
    PERL5_CPAN_IS_RUNNING_IN_RECURSION = 6441,8948
    PERL_CR_SMOKER_CURRENT = App-Followme-2.02
    PERL_EXTUTILS_AUTOINSTALL = --defaultdeps
    PERL_LOCAL_LIB_ROOT = /home/goku/perl5
    PERL_MB_OPT = --install_base "/home/goku/perl5"
    PERL_MM_OPT = INSTALL_BASE=/home/goku/perl5
    PERL_MM_USE_DEFAULT = 1
    PERL_USE_UNSAFE_INC = 1
    SHELL = /bin/ksh
    TERM = xterm-256color

Perl special variables (and OS-specific diagnostics, for MSWin32):

    $^X = /usr/bin/perl
    $UID/$EUID = 1001 / 1001
    $GID = 1002 1002 1001
    $EGID = 1002 1002 1001

Perl module toolchain versions installed:

    Module              Have    
    ------------------- --------
    CPAN                2.34    
    CPAN::Meta          2.150010
    Cwd                 3.78    
    ExtUtils::CBuilder  0.280236
    ExtUtils::Command   7.65_01 
    ExtUtils::Install   2.20    
    ExtUtils::MakeMaker 7.65_01 
    ExtUtils::Manifest  1.72    
    ExtUtils::ParseXS   3.44    
    File::Spec          3.78    
    JSON                4.06    
    JSON::PP            4.09    
    Module::Build       0.4231  
    Module::Signature   n/a     
    Parse::CPAN::Meta   2.150010
    Test::Harness       3.44    
    Test::More          1.302190
    YAML                1.30    
    YAML::Syck          1.34    
    version             0.9929  


--

Summary of my perl5 (revision 5 version 32 subversion 1) configuration:
   
  Platform:
    osname=openbsd
    osvers=7.1
    archname=i386-openbsd
    uname='openbsd'
    config_args='-dse -Dopenbsd_distribution=defined -Dmksymlinks'
    hint=recommended
    useposix=true
    d_sigaction=define
    useithreads=undef
    usemultiplicity=undef
    use64bitint=undef
    use64bitall=undef
    uselongdouble=undef
    usemymalloc=n
    default_inc_excludes_dot=define
    bincompat5005=undef
  Compiler:
    cc='cc'
    ccflags ='-DNO_LOCALE_NUMERIC -DNO_LOCALE_COLLATE -fno-strict-aliasing -fno-delete-null-pointer-checks -pipe -fstack-protector-strong -I/usr/local/include'
    optimize='-O2'
    cppflags='-DBIG_TIME -DNO_LOCALE_NUMERIC -DNO_LOCALE_COLLATE -fno-strict-aliasing -fno-delete-null-pointer-checks -pipe -fstack-protector-strong -I/usr/local/include'
    ccversion=''
    gccversion='OpenBSD Clang 13.0.0'
    gccosandvers=''
    intsize=4
    longsize=4
    ptrsize=4
    doublesize=8
    byteorder=1234
    doublekind=3
    d_longlong=define
    longlongsize=8
    d_longdbl=define
    longdblsize=12
    longdblkind=3
    ivtype='long'
    ivsize=4
    nvtype='double'
    nvsize=8
    Off_t='off_t'
    lseeksize=8
    alignbytes=4
    prototype=define
  Linker and Libraries:
    ld='cc'
    ldflags ='-Wl,-E  -fstack-protector-strong -L/usr/local/lib'
    libpth=/usr/lib /usr/lib/clang/13.0.0/lib /usr/lib
    libs=-lm -lc
    perllibs=-lm -lc
    libc=/usr/lib/libc.so.96.1
    so=so
    useshrplib=true
    libperl=libperl.so.22.0
    gnulibc_version=''
  Dynamic Linking:
    dlsrc=dl_dlopen.xs
    dlext=so
    d_dlsymun=undef
    ccdlflags='-Wl,-R/usr/libdata/perl5/i386-openbsd/CORE'
    cccdlflags='-DPIC -fpic '
    lddlflags='-shared -fpic  -fstack-protector-strong -L/usr/local/lib'


Characteristics of this binary (from libperl): 
  Compile-time options:
    HAS_TIMES
    PERLIO_LAYERS
    PERL_COPY_ON_WRITE
    PERL_DONT_CREATE_GVSV
    PERL_MALLOC_WRAP
    PERL_OP_PARENT
    PERL_PRESERVE_IVUV
    USE_LARGE_FILES
    USE_LOCALE
    USE_LOCALE_CTYPE
    USE_LOCALE_TIME
    USE_PERLIO
    USE_PERL_ATOF
  Built under openbsd
  %ENV:
    PERL5LIB="/home/goku/perl5/lib/perl5"
    PERL5OPT=""
    PERL5_CPANPLUS_IS_RUNNING="8948"
    PERL5_CPAN_IS_RUNNING="8948"
    PERL5_CPAN_IS_RUNNING_IN_RECURSION="6441,8948"
    PERL_CR_SMOKER_CURRENT="App-Followme-2.02"
    PERL_EXTUTILS_AUTOINSTALL="--defaultdeps"
    PERL_LOCAL_LIB_ROOT="/home/goku/perl5"
    PERL_MB_OPT="--install_base "/home/goku/perl5""
    PERL_MM_OPT="INSTALL_BASE=/home/goku/perl5"
    PERL_MM_USE_DEFAULT="1"
    PERL_USE_UNSAFE_INC="1"
  @INC:
    /home/goku/perl5/lib/perl5/i386-openbsd
    /home/goku/perl5/lib/perl5
    /usr/local/libdata/perl5/site_perl/i386-openbsd
    /usr/local/libdata/perl5/site_perl
    /usr/libdata/perl5/i386-openbsd
    /usr/libdata/perl5
    .