Back
From: metabase:user:320bfe00-2aae-11df-837a-5e0a49663a4f
Subject: PASS Perl-Critic-More-1.003 v5.23.9 GNU/Linux
Date: 2016-02-29T19:44:28Z
This distribution has been tested as part of the CPAN Testers
project, supporting the Perl programming language. See
http://wiki.cpantesters.org/ for more information or email
questions to cpan-testers-discuss@perl.org
--
Dear Jeffrey Ryan Thalhammer,
This is a computer-generated report for Perl-Critic-More-1.003
on perl 5.23.9, created by CPAN-Reporter-1.2016.
Thank you for uploading your work to CPAN. Congratulations!
All tests were successful.
Sections of this report:
* Tester comments
* Program output
* Prerequisites
* Environment and other context
------------------------------
TESTER COMMENTS
------------------------------
Additional comments from tester:
this report is from an automated smoke testing program
and was not reviewed by a human for accuracy
------------------------------
PROGRAM OUTPUT
------------------------------
Output from './Build test':
File 'MANIFEST.SKIP' does not exist: Creating a temporary 'MANIFEST.SKIP'
Added to MANIFEST: Build.PL
Added to MANIFEST: Changes
Added to MANIFEST: inc/Perl/Critic/Module/Build.pm
Added to MANIFEST: lib/Perl/Critic/More.pm
Added to MANIFEST: lib/Perl/Critic/Policy/CodeLayout/RequireASCII.pm
Added to MANIFEST: lib/Perl/Critic/Policy/Editor/RequireEmacsFileVariables.pm
Added to MANIFEST: lib/Perl/Critic/Policy/ErrorHandling/RequireUseOfExceptions.pm
Added to MANIFEST: lib/Perl/Critic/Policy/Modules/PerlMinimumVersion.pm
Added to MANIFEST: lib/Perl/Critic/Policy/Modules/RequirePerlVersion.pm
Added to MANIFEST: lib/Perl/Critic/Policy/ValuesAndExpressions/RequireConstantOnLeftSideOfEquality.pm
Added to MANIFEST: lib/Perl/Critic/Policy/ValuesAndExpressions/RestrictLongStrings.pm
Added to MANIFEST: LICENSE
Added to MANIFEST: Makefile.PL
Added to MANIFEST: MANIFEST
Added to MANIFEST: META.json
Added to MANIFEST: META.yml
Added to MANIFEST: README
Added to MANIFEST: t/00_compile.t
Added to MANIFEST: t/20_policies.t
Added to MANIFEST: t/20_policies_codelayout.t
Added to MANIFEST: t/20_policies_editor.t
Added to MANIFEST: t/20_policies_modules.t
Added to MANIFEST: t/20_policies_valuesandexpressions.t
Added to MANIFEST: t/98_pod_syntax.t
Added to MANIFEST: t/99_pod_coverage.t
Added to MANIFEST: t/ErrorHandling/RequireUseOfExceptions.run
Added to MANIFEST: t/ValuesAndExpressions/RequireConstantOnLeftSideOfEquality.run
Added to MANIFEST: TODO.pod
Added to MANIFEST: xt/author/40_criticize.t
Added to MANIFEST: xt/author/40_perlcriticrc
Added to MANIFEST: xt/author/92_changelog.t
Added to MANIFEST: xt/author/93_version.t
Added to MANIFEST: xt/author/94_includes.t
Added to MANIFEST: xt/author/95_kwalitee.t
Added to MANIFEST: xt/author/96_filenames.t
Added to MANIFEST: xt/author/perltidyrc
Creating Makefile.PL
Creating README using Pod::Text
Created META.yml and META.json
Assuming NOT a POSIX class since there must be a starting ':' in regex; marked by <-- HERE in m/ \A \\ (?:
[^\w\s] | # delimiters/metas
[tnrfae] | # C-style escapes
0 [01234567]{0,2} | # octal
# [01234567]{1,3} | # made from backref by lexer
c [][ <-- HERE [:alpha:]\@\\^_?] | # control characters
x (?: \{ [[:xdigit:]]* \} | [[:xdigit:]]{0,2} ) | # hex
o [{] [01234567]+ [}] | # octal as of 5.13.3
## N (?: \{ (?: [[:alpha:]] [\w\s:()-]* | # must begin w/ alpha
## U [+] [[:xdigit:]]+ ) \} ) | # unicode
N (?: [{] (?= \D ) [^\}]+ [}] ) # unicode
) / at /home/sand/src/perl/repoperls/installed-perls/perl/v5.23.8-34-ge90a17a/79cc/lib/site_perl/5.23.9/PPIx/Regexp/Token/Literal.pm line 248.
t/00_compile.t ........................ ok
Assuming NOT a POSIX class since there must be a starting ':' in regex; marked by <-- HERE in m/ \A \\ (?:
[^\w\s] | # delimiters/metas
[tnrfae] | # C-style escapes
0 [01234567]{0,2} | # octal
# [01234567]{1,3} | # made from backref by lexer
c [][ <-- HERE [:alpha:]\@\\^_?] | # control characters
x (?: \{ [[:xdigit:]]* \} | [[:xdigit:]]{0,2} ) | # hex
o [{] [01234567]+ [}] | # octal as of 5.13.3
## N (?: \{ (?: [[:alpha:]] [\w\s:()-]* | # must begin w/ alpha
## U [+] [[:xdigit:]]+ ) \} ) | # unicode
N (?: [{] (?= \D ) [^\}]+ [}] ) # unicode
) / at /home/sand/src/perl/repoperls/installed-perls/perl/v5.23.8-34-ge90a17a/79cc/lib/site_perl/5.23.9/PPIx/Regexp/Token/Literal.pm line 248.
t/20_policies.t ....................... ok
Assuming NOT a POSIX class since there must be a starting ':' in regex; marked by <-- HERE in m/ \A \\ (?:
[^\w\s] | # delimiters/metas
[tnrfae] | # C-style escapes
0 [01234567]{0,2} | # octal
# [01234567]{1,3} | # made from backref by lexer
c [][ <-- HERE [:alpha:]\@\\^_?] | # control characters
x (?: \{ [[:xdigit:]]* \} | [[:xdigit:]]{0,2} ) | # hex
o [{] [01234567]+ [}] | # octal as of 5.13.3
## N (?: \{ (?: [[:alpha:]] [\w\s:()-]* | # must begin w/ alpha
## U [+] [[:xdigit:]]+ ) \} ) | # unicode
N (?: [{] (?= \D ) [^\}]+ [}] ) # unicode
) / at /home/sand/src/perl/repoperls/installed-perls/perl/v5.23.8-34-ge90a17a/79cc/lib/site_perl/5.23.9/PPIx/Regexp/Token/Literal.pm line 248.
t/20_policies_codelayout.t ............ ok
Assuming NOT a POSIX class since there must be a starting ':' in regex; marked by <-- HERE in m/ \A \\ (?:
[^\w\s] | # delimiters/metas
[tnrfae] | # C-style escapes
0 [01234567]{0,2} | # octal
# [01234567]{1,3} | # made from backref by lexer
c [][ <-- HERE [:alpha:]\@\\^_?] | # control characters
x (?: \{ [[:xdigit:]]* \} | [[:xdigit:]]{0,2} ) | # hex
o [{] [01234567]+ [}] | # octal as of 5.13.3
## N (?: \{ (?: [[:alpha:]] [\w\s:()-]* | # must begin w/ alpha
## U [+] [[:xdigit:]]+ ) \} ) | # unicode
N (?: [{] (?= \D ) [^\}]+ [}] ) # unicode
) / at /home/sand/src/perl/repoperls/installed-perls/perl/v5.23.8-34-ge90a17a/79cc/lib/site_perl/5.23.9/PPIx/Regexp/Token/Literal.pm line 248.
t/20_policies_editor.t ................ ok
Assuming NOT a POSIX class since there must be a starting ':' in regex; marked by <-- HERE in m/ \A \\ (?:
[^\w\s] | # delimiters/metas
[tnrfae] | # C-style escapes
0 [01234567]{0,2} | # octal
# [01234567]{1,3} | # made from backref by lexer
c [][ <-- HERE [:alpha:]\@\\^_?] | # control characters
x (?: \{ [[:xdigit:]]* \} | [[:xdigit:]]{0,2} ) | # hex
o [{] [01234567]+ [}] | # octal as of 5.13.3
## N (?: \{ (?: [[:alpha:]] [\w\s:()-]* | # must begin w/ alpha
## U [+] [[:xdigit:]]+ ) \} ) | # unicode
N (?: [{] (?= \D ) [^\}]+ [}] ) # unicode
) / at /home/sand/src/perl/repoperls/installed-perls/perl/v5.23.8-34-ge90a17a/79cc/lib/site_perl/5.23.9/PPIx/Regexp/Token/Literal.pm line 248.
t/20_policies_modules.t ............... ok
Assuming NOT a POSIX class since there must be a starting ':' in regex; marked by <-- HERE in m/ \A \\ (?:
[^\w\s] | # delimiters/metas
[tnrfae] | # C-style escapes
0 [01234567]{0,2} | # octal
# [01234567]{1,3} | # made from backref by lexer
c [][ <-- HERE [:alpha:]\@\\^_?] | # control characters
x (?: \{ [[:xdigit:]]* \} | [[:xdigit:]]{0,2} ) | # hex
o [{] [01234567]+ [}] | # octal as of 5.13.3
## N (?: \{ (?: [[:alpha:]] [\w\s:()-]* | # must begin w/ alpha
## U [+] [[:xdigit:]]+ ) \} ) | # unicode
N (?: [{] (?= \D ) [^\}]+ [}] ) # unicode
) / at /home/sand/src/perl/repoperls/installed-perls/perl/v5.23.8-34-ge90a17a/79cc/lib/site_perl/5.23.9/PPIx/Regexp/Token/Literal.pm line 248.
t/20_policies_valuesandexpressions.t .. ok
t/98_pod_syntax.t ..................... ok
t/99_pod_coverage.t ................... ok
All tests successful.
Files=8, Tests=63, 4 wallclock secs ( 0.06 usr 0.09 sys + 3.99 cusr 0.55 csys = 4.69 CPU)
Result: PASS
------------------------------
PREREQUISITES
------------------------------
Prerequisite modules loaded:
requires:
Module Need Have
------------- ----- --------
Perl::Critic 1.098 1.126
Readonly 1.03 2.01
build_requires:
Module Need Have
------------- ----- --------
Test::More 0 1.001014
configure_requires:
Module Need Have
------------- ----- --------
Module::Build 0.4 0.4216
------------------------------
ENVIRONMENT AND OTHER CONTEXT
------------------------------
Environment variables:
AUTOMATED_TESTING = 1
LANG = en_US.UTF-8
LANGUAGE = en_US:en
PATH = /usr/lib/ccache:/home/sand/bin:/usr/local/bin:/usr/bin:/bin:/usr/games:/usr/local/perl/bin:/usr/X11/bin:/sbin:/usr/sbin
PERL = /tmp/basesmoker-reloperl-Gx06/bin/perl
PERL5LIB =
PERL5OPT =
PERL5_CPANPLUS_IS_RUNNING = 32578
PERL5_CPAN_IS_RUNNING = 32578
PERL_CANARY_STABILITY_NOPROMPT = 1
PERL_MM_USE_DEFAULT = 1
SHELL = /usr/bin/zsh
TERM = screen
Perl special variables (and OS-specific diagnostics, for MSWin32):
$^X = /tmp/basesmoker-reloperl-Gx06/bin/perl
$UID/$EUID = 1005 / 1005
$GID = 1005 1005
$EGID = 1005 1005
Perl module toolchain versions installed:
Module Have
------------------- --------
CPAN 2.10
CPAN::Meta 2.150005
Cwd 3.63
ExtUtils::CBuilder 0.280225
ExtUtils::Command 7.10
ExtUtils::Install 2.04
ExtUtils::MakeMaker 7.10_01
ExtUtils::Manifest 1.70
ExtUtils::ParseXS 3.31
File::Spec 3.63
JSON 2.90
JSON::PP 2.27300
Module::Build 0.4216
Module::Signature 0.79
Parse::CPAN::Meta 1.4417
Test::Harness 3.36
Test::More 1.001014
YAML 1.15
YAML::Syck 1.29
version 0.9914
--
Summary of my perl5 (revision 5 version 23 subversion 9) configuration:
Derived from: e90a17ab40a254b2139a4cbb2cbad46cd66df125
Platform:
osname=linux, osvers=4.3.0-1-amd64, archname=x86_64-linux
uname='linux k83 4.3.0-1-amd64 #1 smp debian 4.3.3-7 (2016-01-19) x86_64 gnulinux '
config_args='-Dprefix=/home/sand/src/perl/repoperls/installed-perls/perl/v5.23.8-34-ge90a17a/79cc -Dmyhostname=k83 -Dinstallusrbinperl=n -Uversiononly -Dusedevel -des -Ui_db -Dlibswanted=cl pthread socket inet nsl gdbm dbm malloc dl ld sun m crypt sec util c cposix posix ucb BSD gdbm_compat -Uuseithreads -Uuselongdouble -DDEBUGGING=-g'
hint=recommended, useposix=true, d_sigaction=define
useithreads=undef, usemultiplicity=undef
use64bitint=define, use64bitall=define, uselongdouble=undef
usemymalloc=n, bincompat5005=undef
Compiler:
cc='cc', ccflags ='-fwrapv -fno-strict-aliasing -pipe -fstack-protector-strong -I/usr/local/include -D_LARGEFILE_SOURCE -D_FILE_OFFSET_BITS=64 -D_FORTIFY_SOURCE=2',
optimize='-O2 -g',
cppflags='-fwrapv -fno-strict-aliasing -pipe -fstack-protector-strong -I/usr/local/include'
ccversion='', gccversion='5.3.1 20160121', gccosandvers=''
intsize=4, longsize=8, ptrsize=8, doublesize=8, byteorder=12345678, doublekind=3
d_longlong=define, longlongsize=8, d_longdbl=define, longdblsize=16, longdblkind=3
ivtype='long', ivsize=8, nvtype='double', nvsize=8, Off_t='off_t', lseeksize=8
alignbytes=8, prototype=define
Linker and Libraries:
ld='cc', ldflags =' -fstack-protector-strong -L/usr/local/lib'
libpth=/usr/local/lib /usr/lib/gcc/x86_64-linux-gnu/5/include-fixed /usr/include/x86_64-linux-gnu /usr/lib /lib/x86_64-linux-gnu /lib/../lib /usr/lib/x86_64-linux-gnu /usr/lib/../lib /lib
libs=-lpthread -lnsl -lgdbm -ldl -lm -lcrypt -lutil -lc -lgdbm_compat
perllibs=-lpthread -lnsl -ldl -lm -lcrypt -lutil -lc
libc=libc-2.21.so, so=so, useshrplib=false, libperl=libperl.a
gnulibc_version='2.21'
Dynamic Linking:
dlsrc=dl_dlopen.xs, dlext=so, d_dlsymun=undef, ccdlflags='-Wl,-E'
cccdlflags='-fPIC', lddlflags='-shared -O2 -g -L/usr/local/lib -fstack-protector-strong'
Characteristics of this binary (from libperl):
Compile-time options: HAS_TIMES PERLIO_LAYERS PERL_COPY_ON_WRITE
PERL_DONT_CREATE_GVSV
PERL_HASH_FUNC_ONE_AT_A_TIME_HARD PERL_MALLOC_WRAP
PERL_PRESERVE_IVUV PERL_USE_DEVEL USE_64_BIT_ALL
USE_64_BIT_INT USE_LARGE_FILES USE_LOCALE
USE_LOCALE_COLLATE USE_LOCALE_CTYPE
USE_LOCALE_NUMERIC USE_LOCALE_TIME USE_PERLIO
USE_PERL_ATOF
Locally applied patches:
uncommitted-changes
Devel::PatchPerl 1.40
Built under linux
Compiled at Feb 29 2016 05:51:48
%ENV:
PERL="/tmp/basesmoker-reloperl-Gx06/bin/perl"
PERL5LIB=""
PERL5OPT=""
PERL5_CPANPLUS_IS_RUNNING="32578"
PERL5_CPAN_IS_RUNNING="32578"
PERL_CANARY_STABILITY_NOPROMPT="1"
PERL_MM_USE_DEFAULT="1"
@INC:
/home/sand/src/perl/repoperls/installed-perls/perl/v5.23.8-34-ge90a17a/79cc/lib/site_perl/5.23.9/x86_64-linux
/home/sand/src/perl/repoperls/installed-perls/perl/v5.23.8-34-ge90a17a/79cc/lib/site_perl/5.23.9
/home/sand/src/perl/repoperls/installed-perls/perl/v5.23.8-34-ge90a17a/79cc/lib/5.23.9/x86_64-linux
/home/sand/src/perl/repoperls/installed-perls/perl/v5.23.8-34-ge90a17a/79cc/lib/5.23.9
.