Module-Install-ReadmeFromPod v0.30 Perl 5 v5.41.5 i86pc-solaris-thread-multi-64
- Status
- Pass
- From
- Carlos Guevara
- Dist
-
Module-Install-ReadmeFromPod v0.30
- Platform
- Perl 5 v5.41.5 i86pc-solaris-thread-multi-64
- Date
- 2024-10-18 23:22:29
- ID
- d8052428-8da7-11ef-80ce-a21ff3b5101c
This distribution has been tested as part of the CPAN Testers
project, supporting the Perl programming language. See
http://wiki.cpantesters.org/ for more information or email
questions to cpan-testers-discuss@perl.org
--
Dear Chris Williams,
This is a computer-generated report for Module-Install-ReadmeFromPod-0.30
on perl 5.41.5, created by CPAN-Reporter-1.2020.
Thank you for uploading your work to CPAN. Congratulations!
All tests were successful.
Sections of this report:
* Tester comments
* Program output
* Prerequisites
* Environment and other context
------------------------------
TESTER COMMENTS
------------------------------
Additional comments from tester:
this report is from an automated smoke testing program
and was not reviewed by a human for accuracy
------------------------------
PROGRAM OUTPUT
------------------------------
Output from '/usr/bin/make test':
PERL_DL_NONLAZY=1 "/export/home/cpan/bin/perl/bin/perl5.41.5" "-MExtUtils::Command::MM" "-MTest::Harness" "-e" "undef *Test::Harness::Switches; test_harness(0, 'inc', 'blib/lib', 'blib/arch')" t/*.t
# Testing Module::Install::ReadmeFromPod 0.30, Perl 5.041005, /export/home/cpan/bin/perl/bin/perl5.41.5
t/00_compile.t ....... ok
# Subroutine Module::Install::ReadmeFromPod::io redefined at /export/home/cpan/bin/perl/lib/site_perl/5.41.5/IO/All/Base.pm line 24.
# include /export/home/cpan/.cpan/build/Module-Install-ReadmeFromPod-0.30-0/dist/cVTRS08m6x/inc/Module/Install.pm
# include inc/Module/Install/Metadata.pm
# include inc/Module/Install/Base.pm
# include inc/Module/Install/ReadmeFromPod.pm
# readme_from README.pm to txt
# readme_from README.pm to htm
# Subroutine Module::Install::ReadmeFromPod::io redefined at /export/home/cpan/bin/perl/lib/site_perl/5.41.5/IO/All/Base.pm line 24.
# Subroutine Module::Install::ReadmeFromPod::io redefined at /export/home/cpan/bin/perl/lib/site_perl/5.41.5/IO/All/Base.pm line 24.
# readme_from README.pm to man
# readme_from README.pm to md
# include inc/Module/Install/WriteAll.pm
# include inc/Module/Install/Makefile.pm
# include inc/Module/Install/Win32.pm
# include inc/Module/Install/Can.pm
# include inc/Module/Install/Fetch.pm
# Generating a Unix-style Makefile
# Writing Makefile for Foo::Bar
# Writing MYMETA.yml and MYMETA.json
# Writing META.yml
# rm -f \
# Bar.bso Bar.def \
# Bar.exp Bar.x \
# blib/arch/auto/Foo/Bar/extralibs.all \
# blib/arch/auto/Foo/Bar/extralibs.ld Makefile.aperl \
# *.a *.o \
# *perl.core MYMETA.json \
# MYMETA.yml blibdirs.ts \
# core core.*perl.*.? \
# core.[0-9] core.[0-9][0-9] \
# core.[0-9][0-9][0-9] core.[0-9][0-9][0-9][0-9] \
# core.[0-9][0-9][0-9][0-9][0-9] libBar.def \
# mon.out perl \
# perl perl.exe \
# perlmain.c pm_to_blib \
# pm_to_blib.ts so_locations \
# tmon.out
# rm -rf \
# blib
# mv Makefile Makefile.old > /dev/null 2>&1
# rm -f \
# Makefile Makefile.old
# rm -rf \
# Foo-Bar-0.01 MYMETA.yml
# rm -f Foo-Bar-0.01.tar.gz
# rm -f MANIFEST.bak _build
# "/export/home/cpan/bin/perl/bin/perl5.41.5" "-Iinc" "-Ilib" "-MModule::Install::Admin" -e "remove_meta()"
# rm -rf inc
# "/export/home/cpan/bin/perl/bin/perl5.41.5" "-Iinc" "-MExtUtils::Manifest=fullcheck" -e fullcheck
# Problem opening MANIFEST: No such file or directory at /export/home/cpan/bin/perl/lib/5.41.5/ExtUtils/Manifest.pm line 342.
# Problem opening MANIFEST: No such file or directory at /export/home/cpan/bin/perl/lib/5.41.5/ExtUtils/Manifest.pm line 342.
# Not in MANIFEST: Makefile.PL
# Not in MANIFEST: README
# Not in MANIFEST: README.1
# Not in MANIFEST: README.htm
# Not in MANIFEST: README.md
# Not in MANIFEST: README.pm
t/01_dist.t .......... ok
# Subroutine Module::Install::ReadmeFromPod::io redefined at /export/home/cpan/bin/perl/lib/site_perl/5.41.5/IO/All/Base.pm line 24.
# include /export/home/cpan/.cpan/build/Module-Install-ReadmeFromPod-0.30-0/dist/9zUp_UFOZj/inc/Module/Install.pm
# include inc/Module/Install/Metadata.pm
# include inc/Module/Install/Base.pm
# include inc/Module/Install/ReadmeFromPod.pm
# readme_from README.pm to text
# include inc/Module/Install/Makefile.pm
# readme_from README.pm to html
# Subroutine Module::Install::ReadmeFromPod::io redefined at /export/home/cpan/bin/perl/lib/site_perl/5.41.5/IO/All/Base.pm line 24.
# Subroutine Module::Install::ReadmeFromPod::io redefined at /export/home/cpan/bin/perl/lib/site_perl/5.41.5/IO/All/Base.pm line 24.
# readme_from README.pm to md
# readme_from README.pm to man
# include inc/Module/Install/WriteAll.pm
# include inc/Module/Install/Win32.pm
# include inc/Module/Install/Can.pm
# include inc/Module/Install/Fetch.pm
# Generating a Unix-style Makefile
# Writing Makefile for Foo::Bar
# Writing MYMETA.yml and MYMETA.json
# Writing META.yml
# rm -f \
# Bar.bso Bar.def \
# Bar.exp Bar.x \
# blib/arch/auto/Foo/Bar/extralibs.all \
# blib/arch/auto/Foo/Bar/extralibs.ld Makefile.aperl \
# *.a *.o \
# *perl.core MYMETA.json \
# MYMETA.yml blibdirs.ts \
# core core.*perl.*.? \
# core.[0-9] core.[0-9][0-9] \
# core.[0-9][0-9][0-9] core.[0-9][0-9][0-9][0-9] \
# core.[0-9][0-9][0-9][0-9][0-9] libBar.def \
# mon.out perl \
# perl perl.exe \
# perlmain.c pm_to_blib \
# pm_to_blib.ts so_locations \
# tmon.out
# rm -rf \
# Foobar.htm Foobar.man \
# Foobar.md Foobar.txt \
# blib
# mv Makefile Makefile.old > /dev/null 2>&1
# rm -f \
# Makefile Makefile.old
# rm -rf \
# Foo-Bar-0.01 MYMETA.yml
# rm -f Foo-Bar-0.01.tar.gz
# rm -f MANIFEST.bak _build
# "/export/home/cpan/bin/perl/bin/perl5.41.5" "-Iinc" "-Ilib" "-MModule::Install::Admin" -e "remove_meta()"
# rm -rf inc
# "/export/home/cpan/bin/perl/bin/perl5.41.5" "-Iinc" "-MExtUtils::Manifest=fullcheck" -e fullcheck
# Problem opening MANIFEST: No such file or directory at /export/home/cpan/bin/perl/lib/5.41.5/ExtUtils/Manifest.pm line 342.
# Problem opening MANIFEST: No such file or directory at /export/home/cpan/bin/perl/lib/5.41.5/ExtUtils/Manifest.pm line 342.
# Not in MANIFEST: Makefile.PL
# Not in MANIFEST: README.pm
t/02_clean.t ......... ok
# include /export/home/cpan/.cpan/build/Module-Install-ReadmeFromPod-0.30-0/dist/rAR2YxbQEx/inc/Module/Install.pm
# include inc/Module/Install/Metadata.pm
# include inc/Module/Install/Base.pm
# include inc/Module/Install/Makefile.pm
# include inc/Module/Install/ReadmeFromPod.pm
# readme_from README.pm to txt
# include inc/Module/Install/WriteAll.pm
# include inc/Module/Install/Win32.pm
# include inc/Module/Install/Can.pm
# include inc/Module/Install/Fetch.pm
# Generating a Unix-style Makefile
# Writing Makefile for Foo::Bar
# Writing MYMETA.yml and MYMETA.json
# Writing META.yml
# rm -f \
# Bar.bso Bar.def \
# Bar.exp Bar.x \
# blib/arch/auto/Foo/Bar/extralibs.all \
# blib/arch/auto/Foo/Bar/extralibs.ld Makefile.aperl \
# *.a *.o \
# *perl.core MYMETA.json \
# MYMETA.yml blibdirs.ts \
# core core.*perl.*.? \
# core.[0-9] core.[0-9][0-9] \
# core.[0-9][0-9][0-9] core.[0-9][0-9][0-9][0-9] \
# core.[0-9][0-9][0-9][0-9][0-9] libBar.def \
# mon.out perl \
# perl perl.exe \
# perlmain.c pm_to_blib \
# pm_to_blib.ts so_locations \
# tmon.out
# rm -rf \
# blib
# mv Makefile Makefile.old > /dev/null 2>&1
# rm -f \
# Makefile Makefile.old
# rm -rf \
# Foo-Bar-0.01 MYMETA.yml
# rm -f Foo-Bar-0.01.tar.gz
# rm -f MANIFEST.bak _build
# "/export/home/cpan/bin/perl/bin/perl5.41.5" "-Iinc" "-Ilib" "-MModule::Install::Admin" -e "remove_meta()"
# rm -rf inc
# "/export/home/cpan/bin/perl/bin/perl5.41.5" "-Iinc" "-MExtUtils::Manifest=fullcheck" -e fullcheck
# Problem opening MANIFEST: No such file or directory at /export/home/cpan/bin/perl/lib/5.41.5/ExtUtils/Manifest.pm line 342.
# Problem opening MANIFEST: No such file or directory at /export/home/cpan/bin/perl/lib/5.41.5/ExtUtils/Manifest.pm line 342.
# Not in MANIFEST: Makefile.PL
# Not in MANIFEST: README
# Not in MANIFEST: README.pm
t/03_all_from.t ...... ok
t/04_distpdf.t ....... skipped: App::pod2pdf not installed
t/05_cleanpdf.t ...... skipped: App::pod2pdf not installed
t/99_pod.t ........... ok
t/99_pod_coverage.t .. ok
All tests successful.
Files=8, Tests=33, 7 wallclock secs ( 0.03 usr 0.02 sys + 5.59 cusr 1.16 csys = 6.80 CPU)
Result: PASS
------------------------------
PREREQUISITES
------------------------------
Prerequisite modules loaded:
requires:
Module Need Have
------------------- ----- --------
IO::All 0 0.87
Module::Install 1 1.21
perl 5.006 5.041005
Pod::Html 0 1.35
Pod::Man 0 v6.0.2
Pod::Markdown 2 3.400
Pod::Text 3.13 v6.0.2
build_requires:
Module Need Have
------------------- ----- --------
Capture::Tiny 0.05 0.48
ExtUtils::MakeMaker 6.59 7.70
File::Temp 0 0.2311
Test::InDistDir 0 1.112071
Test::More 0.47 1.302204
configure_requires:
Module Need Have
------------------- ----- --------
ExtUtils::MakeMaker 6.59 7.70
------------------------------
ENVIRONMENT AND OTHER CONTEXT
------------------------------
Environment variables:
AUTOMATED_TESTING = 1
DATE_MANIP_TEST_DM5 = 1
LANG = en_US.UTF-8
LC_ALL = C
NONINTERACTIVE_TESTING = 1
NO_NETWORK_TESTING = 1
PATH = /export/home/cpan/bin/perl/bin:/usr/bin:/usr/sbin:/sbin:/opt/ooce/bin:/usr/gnu/bin
PERL5LIB =
PERL5OPT =
PERL5_CPANPLUS_IS_RUNNING = 27946
PERL5_CPAN_IS_RUNNING = 27946
PERL_MM_USE_DEFAULT = 1
PERL_USE_UNSAFE_INC = 1
SHELL = /bin/bash
TERM = screen
Perl special variables (and OS-specific diagnostics, for MSWin32):
$^X = /export/home/cpan/bin/perl/bin/perl5.41.5
$UID/$EUID = 101 / 101
$GID = 1 1
$EGID = 1 1
Perl module toolchain versions installed:
Module Have
------------------- --------
CPAN 2.37
CPAN::Meta 2.150010
Cwd 3.92
ExtUtils::CBuilder 0.280240
ExtUtils::Command 7.70
ExtUtils::Install 2.22
ExtUtils::MakeMaker 7.70
ExtUtils::Manifest 1.75
ExtUtils::ParseXS 3.55
File::Spec 3.93
JSON 4.10
JSON::PP 4.16
Module::Build 0.4234
Module::Signature 0.89
Parse::CPAN::Meta 2.150010
Test2 1.302204
Test::Harness 3.50
Test::More 1.302204
YAML 1.31
YAML::Syck 1.34
version 0.9933
--
Summary of my perl5 (revision 5 version 41 subversion 5) configuration:
Commit id: 9621dfa82225f69ea02e1bf087792b18badac1c6
Platform:
osname=solaris
osvers=2.11
archname=i86pc-solaris-thread-multi-64
uname='sunos cjg-omniosce 5.11 omnios-r151050-49db1c0a0fe i86pc i386 i86pc '
config_args='-des -Dprefix=/export/home/cpan/bin/perl -Dscriptdir=/export/home/cpan/bin/perl/bin -Dusedevel -Duse64bitall -Dcc=gcc -Duseithreads'
hint=recommended
useposix=true
d_sigaction=define
useithreads=define
usemultiplicity=define
use64bitint=define
use64bitall=define
uselongdouble=undef
usemymalloc=n
default_inc_excludes_dot=define
Compiler:
cc='gcc'
ccflags ='-D_REENTRANT -m64 -fwrapv -fno-strict-aliasing -pipe -fstack-protector-strong -D_LARGEFILE_SOURCE -D_FILE_OFFSET_BITS=64 -D_FORTIFY_SOURCE=2'
optimize='-O'
cppflags='-D_REENTRANT -m64 -fwrapv -fno-strict-aliasing -pipe -fstack-protector-strong'
ccversion=''
gccversion='13.2.0'
gccosandvers=''
intsize=4
longsize=8
ptrsize=8
doublesize=8
byteorder=12345678
doublekind=3
d_longlong=define
longlongsize=8
d_longdbl=define
longdblsize=16
longdblkind=3
ivtype='long'
ivsize=8
nvtype='double'
nvsize=8
Off_t='off_t'
lseeksize=8
alignbytes=8
prototype=define
Linker and Libraries:
ld='gcc'
ldflags =' -m64 -fstack-protector-strong -L/usr/gnu/lib '
libpth=/opt/gcc-13/lib /usr/lib /usr/gnu/lib /usr/ccs/lib
libs=-lpthread -lsocket -lnsl -ldl -lm -lc
perllibs=-lpthread -lsocket -lnsl -ldl -lm -lc
libc=/lib/libc.so
so=so
useshrplib=true
libperl=libperl.so
gnulibc_version=''
Dynamic Linking:
dlsrc=dl_dlopen.xs
dlext=so
d_dlsymun=undef
ccdlflags=' -R /export/home/cpan/bin/perl/lib/5.41.5/i86pc-solaris-thread-multi-64/CORE'
cccdlflags='-fPIC'
lddlflags=' -shared -m64 -L/usr/gnu/lib -fstack-protector-strong'
Characteristics of this binary (from libperl):
Compile-time options:
HAS_LONG_DOUBLE
HAS_STRTOLD
HAS_TIMES
MULTIPLICITY
PERLIO_LAYERS
PERL_COPY_ON_WRITE
PERL_DONT_CREATE_GVSV
PERL_HASH_FUNC_SIPHASH13
PERL_HASH_USE_SBOX32
PERL_MALLOC_WRAP
PERL_OP_PARENT
PERL_PRESERVE_IVUV
PERL_USE_DEVEL
PERL_USE_SAFE_PUTENV
USE_64_BIT_ALL
USE_64_BIT_INT
USE_ITHREADS
USE_LARGE_FILES
USE_LOCALE
USE_LOCALE_COLLATE
USE_LOCALE_CTYPE
USE_LOCALE_NUMERIC
USE_LOCALE_TIME
USE_PERLIO
USE_PERL_ATOF
USE_REENTRANT_API
USE_THREAD_SAFE_LOCALE
Built under solaris
Compiled at Oct 18 2024 12:34:43
%ENV:
PERL5LIB=""
PERL5OPT=""
PERL5_CPANPLUS_IS_RUNNING="27946"
PERL5_CPAN_IS_RUNNING="27946"
PERL_MM_USE_DEFAULT="1"
PERL_USE_UNSAFE_INC="1"
@INC:
/export/home/cpan/bin/perl/lib/site_perl/5.41.5/i86pc-solaris-thread-multi-64
/export/home/cpan/bin/perl/lib/site_perl/5.41.5
/export/home/cpan/bin/perl/lib/5.41.5/i86pc-solaris-thread-multi-64
/export/home/cpan/bin/perl/lib/5.41.5
.