Back
From: metabase:user:314402c4-2aae-11df-837a-5e0a49663a4f
Subject: PASS API-Instagram-0.013 v5.14.4 GNU/Linux
Date: 2014-08-28T05:19:11Z
This distribution has been tested as part of the CPAN Testers
project, supporting the Perl programming language.  See
http://wiki.cpantesters.org/ for more information or email
questions to cpan-testers-discuss@perl.org
--
Dear Gabriel Vieira,
This is a computer-generated report for API-Instagram-0.013
on perl 5.14.4, created by CPAN-Reporter-1.2011.
Thank you for uploading your work to CPAN.  Congratulations!
All tests were successful.
Sections of this report:
    * Tester comments
    * Program output
    * Prerequisites
    * Environment and other context
------------------------------
TESTER COMMENTS
------------------------------
Additional comments from tester:
none provided
------------------------------
PROGRAM OUTPUT
------------------------------
Output from '/usr/bin/make test':
PERL_DL_NONLAZY=1 /bbbike/perl-5.14.4/bin/perl5.14.4 "-MExtUtils::Command::MM" "-MTest::Harness" "-e" "undef *Test::Harness::Switches; test_harness(0, 'blib/lib', 'blib/arch')" t/*.t
t/00-comment.t ............ ok
t/00-compile.t ............ ok
ERROR: code required for generating access token. at t/00-instagram.t line 33.
User already authorized with code: 789 at t/00-instagram.t line 37.
A valid access_token is required at /tmpfs/.cpan-build/API-Instagram-0.013-8FeKE5/blib/lib/API/Instagram/User.pm line 131.
A valid access_token is required at /tmpfs/.cpan-build/API-Instagram-0.013-8FeKE5/blib/lib/API/Instagram/User.pm line 81.
t/00-instagram.t .......... ok
t/00-load.t ............... ok
t/00-location.t ........... ok
t/00-media.t .............. ok
t/00-search.t ............. ok
t/00-tag.t ................ ok
The feed is only available for the authenticated user at t/00-user.t line 47.
The liked-media is only available for the authenticated user at t/00-user.t line 48.
The requested-by is only available for the authenticated user at t/00-user.t line 49.
t/00-user.t ............... ok
Not available for location with no ID. at (eval 41) line 18.
Not available for location with no ID. at t/01-location.t line 29.
t/01-location.t ........... ok
t/01-media.t .............. ok
t/01-search.t ............. ok
t/01-user.t ............... ok
The feed is only available for the authenticated user at t/02-user.t line 30.
The liked-media is only available for the authenticated user at t/02-user.t line 31.
The requested-by is only available for the authenticated user at t/02-user.t line 32.
t/02-user.t ............... ok
t/03-user.t ............... ok
Invalid action at t/04-user.t line 31.
t/04-user.t ............... ok
t/release-pod-coverage.t .. skipped: these tests are for release candidate testing
t/release-pod-syntax.t .... skipped: these tests are for release candidate testing
All tests successful.
Files=18, Tests=140,  1 wallclock secs ( 0.04 usr  0.07 sys +  1.06 cusr  0.26 csys =  1.43 CPU)
Result: PASS
------------------------------
PREREQUISITES
------------------------------
Prerequisite modules loaded:
requires:
    Module                    Need Have      
    ------------------------- ---- ----------
    Carp                      0    1.3301    
    Data::Dumper              0    2.151     
    Digest::MD5               0    2.53      
    experimental              0    0.008     
    Furl                      0    3.03      
    JSON                      0    2.90      
    Moo                       0    1.006000  
    strict                    0    1.04      
    Time::Moment              0    0.17      
    URI                       0    1.63      
    warnings                  0    1.12      
build_requires:
    Module                    Need Have      
    ------------------------- ---- ----------
    ExtUtils::MakeMaker       0    6.98      
    File::Spec                0    3.47      
    Furl::Response            0    0         
    Inline::Files             0    0.68      
    IO::Handle                0    1.31      
    IPC::Open3                0    1.0901    
    Test::MockObject::Extends 0    1.20140408
    Test::More                0    1.001003  
configure_requires:
    Module                    Need Have      
    ------------------------- ---- ----------
    ExtUtils::MakeMaker       0    6.98      
------------------------------
ENVIRONMENT AND OTHER CONTEXT
------------------------------
Environment variables:
    DBIC_NO_WARN_BAD_PERL = 1
    LANG = C
    LC_ALL = de_DE.UTF-8
    PATH = /usr/local/bin:/usr/bin:/bin:/usr/local/sbin:/usr/sbin:/sbin:/home/eserte/bin/linux-gnu:/home/eserte/bin/sh:/home/eserte/bin:/usr/games:/home/eserte/devel:/home/eserte/src/srezic-misc/scripts
    PERL5LIB = 
    PERL5OPT = 
    PERL5_CPANPLUS_IS_RUNNING = 28973
    PERL5_CPAN_IS_RUNNING = 28973
    PERL5_CPAN_IS_RUNNING_IN_RECURSION = 28891,28973
    PERLDOC = -MPod::Perldoc::ToTextOverstrike
    PERL_BATCH = yes
    PERL_CPAN_REPORTER_CONFIG = /var/tmp/cpansmoker-1001/AksFHWjBkl_config.ini
    PERL_EXTUTILS_AUTOINSTALL = --defaultdeps
    PERL_HTML_DISPLAY_CLASS = HTML::Display::Mozilla
    PERL_PARALLEL_SMOKER = yes
    SHELL = /bin/zsh
    TERM = screen
    TMPDIR = /var/tmp/cpansmoker-1001
Perl special variables (and OS-specific diagnostics, for MSWin32):
    $^X = /bbbike/perl-5.14.4/bin/perl5.14.4
    $UID/$EUID = 1001 / 1001
    $GID = 1001 109 1001
    $EGID = 1001 109 1001
Perl module toolchain versions installed:
    Module              Have     
    ------------------- ---------
    CPAN                1.9600_01
    CPAN::Meta          2.142060 
    Cwd                 3.47     
    ExtUtils::CBuilder  0.280217 
    ExtUtils::Command   1.17     
    ExtUtils::Install   1.68     
    ExtUtils::MakeMaker 6.98     
    ExtUtils::Manifest  1.65     
    ExtUtils::ParseXS   3.24     
    File::Spec          3.47     
    JSON                2.90     
    JSON::PP            2.27203  
    Module::Build       0.4206   
    Module::Signature   0.73     
    Parse::CPAN::Meta   1.4414   
    Test::Harness       3.33     
    Test::More          1.001003 
    YAML                1.09     
    YAML::Syck          1.27     
    version             0.9909   
--
Summary of my perl5 (revision 5 version 14 subversion 4) configuration:
   
  Platform:
    osname=linux, osvers=3.2.0-4-amd64, archname=x86_64-linux
    uname='linux eserte 3.2.0-4-amd64 #1 smp debian 3.2.57-3 x86_64 gnulinux '
    config_args='-ds -e -Dprefix=/opt/perl-5.14.4'
    hint=recommended, useposix=true, d_sigaction=define
    useithreads=undef, usemultiplicity=undef
    useperlio=define, d_sfio=undef, uselargefiles=define, usesocks=undef
    use64bitint=define, use64bitall=define, uselongdouble=undef
    usemymalloc=n, bincompat5005=undef
  Compiler:
    cc='cc', ccflags ='-fno-strict-aliasing -pipe -fstack-protector -I/usr/local/include -D_LARGEFILE_SOURCE -D_FILE_OFFSET_BITS=64',
    optimize='-O2',
    cppflags='-fno-strict-aliasing -pipe -fstack-protector -I/usr/local/include'
    ccversion='', gccversion='4.7.2', gccosandvers=''
    intsize=4, longsize=8, ptrsize=8, doublesize=8, byteorder=12345678
    d_longlong=define, longlongsize=8, d_longdbl=define, longdblsize=16
    ivtype='long', ivsize=8, nvtype='double', nvsize=8, Off_t='off_t', lseeksize=8
    alignbytes=8, prototype=define
  Linker and Libraries:
    ld='cc', ldflags =' -fstack-protector -L/usr/local/lib'
    libpth=/usr/local/lib /lib/x86_64-linux-gnu /lib/../lib /usr/lib/x86_64-linux-gnu /usr/lib/../lib /lib /usr/lib
    libs=-lnsl -ldb -ldl -lm -lcrypt -lutil -lc
    perllibs=-lnsl -ldl -lm -lcrypt -lutil -lc
    libc=, so=so, useshrplib=false, libperl=libperl.a
    gnulibc_version='2.13'
  Dynamic Linking:
    dlsrc=dl_dlopen.xs, dlext=so, d_dlsymun=undef, ccdlflags='-Wl,-E'
    cccdlflags='-fPIC', lddlflags='-shared -O2 -L/usr/local/lib -fstack-protector'
Characteristics of this binary (from libperl): 
  Compile-time options: PERL_DONT_CREATE_GVSV PERL_MALLOC_WRAP
                        PERL_PRESERVE_IVUV USE_64_BIT_ALL USE_64_BIT_INT
                        USE_LARGE_FILES USE_PERLIO USE_PERL_ATOF
  Built under linux
  Compiled at May 15 2014 16:40:06
  %ENV:
    PERL5LIB=""
    PERL5OPT=""
    PERL5_CPANPLUS_IS_RUNNING="28973"
    PERL5_CPAN_IS_RUNNING="28973"
    PERL5_CPAN_IS_RUNNING_IN_RECURSION="28891,28973"
    PERLDOC="-MPod::Perldoc::ToTextOverstrike"
    PERL_BATCH="yes"
    PERL_CPAN_REPORTER_CONFIG="/var/tmp/cpansmoker-1001/AksFHWjBkl_config.ini"
    PERL_EXTUTILS_AUTOINSTALL="--defaultdeps"
    PERL_HTML_DISPLAY_CLASS="HTML::Display::Mozilla"
    PERL_PARALLEL_SMOKER="yes"
  @INC:
    /opt/perl-5.14.4/lib/site_perl/5.14.4/x86_64-linux
    /opt/perl-5.14.4/lib/site_perl/5.14.4
    /opt/perl-5.14.4/lib/5.14.4/x86_64-linux
    /opt/perl-5.14.4/lib/5.14.4
    .